{"text_format":"1","workbook":"xlsx","n_sheets":62,"sheets":["Production DAY 1","DAY 1","Production DAY 2","DAY 2","Production DAY 3","DAY 3","Production DAY 4","DAY 4","Production DAY 5","DAY 5","Production DAY 6","DAY 6","Production DAY 7","DAY 7","Production DAY 8","DAY 8","Production DAY 9","DAY 9","Production DAY 10","DAY 10","Production DAY 11","DAY 11","Production DAY 12","DAY 12","Production DAY 13","DAY 13","Production DAY 14","DAY 14","Production DAY 15","DAY 15","Production DAY 16","DAY 16","Production DAY 17","DAY 17","Production DAY 18","DAY 18","Production DAY 19","DAY 19","Production DAY 20","DAY 20","Production DAY 21","DAY 21","Production DAY 22","DAY 22","Production DAY 23","DAY 23","Production DAY 24","DAY 24","Production DAY 25","DAY 25","Production DAY 26","DAY 26","Production DAY 27","DAY 27","Production DAY 28","DAY 28","Production DAY 29","DAY 29","Production DAY 30","DAY 30","Production DAY 31","DAY 31"],"not_rendered":{"charts":0,"images":0,"macros":1,"external_links":0,"defined_names":0,"comments":0,"pivot_tables":0},"unopened":[],"bounds":{"document_bytes":16777216,"sheet_cells":100000,"rows_first":2000,"rows_last":500,"rows_between":2000,"halvings":0,"cell_chars":16384,"cell_head_chars":4096},"cells_cut":0,"cells_raw":0,"read":"whole","date_system":"1900"}

{"sheet":"Production DAY 1","index":0,"n_rows":44,"n_cols":8,"rows_kept":44,"cut":false,"hidden":false,"merged":[]}
["Nos#","ITEMS","OPENING STOCK","RECEIVED","USED","SALES CLOSING STOCK","PHYSICAL STOCK COUNT","COMMENTS"]
[1,"Burger Bread",0,0,{"$f":"SUM('DAY 1'!F69)","v":0},{"$f":"SUM('DAY 1'!F70)","v":0},0,{"$f":"IF(G2=F2,TRUE,FALSE)","v":true}]
[2,"Chicken Patty",0,0,{"$f":"SUM('DAY 1'!G69)","v":0},{"$f":"SUM('DAY 1'!G70)","v":0},0,true]
[3,"Shawarma Bread",0,0,{"$f":"SUM('DAY 1'!H69)","v":0},{"$f":"SUM('DAY 1'!H70)","v":0},0,true]
[4,"Chicken Portion or Shawarma portion",0,0,{"$f":"SUM('DAY 1'!I69)","v":0},{"$f":"SUM('DAY 1'!I70)","v":0},0,true]
[5,"Sausage",0,0,{"$f":"SUM('DAY 1'!J69)","v":0},{"$f":"SUM('DAY 1'!J70)","v":0},0,true]
[6,"Portion of Fries",0,0,{"$f":"SUM('DAY 1'!K69)","v":0},{"$f":"SUM('DAY 1'!K70)","v":0},0,true]
[7,"Pieces of Chicken",0,0,{"$f":"SUM('DAY 1'!L69)","v":0},{"$f":"SUM('DAY 1'!L70)","v":0},0,true]
[8,"Cheese",0,0,{"$f":"SUM('DAY 1'!M69)","v":0},{"$f":"SUM('DAY 1'!M70)","v":0},0,true]
[9,"Bacon",0,0,{"$f":"SUM('DAY 1'!N69)","v":0},{"$f":"SUM('DAY 1'!N70)","v":0},0,true]
[10,"A Paper Bag",0,0,{"$f":"SUM('DAY 1'!O69)","v":0},{"$f":"SUM('DAY 1'!O70)","v":0},0,true]
[11,"Achicken Box",0,0,{"$f":"SUM('DAY 1'!P69)","v":0},{"$f":"SUM('DAY 1'!P70)","v":0},0,true]
[12,"Paper Wrap",0,0,{"$f":"SUM('DAY 1'!Q69)","v":0},{"$f":"SUM('DAY 1'!Q70)","v":0},0,true]
[13,"A Branded Nylon",0,0,{"$f":"SUM('DAY 1'!R69)","v":0},{"$f":"SUM('DAY 1'!R70)","v":0},0,true]
[14,"Parfait",0,0,{"$f":"SUM('DAY 1'!S69)","v":0},{"$f":"SUM('DAY 1'!S70)","v":0},0,true]
[15,"A Bottle of SUGAR Juice",0,0,{"$f":"SUM('DAY 1'!T69)","v":0},{"$f":"SUM('DAY 1'!T70)","v":0},0,true]
[16,"35 CL Soft Drink",0,0,{"$f":"SUM('DAY 1'!U69)","v":0},{"$f":"SUM('DAY 1'!U70)","v":0},0,true]
[17,"Beef Patty",0,0,{"$f":"SUM('DAY 1'!V69)","v":0},{"$f":"SUM('DAY 1'!V70)","v":0},0,true]
[18,"Cream in GRAMS",0,0,{"$f":"SUM('DAY 1'!W69)","v":0},{"$f":"SUM('DAY 1'!W70)","v":0},0,true]
[19,"KETCHUP",0,0,{"$f":"SUM('DAY 1'!X69)","v":0},{"$f":"SUM('DAY 1'!X70)","v":0},0,true]
[20,"plain Nylon",0,0,{"$f":"SUM('DAY 1'!Y69)","v":0},{"$f":"SUM('DAY 1'!Y70)","v":0},0,true]
[21,"Barbeque Sauce",0,0,{"$f":"SUM('DAY 1'!Z69)","v":0},{"$f":"SUM('DAY 1'!Z70)","v":0},0,true]
[22,"Meal Box",0,0,{"$f":"SUM('DAY 1'!AA69)","v":0},{"$f":"SUM('DAY 1'!AA70)","v":0},0,true]
[23,"COCONUT BREAD",0,0,{"$f":"SUM('DAY 1'!AB69)","v":0},{"$f":"SUM('DAY 1'!AB70)","v":0},0,true]
[24,"SUPA KOMMANDO",0,0,{"$f":"SUM('DAY 1'!AC69)","v":0},{"$f":"SUM('DAY 1'!AC70)","v":0},0,true]
[25,"SHAWARMA SUB",0,0,{"$f":"SUM('DAY 1'!AD69)","v":0},{"$f":"SUM('DAY 1'!AD70)","v":0},0,true]
[26,"CAN COKE / FANTA",0,0,{"$f":"SUM('DAY 1'!AE69)","v":0},{"$f":"SUM('DAY 1'!AE70)","v":0},0,true]
[27,"NUGGETS ",0,0,{"$f":"SUM('DAY 1'!AF69)","v":0},{"$f":"SUM('DAY 1'!AF70)","v":0},0,true]
[28,"PRAWN",0,0,{"$f":"SUM('DAY 1'!AG69)","v":0},{"$f":"SUM('DAY 1'!AG70)","v":0},0,true]
[29,"FARM PRIDE",0,0,{"$f":"SUM('DAY 1'!AH69)","v":0},{"$f":"SUM('DAY 1'!AH70)","v":0},0,true]
[30,"50CL OR PULPY",0,0,{"$f":"SUM('DAY 1'!AI69)","v":0},{"$f":"SUM('DAY 1'!AI70)","v":0},0,true]
[31,"FARM PRIDE 1 LT",0,0,{"$f":"SUM('DAY 1'!AJ69)","v":0},{"$f":"SUM('DAY 1'!AJ70)","v":0},0,true]
[32,"BEEF PORTION FOR SHAWARMA",0,0,{"$f":"SUM('DAY 1'!AK69)","v":0},{"$f":"SUM('DAY 1'!AK70)","v":0},0,true]
[33,"BEEF SUYA STICK",0,0,{"$f":"SUM('DAY 1'!AL69)","v":0},{"$f":"SUM('DAY 1'!AL70)","v":0},0,true]
[34,"EMPTY 1",0,0,{"$f":"SUM('DAY 1'!AM69)","v":0},{"$f":"SUM('DAY 1'!AM70)","v":0},0,true]
[35,"EMPTY 2",0,0,{"$f":"SUM('DAY 1'!AN69)","v":0},{"$f":"SUM('DAY 1'!AN70)","v":0},0,true]
[36,"EMPTY 3",0,0,{"$f":"SUM('DAY 1'!AO69)","v":0},{"$f":"SUM('DAY 1'!AO70)","v":0},0,true]
[37,"EMPTY 4",0,0,{"$f":"SUM('DAY 1'!AP69)","v":0},{"$f":"SUM('DAY 1'!AP70)","v":0},0,true]
[38,"EMPTY 5",0,0,{"$f":"SUM('DAY 1'!AQ69)","v":0},{"$f":"SUM('DAY 1'!AQ70)","v":0},0,true]
[39,"EMPTY 6",0,0,{"$f":"SUM('DAY 1'!AR69)","v":0},{"$f":"SUM('DAY 1'!AR70)","v":0},0,true]
[40,"EMPTY 7",0,0,{"$f":"SUM('DAY 1'!AS69)","v":0},{"$f":"SUM('DAY 1'!AS70)","v":0},0,true]
[41,"EMPTY 8",0,0,{"$f":"SUM('DAY 1'!AT69)","v":0},{"$f":"SUM('DAY 1'!AT70)","v":0},0,true]
[42,"EMPTY 9",0,0,{"$f":"SUM('DAY 1'!AU69)","v":0},{"$f":"SUM('DAY 1'!AU70)","v":0},0,true]
[43,"EMPTY 10",0,0,{"$f":"SUM('DAY 1'!AV69)","v":0},{"$f":"SUM('DAY 1'!AV70)","v":0},0,true]

{"sheet":"DAY 1","index":1,"n_rows":70,"n_cols":47,"rows_kept":70,"cut":false,"hidden":false,"merged":[[0,7,0,28]]}
["FEBRUARY 12th, 2022",null,null,{"$f":"SUM(D3:D50)","v":0},null,null,null,"BURGER PALACE INVENTORY RECORDS"]
["ITEM","AMOUNT","QUANTITY","TOTAL",null,"Burger Bread","Chicken Patty","Shawarma Bread","Chicken Portion or Shawarma portion","Sausage","Portion of Fries","Pieces of Chicken","Cheese","Bacon","A Paper Bag","Achicken Box","Paper Wrap","A Branded Nylon","Parfait","A Bottle of SUGAR Juice","35 CL Soft Drink","Beef Patty","Cream in GRAMS","KETCHUP","plain Nylon","Barbeque Sauce","Meal Box","COCONUT BREAD ","SUPA KOMMANDO ","SHAWARMA SUB","CAN COKE / FANTA","NUGGETS","PRAWN","FARM PRIDE 50CL OR PULPY","FARM PRIDE 1 LT","BEEF PORTION FOR SHAWARMA ","BEEF SUYA STICK","EMPTY 1","EMPTY 2","EMPTY 3","EMPTY 4","EMPTY 5","EMPTY 6","EMPTY 7","EMPTY 8","EMPTY 9","EMPTY 10"]
["DELUXE BURGER MEAL (WITH SOFT DRINK)",5400,0,{"$f":"SUM(B3*C3)","v":0},null,{"$f":"SUM(C3)","v":0},{"$f":"SUM(C3)","v":0},{"$f":"SUM(C3)","v":0},{"$f":"SUM(C3)","v":0},{"$f":"SUM(C3)","v":0},{"$f":"SUM(C3)","v":0},{"$f":"SUM(C3)*2","v":0},"ZERO","ZERO",{"$f":"SUM(C3)*1","v":0},{"$f":"SUM(C3)","v":0},{"$f":"SUM(C3)*2","v":0},{"$f":"SUM(C3)","v":0},null,"ZERO",{"$f":"SUM(C3)","v":0},null,{"$f":"SUM(C3)*140","v":0},{"$f":"SUM(C3)","v":0},{"$f":"SUM(C3)","v":0},"ZERO",null,null,null,null,null,null,null,null,null,{"$f":"SUM(AD3)","v":0},0]
["DELUXE BURGER MEAL (WITH SUGARCANE JUICE)",5600,0,{"$f":"SUM(B4*C4)","v":0},null,{"$f":"SUM(C4)","v":0},{"$f":"SUM(C4)","v":0},{"$f":"SUM(C4)","v":0},{"$f":"SUM(C4)","v":0},{"$f":"SUM(C4)","v":0},0,{"$f":"SUM(C4)*2","v":0},"ZERO","ZERO",{"$f":"SUM(C4)*1","v":0},0,{"$f":"SUM(C4)*2","v":0},0,null,{"$f":"SUM(C4)","v":0},"ZERO",null,{"$f":"SUM(C4)*140","v":0},{"$f":"SUM(C4)","v":0},0,"ZERO",null,null,null,null,null,null,null,null,null,0,0]
["DELUXE MEAL EXTRA (WITH Soft Drink)",null,0,{"$f":"SUM(B5*C5)","v":0},null,{"$f":"SUM(C5)","v":0},{"$f":"SUM(C5)","v":0},{"$f":"SUM(C5)","v":0},{"$f":"SUM(C5)","v":0},{"$f":"SUM(C5)","v":0},0,{"$f":"SUM(C5)*2","v":0},"ZERO","ZERO",{"$f":"SUM(C5)","v":0},0,{"$f":"SUM(C5)*2","v":0},0,{"$f":"SUM(C5)","v":0},"ZERO",{"$f":"SUM(C5)","v":0},null,{"$f":"SUM(C5)*140","v":0},{"$f":"SUM(C5)","v":0},0,"ZERO",null,null,null,null,null,null,null,null,null,0,0]
["DELUXE BURGER MEAL Extra (With Sugarcane juice",null,0,{"$f":"SUM(B6*C6)","v":0},null,{"$f":"SUM(C6)","v":0},{"$f":"SUM(C6)","v":0},{"$f":"SUM(C6)","v":0},{"$f":"SUM(C6)","v":0},{"$f":"SUM(C6)","v":0},0,{"$f":"SUM(C6)*2","v":0},"ZERO","ZERO",{"$f":"SUM(C6)","v":0},0,{"$f":"SUM(C6)*2","v":0},0,{"$f":"SUM(C6)","v":0},{"$f":"SUM(C6)","v":0},"ZERO",null,{"$f":"SUM(C6)*140","v":0},{"$f":"SUM(C6)","v":0},0,"ZERO",null,null,null,null,null,null,null,null,null,0,0]
["PREMIUM BURGER Meal ",5900,0,{"$f":"SUM(B7*C7)","v":0},null,{"$f":"SUM(C7)","v":0},{"$f":"SUM(C7)","v":0},"ZERO","ZERO","ZERO",0,{"$f":"SUM(C7)*5","v":0},"ZERO","ZERO",{"$f":"SUM(C7)","v":0},0,{"$f":"SUM(C7)*1.25","v":0},0,"ZERO","ZERO",{"$f":"SUM(C7)","v":0},"ZERO",{"$f":"SUM(C7)*70","v":0},{"$f":"SUM(C7)*2","v":0},0,{"$f":"SUM(C7)","v":0},null,null,null,null,null,null,null,null,null,"ZERO","ZERO"]
["CRISPY CHICKEN BOX",4300,0,null,null,"ZERO","ZERO","ZERO","ZERO","ZERO",0,{"$f":"SUM(C8)*5","v":0},"ZERO","ZERO","ZERO",0,{"$f":"SUM(C8)*0.25","v":0},0,"ZERO","ZERO",{"$f":"SUM(C8)","v":0},"ZERO","ZERO",{"$f":"SUM(C8)*2","v":0},0,{"$f":"SUM(C8)","v":0},null,null,null,null,null,null,null,null,null,"ZERO","ZERO"]
["ROYAL BURGER MEAL (CHICKEN  PATTY)",null,0,{"$f":"SUM(B9*C9)","v":0},null,{"$f":"SUM(C9)","v":0},{"$f":"SUM(C9)*2","v":0},"ZERO","ZERO","ZERO",0,"ZERO",{"$f":"SUM(C9)*2","v":0},{"$f":"SUM(C9)*2","v":0},"ZERO",0,{"$f":"SUM(C9)","v":0},0,{"$f":"SUM(C9)","v":0},"ZERO","ZERO","ZERO",{"$f":"SUM(C9)*140","v":0},{"$f":"SUM(C9)*2","v":0},0,{"$f":"SUM(C9)","v":0},null,null,null,null,null,null,null,null,null,"ZERO","ZERO"]
["ROYAL BURGER MEAL (BEEF  PATTY)",null,0,{"$f":"SUM(B10*C10)","v":0},null,{"$f":"SUM(C10)","v":0},"ZERO","ZERO","ZERO","ZERO",0,"ZERO",{"$f":"SUM(C10)*2","v":0},{"$f":"SUM(C10)*2","v":0},"ZERO",0,0,0,{"$f":"SUM(C10)","v":0},"ZERO","ZERO",{"$f":"SUM(C10)*2","v":0},{"$f":"SUM(C10)*140","v":0},{"$f":"SUM(C10)*2","v":0},0,{"$f":"SUM(C10)","v":0},null,null,null,null,null,null,null,null,null,"ZERO","ZERO"]
["ROYAL BURGER ONLY (CHICKEN PATTY)",3300,0,{"$f":"SUM(B11*C11:C25,A1,A1,A1,A1,A1)","v":0},null,{"$f":"SUM(C11)","v":0},{"$f":"SUM(C11)*2","v":0},"ZERO","ZERO","ZERO","ZERO","ZERO",{"$f":"SUM(C11)*2","v":0},{"$f":"SUM(C11)*2","v":0},"ZERO",0,0,0,"ZERO","ZERO","ZERO","ZERO",{"$f":"SUM(C11)*140","v":0},{"$f":"SUM(C11)","v":0},"ZERO","ZERO",null,null,null,null,null,null,null,null,null,"ZERO","ZERO"]
["ROYAL BURGER ONLY (BEEF PATTY)",3300,0,{"$f":"SUM(B12*C12)","v":0},null,{"$f":"SUM(C12)","v":0},null,"ZERO","ZERO","ZERO","ZERO","ZERO",{"$f":"SUM(C12)*2","v":0},{"$f":"SUM(C12)*2","v":0},"ZERO",0,0,0,"ZERO","ZERO","ZERO",{"$f":"SUM(C12)*2","v":0},{"$f":"SUM(C12)*140","v":0},{"$f":"SUM(C12)","v":0},"ZERO","ZERO",null,null,null,null,null,null,null,null,null,"ZERO","ZERO"]
["MAYOR'S COCONUT BURGER ",2800,0,0,null,0,{"$f":"SUM(C13)","v":0},"ZERO","ZERO","ZERO","ZERO","ZERO",{"$f":"SUM(C13)","v":0},"ZERO","ZERO",0,0,0,"ZERO","ZERO","ZERO",{"$f":"SUM(C13)","v":0},{"$f":"SUM(C13)*140","v":0},"ZERO","ZERO","ZERO",null,{"$f":"SUM(C13)","v":0},{"$f":"SUM(C13)","v":0},null,null,null,null,null,null,"ZERO","ZERO"]
["DOUBLE DECKER CRISPY CHK. CHEESE BURGER",2500,0,0,null,{"$f":"SUM(C14)","v":0},{"$f":"SUM(C14)*2","v":0},"ZERO","ZERO","ZERO","ZERO","ZERO",{"$f":"SUM(C14)","v":0},"ZERO","ZERO",0,0,"ZERO","ZERO","ZERO","ZERO","ZERO",{"$f":"SUM(C14)*70","v":0},"ZERO","ZERO","ZERO",null,null,null,null,null,null,null,null,null,"ZERO","ZERO"]
["SINGLE BEEF BURGER",1700,0,0,null,0,"ZERO","ZERO","ZERO","ZERO","ZERO","ZERO",null,"ZERO",{"$f":"SUM(C15)","v":0},null,0,"ZERO","ZERO","ZERO","ZERO",{"$f":"SUM(C15)","v":0},{"$f":"SUM(C15)*70","v":0},"ZERO","ZERO","ZERO",null,null,null,null,null,null,null,null,null,"ZERO","ZERO"]
["YANKEE BURGER",2400,0,0,null,0,"ZERO","ZERO","ZERO","ZERO","ZERO","ZERO",null,{"$f":"SUM(C16)*2","v":0},{"$f":"SUM(C16)","v":0},null,0,"ZERO","ZERO","ZERO","ZERO",{"$f":"SUM(C16)","v":0},{"$f":"SUM(C16)*70","v":0},"ZERO","ZERO","ZERO",null,null,null,null,null,null,null,null,null,"ZERO","ZERO"]
["ROYAL BURGER WITH FRIES (Chicken)",4000,0,0,null,0,{"$f":"SUM(C17)*2","v":0},"ZERO","ZERO","ZERO",{"$f":"SUM(C17)","v":0},"ZERO",{"$f":"SUM(C17)*2","v":0},{"$f":"SUM(C17)*2","v":0},"ZERO",{"$f":"SUM(C17)","v":0},0,"ZERO","ZERO","ZERO","ZERO","ZERO",{"$f":"SUM(C17)*140","v":0},{"$f":"SUM(C17)*2","v":0},"ZERO","ZERO",null,null,null,null,null,null,null,null,null,"ZERO","ZERO"]
["ROYAL BURGER WITH FRIES (BEEF)",4000,0,0,null,0,"ZERO","ZERO","ZERO","ZERO",{"$f":"SUM(C18)","v":0},"ZERO",{"$f":"SUM(C18)*2","v":0},{"$f":"SUM(C18)*2","v":0},"ZERO",{"$f":"SUM(C18)","v":0},0,"ZERO","ZERO","ZERO","ZERO",{"$f":"SUM(C18)*2","v":0},{"$f":"SUM(C18)*140","v":0},{"$f":"SUM(C18)*2","v":0},"ZERO","ZERO",null,null,null,null,null,null,null,null,null,"ZERO","ZERO"]
["CRISPY CHICKEN BURGER",1700,0,0,null,0,{"$f":"SUM(C19)","v":0},"ZERO","ZERO","ZERO","ZERO","ZERO","ZERO","ZERO",{"$f":"SUM(C19)","v":0},"ZERO",{"$f":"SUM(C19)*1","v":0},"ZERO","ZERO","ZERO","ZERO","ZERO",{"$f":"SUM(C19)*70","v":0},"ZERO","ZERO","ZERO",null,null,null,null,null,null,null,null,null,"ZERO","ZERO"]
["SUYA BURGER BOX (WITH CHICKEN SUYA BURGER)",5500,0,0,null,0,{"$f":"SUM(C20)*2","v":0},"ZERO","ZERO",{"$f":"SUM(C20)*4","v":0},{"$f":"SUM(C20)","v":0},{"$f":"SUM(C20)*4","v":0},"ZERO","ZERO",{"$f":"SUM(C20)","v":0},{"$f":"SUM(C20)","v":0},{"$f":"SUM(C20)","v":0},"ZERO","ZERO",null,{"$f":"SUM(C20)","v":0},"ZERO",0,{"$f":"SUM(C20)*2","v":0},{"$f":"SUM(C20)","v":0},"ZERO",{"$f":"SUM(C20)","v":0},null,null,null,null,null,null,null,null,"ZERO","ZERO"]
["CRISPY CHICKEN BURGER PLUS CHEESE",2100,0,0,null,0,{"$f":"SUM(C21)","v":0},"ZERO","ZERO","ZERO","ZERO","ZERO",{"$f":"SUM(C21)","v":0},"ZERO",{"$f":"SUM(C21)","v":0},"ZERO",0,"ZERO","ZERO","ZERO","ZERO","ZERO",0,"ZERO","ZERO","ZERO",null,null,null,null,null,null,null,null,null,"ZERO","ZERO"]
["SINGLE BEEF CHEESE BURGER ",2100,0,0,null,0,"ZERO","ZERO","ZERO","ZERO","ZERO","ZERO",{"$f":"SUM(C22)","v":0},"ZERO",{"$f":"SUM(C22)","v":0},"ZERO",0,"ZERO","ZERO","ZERO","ZERO",{"$f":"SUM(C22)","v":0},0,"ZERO","ZERO","ZERO",null,null,null,null,null,null,null,null,null,"ZERO","ZERO"]
["DOUBLE DECKER BEEF CHEESE BURGER",2800,0,0,null,0,"ZERO","ZERO","ZERO","ZERO","ZERO","ZERO",{"$f":"SUM(C23)*2","v":0},"ZERO","ZERO",{"$f":"SUM(C23)","v":0},0,"ZERO","ZERO","ZERO","ZERO",{"$f":"SUM(C23)*2","v":0},0,"ZERO","ZERO","ZERO",null,null,null,null,null,null,null,null,null,"ZERO","ZERO"]
["CHICKEN SUYA BURGER ",2200,0,0,null,0,{"$f":"SUM(C24)*2","v":0},"ZERO","ZERO","ZERO","ZERO","ZERO","ZERO","ZERO",{"$f":"SUM(C24)*1","v":0},"ZERO",0,"ZERO","ZERO","ZERO","ZERO","ZERO",0,"ZERO","ZERO","ZERO",null,null,null,null,null,null,null,null,null,"ZERO","ZERO"]
["CHICKEN SHAWARMA",1800,0,0,null,null,"ZERO",{"$f":"SUM(C25)","v":0},{"$f":"SUM(C25)","v":0},{"$f":"SUM(C25)*2","v":0},"ZERO","ZERO","ZERO","ZERO","ZERO","ZERO",0,{"$f":"SUM(C25)","v":0},"ZERO","ZERO","ZERO","ZERO",0,"ZERO","ZERO","ZERO",null,null,null,null,null,null,null,null,null,{"$f":"SUM(AD25)","v":0},{"$f":"SUM(AE25)","v":0}]
["BARBECUE BEEF SHAWARMA",2000,0,0,null,null,"ZERO",{"$f":"SUM(C26)","v":0},"ZERO",{"$f":"SUM(C26)*2","v":0},"ZERO","ZERO","ZERO","ZERO","ZERO","ZERO",0,0,"ZERO","ZERO","ZERO","ZERO",0,"ZERO","ZERO","ZERO",null,null,null,null,null,null,null,null,null,{"$f":"SUM(C26)","v":0},"ZERO"]
["BEEF SUYA SHAWARMA",2200,0,0,null,null,"ZERO",{"$f":"SUM(C27)","v":0},"ZERO",{"$f":"SUM(C27)*2","v":0},"ZERO","ZERO","ZERO","ZERO","ZERO","ZERO",0,0,"ZERO","ZERO","ZERO","ZERO",0,"ZERO","ZERO","ZERO",null,null,null,null,null,null,null,null,null,{"$f":"SUM(AD27)","v":0},{"$f":"SUM(C27)","v":0}]
["BEEF SUYA BURGER ",2200,0,0,null,{"$f":"SUM(C28)","v":0},"ZERO",null,"ZERO","ZERO","ZERO","ZERO","ZERO","ZERO",{"$f":"SUM(C28)","v":0},"ZERO",0,0,"ZERO","ZERO","ZERO","ZERO",0,"ZERO","ZERO","ZERO",null,null,null,null,null,null,null,null,null,{"$f":"SUM(AD28)","v":0},{"$f":"SUM(C28)","v":0}]
["CHICKEN SUYA SHAWARMA",2200,0,0,null,"ZERO",{"$f":"SUM(C29)*2","v":0},{"$f":"SUM(C29)","v":0},null,{"$f":"SUM(C29)*2","v":0},"ZERO","ZERO","ZERO","ZERO","ZERO","ZERO",0,0,"ZERO","ZERO","ZERO","ZERO",0,"ZERO","ZERO","ZERO"]
["CHESSY SHAWARMA",2500,0,0,null,"ZERO","ZERO",{"$f":"SUM(C30)","v":0},{"$f":"SUM(C30)","v":0},{"$f":"SUM(C30)*2","v":0},null,"ZERO",{"$f":"SUM(C30)*2","v":0},"ZERO","ZERO","ZERO",0,0,"ZERO","ZERO","ZERO","ZERO",{"$f":"SUM(C30)*140","v":0},"ZERO","ZERO","ZERO",null,null,null,null,null,null,null,null,null,{"$f":"SUM(AD30)","v":0},{"$f":"SUM(AE30)","v":0}]
["2 CHICKEN AND CHIPS",2300,0,0,null,"ZERO","ZERO","ZERO","ZERO","ZERO",{"$f":"SUM(C31)","v":0},{"$f":"SUM(C31)*2","v":0},"ZERO","ZERO","ZERO",{"$f":"SUM(C31)","v":0},"ZERO",0,"ZERO","ZERO","ZERO","ZERO","ZERO",{"$f":"SUM(C31)","v":0},"ZERO","ZERO",null,null,null,null,null,null,null,null,null,"ZERO","ZERO"]
["4 CHICKEN AND A PORTION OF CHIPS",3500,0,0,null,"ZERO","ZERO","ZERO","ZERO","ZERO",{"$f":"SUM(C32)","v":0},{"$f":"SUM(C32)*4","v":0},"ZERO","ZERO","ZERO",{"$f":"SUM(C32)","v":0},"ZERO",0,"ZERO","ZERO","ZERO","ZERO","ZERO",{"$f":"SUM(C32)*2","v":0},"ZERO","ZERO","zero","zero","zero",null,null,null,null,null,null,"ZERO","ZERO"]
["SPICY CHICKEN ONLY",650,0,null,null,"ZERO","ZERO","ZERO","ZERO","ZERO","ZERO",{"$f":"SUM(C33)","v":0},"ZERO","ZERO","ZERO","ZERO","ZERO","ZERO","ZERO","ZERO","ZERO","ZERO","ZERO","ZERO",{"$f":"SUM(C33)","v":0},"ZERO",null,null,null,null,null,null,null,null,null,"ZERO","ZERO"]
["CRISPY CHICKEN ONLY",650,0,{"$f":"SUM(B34*C34)","v":0},null,"ZERO","ZERO","ZERO","ZERO","ZERO","ZERO",{"$f":"SUM(C34)","v":0},"ZERO","ZERO","ZERO","ZERO","ZERO","ZERO","ZERO","ZERO","ZERO","ZERO","ZERO","ZERO",{"$f":"SUM(C34)","v":0},"ZERO",null,null,null,null,null,null,null,null,null,"ZERO","ZERO"]
["POTATO FRIES",700,0,0,null,"ZERO","ZERO","ZERO","ZERO","ZERO",null,"ZERO","ZERO","ZERO","ZERO","ZERO","ZERO","ZERO","ZERO","ZERO","ZERO","ZERO","ZERO","ZERO","ZERO","ZERO",null,null,null,null,null,null,null,null,null,"ZERO","ZERO"]
["FRENCH FRIES ONLY",1000,0,0,null,"ZERO","ZERO","ZERO","ZERO","ZERO",{"$f":"SUM(C36)","v":0},"ZERO","ZERO","ZERO","ZERO","ZERO","ZERO","ZERO","ZERO","ZERO","ZERO","ZERO","ZERO","ZERO",{"$f":"SUM(C36)","v":0},"ZERO",null,null,null,null,null,null,null,null,null,"ZERO","ZERO"]
["SUGERCANNE JUICE",750,0,0,null,"ZERO","ZERO","ZERO","ZERO","ZERO","ZERO","ZERO","ZERO","ZERO","ZERO","ZERO","ZERO","ZERO","ZERO",{"$f":"SUM(C37)","v":0},"ZERO","ZERO","ZERO","ZERO","ZERO","ZERO",null,null,null,null,null,null,null,null,null,"ZERO","ZERO"]
["35 CL SOFT DRINK",200,0,0,null,"ZERO","ZERO","ZERO","ZERO","ZERO","ZERO","ZERO","ZERO","ZERO","ZERO","ZERO","ZERO","ZERO","ZERO","ZERO",{"$f":"SUM(C38)","v":0},"ZERO","ZERO","ZERO","ZERO","ZERO",null,null,null,null,null,null,null,null,null,"ZERO","ZERO"]
["PARFAIT",null,0,0,null,"ZERO","ZERO","ZERO","ZERO","ZERO","ZERO","ZERO","ZERO","ZERO","ZERO","ZERO","ZERO",{"$f":"SUM(C39)","v":0},{"$f":"SUM(C39)","v":0},"ZERO","ZERO","ZERO","ZERO","ZERO","ZERO","ZERO",null,null,null,null,null,null,null,null,null,"ZERO","ZERO"]
["MARINATED WINGS",500,0,0,null,"ZERO","ZERO","ZERO","ZERO","ZERO","ZERO",{"$f":"SUM(C40)","v":0},"ZERO","ZERO","ZERO","ZERO","ZERO","ZERO","ZERO","ZERO","ZERO","ZERO","ZERO","ZERO","ZERO","ZERO",null,null,null,null,null,null,null,null,null,"ZERO","ZERO"]
["CHEESE ",400,0,0,null,"ZERO","ZERO","ZERO","ZERO","ZERO","ZERO","ZERO",{"$f":"SUM(C41)","v":0},"ZERO","ZERO","ZERO","ZERO","ZERO","ZERO","ZERO","ZERO","ZERO","ZERO","ZERO","ZERO","ZERO",null,null,null,null,null,null,null,null,null,"ZERO","ZERO"]
["SAUSAGE",200,0,0,null,null,null,null,null,null,"ZERO"]
["BACON",400,0,0,null,"ZERO","ZERO","ZERO","ZERO","ZERO","ZERO","ZERO","ZERO",{"$f":"SUM(C43)","v":0},"ZERO","ZERO","ZERO","ZERO","ZERO","ZERO","ZERO","ZERO","ZERO","ZERO","ZERO","ZERO",null,null,null,null,null,null,null,null,null,"ZERO","ZERO"]
["FRIENDY BURGER MEAL (WITH SOFT DRINK)",10200,0,0,null,{"$f":"SUM(C44)*2","v":0},{"$f":"SUM(C44)*2","v":0},{"$f":"SUM(C44)*2","v":0},{"$f":"SUM(C44)*2","v":0},{"$f":"SUM(C44)*2","v":0},{"$f":"SUM(C44)*2","v":0},{"$f":"SUM(C44)*2*2","v":0},"ZERO","ZERO",{"$f":"SUM(C44)*1*2","v":0},{"$f":"SUM(C44)*2","v":0},{"$f":"SUM(C44)*2*2","v":0},{"$f":"SUM(C44)*2","v":0},null,"ZERO",{"$f":"SUM(C44)*2","v":0},null,{"$f":"SUM(C44)*140*2","v":0},{"$f":"SUM(C44)*2","v":0},{"$f":"SUM(C44)*2","v":0},"ZERO",null,null,null,null,null,null,null,null,null,{"$f":"SUM(AD44)*2","v":0},{"$f":"SUM(AE44)*2","v":0}]
["FRIENDY BURGER MEAL (WITH SUGARCANE JUICE)",10600,0,0,null,{"$f":"SUM(C45)*2","v":0},{"$f":"SUM(C45)*2","v":0},{"$f":"SUM(C45)*2","v":0},{"$f":"SUM(C45)*2","v":0},{"$f":"SUM(C45)*2","v":0},{"$f":"SUM(C45)*2","v":0},{"$f":"SUM(C45)*2*2","v":0},"ZERO","ZERO",{"$f":"SUM(C45)*1*2","v":0},{"$f":"SUM(C45)*2","v":0},{"$f":"SUM(C45)*2*2","v":0},{"$f":"SUM(C45)*2","v":0},null,{"$f":"SUM(C45)*2","v":0},"ZERO",null,{"$f":"SUM(C45)*140*2","v":0},{"$f":"SUM(C45)*2","v":0},{"$f":"SUM(C45)*2","v":0},"ZERO",null,null,null,null,null,null,null,null,null,{"$f":"SUM(AD45)*2","v":0},{"$f":"SUM(AE45)*2","v":0}]
["SHAWARMA  SUB",1800,0,0,null,null,"ZERO","ZERO",{"$f":"SUM(C46)","v":0},{"$f":"SUM(C46)*2","v":0},"ZERO","ZERO","ZERO","ZERO",{"$f":"SUM(C46)*1","v":0},"ZERO",{"$f":"SUM(C46)","v":0},"ZERO","ZERO","ZERO","ZERO","ZERO",{"$f":"SUM(C46)*70","v":0},"ZERO","ZERO","ZERO",null,null,null,{"$f":"SUM(C46)","v":0},null,null,null,null,null,{"$f":"SUM(AD46)","v":0},{"$f":"SUM(AE46)","v":0}]
["DELISH PACK 1",5300,0,0,null,{"$f":"SUM(C47)","v":0},{"$f":"SUM(C47)","v":0},"ZERO",{"$f":"SUM(C47)","v":0},{"$f":"SUM(C47)*2","v":0},"ZERO",{"$f":"SUM(C47)*4","v":0},"ZERO","ZERO",{"$f":"SUM(C47)*1","v":0},{"$f":"SUM(C47)*1","v":0},{"$f":"SUM(C47)*2","v":0},{"$f":"SUM(C47)","v":0},"ZERO","ZERO","ZERO","ZERO",{"$f":"SUM(C47)*70","v":0},"ZERO","ZERO","ZERO",null,null,null,{"$f":"SUM(C47)","v":0},{"$f":"SUM(C47)*1","v":0},null,null,null,null,{"$f":"SUM(AD47)","v":0},{"$f":"SUM(AE47)","v":0}]
["FAMILY BURGER MEAL (WITH SOFT DRINK)",19800,0,0,null,{"$f":"SUM(C48)*4","v":0},{"$f":"SUM(C48)*4","v":0},{"$f":"SUM(C48)*4","v":0},{"$f":"SUM(C48)*4","v":0},{"$f":"SUM(C48)*4","v":0},{"$f":"SUM(C48)*4","v":0},{"$f":"SUM(C48)*2*4","v":0},"ZERO","ZERO",{"$f":"SUM(C48)*1*4","v":0},{"$f":"SUM(C48)*4","v":0},{"$f":"SUM(C48)*2*4","v":0},{"$f":"SUM(C48)*4","v":0},null,"ZERO",{"$f":"SUM(C48)*4","v":0},null,{"$f":"SUM(C48)*140*4","v":0},{"$f":"SUM(C48)*4","v":0},{"$f":"SUM(C48)*4","v":0},"ZERO",null,null,null,null,null,null,null,null,null,{"$f":"SUM(AD48)*4","v":0},{"$f":"SUM(AE48)*4","v":0}]
["FAMILY BURGER MEAL (WITH SUGARCANE JUICE)",20800,0,0,null,{"$f":"SUM(C49)*4","v":0},{"$f":"SUM(C49)*4","v":0},{"$f":"SUM(C49)*4","v":0},{"$f":"SUM(C49)*4","v":0},{"$f":"SUM(C49)*4","v":0},{"$f":"SUM(C49)*4","v":0},{"$f":"SUM(C49)*2*4","v":0},"ZERO","ZERO",{"$f":"SUM(C49)*1*4","v":0},{"$f":"SUM(C49)*4","v":0},{"$f":"SUM(C49)*2*4","v":0},{"$f":"SUM(C49)*4","v":0},null,{"$f":"SUM(C49)*4","v":0},"ZERO",null,{"$f":"SUM(C49)*140*4","v":0},{"$f":"SUM(C49)*4","v":0},{"$f":"SUM(C49)*4","v":0},"ZERO",null,null,null,null,null,null,null,null,null,{"$f":"SUM(AD49)*4","v":0},{"$f":"SUM(AE49)*4","v":0}]
["CAN COKE/FANTA ONLY",null,0,0,null,"ZERO","ZERO","ZERO","ZERO","ZERO","ZERO","ZERO","ZERO","ZERO","ZERO","ZERO","ZERO","ZERO","ZERO","ZERO","ZERO","ZERO","ZERO","ZERO","ZERO","ZERO",null,null,null,null,{"$f":"SUM(C50)","v":0},null,null,null,null,"ZERO","ZERO"]
["SUPA KOMMANDO ONLY",250,0,0,null,"ZERO","ZERO","ZERO","ZERO","ZERO","ZERO","ZERO","ZERO","ZERO","ZERO","ZERO","ZERO","ZERO","ZERO","ZERO","ZERO","ZERO","ZERO","ZERO","ZERO","ZERO",null,null,{"$f":"SUM(C51)","v":0},null,"ZERO","ZERO",null,null,null,"ZERO","ZERO"]
["10X Chicken Nuggets ",2400,0,0,null,null,null,null,null,null,"ZERO",null,null,null,null,{"$f":"SUM(C52)","v":0},null,{"$f":"SUM(C52)","v":0},null,null,null,null,null,{"$f":"SUM(C52)","v":0},null,null,null,null,null,null,{"$f":"SUM(C52)","v":0},{"$f":"SUM(C52)*10","v":0}]
["20X Chicken Nuggets ",4800,0,0,null,null,null,null,null,null,"ZERO ",null,null,null,null,{"$f":"SUM(C53)","v":0},null,{"$f":"SUM(C53)","v":0},null,null,null,null,null,{"$f":"SUM(C53)","v":0},null,null,null,null,null,null,{"$f":"SUM(C53)","v":0},{"$f":"SUM(C53)*20","v":0}]
["10 CHICKEN NUGGETS & FRIES BOX",3300,0,0,null,null,null,null,null,null,{"$f":"SUM(C54)","v":0},null,null,null,null,{"$f":"SUM(C54)","v":0},null,{"$f":"SUM(C54)","v":0},null,null,null,null,null,{"$f":"SUM(C54)","v":0},null,null,null,null,null,null,{"$f":"SUM(C54)","v":0},{"$f":"SUM(C54)*10","v":0}]
["20 CHICKEN NUGGETS & FRIES BOX",6600,0,0,null,null,null,null,null,null,{"$f":"SUM(C55)","v":0},null,null,null,null,{"$f":"SUM(C55)","v":0},null,{"$f":"SUM(C55)","v":0},null,null,null,null,null,{"$f":"SUM(C55)","v":0},null,null,null,null,null,null,{"$f":"SUM(C55)","v":0},{"$f":"SUM(C55)*20","v":0}]
["PRAWN BURGER ",3000,0,0,null,{"$f":"SUM(C56)","v":0},"ZERO","ZERO","ZERO","ZERO","ZERO","ZERO",{"$f":"SUM(C56)","v":0},"ZERO",{"$f":"SUM(C56)","v":0},"ZERO",{"$f":"SUM(C56)","v":0},"ZERO","ZERO","ZERO","ZERO","ZERO",{"$f":"SUM(C56)*70","v":0},"ZERO","ZERO","ZERO",null,null,null,null,null,null,{"$f":"SUM(C56)*2","v":0},null,null,"ZERO","ZERO"]
[" FUNMMY NUGGETS  BOX",5300,0,0,null,{"$f":"SUM(C57)","v":0},{"$f":"SUM(C57)","v":0},null,null,null,{"$f":"SUM(C57)","v":0},null,{"$f":"SUM(C57)","v":0},null,{"$f":"SUM(C57)","v":0},{"$f":"SUM(C57)","v":0},null,{"$f":"SUM(C57)","v":0},null,null,null,null,null,{"$f":"SUM(C57)","v":0},null,null,null,null,null,null,{"$f":"SUM(C57)","v":0},{"$f":"SUM(C57)*10","v":0}]
["FARM PRIDE 50 CL",500,0,0,null,"ZERO","ZERO","ZERO","ZERO","ZERO","ZERO","ZERO","ZERO","ZERO","ZERO","ZERO","ZERO","ZERO","ZERO","ZERO","ZERO","ZERO","ZERO","ZERO","ZERO","ZERO",null,null,null,null,null,null,null,{"$f":"SUM(C58)","v":0},null,"ZERO","ZERO"]
["FARM PRIDE 1 LITRE",800,0,0,null,"ZERO","ZERO","ZERO","ZERO","ZERO","ZERO","ZERO","ZERO","ZERO","ZERO","ZERO","ZERO","ZERO","ZERO","ZERO","ZERO","ZERO","ZERO","ZERO","ZERO","ZERO",null,null,null,null,null,null,null,"ZERO",{"$f":"SUM(C59)","v":0},"ZERO","ZERO"]
["GRILLED CHICKEN BURGER",1700,0,{"$f":"SUM(B60*C60)","v":0},null,{"$f":"SUM(C60)","v":0},{"$f":"SUM(C60)","v":0},"ZERO","ZERO","ZERO","ZERO","ZERO","ZERO","ZERO",{"$f":"SUM(C60)","v":0},"ZERO",{"$f":"SUM(C60)*1","v":0},"ZERO","ZERO","ZERO","ZERO","ZERO",{"$f":"SUM(C60)*70","v":0},"ZERO","ZERO","ZERO",null,null,null,null,null,null,null,null,null,"ZERO","ZERO"]
["GRILLED CHICKEN BURGER + JUICE",2200,0,0,null,0,{"$f":"SUM(C61)","v":0},"ZERO","ZERO","ZERO","ZERO","ZERO","ZERO","ZERO",{"$f":"SUM(C61)","v":0},"ZERO",{"$f":"SUM(C61)*1","v":0},"ZERO","ZERO","ZERO","ZERO","ZERO",0,"ZERO","ZERO","ZERO",null,null,null,null,null,null,null,{"$f":"SUM(C61)","v":0},null,"ZERO","ZERO"]
["GRILLED BURGER MEAL 1 & 3",4000,0,0,null,0,{"$f":"SUM(C62)","v":0},"ZERO","ZERO","ZERO",{"$f":"SUM(C62)","v":0},{"$f":"SUM(C62)*2","v":0},"ZERO","ZERO","ZERO",{"$f":"SUM(C62)","v":0},{"$f":"SUM(C62)","v":0},{"$f":"SUM(C62)","v":0},"ZERO","ZERO","ZERO","ZERO",0,{"$f":"SUM(C62)","v":0},"ZERO","ZERO",null,null,null,null,null,null,null,{"$f":"SUM(C62)","v":0},null,"ZERO","ZERO"]
["GRILLED BURGER MEAL 2",3700,0,0,null,0,{"$f":"SUM(C63)","v":0},"ZERO","ZERO","ZERO",{"$f":"SUM(C63)","v":0},{"$f":"SUM(C63)*2","v":0},"ZERO","ZERO","ZERO",{"$f":"SUM(C63)","v":0},{"$f":"SUM(C63)","v":0},{"$f":"SUM(C63)","v":0},"ZERO","ZERO",{"$f":"SUM(C63)","v":0},"ZERO",0,{"$f":"SUM(C63)","v":0},"ZERO","ZERO",null,null,null,null,null,null,null,"ZERO",null,"ZERO","ZERO"]
["MASTERPIECE BURGER ",5000,0,0,null,0,"ZERO","ZERO","ZERO","ZERO","ZERO","ZERO",{"$f":"SUM(C64)","v":0},"ZERO","ZERO",{"$f":"SUM(C64)","v":0},{"$f":"SUM(C64)","v":0},"ZERO","ZERO","ZERO",{"$f":"SUM(C64)","v":0},{"$f":"SUM(C64)","v":0},0,"ZERO","ZERO","ZERO",null,null,null,null,null,null,null,null,null,"ZERO",{"$f":"SUM(C64)","v":0}]
["SUYA BURGER BOX 2 (WITH BEEF SUYA BURGER)",6000,0,0,null,0,"ZERO ","ZERO","ZERO",{"$f":"SUM(C65)*4","v":0},{"$f":"SUM(C65)","v":0},{"$f":"SUM(C65)*4","v":0},"ZERO","ZERO",{"$f":"SUM(C65)","v":0},{"$f":"SUM(C65)","v":0},{"$f":"SUM(C65)","v":0},"ZERO","ZERO",null,{"$f":"SUM(C65)","v":0},"ZERO",0,{"$f":"SUM(C65)*2","v":0},{"$f":"SUM(C65)","v":0},"ZERO",{"$f":"SUM(C65)","v":0},null,null,null,null,null,null,null,null,"ZERO",{"$f":"SUM(C65)","v":0}]
["OPENING STOCK",null,null,null,null,{"$f":"SUM('Production DAY 1'!C2)","v":0},{"$f":"SUM('Production DAY 1'!C3)","v":0},{"$f":"SUM('Production DAY 1'!C4)","v":0},{"$f":"SUM('Production DAY 1'!C5)","v":0},{"$f":"SUM('Production DAY 1'!C6)","v":0},{"$f":"SUM('Production DAY 1'!C7)","v":0},{"$f":"SUM('Production DAY 1'!C8)","v":0},{"$f":"SUM('Production DAY 1'!C9)","v":0},{"$f":"SUM('Production DAY 1'!C10)","v":0},{"$f":"SUM('Production DAY 1'!C11)","v":0},{"$f":"SUM('Production DAY 1'!C12)","v":0},{"$f":"SUM('Production DAY 1'!C13)","v":0},{"$f":"SUM('Production DAY 1'!C14)","v":0},{"$f":"SUM('Production DAY 1'!C15)","v":0},{"$f":"SUM('Production DAY 1'!C16)","v":0},{"$f":"SUM('Production DAY 1'!C17)","v":0},{"$f":"SUM('Production DAY 1'!C18)","v":0},{"$f":"SUM('Production DAY 1'!C19)","v":0},{"$f":"SUM('Production DAY 1'!C20)","v":0},{"$f":"SUM('Production DAY 1'!C21)","v":0},{"$f":"SUM('Production DAY 1'!C22)","v":0},{"$f":"SUM('Production DAY 1'!C23)","v":0},{"$f":"SUM('Production DAY 1'!C24)","v":0},{"$f":"SUM('Production DAY 1'!C25)","v":0},{"$f":"SUM('Production DAY 1'!C26)","v":0},{"$f":"SUM('Production DAY 1'!C27)","v":0},{"$f":"SUM('Production DAY 1'!C28)","v":0},{"$f":"SUM('Production DAY 1'!C29)","v":0},{"$f":"SUM('Production DAY 1'!C30)","v":0},{"$f":"SUM('Production DAY 1'!C31)","v":0},{"$f":"SUM('Production DAY 1'!C32)","v":0},{"$f":"SUM('Production DAY 1'!C33)","v":0},{"$f":"SUM('Production DAY 1'!C34)","v":0},{"$f":"SUM('Production DAY 1'!C35)","v":0},{"$f":"SUM('Production DAY 1'!C36)","v":0},{"$f":"SUM('Production DAY 1'!C37)","v":0},{"$f":"SUM('Production DAY 1'!C38)","v":0},{"$f":"SUM('Production DAY 1'!C39)","v":0},{"$f":"SUM('Production DAY 1'!C40)","v":0},{"$f":"SUM('Production DAY 1'!C41)","v":0},{"$f":"SUM('Production DAY 1'!C42)","v":0},{"$f":"SUM('Production DAY 1'!C43)","v":0}]
["RECEIVED",null,null,null,null,{"$f":"SUM('Production DAY 1'!D2)","v":0},{"$f":"SUM('Production DAY 1'!D3)","v":0},{"$f":"SUM('Production DAY 1'!D4)","v":0},{"$f":"SUM('Production DAY 1'!D5)","v":0},{"$f":"SUM('Production DAY 1'!D6)","v":0},{"$f":"SUM('Production DAY 1'!D7)","v":0},{"$f":"SUM('Production DAY 1'!D8)","v":0},{"$f":"SUM('Production DAY 1'!D9)","v":0},{"$f":"SUM('Production DAY 1'!D10)","v":0},{"$f":"SUM('Production DAY 1'!D11)","v":0},{"$f":"SUM('Production DAY 1'!D12)","v":0},{"$f":"SUM('Production DAY 1'!D13)","v":0},{"$f":"SUM('Production DAY 1'!D14)","v":0},{"$f":"SUM('Production DAY 1'!D15)","v":0},{"$f":"SUM('Production DAY 1'!D16)","v":0},{"$f":"SUM('Production DAY 1'!D17)","v":0},{"$f":"SUM('Production DAY 1'!D18)","v":0},{"$f":"SUM('Production DAY 1'!D19)","v":0},{"$f":"SUM('Production DAY 1'!D20)","v":0},{"$f":"SUM('Production DAY 1'!D21)","v":0},{"$f":"SUM('Production DAY 1'!D22)","v":0},{"$f":"SUM('Production DAY 1'!D23)","v":0},{"$f":"SUM('Production DAY 1'!D24)","v":0},{"$f":"SUM('Production DAY 1'!D25)","v":0},{"$f":"SUM('Production DAY 1'!D26)","v":0},{"$f":"SUM('Production DAY 1'!D27)","v":0},{"$f":"SUM('Production DAY 1'!D28)","v":0},{"$f":"SUM('Production DAY 1'!D29)","v":0},{"$f":"SUM('Production DAY 1'!D30)","v":0},{"$f":"SUM('Production DAY 1'!D31)","v":0},{"$f":"SUM('Production DAY 1'!D32)","v":0},{"$f":"SUM('Production DAY 1'!D33)","v":0},{"$f":"SUM('Production DAY 1'!D34)","v":0},{"$f":"SUM('Production DAY 1'!D35)","v":0},{"$f":"SUM('Production DAY 1'!D36)","v":0},{"$f":"SUM('Production DAY 1'!D37)","v":0},{"$f":"SUM('Production DAY 1'!D38)","v":0},{"$f":"SUM('Production DAY 1'!D39)","v":0},{"$f":"SUM('Production DAY 1'!D40)","v":0},{"$f":"SUM('Production DAY 1'!D41)","v":0},{"$f":"SUM('Production DAY 1'!D42)","v":0},{"$f":"SUM('Production DAY 1'!D43)","v":0}]
["TOTAL STOCK",null,null,null,null,{"$f":"SUM(F66:F67)","v":0},{"$f":"SUM(G66:G67)","v":0},{"$f":"SUM(H66:H67)","v":0},{"$f":"SUM(I66:I67)","v":0},0,0,0,0,0,0,{"$f":"SUM(P66:P67)","v":0},0,0,0,0,0,0,0,0,0,0,0,0,0,0,0,0,0,0,0,0,0,0,0,0,0,0,0,0,0,0,0]
["USED",null,null,{"$f":"SUM(D3:D65)","v":0},null,{"$f":"SUM(F3:F65)","v":0},0,0,0,0,0,0,0,0,0,0,0,0,0,0,0,0,0,0,0,0,0,0,0,0,0,0,0,0,0,0,0,{"$f":"SUM(AL3:AL64)","v":0},0,0,0,0,0,0,0,0,0]
["CLOSING STOCK",null,null,null,null,{"$f":"SUM(F68-F69)","v":0},0,0,0,0,0,0,0,0,0,0,0,0,0,0,0,0,0,0,0,0,0,0,0,0,0,0,0,{"$f":"SUM(AH66-AH69)","v":0},{"$f":"SUM(AI68-AI69)","v":0},0,0,0,0,0,0,0,0,0,0,0,0]

{"sheet":"Production DAY 2","index":2,"n_rows":44,"n_cols":8,"rows_kept":44,"cut":false,"hidden":false,"merged":[]}
["Nos#","ITEMS"," < OPENING STOCK","RECEIVED","USED >","SALES CLOSING STOCK >","PHYSICAL STOCK COUNT","COMMENTS"]
[1,"Burger Bread",{"$f":"SUM('Production DAY 1'!G2)","v":0},null,{"$f":"SUM('DAY 2'!F69)","v":0},{"$f":"SUM('DAY 2'!F70)","v":0},0,{"$f":"IF(G2=F2,TRUE,FALSE)","v":true}]
[2,"Chicken Patty",{"$f":"SUM('Production DAY 1'!G3)","v":0},null,{"$f":"SUM('DAY 2'!G69)","v":0},{"$f":"SUM('DAY 2'!G70)","v":0},0,true]
[3,"Shawarma Bread",{"$f":"SUM('Production DAY 1'!G4)","v":0},null,{"$f":"SUM('DAY 2'!H69)","v":0},{"$f":"SUM('DAY 2'!H70)","v":0},0,true]
[4,"Chicken Portion or Shawarma portion",{"$f":"SUM('Production DAY 1'!G5)","v":0},null,{"$f":"SUM('DAY 2'!I69)","v":0},{"$f":"SUM('DAY 2'!I70)","v":0},0,true]
[5,"Sausage",{"$f":"SUM('Production DAY 1'!G6)","v":0},null,{"$f":"SUM('DAY 2'!J69)","v":0},{"$f":"SUM('DAY 2'!J70)","v":0},0,true]
[6,"Portion of Fries",{"$f":"SUM('Production DAY 1'!G7)","v":0},null,{"$f":"SUM('DAY 2'!K69)","v":0},{"$f":"SUM('DAY 2'!K70)","v":0},0,true]
[7,"Pieces of Chicken",{"$f":"SUM('Production DAY 1'!G8)","v":0},null,{"$f":"SUM('DAY 2'!L69)","v":0},{"$f":"SUM('DAY 2'!L70)","v":0},0,true]
[8,"Cheese",{"$f":"SUM('Production DAY 1'!G9)","v":0},null,{"$f":"SUM('DAY 2'!M69)","v":0},{"$f":"SUM('DAY 2'!M70)","v":0},0,true]
[9,"Bacon",{"$f":"SUM('Production DAY 1'!G10)","v":0},null,{"$f":"SUM('DAY 2'!N69)","v":0},{"$f":"SUM('DAY 2'!N70)","v":0},0,true]
[10,"A Paper Bag",{"$f":"SUM('Production DAY 1'!G11)","v":0},null,{"$f":"SUM('DAY 2'!O69)","v":0},{"$f":"SUM('DAY 2'!O70)","v":0},0,true]
[11,"Achicken Box",{"$f":"SUM('Production DAY 1'!G12)","v":0},null,{"$f":"SUM('DAY 2'!P69)","v":0},{"$f":"SUM('DAY 2'!P70)","v":0},0,true]
[12,"Paper Wrap",{"$f":"SUM('Production DAY 1'!G13)","v":0},null,{"$f":"SUM('DAY 2'!Q69)","v":0},{"$f":"SUM('DAY 2'!Q70)","v":0},0,true]
[13,"A Branded Nylon",{"$f":"SUM('Production DAY 1'!G14)","v":0},null,{"$f":"SUM('DAY 2'!R69)","v":0},{"$f":"SUM('DAY 2'!R70)","v":0},0,true]
[14,"Parfait",{"$f":"SUM('Production DAY 1'!G15)","v":0},null,{"$f":"SUM('DAY 2'!S69)","v":0},{"$f":"SUM('DAY 2'!S70)","v":0},0,true]
[15,"A Bottle of SUGAR Juice",{"$f":"SUM('Production DAY 1'!G16)","v":0},null,{"$f":"SUM('DAY 2'!T69)","v":0},{"$f":"SUM('DAY 2'!T70)","v":0},0,true]
[16,"35 CL Soft Drink",{"$f":"SUM('Production DAY 1'!G17)","v":0},null,{"$f":"SUM('DAY 2'!U69)","v":0},{"$f":"SUM('DAY 2'!U70)","v":0},0,true]
[17,"Beef Patty",{"$f":"SUM('Production DAY 1'!G18)","v":0},null,{"$f":"SUM('DAY 2'!V69)","v":0},{"$f":"SUM('DAY 2'!V70)","v":0},0,true]
[18,"Cream in GRAMS",{"$f":"SUM('Production DAY 1'!G19)","v":0},null,{"$f":"SUM('DAY 2'!W69)","v":0},{"$f":"SUM('DAY 2'!W70)","v":0},0,true]
[19,"KETCHUP",{"$f":"SUM('Production DAY 1'!G20)","v":0},null,{"$f":"SUM('DAY 2'!X69)","v":0},{"$f":"SUM('DAY 2'!X70)","v":0},0,true]
[20,"plain Nylon",{"$f":"SUM('Production DAY 1'!G21)","v":0},null,{"$f":"SUM('DAY 2'!Y69)","v":0},{"$f":"SUM('DAY 2'!Y70)","v":0},0,true]
[21,"Barbeque Sauce",{"$f":"SUM('Production DAY 1'!G22)","v":0},null,{"$f":"SUM('DAY 2'!Z69)","v":0},{"$f":"SUM('DAY 2'!Z70)","v":0},0,true]
[22,"Meal Box",{"$f":"SUM('Production DAY 1'!G23)","v":0},null,{"$f":"SUM('DAY 2'!AA69)","v":0},{"$f":"SUM('DAY 2'!AA70)","v":0},0,true]
[23,"COCONUT BREAD",{"$f":"SUM('Production DAY 1'!G24)","v":0},null,{"$f":"SUM('DAY 2'!AB69)","v":0},{"$f":"SUM('DAY 2'!AB70)","v":0},0,true]
[24,"SUPA KOMMANDO",{"$f":"SUM('Production DAY 1'!G25)","v":0},null,{"$f":"SUM('DAY 2'!AC69)","v":0},{"$f":"SUM('DAY 2'!AC70)","v":0},0,true]
[25,"SHAWARMA SUB",{"$f":"SUM('Production DAY 1'!G26)","v":0},null,{"$f":"SUM('DAY 2'!AD69)","v":0},{"$f":"SUM('DAY 2'!AD70)","v":0},0,true]
[26,"CAN COKE / FANTA",{"$f":"SUM('Production DAY 1'!G27)","v":0},null,{"$f":"SUM('DAY 2'!AE69)","v":0},{"$f":"SUM('DAY 2'!AE70)","v":0},0,true]
[27,"NUGGETS ",{"$f":"SUM('Production DAY 1'!G28)","v":0},null,{"$f":"SUM('DAY 2'!AF69)","v":0},{"$f":"SUM('DAY 2'!AF70)","v":0},0,true]
[28,"PRAWN",{"$f":"SUM('Production DAY 1'!G29)","v":0},null,{"$f":"SUM('DAY 2'!AG69)","v":0},{"$f":"SUM('DAY 2'!AG70)","v":0},0,true]
[29,"FARM PRIDE",{"$f":"SUM('Production DAY 1'!G30)","v":0},null,{"$f":"SUM('DAY 2'!AH69)","v":0},{"$f":"SUM('DAY 2'!AH70)","v":0},0,true]
[30,"50CL OR PULPY",{"$f":"SUM('Production DAY 1'!G31)","v":0},null,{"$f":"SUM('DAY 2'!AI69)","v":0},{"$f":"SUM('DAY 2'!AI70)","v":0},0,true]
[31,"FARM PRIDE 1 LT",{"$f":"SUM('Production DAY 1'!G32)","v":0},null,{"$f":"SUM('DAY 2'!AJ69)","v":0},{"$f":"SUM('DAY 2'!AJ70)","v":0},0,true]
[32,"BEEF PORTION FOR SHAWARMA",{"$f":"SUM('Production DAY 1'!G33)","v":0},null,{"$f":"SUM('DAY 2'!AK69)","v":0},{"$f":"SUM('DAY 2'!AK70)","v":0},0,true]
[33,"BEEF SUYA STICK",{"$f":"SUM('Production DAY 1'!G34)","v":0},null,{"$f":"SUM('DAY 2'!AL69)","v":0},{"$f":"SUM('DAY 2'!AL70)","v":0},0,true]
[34,"EMPTY 1",{"$f":"SUM('Production DAY 1'!G35)","v":0},null,{"$f":"SUM('DAY 2'!AM69)","v":0},{"$f":"SUM('DAY 2'!AM70)","v":0},0,true]
[35,"EMPTY 2",{"$f":"SUM('Production DAY 1'!G36)","v":0},null,{"$f":"SUM('DAY 2'!AN69)","v":0},{"$f":"SUM('DAY 2'!AN70)","v":0},0,true]
[36,"EMPTY 3",{"$f":"SUM('Production DAY 1'!G37)","v":0},null,{"$f":"SUM('DAY 2'!AO69)","v":0},{"$f":"SUM('DAY 2'!AO70)","v":0},0,true]
[37,"EMPTY 4",{"$f":"SUM('Production DAY 1'!G38)","v":0},null,{"$f":"SUM('DAY 2'!AP69)","v":0},{"$f":"SUM('DAY 2'!AP70)","v":0},0,true]
[38,"EMPTY 5",{"$f":"SUM('Production DAY 1'!G39)","v":0},null,{"$f":"SUM('DAY 2'!AQ69)","v":0},{"$f":"SUM('DAY 2'!AQ70)","v":0},0,true]
[39,"EMPTY 6",{"$f":"SUM('Production DAY 1'!G40)","v":0},null,{"$f":"SUM('DAY 2'!AR69)","v":0},{"$f":"SUM('DAY 2'!AR70)","v":0},0,true]
[40,"EMPTY 7",{"$f":"SUM('Production DAY 1'!G41)","v":0},null,{"$f":"SUM('DAY 2'!AS69)","v":0},{"$f":"SUM('DAY 2'!AS70)","v":0},0,true]
[41,"EMPTY 8",{"$f":"SUM('Production DAY 1'!G42)","v":0},null,{"$f":"SUM('DAY 2'!AT69)","v":0},{"$f":"SUM('DAY 2'!AT70)","v":0},0,true]
[42,"EMPTY 9",{"$f":"SUM('Production DAY 1'!G43)","v":0},null,{"$f":"SUM('DAY 2'!AU69)","v":0},{"$f":"SUM('DAY 2'!AU70)","v":0},0,true]
[43,"EMPTY 10",{"$f":"SUM('Production DAY 1'!G44)","v":0},null,{"$f":"SUM('DAY 2'!AV69)","v":0},{"$f":"SUM('DAY 2'!AV70)","v":0},0,true]

{"sheet":"DAY 2","index":3,"n_rows":70,"n_cols":47,"rows_kept":70,"cut":false,"hidden":false,"merged":[[0,7,0,28]]}
["FEBRUARY 12th, 2022",null,null,{"$f":"SUM(D3:D50)","v":0},null,null,null,"BURGER PALACE INVENTORY RECORDS"]
["ITEM","AMOUNT","QUANTITY","TOTAL",null,"Burger Bread","Chicken Patty","Shawarma Bread","Chicken Portion or Shawarma portion","Sausage","Portion of Fries","Pieces of Chicken","Cheese","Bacon","A Paper Bag","Achicken Box","Paper Wrap","A Branded Nylon","Parfait","A Bottle of SUGAR Juice","35 CL Soft Drink","Beef Patty","Cream in GRAMS","KETCHUP","plain Nylon","Barbeque Sauce","Meal Box","COCONUT BREAD ","SUPA KOMMANDO ","SHAWARMA SUB","CAN COKE / FANTA","NUGGETS","PRAWN","FARM PRIDE 50CL OR PULPY","FARM PRIDE 1 LT","BEEF PORTION FOR SHAWARMA ","BEEF SUYA STICK","EMPTY 1","EMPTY 2","EMPTY 3","EMPTY 4","EMPTY 5","EMPTY 6","EMPTY 7","EMPTY 8","EMPTY 9","EMPTY 10"]
["DELUXE BURGER MEAL (WITH SOFT DRINK)",5400,0,{"$f":"SUM(B3*C3)","v":0},null,{"$f":"SUM(C3)","v":0},{"$f":"SUM(C3)","v":0},{"$f":"SUM(C3)","v":0},{"$f":"SUM(C3)","v":0},{"$f":"SUM(C3)","v":0},{"$f":"SUM(C3)","v":0},{"$f":"SUM(C3)*2","v":0},"ZERO","ZERO",{"$f":"SUM(C3)*1","v":0},{"$f":"SUM(C3)","v":0},{"$f":"SUM(C3)*2","v":0},{"$f":"SUM(C3)","v":0},null,"ZERO",{"$f":"SUM(C3)","v":0},null,{"$f":"SUM(C3)*140","v":0},{"$f":"SUM(C3)","v":0},{"$f":"SUM(C3)","v":0},"ZERO",null,null,null,null,null,null,null,null,null,{"$f":"SUM(AD3)","v":0},0]
["DELUXE BURGER MEAL (WITH SUGARCANE JUICE)",5600,0,{"$f":"SUM(B4*C4)","v":0},null,{"$f":"SUM(C4)","v":0},{"$f":"SUM(C4)","v":0},{"$f":"SUM(C4)","v":0},{"$f":"SUM(C4)","v":0},{"$f":"SUM(C4)","v":0},0,{"$f":"SUM(C4)*2","v":0},"ZERO","ZERO",{"$f":"SUM(C4)*1","v":0},0,{"$f":"SUM(C4)*2","v":0},0,null,{"$f":"SUM(C4)","v":0},"ZERO",null,{"$f":"SUM(C4)*140","v":0},{"$f":"SUM(C4)","v":0},0,"ZERO",null,null,null,null,null,null,null,null,null,0,0]
["DELUXE MEAL EXTRA (WITH Soft Drink)",null,0,{"$f":"SUM(B5*C5)","v":0},null,{"$f":"SUM(C5)","v":0},{"$f":"SUM(C5)","v":0},{"$f":"SUM(C5)","v":0},{"$f":"SUM(C5)","v":0},{"$f":"SUM(C5)","v":0},0,{"$f":"SUM(C5)*2","v":0},"ZERO","ZERO",{"$f":"SUM(C5)","v":0},0,{"$f":"SUM(C5)*2","v":0},0,{"$f":"SUM(C5)","v":0},"ZERO",{"$f":"SUM(C5)","v":0},null,{"$f":"SUM(C5)*140","v":0},{"$f":"SUM(C5)","v":0},0,"ZERO",null,null,null,null,null,null,null,null,null,0,0]
["DELUXE BURGER MEAL Extra (With Sugarcane juice",null,0,{"$f":"SUM(B6*C6)","v":0},null,{"$f":"SUM(C6)","v":0},{"$f":"SUM(C6)","v":0},{"$f":"SUM(C6)","v":0},{"$f":"SUM(C6)","v":0},{"$f":"SUM(C6)","v":0},0,{"$f":"SUM(C6)*2","v":0},"ZERO","ZERO",{"$f":"SUM(C6)","v":0},0,{"$f":"SUM(C6)*2","v":0},0,{"$f":"SUM(C6)","v":0},{"$f":"SUM(C6)","v":0},"ZERO",null,{"$f":"SUM(C6)*140","v":0},{"$f":"SUM(C6)","v":0},0,"ZERO",null,null,null,null,null,null,null,null,null,0,0]
["PREMIUM BURGER Meal ",5900,0,{"$f":"SUM(B7*C7)","v":0},null,{"$f":"SUM(C7)","v":0},{"$f":"SUM(C7)","v":0},"ZERO","ZERO","ZERO",0,{"$f":"SUM(C7)*5","v":0},"ZERO","ZERO",{"$f":"SUM(C7)","v":0},0,{"$f":"SUM(C7)*1.25","v":0},0,"ZERO","ZERO",{"$f":"SUM(C7)","v":0},"ZERO",{"$f":"SUM(C7)*70","v":0},{"$f":"SUM(C7)*2","v":0},0,{"$f":"SUM(C7)","v":0},null,null,null,null,null,null,null,null,null,"ZERO","ZERO"]
["CRISPY CHICKEN BOX",4300,0,null,null,"ZERO","ZERO","ZERO","ZERO","ZERO",0,{"$f":"SUM(C8)*5","v":0},"ZERO","ZERO","ZERO",0,{"$f":"SUM(C8)*0.25","v":0},0,"ZERO","ZERO",{"$f":"SUM(C8)","v":0},"ZERO","ZERO",{"$f":"SUM(C8)*2","v":0},0,{"$f":"SUM(C8)","v":0},null,null,null,null,null,null,null,null,null,"ZERO","ZERO"]
["ROYAL BURGER MEAL (CHICKEN  PATTY)",null,0,{"$f":"SUM(B9*C9)","v":0},null,{"$f":"SUM(C9)","v":0},{"$f":"SUM(C9)*2","v":0},"ZERO","ZERO","ZERO",0,"ZERO",{"$f":"SUM(C9)*2","v":0},{"$f":"SUM(C9)*2","v":0},"ZERO",0,{"$f":"SUM(C9)","v":0},0,{"$f":"SUM(C9)","v":0},"ZERO","ZERO","ZERO",{"$f":"SUM(C9)*140","v":0},{"$f":"SUM(C9)*2","v":0},0,{"$f":"SUM(C9)","v":0},null,null,null,null,null,null,null,null,null,"ZERO","ZERO"]
["ROYAL BURGER MEAL (BEEF  PATTY)",null,0,{"$f":"SUM(B10*C10)","v":0},null,{"$f":"SUM(C10)","v":0},"ZERO","ZERO","ZERO","ZERO",0,"ZERO",{"$f":"SUM(C10)*2","v":0},{"$f":"SUM(C10)*2","v":0},"ZERO",0,0,0,{"$f":"SUM(C10)","v":0},"ZERO","ZERO",{"$f":"SUM(C10)*2","v":0},{"$f":"SUM(C10)*140","v":0},{"$f":"SUM(C10)*2","v":0},0,{"$f":"SUM(C10)","v":0},null,null,null,null,null,null,null,null,null,"ZERO","ZERO"]
["ROYAL BURGER ONLY (CHICKEN PATTY)",3300,0,{"$f":"SUM(B11*C11:C25,A1,A1,A1,A1,A1)","v":0},null,{"$f":"SUM(C11)","v":0},{"$f":"SUM(C11)*2","v":0},"ZERO","ZERO","ZERO","ZERO","ZERO",{"$f":"SUM(C11)*2","v":0},{"$f":"SUM(C11)*2","v":0},"ZERO",0,0,0,"ZERO","ZERO","ZERO","ZERO",{"$f":"SUM(C11)*140","v":0},{"$f":"SUM(C11)","v":0},"ZERO","ZERO",null,null,null,null,null,null,null,null,null,"ZERO","ZERO"]
["ROYAL BURGER ONLY (BEEF PATTY)",3300,0,{"$f":"SUM(B12*C12)","v":0},null,{"$f":"SUM(C12)","v":0},null,"ZERO","ZERO","ZERO","ZERO","ZERO",{"$f":"SUM(C12)*2","v":0},{"$f":"SUM(C12)*2","v":0},"ZERO",0,0,0,"ZERO","ZERO","ZERO",{"$f":"SUM(C12)*2","v":0},{"$f":"SUM(C12)*140","v":0},{"$f":"SUM(C12)","v":0},"ZERO","ZERO",null,null,null,null,null,null,null,null,null,"ZERO","ZERO"]
["MAYOR'S COCONUT BURGER ",2800,0,0,null,0,{"$f":"SUM(C13)","v":0},"ZERO","ZERO","ZERO","ZERO","ZERO",{"$f":"SUM(C13)","v":0},"ZERO","ZERO",0,0,0,"ZERO","ZERO","ZERO",{"$f":"SUM(C13)","v":0},{"$f":"SUM(C13)*140","v":0},"ZERO","ZERO","ZERO",null,{"$f":"SUM(C13)","v":0},{"$f":"SUM(C13)","v":0},null,null,null,null,null,null,"ZERO","ZERO"]
["DOUBLE DECKER CRISPY CHK. CHEESE BURGER",2500,0,0,null,{"$f":"SUM(C14)","v":0},{"$f":"SUM(C14)*2","v":0},"ZERO","ZERO","ZERO","ZERO","ZERO",{"$f":"SUM(C14)","v":0},"ZERO","ZERO",0,0,"ZERO","ZERO","ZERO","ZERO","ZERO",{"$f":"SUM(C14)*70","v":0},"ZERO","ZERO","ZERO",null,null,null,null,null,null,null,null,null,"ZERO","ZERO"]
["SINGLE BEEF BURGER",1700,0,0,null,0,"ZERO","ZERO","ZERO","ZERO","ZERO","ZERO",null,"ZERO",{"$f":"SUM(C15)","v":0},null,0,"ZERO","ZERO","ZERO","ZERO",{"$f":"SUM(C15)","v":0},{"$f":"SUM(C15)*70","v":0},"ZERO","ZERO","ZERO",null,null,null,null,null,null,null,null,null,"ZERO","ZERO"]
["YANKEE BURGER",2400,0,0,null,0,"ZERO","ZERO","ZERO","ZERO","ZERO","ZERO",null,{"$f":"SUM(C16)*2","v":0},{"$f":"SUM(C16)","v":0},null,0,"ZERO","ZERO","ZERO","ZERO",{"$f":"SUM(C16)","v":0},{"$f":"SUM(C16)*70","v":0},"ZERO","ZERO","ZERO",null,null,null,null,null,null,null,null,null,"ZERO","ZERO"]
["ROYAL BURGER WITH FRIES (Chicken)",4000,0,0,null,0,{"$f":"SUM(C17)*2","v":0},"ZERO","ZERO","ZERO",{"$f":"SUM(C17)","v":0},"ZERO",{"$f":"SUM(C17)*2","v":0},{"$f":"SUM(C17)*2","v":0},"ZERO",{"$f":"SUM(C17)","v":0},0,"ZERO","ZERO","ZERO","ZERO","ZERO",{"$f":"SUM(C17)*140","v":0},{"$f":"SUM(C17)*2","v":0},"ZERO","ZERO",null,null,null,null,null,null,null,null,null,"ZERO","ZERO"]
["ROYAL BURGER WITH FRIES (BEEF)",4000,0,0,null,0,"ZERO","ZERO","ZERO","ZERO",{"$f":"SUM(C18)","v":0},"ZERO",{"$f":"SUM(C18)*2","v":0},{"$f":"SUM(C18)*2","v":0},"ZERO",{"$f":"SUM(C18)","v":0},0,"ZERO","ZERO","ZERO","ZERO",{"$f":"SUM(C18)*2","v":0},{"$f":"SUM(C18)*140","v":0},{"$f":"SUM(C18)*2","v":0},"ZERO","ZERO",null,null,null,null,null,null,null,null,null,"ZERO","ZERO"]
["CRISPY CHICKEN BURGER",1700,0,0,null,0,{"$f":"SUM(C19)","v":0},"ZERO","ZERO","ZERO","ZERO","ZERO","ZERO","ZERO",{"$f":"SUM(C19)","v":0},"ZERO",{"$f":"SUM(C19)*1","v":0},"ZERO","ZERO","ZERO","ZERO","ZERO",{"$f":"SUM(C19)*70","v":0},"ZERO","ZERO","ZERO",null,null,null,null,null,null,null,null,null,"ZERO","ZERO"]
["SUYA BURGER BOX",5500,0,0,null,0,{"$f":"SUM(C20)*2","v":0},"ZERO","ZERO",{"$f":"SUM(C20)*4","v":0},{"$f":"SUM(C20)","v":0},{"$f":"SUM(C20)*4","v":0},"ZERO","ZERO",{"$f":"SUM(C20)","v":0},{"$f":"SUM(C20)","v":0},{"$f":"SUM(C20)","v":0},"ZERO","ZERO",null,{"$f":"SUM(C20)","v":0},"ZERO",0,{"$f":"SUM(C20)*2","v":0},{"$f":"SUM(C20)","v":0},"ZERO",{"$f":"SUM(C20)","v":0},null,null,null,null,null,null,null,null,"ZERO","ZERO"]
["CRISPY CHICKEN BURGER PLUS CHEESE",2100,0,0,null,0,{"$f":"SUM(C21)","v":0},"ZERO","ZERO","ZERO","ZERO","ZERO",{"$f":"SUM(C21)","v":0},"ZERO",{"$f":"SUM(C21)","v":0},"ZERO",0,"ZERO","ZERO","ZERO","ZERO","ZERO",0,"ZERO","ZERO","ZERO",null,null,null,null,null,null,null,null,null,"ZERO","ZERO"]
["SINGLE BEEF CHEESE BURGER ",2100,0,0,null,0,"ZERO","ZERO","ZERO","ZERO","ZERO","ZERO",{"$f":"SUM(C22)","v":0},"ZERO",{"$f":"SUM(C22)","v":0},"ZERO",0,"ZERO","ZERO","ZERO","ZERO",{"$f":"SUM(C22)","v":0},0,"ZERO","ZERO","ZERO",null,null,null,null,null,null,null,null,null,"ZERO","ZERO"]
["DOUBLE DECKER BEEF CHEESE BURGER",2800,0,0,null,0,"ZERO","ZERO","ZERO","ZERO","ZERO","ZERO",{"$f":"SUM(C23)*2","v":0},"ZERO","ZERO",{"$f":"SUM(C23)","v":0},0,"ZERO","ZERO","ZERO","ZERO",{"$f":"SUM(C23)*2","v":0},0,"ZERO","ZERO","ZERO",null,null,null,null,null,null,null,null,null,"ZERO","ZERO"]
["CHICKEN SUYA BURGER ",2200,0,0,null,0,{"$f":"SUM(C24)*2","v":0},"ZERO","ZERO","ZERO","ZERO","ZERO","ZERO","ZERO",{"$f":"SUM(C24)*1","v":0},"ZERO",0,"ZERO","ZERO","ZERO","ZERO","ZERO",0,"ZERO","ZERO","ZERO",null,null,null,null,null,null,null,null,null,"ZERO","ZERO"]
["CHICKEN SHAWARMA",1800,0,0,null,null,"ZERO",{"$f":"SUM(C25)","v":0},{"$f":"SUM(C25)","v":0},{"$f":"SUM(C25)*2","v":0},"ZERO","ZERO","ZERO","ZERO","ZERO","ZERO",0,{"$f":"SUM(C25)","v":0},"ZERO","ZERO","ZERO","ZERO",0,"ZERO","ZERO","ZERO",null,null,null,null,null,null,null,null,null,{"$f":"SUM(AD25)","v":0},{"$f":"SUM(AE25)","v":0}]
["BARBECUE BEEF SHAWARMA",2000,0,0,null,null,"ZERO",{"$f":"SUM(C26)","v":0},"ZERO",{"$f":"SUM(C26)*2","v":0},"ZERO","ZERO","ZERO","ZERO","ZERO","ZERO",0,0,"ZERO","ZERO","ZERO","ZERO",0,"ZERO","ZERO","ZERO",null,null,null,null,null,null,null,null,null,{"$f":"SUM(C26)","v":0},"ZERO"]
["BEEF SUYA SHAWARMA",2200,0,0,null,null,"ZERO",{"$f":"SUM(C27)","v":0},"ZERO",{"$f":"SUM(C27)*2","v":0},"ZERO","ZERO","ZERO","ZERO","ZERO","ZERO",0,0,"ZERO","ZERO","ZERO","ZERO",0,"ZERO","ZERO","ZERO",null,null,null,null,null,null,null,null,null,{"$f":"SUM(AD27)","v":0},{"$f":"SUM(C27)","v":0}]
["BEEF SUYA BURGER ",2200,0,0,null,{"$f":"SUM(C28)","v":0},"ZERO",null,"ZERO","ZERO","ZERO","ZERO","ZERO","ZERO",{"$f":"SUM(C28)","v":0},"ZERO",0,0,"ZERO","ZERO","ZERO","ZERO",0,"ZERO","ZERO","ZERO",null,null,null,null,null,null,null,null,null,{"$f":"SUM(AD28)","v":0},{"$f":"SUM(C28)","v":0}]
["CHICKEN SUYA SHAWARMA",2200,0,0,null,"ZERO",{"$f":"SUM(C29)*2","v":0},{"$f":"SUM(C29)","v":0},null,{"$f":"SUM(C29)*2","v":0},"ZERO","ZERO","ZERO","ZERO","ZERO","ZERO",0,0,"ZERO","ZERO","ZERO","ZERO",0,"ZERO","ZERO","ZERO"]
["CHESSY SHAWARMA",2500,0,0,null,"ZERO","ZERO",{"$f":"SUM(C30)","v":0},{"$f":"SUM(C30)","v":0},{"$f":"SUM(C30)*2","v":0},null,"ZERO",{"$f":"SUM(C30)*2","v":0},"ZERO","ZERO","ZERO",0,0,"ZERO","ZERO","ZERO","ZERO",{"$f":"SUM(C30)*140","v":0},"ZERO","ZERO","ZERO",null,null,null,null,null,null,null,null,null,{"$f":"SUM(AD30)","v":0},{"$f":"SUM(AE30)","v":0}]
["2 CHICKEN AND CHIPS",2300,0,0,null,"ZERO","ZERO","ZERO","ZERO","ZERO",{"$f":"SUM(C31)","v":0},{"$f":"SUM(C31)*2","v":0},"ZERO","ZERO","ZERO",{"$f":"SUM(C31)","v":0},"ZERO",0,"ZERO","ZERO","ZERO","ZERO","ZERO",{"$f":"SUM(C31)","v":0},"ZERO","ZERO",null,null,null,null,null,null,null,null,null,"ZERO","ZERO"]
["4 CHICKEN AND CHIPS",3500,0,0,null,"ZERO","ZERO","ZERO","ZERO","ZERO",{"$f":"SUM(C32)","v":0},{"$f":"SUM(C32)*4","v":0},"ZERO","ZERO","ZERO",{"$f":"SUM(C32)","v":0},"ZERO",0,"ZERO","ZERO","ZERO","ZERO","ZERO",{"$f":"SUM(C32)*2","v":0},"ZERO","ZERO","zero","zero","zero",null,null,null,null,null,null,"ZERO","ZERO"]
["SPICY CHICKEN ONLY",650,0,null,null,"ZERO","ZERO","ZERO","ZERO","ZERO","ZERO",{"$f":"SUM(C33)","v":0},"ZERO","ZERO","ZERO","ZERO","ZERO","ZERO","ZERO","ZERO","ZERO","ZERO","ZERO","ZERO",{"$f":"SUM(C33)","v":0},"ZERO",null,null,null,null,null,null,null,null,null,"ZERO","ZERO"]
["CRISPY CHICKEN ONLY",650,0,{"$f":"SUM(B34*C34)","v":0},null,"ZERO","ZERO","ZERO","ZERO","ZERO","ZERO",{"$f":"SUM(C34)","v":0},"ZERO","ZERO","ZERO","ZERO","ZERO","ZERO","ZERO","ZERO","ZERO","ZERO","ZERO","ZERO",{"$f":"SUM(C34)","v":0},"ZERO",null,null,null,null,null,null,null,null,null,"ZERO","ZERO"]
["POTATO FRIES",700,0,0,null,"ZERO","ZERO","ZERO","ZERO","ZERO",null,"ZERO","ZERO","ZERO","ZERO","ZERO","ZERO","ZERO","ZERO","ZERO","ZERO","ZERO","ZERO","ZERO","ZERO","ZERO",null,null,null,null,null,null,null,null,null,"ZERO","ZERO"]
["FRENCH FRIES ONLY",1000,0,0,null,"ZERO","ZERO","ZERO","ZERO","ZERO",{"$f":"SUM(C36)","v":0},"ZERO","ZERO","ZERO","ZERO","ZERO","ZERO","ZERO","ZERO","ZERO","ZERO","ZERO","ZERO","ZERO",{"$f":"SUM(C36)","v":0},"ZERO",null,null,null,null,null,null,null,null,null,"ZERO","ZERO"]
["SUGERCANNE JUICE",750,0,0,null,"ZERO","ZERO","ZERO","ZERO","ZERO","ZERO","ZERO","ZERO","ZERO","ZERO","ZERO","ZERO","ZERO","ZERO",{"$f":"SUM(C37)","v":0},"ZERO","ZERO","ZERO","ZERO","ZERO","ZERO",null,null,null,null,null,null,null,null,null,"ZERO","ZERO"]
["35 CL SOFT DRINK",200,0,0,null,"ZERO","ZERO","ZERO","ZERO","ZERO","ZERO","ZERO","ZERO","ZERO","ZERO","ZERO","ZERO","ZERO","ZERO","ZERO",{"$f":"SUM(C38)","v":0},"ZERO","ZERO","ZERO","ZERO","ZERO",null,null,null,null,null,null,null,null,null,"ZERO","ZERO"]
["PARFAIT",null,0,0,null,"ZERO","ZERO","ZERO","ZERO","ZERO","ZERO","ZERO","ZERO","ZERO","ZERO","ZERO","ZERO",{"$f":"SUM(C39)","v":0},{"$f":"SUM(C39)","v":0},"ZERO","ZERO","ZERO","ZERO","ZERO","ZERO","ZERO",null,null,null,null,null,null,null,null,null,"ZERO","ZERO"]
["MARINATED WINGS",500,0,0,null,"ZERO","ZERO","ZERO","ZERO","ZERO","ZERO",{"$f":"SUM(C40)","v":0},"ZERO","ZERO","ZERO","ZERO","ZERO","ZERO","ZERO","ZERO","ZERO","ZERO","ZERO","ZERO","ZERO","ZERO",null,null,null,null,null,null,null,null,null,"ZERO","ZERO"]
["CHEESE ",400,0,0,null,"ZERO","ZERO","ZERO","ZERO","ZERO","ZERO","ZERO",{"$f":"SUM(C41)","v":0},"ZERO","ZERO","ZERO","ZERO","ZERO","ZERO","ZERO","ZERO","ZERO","ZERO","ZERO","ZERO","ZERO",null,null,null,null,null,null,null,null,null,"ZERO","ZERO"]
["SAUSAGE",200,0,0,null,null,null,null,null,null,"ZERO"]
["BACON",400,0,0,null,"ZERO","ZERO","ZERO","ZERO","ZERO","ZERO","ZERO","ZERO",{"$f":"SUM(C43)","v":0},"ZERO","ZERO","ZERO","ZERO","ZERO","ZERO","ZERO","ZERO","ZERO","ZERO","ZERO","ZERO",null,null,null,null,null,null,null,null,null,"ZERO","ZERO"]
["FRIENDY BURGER MEAL (WITH SOFT DRINK)",10200,0,0,null,{"$f":"SUM(C44)*2","v":0},{"$f":"SUM(C44)*2","v":0},{"$f":"SUM(C44)*2","v":0},{"$f":"SUM(C44)*2","v":0},{"$f":"SUM(C44)*2","v":0},{"$f":"SUM(C44)*2","v":0},{"$f":"SUM(C44)*2*2","v":0},"ZERO","ZERO",{"$f":"SUM(C44)*1*2","v":0},{"$f":"SUM(C44)*2","v":0},{"$f":"SUM(C44)*2*2","v":0},{"$f":"SUM(C44)*2","v":0},null,"ZERO",{"$f":"SUM(C44)*2","v":0},null,{"$f":"SUM(C44)*140*2","v":0},{"$f":"SUM(C44)*2","v":0},{"$f":"SUM(C44)*2","v":0},"ZERO",null,null,null,null,null,null,null,null,null,{"$f":"SUM(AD44)*2","v":0},{"$f":"SUM(AE44)*2","v":0}]
["FRIENDY BURGER MEAL (WITH SUGARCANE JUICE)",10600,0,0,null,{"$f":"SUM(C45)*2","v":0},{"$f":"SUM(C45)*2","v":0},{"$f":"SUM(C45)*2","v":0},{"$f":"SUM(C45)*2","v":0},{"$f":"SUM(C45)*2","v":0},{"$f":"SUM(C45)*2","v":0},{"$f":"SUM(C45)*2*2","v":0},"ZERO","ZERO",{"$f":"SUM(C45)*1*2","v":0},{"$f":"SUM(C45)*2","v":0},{"$f":"SUM(C45)*2*2","v":0},{"$f":"SUM(C45)*2","v":0},null,{"$f":"SUM(C45)*2","v":0},"ZERO",null,{"$f":"SUM(C45)*140*2","v":0},{"$f":"SUM(C45)*2","v":0},{"$f":"SUM(C45)*2","v":0},"ZERO",null,null,null,null,null,null,null,null,null,{"$f":"SUM(AD45)*2","v":0},{"$f":"SUM(AE45)*2","v":0}]
["SHAWARMA  SUB",1800,0,0,null,null,"ZERO","ZERO",{"$f":"SUM(C46)","v":0},{"$f":"SUM(C46)*2","v":0},"ZERO","ZERO","ZERO","ZERO",{"$f":"SUM(C46)*1","v":0},"ZERO",{"$f":"SUM(C46)","v":0},"ZERO","ZERO","ZERO","ZERO","ZERO",{"$f":"SUM(C46)*70","v":0},"ZERO","ZERO","ZERO",null,null,null,{"$f":"SUM(C46)","v":0},null,null,null,null,null,{"$f":"SUM(AD46)","v":0},{"$f":"SUM(AE46)","v":0}]
["DELISH PACK 1",5300,0,0,null,{"$f":"SUM(C47)","v":0},{"$f":"SUM(C47)","v":0},"ZERO",{"$f":"SUM(C47)","v":0},{"$f":"SUM(C47)*2","v":0},"ZERO",{"$f":"SUM(C47)*4","v":0},"ZERO","ZERO",{"$f":"SUM(C47)*1","v":0},{"$f":"SUM(C47)*1","v":0},{"$f":"SUM(C47)*2","v":0},{"$f":"SUM(C47)","v":0},"ZERO","ZERO","ZERO","ZERO",{"$f":"SUM(C47)*70","v":0},"ZERO","ZERO","ZERO",null,null,null,{"$f":"SUM(C47)","v":0},{"$f":"SUM(C47)*1","v":0},null,null,null,null,{"$f":"SUM(AD47)","v":0},{"$f":"SUM(AE47)","v":0}]
["FAMILY BURGER MEAL (WITH SOFT DRINK)",19800,0,0,null,{"$f":"SUM(C48)*4","v":0},{"$f":"SUM(C48)*4","v":0},{"$f":"SUM(C48)*4","v":0},{"$f":"SUM(C48)*4","v":0},{"$f":"SUM(C48)*4","v":0},{"$f":"SUM(C48)*4","v":0},{"$f":"SUM(C48)*2*4","v":0},"ZERO","ZERO",{"$f":"SUM(C48)*1*4","v":0},{"$f":"SUM(C48)*4","v":0},{"$f":"SUM(C48)*2*4","v":0},{"$f":"SUM(C48)*4","v":0},null,"ZERO",{"$f":"SUM(C48)*4","v":0},null,{"$f":"SUM(C48)*140*4","v":0},{"$f":"SUM(C48)*4","v":0},{"$f":"SUM(C48)*4","v":0},"ZERO",null,null,null,null,null,null,null,null,null,{"$f":"SUM(AD48)*4","v":0},{"$f":"SUM(AE48)*4","v":0}]
["FAMILY BURGER MEAL (WITH SUGARCANE JUICE)",20800,0,0,null,{"$f":"SUM(C49)*4","v":0},{"$f":"SUM(C49)*4","v":0},{"$f":"SUM(C49)*4","v":0},{"$f":"SUM(C49)*4","v":0},{"$f":"SUM(C49)*4","v":0},{"$f":"SUM(C49)*4","v":0},{"$f":"SUM(C49)*2*4","v":0},"ZERO","ZERO",{"$f":"SUM(C49)*1*4","v":0},{"$f":"SUM(C49)*4","v":0},{"$f":"SUM(C49)*2*4","v":0},{"$f":"SUM(C49)*4","v":0},null,{"$f":"SUM(C49)*4","v":0},"ZERO",null,{"$f":"SUM(C49)*140*4","v":0},{"$f":"SUM(C49)*4","v":0},{"$f":"SUM(C49)*4","v":0},"ZERO",null,null,null,null,null,null,null,null,null,{"$f":"SUM(AD49)*4","v":0},{"$f":"SUM(AE49)*4","v":0}]
["CAN COKE/FANTA ONLY",null,0,0,null,"ZERO","ZERO","ZERO","ZERO","ZERO","ZERO","ZERO","ZERO","ZERO","ZERO","ZERO","ZERO","ZERO","ZERO","ZERO","ZERO","ZERO","ZERO","ZERO","ZERO","ZERO",null,null,null,null,{"$f":"SUM(C50)","v":0},null,null,null,null,"ZERO","ZERO"]
["SUPA KOMMANDO ONLY",250,0,0,null,"ZERO","ZERO","ZERO","ZERO","ZERO","ZERO","ZERO","ZERO","ZERO","ZERO","ZERO","ZERO","ZERO","ZERO","ZERO","ZERO","ZERO","ZERO","ZERO","ZERO","ZERO",null,null,{"$f":"SUM(C51)","v":0},null,"ZERO","ZERO",null,null,null,"ZERO","ZERO"]
["10X Chicken Nuggets ",2400,0,0,null,null,null,null,null,null,"ZERO",null,null,null,null,{"$f":"SUM(C52)","v":0},null,{"$f":"SUM(C52)","v":0},null,null,null,null,null,{"$f":"SUM(C52)","v":0},null,null,null,null,null,null,{"$f":"SUM(C52)","v":0},{"$f":"SUM(C52)*10","v":0}]
["20X Chicken Nuggets ",4800,0,0,null,null,null,null,null,null,"ZERO ",null,null,null,null,{"$f":"SUM(C53)","v":0},null,{"$f":"SUM(C53)","v":0},null,null,null,null,null,{"$f":"SUM(C53)","v":0},null,null,null,null,null,null,{"$f":"SUM(C53)","v":0},{"$f":"SUM(C53)*20","v":0}]
["10 CHICKEN NUGGETS & FRIES BOX",3300,0,0,null,null,null,null,null,null,{"$f":"SUM(C54)","v":0},null,null,null,null,{"$f":"SUM(C54)","v":0},null,{"$f":"SUM(C54)","v":0},null,null,null,null,null,{"$f":"SUM(C54)","v":0},null,null,null,null,null,null,{"$f":"SUM(C54)","v":0},{"$f":"SUM(C54)*10","v":0}]
["20 CHICKEN NUGGETS & FRIES BOX",6600,0,0,null,null,null,null,null,null,{"$f":"SUM(C55)","v":0},null,null,null,null,{"$f":"SUM(C55)","v":0},null,{"$f":"SUM(C55)","v":0},null,null,null,null,null,{"$f":"SUM(C55)","v":0},null,null,null,null,null,null,{"$f":"SUM(C55)","v":0},{"$f":"SUM(C55)*20","v":0}]
["PRAWN BURGER ",3000,0,0,null,{"$f":"SUM(C56)","v":0},"ZERO","ZERO","ZERO","ZERO","ZERO","ZERO",{"$f":"SUM(C56)","v":0},"ZERO",{"$f":"SUM(C56)","v":0},"ZERO",{"$f":"SUM(C56)","v":0},"ZERO","ZERO","ZERO","ZERO","ZERO",{"$f":"SUM(C56)*70","v":0},"ZERO","ZERO","ZERO",null,null,null,null,null,null,{"$f":"SUM(C56)*2","v":0},null,null,"ZERO","ZERO"]
[" FUNMMY NUGGETS  BOX",5300,0,0,null,{"$f":"SUM(C57)","v":0},{"$f":"SUM(C57)","v":0},null,null,null,{"$f":"SUM(C57)","v":0},null,{"$f":"SUM(C57)","v":0},null,{"$f":"SUM(C57)","v":0},{"$f":"SUM(C57)","v":0},null,{"$f":"SUM(C57)","v":0},null,null,null,null,null,{"$f":"SUM(C57)","v":0},null,null,null,null,null,null,{"$f":"SUM(C57)","v":0},{"$f":"SUM(C57)*10","v":0}]
["FARM PRIDE 50 CL",500,0,0,null,"ZERO","ZERO","ZERO","ZERO","ZERO","ZERO","ZERO","ZERO","ZERO","ZERO","ZERO","ZERO","ZERO","ZERO","ZERO","ZERO","ZERO","ZERO","ZERO","ZERO","ZERO",null,null,null,null,null,null,null,{"$f":"SUM(C58)","v":0},null,"ZERO","ZERO"]
["FARM PRIDE 1 LITRE",800,0,0,null,"ZERO","ZERO","ZERO","ZERO","ZERO","ZERO","ZERO","ZERO","ZERO","ZERO","ZERO","ZERO","ZERO","ZERO","ZERO","ZERO","ZERO","ZERO","ZERO","ZERO","ZERO",null,null,null,null,null,null,null,"ZERO",{"$f":"SUM(C59)","v":0},"ZERO","ZERO"]
["GRILLED CHICKEN BURGER",1700,0,{"$f":"SUM(B60*C60)","v":0},null,{"$f":"SUM(C60)","v":0},{"$f":"SUM(C60)","v":0},"ZERO","ZERO","ZERO","ZERO","ZERO","ZERO","ZERO",{"$f":"SUM(C60)","v":0},"ZERO",{"$f":"SUM(C60)*1","v":0},"ZERO","ZERO","ZERO","ZERO","ZERO",{"$f":"SUM(C60)*70","v":0},"ZERO","ZERO","ZERO",null,null,null,null,null,null,null,null,null,"ZERO","ZERO"]
["GRILLED CHICKEN BURGER + JUICE",2200,0,0,null,0,{"$f":"SUM(C61)","v":0},"ZERO","ZERO","ZERO","ZERO","ZERO","ZERO","ZERO",{"$f":"SUM(C61)","v":0},"ZERO",{"$f":"SUM(C61)*1","v":0},"ZERO","ZERO","ZERO","ZERO","ZERO",0,"ZERO","ZERO","ZERO",null,null,null,null,null,null,null,{"$f":"SUM(C61)","v":0},null,"ZERO","ZERO"]
["GRILLED BURGER MEAL 1 & 3",4000,0,0,null,0,{"$f":"SUM(C62)","v":0},"ZERO","ZERO","ZERO",{"$f":"SUM(C62)","v":0},{"$f":"SUM(C62)*2","v":0},"ZERO","ZERO","ZERO",{"$f":"SUM(C62)","v":0},{"$f":"SUM(C62)","v":0},{"$f":"SUM(C62)","v":0},"ZERO","ZERO","ZERO","ZERO",0,{"$f":"SUM(C62)","v":0},"ZERO","ZERO",null,null,null,null,null,null,null,{"$f":"SUM(C62)","v":0},null,"ZERO","ZERO"]
["GRILLED BURGER MEAL 2",3700,0,0,null,0,{"$f":"SUM(C63)","v":0},"ZERO","ZERO","ZERO",{"$f":"SUM(C63)","v":0},{"$f":"SUM(C63)*2","v":0},"ZERO","ZERO","ZERO",{"$f":"SUM(C63)","v":0},{"$f":"SUM(C63)","v":0},{"$f":"SUM(C63)","v":0},"ZERO","ZERO",{"$f":"SUM(C63)","v":0},"ZERO",0,{"$f":"SUM(C63)","v":0},"ZERO","ZERO",null,null,null,null,null,null,null,"ZERO",null,"ZERO","ZERO"]
["MASTERPIECE BURGER ",5000,0,0,null,0,"ZERO","ZERO","ZERO","ZERO","ZERO","ZERO",{"$f":"SUM(C64)","v":0},"ZERO","ZERO",{"$f":"SUM(C64)","v":0},{"$f":"SUM(C64)","v":0},"ZERO","ZERO","ZERO",{"$f":"SUM(C64)","v":0},{"$f":"SUM(C64)","v":0},0,"ZERO","ZERO","ZERO",null,null,null,null,null,null,null,null,null,"ZERO",{"$f":"SUM(C64)","v":0}]
["SUYA BURGER BOX 2 (WITH BEEF SUYA BURGER)",6000,0,0,null,0,"ZERO ","ZERO","ZERO",{"$f":"SUM(C65)*4","v":0},{"$f":"SUM(C65)","v":0},{"$f":"SUM(C65)*4","v":0},"ZERO","ZERO",{"$f":"SUM(C65)","v":0},{"$f":"SUM(C65)","v":0},{"$f":"SUM(C65)","v":0},"ZERO","ZERO",null,{"$f":"SUM(C65)","v":0},"ZERO",0,{"$f":"SUM(C65)*2","v":0},{"$f":"SUM(C65)","v":0},"ZERO",{"$f":"SUM(C65)","v":0},null,null,null,null,null,null,null,null,"ZERO",{"$f":"SUM(C65)","v":0}]
["OPENING STOCK",null,null,null,null,{"$f":"SUM('Production DAY 2'!C2)","v":0},{"$f":"SUM('Production DAY 2'!C3)","v":0},{"$f":"SUM('Production DAY 2'!C4)","v":0},{"$f":"SUM('Production DAY 2'!C5)","v":0},{"$f":"SUM('Production DAY 2'!C6)","v":0},{"$f":"SUM('Production DAY 2'!C7)","v":0},{"$f":"SUM('Production DAY 2'!C8)","v":0},{"$f":"SUM('Production DAY 2'!C9)","v":0},{"$f":"SUM('Production DAY 2'!C10)","v":0},{"$f":"SUM('Production DAY 2'!C11)","v":0},{"$f":"SUM('Production DAY 2'!C12)","v":0},{"$f":"SUM('Production DAY 2'!C13)","v":0},{"$f":"SUM('Production DAY 2'!C14)","v":0},{"$f":"SUM('Production DAY 2'!C15)","v":0},{"$f":"SUM('Production DAY 2'!C16)","v":0},{"$f":"SUM('Production DAY 2'!C17)","v":0},{"$f":"SUM('Production DAY 2'!C18)","v":0},{"$f":"SUM('Production DAY 2'!C19)","v":0},{"$f":"SUM('Production DAY 2'!C20)","v":0},{"$f":"SUM('Production DAY 2'!C21)","v":0},{"$f":"SUM('Production DAY 2'!C22)","v":0},{"$f":"SUM('Production DAY 2'!C23)","v":0},{"$f":"SUM('Production DAY 2'!C24)","v":0},{"$f":"SUM('Production DAY 2'!C25)","v":0},{"$f":"SUM('Production DAY 2'!C26)","v":0},{"$f":"SUM('Production DAY 2'!C27)","v":0},{"$f":"SUM('Production DAY 2'!C28)","v":0},{"$f":"SUM('Production DAY 2'!C29)","v":0},{"$f":"SUM('Production DAY 2'!C30)","v":0},{"$f":"SUM('Production DAY 2'!C31)","v":0},{"$f":"SUM('Production DAY 2'!C32)","v":0},{"$f":"SUM('Production DAY 2'!C33)","v":0},{"$f":"SUM('Production DAY 2'!C34)","v":0},{"$f":"SUM('Production DAY 2'!C35)","v":0},{"$f":"SUM('Production DAY 2'!C36)","v":0},{"$f":"SUM('Production DAY 2'!C37)","v":0},{"$f":"SUM('Production DAY 2'!C38)","v":0},{"$f":"SUM('Production DAY 2'!C39)","v":0},{"$f":"SUM('Production DAY 2'!C40)","v":0},{"$f":"SUM('Production DAY 2'!C41)","v":0},{"$f":"SUM('Production DAY 2'!C42)","v":0},{"$f":"SUM('Production DAY 2'!C43)","v":0}]
["RECEIVED",null,null,null,null,{"$f":"SUM('Production DAY 2'!D2)","v":0},{"$f":"SUM('Production DAY 2'!D3)","v":0},{"$f":"SUM('Production DAY 2'!D4)","v":0},{"$f":"SUM('Production DAY 2'!D5)","v":0},{"$f":"SUM('Production DAY 2'!D6)","v":0},{"$f":"SUM('Production DAY 2'!D7)","v":0},{"$f":"SUM('Production DAY 2'!D8)","v":0},{"$f":"SUM('Production DAY 2'!D9)","v":0},{"$f":"SUM('Production DAY 2'!D10)","v":0},{"$f":"SUM('Production DAY 2'!D11)","v":0},{"$f":"SUM('Production DAY 2'!D12)","v":0},{"$f":"SUM('Production DAY 2'!D13)","v":0},{"$f":"SUM('Production DAY 2'!D14)","v":0},{"$f":"SUM('Production DAY 2'!D15)","v":0},{"$f":"SUM('Production DAY 2'!D16)","v":0},{"$f":"SUM('Production DAY 2'!D17)","v":0},{"$f":"SUM('Production DAY 2'!D18)","v":0},{"$f":"SUM('Production DAY 2'!D19)","v":0},{"$f":"SUM('Production DAY 2'!D20)","v":0},{"$f":"SUM('Production DAY 2'!D21)","v":0},{"$f":"SUM('Production DAY 2'!D22)","v":0},{"$f":"SUM('Production DAY 2'!D23)","v":0},{"$f":"SUM('Production DAY 2'!D24)","v":0},{"$f":"SUM('Production DAY 2'!D25)","v":0},{"$f":"SUM('Production DAY 2'!D26)","v":0},{"$f":"SUM('Production DAY 2'!D27)","v":0},{"$f":"SUM('Production DAY 2'!D28)","v":0},{"$f":"SUM('Production DAY 2'!D29)","v":0},{"$f":"SUM('Production DAY 2'!D30)","v":0},{"$f":"SUM('Production DAY 2'!D31)","v":0},{"$f":"SUM('Production DAY 2'!D32)","v":0},{"$f":"SUM('Production DAY 2'!D33)","v":0},{"$f":"SUM('Production DAY 2'!D34)","v":0},{"$f":"SUM('Production DAY 2'!D35)","v":0},{"$f":"SUM('Production DAY 2'!D36)","v":0},{"$f":"SUM('Production DAY 2'!D37)","v":0},{"$f":"SUM('Production DAY 2'!D38)","v":0},{"$f":"SUM('Production DAY 2'!D39)","v":0},{"$f":"SUM('Production DAY 2'!D40)","v":0},{"$f":"SUM('Production DAY 2'!D41)","v":0},{"$f":"SUM('Production DAY 2'!D42)","v":0},{"$f":"SUM('Production DAY 2'!D43)","v":0}]
["TOTAL STOCK",null,null,null,null,{"$f":"SUM(F66:F67)","v":0},{"$f":"SUM(G66:G67)","v":0},{"$f":"SUM(H66:H67)","v":0},{"$f":"SUM(I66:I67)","v":0},0,0,0,0,0,0,{"$f":"SUM(P66:P67)","v":0},0,0,0,0,0,0,0,0,0,0,0,0,0,0,0,0,0,0,0,0,0,0,0,0,0,0,0,0,0,0,0]
["USED",null,null,{"$f":"SUM(D3:D65)","v":0},null,{"$f":"SUM(F3:F65)","v":0},0,0,0,0,0,0,0,0,0,0,0,0,0,0,0,0,0,0,0,0,0,0,0,0,0,0,0,0,0,0,0,{"$f":"SUM(AL3:AL64)","v":0},0,0,0,0,0,0,0,0,0]
["CLOSING STOCK",null,null,null,null,{"$f":"SUM(F68-F69)","v":0},0,0,0,0,0,0,0,0,0,0,0,0,0,0,0,0,0,0,0,0,0,0,0,0,0,0,0,{"$f":"SUM(AH66-AH69)","v":0},{"$f":"SUM(AI68-AI69)","v":0},0,0,0,0,0,0,0,0,0,0,0,0]

{"sheet":"Production DAY 3","index":4,"n_rows":44,"n_cols":8,"rows_kept":44,"cut":false,"hidden":false,"merged":[]}
["Nos#","ITEMS"," < OPENING STOCK","RECEIVED","USED >","SALES CLOSING STOCK >","PHYSICAL STOCK COUNT","COMMENTS"]
[1,"Burger Bread",{"$f":"SUM('Production DAY 2'!G2)","v":0},null,{"$f":"SUM('DAY 3'!F69)","v":0},{"$f":"SUM('DAY 3'!F70)","v":0},0,{"$f":"IF(G2=F2,TRUE,FALSE)","v":true}]
[2,"Chicken Patty",{"$f":"SUM('Production DAY 2'!G3)","v":0},null,{"$f":"SUM('DAY 3'!G69)","v":0},{"$f":"SUM('DAY 3'!G70)","v":0},0,true]
[3,"Shawarma Bread",{"$f":"SUM('Production DAY 2'!G4)","v":0},null,{"$f":"SUM('DAY 3'!H69)","v":0},{"$f":"SUM('DAY 3'!H70)","v":0},0,true]
[4,"Chicken Portion or Shawarma portion",{"$f":"SUM('Production DAY 2'!G5)","v":0},null,{"$f":"SUM('DAY 3'!I69)","v":0},{"$f":"SUM('DAY 3'!I70)","v":0},0,true]
[5,"Sausage",{"$f":"SUM('Production DAY 2'!G6)","v":0},null,{"$f":"SUM('DAY 3'!J69)","v":0},{"$f":"SUM('DAY 3'!J70)","v":0},0,true]
[6,"Portion of Fries",{"$f":"SUM('Production DAY 2'!G7)","v":0},null,{"$f":"SUM('DAY 3'!K69)","v":0},{"$f":"SUM('DAY 3'!K70)","v":0},0,true]
[7,"Pieces of Chicken",{"$f":"SUM('Production DAY 2'!G8)","v":0},null,{"$f":"SUM('DAY 3'!L69)","v":0},{"$f":"SUM('DAY 3'!L70)","v":0},0,true]
[8,"Cheese",{"$f":"SUM('Production DAY 2'!G9)","v":0},null,{"$f":"SUM('DAY 3'!M69)","v":0},{"$f":"SUM('DAY 3'!M70)","v":0},0,true]
[9,"Bacon",{"$f":"SUM('Production DAY 2'!G10)","v":0},null,{"$f":"SUM('DAY 3'!N69)","v":0},{"$f":"SUM('DAY 3'!N70)","v":0},0,true]
[10,"A Paper Bag",{"$f":"SUM('Production DAY 2'!G11)","v":0},null,{"$f":"SUM('DAY 3'!O69)","v":0},{"$f":"SUM('DAY 3'!O70)","v":0},0,true]
[11,"Achicken Box",{"$f":"SUM('Production DAY 2'!G12)","v":0},null,{"$f":"SUM('DAY 3'!P69)","v":0},{"$f":"SUM('DAY 3'!P70)","v":0},0,true]
[12,"Paper Wrap",{"$f":"SUM('Production DAY 2'!G13)","v":0},null,{"$f":"SUM('DAY 3'!Q69)","v":0},{"$f":"SUM('DAY 3'!Q70)","v":0},0,true]
[13,"A Branded Nylon",{"$f":"SUM('Production DAY 2'!G14)","v":0},null,{"$f":"SUM('DAY 3'!R69)","v":0},{"$f":"SUM('DAY 3'!R70)","v":0},0,true]
[14,"Parfait",{"$f":"SUM('Production DAY 2'!G15)","v":0},null,{"$f":"SUM('DAY 3'!S69)","v":0},{"$f":"SUM('DAY 3'!S70)","v":0},0,true]
[15,"A Bottle of SUGAR Juice",{"$f":"SUM('Production DAY 2'!G16)","v":0},null,{"$f":"SUM('DAY 3'!T69)","v":0},{"$f":"SUM('DAY 3'!T70)","v":0},0,true]
[16,"35 CL Soft Drink",{"$f":"SUM('Production DAY 2'!G17)","v":0},null,{"$f":"SUM('DAY 3'!U69)","v":0},{"$f":"SUM('DAY 3'!U70)","v":0},0,true]
[17,"Beef Patty",{"$f":"SUM('Production DAY 2'!G18)","v":0},null,{"$f":"SUM('DAY 3'!V69)","v":0},{"$f":"SUM('DAY 3'!V70)","v":0},0,true]
[18,"Cream in GRAMS",{"$f":"SUM('Production DAY 2'!G19)","v":0},null,{"$f":"SUM('DAY 3'!W69)","v":0},{"$f":"SUM('DAY 3'!W70)","v":0},0,true]
[19,"KETCHUP",{"$f":"SUM('Production DAY 2'!G20)","v":0},null,{"$f":"SUM('DAY 3'!X69)","v":0},{"$f":"SUM('DAY 3'!X70)","v":0},0,true]
[20,"plain Nylon",{"$f":"SUM('Production DAY 2'!G21)","v":0},null,{"$f":"SUM('DAY 3'!Y69)","v":0},{"$f":"SUM('DAY 3'!Y70)","v":0},0,true]
[21,"Barbeque Sauce",{"$f":"SUM('Production DAY 2'!G22)","v":0},null,{"$f":"SUM('DAY 3'!Z69)","v":0},{"$f":"SUM('DAY 3'!Z70)","v":0},0,true]
[22,"Meal Box",{"$f":"SUM('Production DAY 2'!G23)","v":0},null,{"$f":"SUM('DAY 3'!AA69)","v":0},{"$f":"SUM('DAY 3'!AA70)","v":0},0,true]
[23,"COCONUT BREAD",{"$f":"SUM('Production DAY 2'!G24)","v":0},null,{"$f":"SUM('DAY 3'!AB69)","v":0},{"$f":"SUM('DAY 3'!AB70)","v":0},0,true]
[24,"SUPA KOMMANDO",{"$f":"SUM('Production DAY 2'!G25)","v":0},null,{"$f":"SUM('DAY 3'!AC69)","v":0},{"$f":"SUM('DAY 3'!AC70)","v":0},0,true]
[25,"SHAWARMA SUB",{"$f":"SUM('Production DAY 2'!G26)","v":0},null,{"$f":"SUM('DAY 3'!AD69)","v":0},{"$f":"SUM('DAY 3'!AD70)","v":0},0,true]
[26,"CAN COKE / FANTA",{"$f":"SUM('Production DAY 2'!G27)","v":0},null,{"$f":"SUM('DAY 3'!AE69)","v":0},{"$f":"SUM('DAY 3'!AE70)","v":0},0,true]
[27,"NUGGETS ",{"$f":"SUM('Production DAY 2'!G28)","v":0},null,{"$f":"SUM('DAY 3'!AF69)","v":0},{"$f":"SUM('DAY 3'!AF70)","v":0},0,true]
[28,"PRAWN",{"$f":"SUM('Production DAY 2'!G29)","v":0},null,{"$f":"SUM('DAY 3'!AG69)","v":0},{"$f":"SUM('DAY 3'!AG70)","v":0},0,true]
[29,"FARM PRIDE",{"$f":"SUM('Production DAY 2'!G30)","v":0},null,{"$f":"SUM('DAY 3'!AH69)","v":0},{"$f":"SUM('DAY 3'!AH70)","v":0},0,true]
[30,"50CL OR PULPY",{"$f":"SUM('Production DAY 2'!G31)","v":0},null,{"$f":"SUM('DAY 3'!AI69)","v":0},{"$f":"SUM('DAY 3'!AI70)","v":0},0,true]
[31,"FARM PRIDE 1 LT",{"$f":"SUM('Production DAY 2'!G32)","v":0},null,{"$f":"SUM('DAY 3'!AJ69)","v":0},{"$f":"SUM('DAY 3'!AJ70)","v":0},0,true]
[32,"BEEF PORTION FOR SHAWARMA",{"$f":"SUM('Production DAY 2'!G33)","v":0},null,{"$f":"SUM('DAY 3'!AK69)","v":0},{"$f":"SUM('DAY 3'!AK70)","v":0},0,true]
[33,"BEEF SUYA STICK",{"$f":"SUM('Production DAY 2'!G34)","v":0},null,{"$f":"SUM('DAY 3'!AL69)","v":0},{"$f":"SUM('DAY 3'!AL70)","v":0},0,true]
[34,"EMPTY 1",{"$f":"SUM('Production DAY 2'!G35)","v":0},null,{"$f":"SUM('DAY 3'!AM69)","v":0},{"$f":"SUM('DAY 3'!AM70)","v":0},0,true]
[35,"EMPTY 2",{"$f":"SUM('Production DAY 2'!G36)","v":0},null,{"$f":"SUM('DAY 3'!AN69)","v":0},{"$f":"SUM('DAY 3'!AN70)","v":0},0,true]
[36,"EMPTY 3",{"$f":"SUM('Production DAY 2'!G37)","v":0},null,{"$f":"SUM('DAY 3'!AO69)","v":0},{"$f":"SUM('DAY 3'!AO70)","v":0},0,true]
[37,"EMPTY 4",{"$f":"SUM('Production DAY 2'!G38)","v":0},null,{"$f":"SUM('DAY 3'!AP69)","v":0},{"$f":"SUM('DAY 3'!AP70)","v":0},0,true]
[38,"EMPTY 5",{"$f":"SUM('Production DAY 2'!G39)","v":0},null,{"$f":"SUM('DAY 3'!AQ69)","v":0},{"$f":"SUM('DAY 3'!AQ70)","v":0},0,true]
[39,"EMPTY 6",{"$f":"SUM('Production DAY 2'!G40)","v":0},null,{"$f":"SUM('DAY 3'!AR69)","v":0},{"$f":"SUM('DAY 3'!AR70)","v":0},0,true]
[40,"EMPTY 7",{"$f":"SUM('Production DAY 2'!G41)","v":0},null,{"$f":"SUM('DAY 3'!AS69)","v":0},{"$f":"SUM('DAY 3'!AS70)","v":0},0,true]
[41,"EMPTY 8",{"$f":"SUM('Production DAY 2'!G42)","v":0},null,{"$f":"SUM('DAY 3'!AT69)","v":0},{"$f":"SUM('DAY 3'!AT70)","v":0},0,true]
[42,"EMPTY 9",{"$f":"SUM('Production DAY 2'!G43)","v":0},null,{"$f":"SUM('DAY 3'!AU69)","v":0},{"$f":"SUM('DAY 3'!AU70)","v":0},0,true]
[43,"EMPTY 10",{"$f":"SUM('Production DAY 2'!G44)","v":0},null,{"$f":"SUM('DAY 3'!AV69)","v":0},{"$f":"SUM('DAY 3'!AV70)","v":0},0,true]

{"sheet":"DAY 3","index":5,"n_rows":70,"n_cols":47,"rows_kept":70,"cut":false,"hidden":false,"merged":[[0,7,0,28]]}
["FEBRUARY 12th, 2022",null,null,{"$f":"SUM(D3:D50)","v":0},null,null,null,"BURGER PALACE INVENTORY RECORDS"]
["ITEM","AMOUNT","QUANTITY","TOTAL",null,"Burger Bread","Chicken Patty","Shawarma Bread","Chicken Portion or Shawarma portion","Sausage","Portion of Fries","Pieces of Chicken","Cheese","Bacon","A Paper Bag","Achicken Box","Paper Wrap","A Branded Nylon","Parfait","A Bottle of SUGAR Juice","35 CL Soft Drink","Beef Patty","Cream in GRAMS","KETCHUP","plain Nylon","Barbeque Sauce","Meal Box","COCONUT BREAD ","SUPA KOMMANDO ","SHAWARMA SUB","CAN COKE / FANTA","NUGGETS","PRAWN","FARM PRIDE 50CL OR PULPY","FARM PRIDE 1 LT","BEEF PORTION FOR SHAWARMA ","BEEF SUYA STICK","EMPTY 1","EMPTY 2","EMPTY 3","EMPTY 4","EMPTY 5","EMPTY 6","EMPTY 7","EMPTY 8","EMPTY 9","EMPTY 10"]
["DELUXE BURGER MEAL (WITH SOFT DRINK)",5400,0,{"$f":"SUM(B3*C3)","v":0},null,{"$f":"SUM(C3)","v":0},{"$f":"SUM(C3)","v":0},{"$f":"SUM(C3)","v":0},{"$f":"SUM(C3)","v":0},{"$f":"SUM(C3)","v":0},{"$f":"SUM(C3)","v":0},{"$f":"SUM(C3)*2","v":0},"ZERO","ZERO",{"$f":"SUM(C3)*1","v":0},{"$f":"SUM(C3)","v":0},{"$f":"SUM(C3)*2","v":0},{"$f":"SUM(C3)","v":0},null,"ZERO",{"$f":"SUM(C3)","v":0},null,{"$f":"SUM(C3)*140","v":0},{"$f":"SUM(C3)","v":0},{"$f":"SUM(C3)","v":0},"ZERO",null,null,null,null,null,null,null,null,null,{"$f":"SUM(AD3)","v":0},0]
["DELUXE BURGER MEAL (WITH SUGARCANE JUICE)",5600,0,{"$f":"SUM(B4*C4)","v":0},null,{"$f":"SUM(C4)","v":0},{"$f":"SUM(C4)","v":0},{"$f":"SUM(C4)","v":0},{"$f":"SUM(C4)","v":0},{"$f":"SUM(C4)","v":0},0,{"$f":"SUM(C4)*2","v":0},"ZERO","ZERO",{"$f":"SUM(C4)*1","v":0},0,{"$f":"SUM(C4)*2","v":0},0,null,{"$f":"SUM(C4)","v":0},"ZERO",null,{"$f":"SUM(C4)*140","v":0},{"$f":"SUM(C4)","v":0},0,"ZERO",null,null,null,null,null,null,null,null,null,0,0]
["DELUXE MEAL EXTRA (WITH Soft Drink)",null,0,{"$f":"SUM(B5*C5)","v":0},null,{"$f":"SUM(C5)","v":0},{"$f":"SUM(C5)","v":0},{"$f":"SUM(C5)","v":0},{"$f":"SUM(C5)","v":0},{"$f":"SUM(C5)","v":0},0,{"$f":"SUM(C5)*2","v":0},"ZERO","ZERO",{"$f":"SUM(C5)","v":0},0,{"$f":"SUM(C5)*2","v":0},0,{"$f":"SUM(C5)","v":0},"ZERO",{"$f":"SUM(C5)","v":0},null,{"$f":"SUM(C5)*140","v":0},{"$f":"SUM(C5)","v":0},0,"ZERO",null,null,null,null,null,null,null,null,null,0,0]
["DELUXE BURGER MEAL Extra (With Sugarcane juice",null,0,{"$f":"SUM(B6*C6)","v":0},null,{"$f":"SUM(C6)","v":0},{"$f":"SUM(C6)","v":0},{"$f":"SUM(C6)","v":0},{"$f":"SUM(C6)","v":0},{"$f":"SUM(C6)","v":0},0,{"$f":"SUM(C6)*2","v":0},"ZERO","ZERO",{"$f":"SUM(C6)","v":0},0,{"$f":"SUM(C6)*2","v":0},0,{"$f":"SUM(C6)","v":0},{"$f":"SUM(C6)","v":0},"ZERO",null,{"$f":"SUM(C6)*140","v":0},{"$f":"SUM(C6)","v":0},0,"ZERO",null,null,null,null,null,null,null,null,null,0,0]
["PREMIUM BURGER Meal ",5900,0,{"$f":"SUM(B7*C7)","v":0},null,{"$f":"SUM(C7)","v":0},{"$f":"SUM(C7)","v":0},"ZERO","ZERO","ZERO",0,{"$f":"SUM(C7)*5","v":0},"ZERO","ZERO",{"$f":"SUM(C7)","v":0},0,{"$f":"SUM(C7)*1.25","v":0},0,"ZERO","ZERO",{"$f":"SUM(C7)","v":0},"ZERO",{"$f":"SUM(C7)*70","v":0},{"$f":"SUM(C7)*2","v":0},0,{"$f":"SUM(C7)","v":0},null,null,null,null,null,null,null,null,null,"ZERO","ZERO"]
["CRISPY CHICKEN BOX",4300,0,null,null,"ZERO","ZERO","ZERO","ZERO","ZERO",0,{"$f":"SUM(C8)*5","v":0},"ZERO","ZERO","ZERO",0,{"$f":"SUM(C8)*0.25","v":0},0,"ZERO","ZERO",{"$f":"SUM(C8)","v":0},"ZERO","ZERO",{"$f":"SUM(C8)*2","v":0},0,{"$f":"SUM(C8)","v":0},null,null,null,null,null,null,null,null,null,"ZERO","ZERO"]
["ROYAL BURGER MEAL (CHICKEN  PATTY)",null,0,{"$f":"SUM(B9*C9)","v":0},null,{"$f":"SUM(C9)","v":0},{"$f":"SUM(C9)*2","v":0},"ZERO","ZERO","ZERO",0,"ZERO",{"$f":"SUM(C9)*2","v":0},{"$f":"SUM(C9)*2","v":0},"ZERO",0,{"$f":"SUM(C9)","v":0},0,{"$f":"SUM(C9)","v":0},"ZERO","ZERO","ZERO",{"$f":"SUM(C9)*140","v":0},{"$f":"SUM(C9)*2","v":0},0,{"$f":"SUM(C9)","v":0},null,null,null,null,null,null,null,null,null,"ZERO","ZERO"]
["ROYAL BURGER MEAL (BEEF  PATTY)",null,0,{"$f":"SUM(B10*C10)","v":0},null,{"$f":"SUM(C10)","v":0},"ZERO","ZERO","ZERO","ZERO",0,"ZERO",{"$f":"SUM(C10)*2","v":0},{"$f":"SUM(C10)*2","v":0},"ZERO",0,0,0,{"$f":"SUM(C10)","v":0},"ZERO","ZERO",{"$f":"SUM(C10)*2","v":0},{"$f":"SUM(C10)*140","v":0},{"$f":"SUM(C10)*2","v":0},0,{"$f":"SUM(C10)","v":0},null,null,null,null,null,null,null,null,null,"ZERO","ZERO"]
["ROYAL BURGER ONLY (CHICKEN PATTY)",3300,0,{"$f":"SUM(B11*C11:C25,A1,A1,A1,A1,A1)","v":0},null,{"$f":"SUM(C11)","v":0},{"$f":"SUM(C11)*2","v":0},"ZERO","ZERO","ZERO","ZERO","ZERO",{"$f":"SUM(C11)*2","v":0},{"$f":"SUM(C11)*2","v":0},"ZERO",0,0,0,"ZERO","ZERO","ZERO","ZERO",{"$f":"SUM(C11)*140","v":0},{"$f":"SUM(C11)","v":0},"ZERO","ZERO",null,null,null,null,null,null,null,null,null,"ZERO","ZERO"]
["ROYAL BURGER ONLY (BEEF PATTY)",3300,0,{"$f":"SUM(B12*C12)","v":0},null,{"$f":"SUM(C12)","v":0},null,"ZERO","ZERO","ZERO","ZERO","ZERO",{"$f":"SUM(C12)*2","v":0},{"$f":"SUM(C12)*2","v":0},"ZERO",0,0,0,"ZERO","ZERO","ZERO",{"$f":"SUM(C12)*2","v":0},{"$f":"SUM(C12)*140","v":0},{"$f":"SUM(C12)","v":0},"ZERO","ZERO",null,null,null,null,null,null,null,null,null,"ZERO","ZERO"]
["MAYOR'S COCONUT BURGER ",2800,0,0,null,0,{"$f":"SUM(C13)","v":0},"ZERO","ZERO","ZERO","ZERO","ZERO",{"$f":"SUM(C13)","v":0},"ZERO","ZERO",0,0,0,"ZERO","ZERO","ZERO",{"$f":"SUM(C13)","v":0},{"$f":"SUM(C13)*140","v":0},"ZERO","ZERO","ZERO",null,{"$f":"SUM(C13)","v":0},{"$f":"SUM(C13)","v":0},null,null,null,null,null,null,"ZERO","ZERO"]
["DOUBLE DECKER CRISPY CHK. CHEESE BURGER",2500,0,0,null,{"$f":"SUM(C14)","v":0},{"$f":"SUM(C14)*2","v":0},"ZERO","ZERO","ZERO","ZERO","ZERO",{"$f":"SUM(C14)","v":0},"ZERO","ZERO",0,0,"ZERO","ZERO","ZERO","ZERO","ZERO",{"$f":"SUM(C14)*70","v":0},"ZERO","ZERO","ZERO",null,null,null,null,null,null,null,null,null,"ZERO","ZERO"]
["SINGLE BEEF BURGER",1700,0,0,null,0,"ZERO","ZERO","ZERO","ZERO","ZERO","ZERO",null,"ZERO",{"$f":"SUM(C15)","v":0},null,0,"ZERO","ZERO","ZERO","ZERO",{"$f":"SUM(C15)","v":0},{"$f":"SUM(C15)*70","v":0},"ZERO","ZERO","ZERO",null,null,null,null,null,null,null,null,null,"ZERO","ZERO"]
["YANKEE BURGER",2400,0,0,null,0,"ZERO","ZERO","ZERO","ZERO","ZERO","ZERO",null,{"$f":"SUM(C16)*2","v":0},{"$f":"SUM(C16)","v":0},null,0,"ZERO","ZERO","ZERO","ZERO",{"$f":"SUM(C16)","v":0},{"$f":"SUM(C16)*70","v":0},"ZERO","ZERO","ZERO",null,null,null,null,null,null,null,null,null,"ZERO","ZERO"]
["ROYAL BURGER WITH FRIES (Chicken)",4000,0,0,null,0,{"$f":"SUM(C17)*2","v":0},"ZERO","ZERO","ZERO",{"$f":"SUM(C17)","v":0},"ZERO",{"$f":"SUM(C17)*2","v":0},{"$f":"SUM(C17)*2","v":0},"ZERO",{"$f":"SUM(C17)","v":0},0,"ZERO","ZERO","ZERO","ZERO","ZERO",{"$f":"SUM(C17)*140","v":0},{"$f":"SUM(C17)*2","v":0},"ZERO","ZERO",null,null,null,null,null,null,null,null,null,"ZERO","ZERO"]
["ROYAL BURGER WITH FRIES (BEEF)",4000,0,0,null,0,"ZERO","ZERO","ZERO","ZERO",{"$f":"SUM(C18)","v":0},"ZERO",{"$f":"SUM(C18)*2","v":0},{"$f":"SUM(C18)*2","v":0},"ZERO",{"$f":"SUM(C18)","v":0},0,"ZERO","ZERO","ZERO","ZERO",{"$f":"SUM(C18)*2","v":0},{"$f":"SUM(C18)*140","v":0},{"$f":"SUM(C18)*2","v":0},"ZERO","ZERO",null,null,null,null,null,null,null,null,null,"ZERO","ZERO"]
["CRISPY CHICKEN BURGER",1700,0,0,null,0,{"$f":"SUM(C19)","v":0},"ZERO","ZERO","ZERO","ZERO","ZERO","ZERO","ZERO",{"$f":"SUM(C19)","v":0},"ZERO",{"$f":"SUM(C19)*1","v":0},"ZERO","ZERO","ZERO","ZERO","ZERO",{"$f":"SUM(C19)*70","v":0},"ZERO","ZERO","ZERO",null,null,null,null,null,null,null,null,null,"ZERO","ZERO"]
["SUYA BURGER BOX",5500,0,0,null,0,{"$f":"SUM(C20)*2","v":0},"ZERO","ZERO",{"$f":"SUM(C20)*4","v":0},{"$f":"SUM(C20)","v":0},{"$f":"SUM(C20)*4","v":0},"ZERO","ZERO",{"$f":"SUM(C20)","v":0},{"$f":"SUM(C20)","v":0},{"$f":"SUM(C20)","v":0},"ZERO","ZERO",null,{"$f":"SUM(C20)","v":0},"ZERO",0,{"$f":"SUM(C20)*2","v":0},{"$f":"SUM(C20)","v":0},"ZERO",{"$f":"SUM(C20)","v":0},null,null,null,null,null,null,null,null,"ZERO","ZERO"]
["CRISPY CHICKEN BURGER PLUS CHEESE",2100,0,0,null,0,{"$f":"SUM(C21)","v":0},"ZERO","ZERO","ZERO","ZERO","ZERO",{"$f":"SUM(C21)","v":0},"ZERO",{"$f":"SUM(C21)","v":0},"ZERO",0,"ZERO","ZERO","ZERO","ZERO","ZERO",0,"ZERO","ZERO","ZERO",null,null,null,null,null,null,null,null,null,"ZERO","ZERO"]
["SINGLE BEEF CHEESE BURGER ",2100,0,0,null,0,"ZERO","ZERO","ZERO","ZERO","ZERO","ZERO",{"$f":"SUM(C22)","v":0},"ZERO",{"$f":"SUM(C22)","v":0},"ZERO",0,"ZERO","ZERO","ZERO","ZERO",{"$f":"SUM(C22)","v":0},0,"ZERO","ZERO","ZERO",null,null,null,null,null,null,null,null,null,"ZERO","ZERO"]
["DOUBLE DECKER BEEF CHEESE BURGER",2800,0,0,null,0,"ZERO","ZERO","ZERO","ZERO","ZERO","ZERO",{"$f":"SUM(C23)*2","v":0},"ZERO","ZERO",{"$f":"SUM(C23)","v":0},0,"ZERO","ZERO","ZERO","ZERO",{"$f":"SUM(C23)*2","v":0},0,"ZERO","ZERO","ZERO",null,null,null,null,null,null,null,null,null,"ZERO","ZERO"]
["CHICKEN SUYA BURGER ",2200,0,0,null,0,{"$f":"SUM(C24)*2","v":0},"ZERO","ZERO","ZERO","ZERO","ZERO","ZERO","ZERO",{"$f":"SUM(C24)*1","v":0},"ZERO",0,"ZERO","ZERO","ZERO","ZERO","ZERO",0,"ZERO","ZERO","ZERO",null,null,null,null,null,null,null,null,null,"ZERO","ZERO"]
["CHICKEN SHAWARMA",1800,0,0,null,null,"ZERO",{"$f":"SUM(C25)","v":0},{"$f":"SUM(C25)","v":0},{"$f":"SUM(C25)*2","v":0},"ZERO","ZERO","ZERO","ZERO","ZERO","ZERO",0,{"$f":"SUM(C25)","v":0},"ZERO","ZERO","ZERO","ZERO",0,"ZERO","ZERO","ZERO",null,null,null,null,null,null,null,null,null,{"$f":"SUM(AD25)","v":0},{"$f":"SUM(AE25)","v":0}]
["BARBECUE BEEF SHAWARMA",2000,0,0,null,null,"ZERO",{"$f":"SUM(C26)","v":0},"ZERO",{"$f":"SUM(C26)*2","v":0},"ZERO","ZERO","ZERO","ZERO","ZERO","ZERO",0,0,"ZERO","ZERO","ZERO","ZERO",0,"ZERO","ZERO","ZERO",null,null,null,null,null,null,null,null,null,{"$f":"SUM(C26)","v":0},"ZERO"]
["BEEF SUYA SHAWARMA",2200,0,0,null,null,"ZERO",{"$f":"SUM(C27)","v":0},"ZERO",{"$f":"SUM(C27)*2","v":0},"ZERO","ZERO","ZERO","ZERO","ZERO","ZERO",0,0,"ZERO","ZERO","ZERO","ZERO",0,"ZERO","ZERO","ZERO",null,null,null,null,null,null,null,null,null,{"$f":"SUM(AD27)","v":0},{"$f":"SUM(C27)","v":0}]
["BEEF SUYA BURGER ",2200,0,0,null,{"$f":"SUM(C28)","v":0},"ZERO",null,"ZERO","ZERO","ZERO","ZERO","ZERO","ZERO",{"$f":"SUM(C28)","v":0},"ZERO",0,0,"ZERO","ZERO","ZERO","ZERO",0,"ZERO","ZERO","ZERO",null,null,null,null,null,null,null,null,null,{"$f":"SUM(AD28)","v":0},{"$f":"SUM(C28)","v":0}]
["CHICKEN SUYA SHAWARMA",2200,0,0,null,"ZERO",{"$f":"SUM(C29)*2","v":0},{"$f":"SUM(C29)","v":0},null,{"$f":"SUM(C29)*2","v":0},"ZERO","ZERO","ZERO","ZERO","ZERO","ZERO",0,0,"ZERO","ZERO","ZERO","ZERO",0,"ZERO","ZERO","ZERO"]
["CHESSY SHAWARMA",2500,0,0,null,"ZERO","ZERO",{"$f":"SUM(C30)","v":0},{"$f":"SUM(C30)","v":0},{"$f":"SUM(C30)*2","v":0},null,"ZERO",{"$f":"SUM(C30)*2","v":0},"ZERO","ZERO","ZERO",0,0,"ZERO","ZERO","ZERO","ZERO",{"$f":"SUM(C30)*140","v":0},"ZERO","ZERO","ZERO",null,null,null,null,null,null,null,null,null,{"$f":"SUM(AD30)","v":0},{"$f":"SUM(AE30)","v":0}]
["2 CHICKEN AND CHIPS",2300,0,0,null,"ZERO","ZERO","ZERO","ZERO","ZERO",{"$f":"SUM(C31)","v":0},{"$f":"SUM(C31)*2","v":0},"ZERO","ZERO","ZERO",{"$f":"SUM(C31)","v":0},"ZERO",0,"ZERO","ZERO","ZERO","ZERO","ZERO",{"$f":"SUM(C31)","v":0},"ZERO","ZERO",null,null,null,null,null,null,null,null,null,"ZERO","ZERO"]
["4 CHICKEN AND CHIPS",3500,0,0,null,"ZERO","ZERO","ZERO","ZERO","ZERO",{"$f":"SUM(C32)","v":0},{"$f":"SUM(C32)*4","v":0},"ZERO","ZERO","ZERO",{"$f":"SUM(C32)","v":0},"ZERO",0,"ZERO","ZERO","ZERO","ZERO","ZERO",{"$f":"SUM(C32)*2","v":0},"ZERO","ZERO","zero","zero","zero",null,null,null,null,null,null,"ZERO","ZERO"]
["SPICY CHICKEN ONLY",650,0,null,null,"ZERO","ZERO","ZERO","ZERO","ZERO","ZERO",{"$f":"SUM(C33)","v":0},"ZERO","ZERO","ZERO","ZERO","ZERO","ZERO","ZERO","ZERO","ZERO","ZERO","ZERO","ZERO",{"$f":"SUM(C33)","v":0},"ZERO",null,null,null,null,null,null,null,null,null,"ZERO","ZERO"]
["CRISPY CHICKEN ONLY",650,0,{"$f":"SUM(B34*C34)","v":0},null,"ZERO","ZERO","ZERO","ZERO","ZERO","ZERO",{"$f":"SUM(C34)","v":0},"ZERO","ZERO","ZERO","ZERO","ZERO","ZERO","ZERO","ZERO","ZERO","ZERO","ZERO","ZERO",{"$f":"SUM(C34)","v":0},"ZERO",null,null,null,null,null,null,null,null,null,"ZERO","ZERO"]
["POTATO FRIES",700,0,0,null,"ZERO","ZERO","ZERO","ZERO","ZERO",null,"ZERO","ZERO","ZERO","ZERO","ZERO","ZERO","ZERO","ZERO","ZERO","ZERO","ZERO","ZERO","ZERO","ZERO","ZERO",null,null,null,null,null,null,null,null,null,"ZERO","ZERO"]
["FRENCH FRIES ONLY",1000,0,0,null,"ZERO","ZERO","ZERO","ZERO","ZERO",{"$f":"SUM(C36)","v":0},"ZERO","ZERO","ZERO","ZERO","ZERO","ZERO","ZERO","ZERO","ZERO","ZERO","ZERO","ZERO","ZERO",{"$f":"SUM(C36)","v":0},"ZERO",null,null,null,null,null,null,null,null,null,"ZERO","ZERO"]
["SUGERCANNE JUICE",750,0,0,null,"ZERO","ZERO","ZERO","ZERO","ZERO","ZERO","ZERO","ZERO","ZERO","ZERO","ZERO","ZERO","ZERO","ZERO",{"$f":"SUM(C37)","v":0},"ZERO","ZERO","ZERO","ZERO","ZERO","ZERO",null,null,null,null,null,null,null,null,null,"ZERO","ZERO"]
["35 CL SOFT DRINK",200,0,0,null,"ZERO","ZERO","ZERO","ZERO","ZERO","ZERO","ZERO","ZERO","ZERO","ZERO","ZERO","ZERO","ZERO","ZERO","ZERO",{"$f":"SUM(C38)","v":0},"ZERO","ZERO","ZERO","ZERO","ZERO",null,null,null,null,null,null,null,null,null,"ZERO","ZERO"]
["PARFAIT",null,0,0,null,"ZERO","ZERO","ZERO","ZERO","ZERO","ZERO","ZERO","ZERO","ZERO","ZERO","ZERO","ZERO",{"$f":"SUM(C39)","v":0},{"$f":"SUM(C39)","v":0},"ZERO","ZERO","ZERO","ZERO","ZERO","ZERO","ZERO",null,null,null,null,null,null,null,null,null,"ZERO","ZERO"]
["MARINATED WINGS",500,0,0,null,"ZERO","ZERO","ZERO","ZERO","ZERO","ZERO",{"$f":"SUM(C40)","v":0},"ZERO","ZERO","ZERO","ZERO","ZERO","ZERO","ZERO","ZERO","ZERO","ZERO","ZERO","ZERO","ZERO","ZERO",null,null,null,null,null,null,null,null,null,"ZERO","ZERO"]
["CHEESE ",400,0,0,null,"ZERO","ZERO","ZERO","ZERO","ZERO","ZERO","ZERO",{"$f":"SUM(C41)","v":0},"ZERO","ZERO","ZERO","ZERO","ZERO","ZERO","ZERO","ZERO","ZERO","ZERO","ZERO","ZERO","ZERO",null,null,null,null,null,null,null,null,null,"ZERO","ZERO"]
["SAUSAGE",200,0,0,null,null,null,null,null,null,"ZERO"]
["BACON",400,0,0,null,"ZERO","ZERO","ZERO","ZERO","ZERO","ZERO","ZERO","ZERO",{"$f":"SUM(C43)","v":0},"ZERO","ZERO","ZERO","ZERO","ZERO","ZERO","ZERO","ZERO","ZERO","ZERO","ZERO","ZERO",null,null,null,null,null,null,null,null,null,"ZERO","ZERO"]
["FRIENDY BURGER MEAL (WITH SOFT DRINK)",10200,0,0,null,{"$f":"SUM(C44)*2","v":0},{"$f":"SUM(C44)*2","v":0},{"$f":"SUM(C44)*2","v":0},{"$f":"SUM(C44)*2","v":0},{"$f":"SUM(C44)*2","v":0},{"$f":"SUM(C44)*2","v":0},{"$f":"SUM(C44)*2*2","v":0},"ZERO","ZERO",{"$f":"SUM(C44)*1*2","v":0},{"$f":"SUM(C44)*2","v":0},{"$f":"SUM(C44)*2*2","v":0},{"$f":"SUM(C44)*2","v":0},null,"ZERO",{"$f":"SUM(C44)*2","v":0},null,{"$f":"SUM(C44)*140*2","v":0},{"$f":"SUM(C44)*2","v":0},{"$f":"SUM(C44)*2","v":0},"ZERO",null,null,null,null,null,null,null,null,null,{"$f":"SUM(AD44)*2","v":0},{"$f":"SUM(AE44)*2","v":0}]
["FRIENDY BURGER MEAL (WITH SUGARCANE JUICE)",10600,0,0,null,{"$f":"SUM(C45)*2","v":0},{"$f":"SUM(C45)*2","v":0},{"$f":"SUM(C45)*2","v":0},{"$f":"SUM(C45)*2","v":0},{"$f":"SUM(C45)*2","v":0},{"$f":"SUM(C45)*2","v":0},{"$f":"SUM(C45)*2*2","v":0},"ZERO","ZERO",{"$f":"SUM(C45)*1*2","v":0},{"$f":"SUM(C45)*2","v":0},{"$f":"SUM(C45)*2*2","v":0},{"$f":"SUM(C45)*2","v":0},null,{"$f":"SUM(C45)*2","v":0},"ZERO",null,{"$f":"SUM(C45)*140*2","v":0},{"$f":"SUM(C45)*2","v":0},{"$f":"SUM(C45)*2","v":0},"ZERO",null,null,null,null,null,null,null,null,null,{"$f":"SUM(AD45)*2","v":0},{"$f":"SUM(AE45)*2","v":0}]
["SHAWARMA  SUB",1800,0,0,null,null,"ZERO","ZERO",{"$f":"SUM(C46)","v":0},{"$f":"SUM(C46)*2","v":0},"ZERO","ZERO","ZERO","ZERO",{"$f":"SUM(C46)*1","v":0},"ZERO",{"$f":"SUM(C46)","v":0},"ZERO","ZERO","ZERO","ZERO","ZERO",{"$f":"SUM(C46)*70","v":0},"ZERO","ZERO","ZERO",null,null,null,{"$f":"SUM(C46)","v":0},null,null,null,null,null,{"$f":"SUM(AD46)","v":0},{"$f":"SUM(AE46)","v":0}]
["DELISH PACK 1",5300,0,0,null,{"$f":"SUM(C47)","v":0},{"$f":"SUM(C47)","v":0},"ZERO",{"$f":"SUM(C47)","v":0},{"$f":"SUM(C47)*2","v":0},"ZERO",{"$f":"SUM(C47)*4","v":0},"ZERO","ZERO",{"$f":"SUM(C47)*1","v":0},{"$f":"SUM(C47)*1","v":0},{"$f":"SUM(C47)*2","v":0},{"$f":"SUM(C47)","v":0},"ZERO","ZERO","ZERO","ZERO",{"$f":"SUM(C47)*70","v":0},"ZERO","ZERO","ZERO",null,null,null,{"$f":"SUM(C47)","v":0},{"$f":"SUM(C47)*1","v":0},null,null,null,null,{"$f":"SUM(AD47)","v":0},{"$f":"SUM(AE47)","v":0}]
["FAMILY BURGER MEAL (WITH SOFT DRINK)",19800,0,0,null,{"$f":"SUM(C48)*4","v":0},{"$f":"SUM(C48)*4","v":0},{"$f":"SUM(C48)*4","v":0},{"$f":"SUM(C48)*4","v":0},{"$f":"SUM(C48)*4","v":0},{"$f":"SUM(C48)*4","v":0},{"$f":"SUM(C48)*2*4","v":0},"ZERO","ZERO",{"$f":"SUM(C48)*1*4","v":0},{"$f":"SUM(C48)*4","v":0},{"$f":"SUM(C48)*2*4","v":0},{"$f":"SUM(C48)*4","v":0},null,"ZERO",{"$f":"SUM(C48)*4","v":0},null,{"$f":"SUM(C48)*140*4","v":0},{"$f":"SUM(C48)*4","v":0},{"$f":"SUM(C48)*4","v":0},"ZERO",null,null,null,null,null,null,null,null,null,{"$f":"SUM(AD48)*4","v":0},{"$f":"SUM(AE48)*4","v":0}]
["FAMILY BURGER MEAL (WITH SUGARCANE JUICE)",20800,0,0,null,{"$f":"SUM(C49)*4","v":0},{"$f":"SUM(C49)*4","v":0},{"$f":"SUM(C49)*4","v":0},{"$f":"SUM(C49)*4","v":0},{"$f":"SUM(C49)*4","v":0},{"$f":"SUM(C49)*4","v":0},{"$f":"SUM(C49)*2*4","v":0},"ZERO","ZERO",{"$f":"SUM(C49)*1*4","v":0},{"$f":"SUM(C49)*4","v":0},{"$f":"SUM(C49)*2*4","v":0},{"$f":"SUM(C49)*4","v":0},null,{"$f":"SUM(C49)*4","v":0},"ZERO",null,{"$f":"SUM(C49)*140*4","v":0},{"$f":"SUM(C49)*4","v":0},{"$f":"SUM(C49)*4","v":0},"ZERO",null,null,null,null,null,null,null,null,null,{"$f":"SUM(AD49)*4","v":0},{"$f":"SUM(AE49)*4","v":0}]
["CAN COKE/FANTA ONLY",null,0,0,null,"ZERO","ZERO","ZERO","ZERO","ZERO","ZERO","ZERO","ZERO","ZERO","ZERO","ZERO","ZERO","ZERO","ZERO","ZERO","ZERO","ZERO","ZERO","ZERO","ZERO","ZERO",null,null,null,null,{"$f":"SUM(C50)","v":0},null,null,null,null,"ZERO","ZERO"]
["SUPA KOMMANDO ONLY",250,0,0,null,"ZERO","ZERO","ZERO","ZERO","ZERO","ZERO","ZERO","ZERO","ZERO","ZERO","ZERO","ZERO","ZERO","ZERO","ZERO","ZERO","ZERO","ZERO","ZERO","ZERO","ZERO",null,null,{"$f":"SUM(C51)","v":0},null,"ZERO","ZERO",null,null,null,"ZERO","ZERO"]
["10X Chicken Nuggets ",2400,0,0,null,null,null,null,null,null,"ZERO",null,null,null,null,{"$f":"SUM(C52)","v":0},null,{"$f":"SUM(C52)","v":0},null,null,null,null,null,{"$f":"SUM(C52)","v":0},null,null,null,null,null,null,{"$f":"SUM(C52)","v":0},{"$f":"SUM(C52)*10","v":0}]
["20X Chicken Nuggets ",4800,0,0,null,null,null,null,null,null,"ZERO ",null,null,null,null,{"$f":"SUM(C53)","v":0},null,{"$f":"SUM(C53)","v":0},null,null,null,null,null,{"$f":"SUM(C53)","v":0},null,null,null,null,null,null,{"$f":"SUM(C53)","v":0},{"$f":"SUM(C53)*20","v":0}]
["10 CHICKEN NUGGETS & FRIES BOX",3300,0,0,null,null,null,null,null,null,{"$f":"SUM(C54)","v":0},null,null,null,null,{"$f":"SUM(C54)","v":0},null,{"$f":"SUM(C54)","v":0},null,null,null,null,null,{"$f":"SUM(C54)","v":0},null,null,null,null,null,null,{"$f":"SUM(C54)","v":0},{"$f":"SUM(C54)*10","v":0}]
["20 CHICKEN NUGGETS & FRIES BOX",6600,0,0,null,null,null,null,null,null,{"$f":"SUM(C55)","v":0},null,null,null,null,{"$f":"SUM(C55)","v":0},null,{"$f":"SUM(C55)","v":0},null,null,null,null,null,{"$f":"SUM(C55)","v":0},null,null,null,null,null,null,{"$f":"SUM(C55)","v":0},{"$f":"SUM(C55)*20","v":0}]
["PRAWN BURGER ",3000,0,0,null,{"$f":"SUM(C56)","v":0},"ZERO","ZERO","ZERO","ZERO","ZERO","ZERO",{"$f":"SUM(C56)","v":0},"ZERO",{"$f":"SUM(C56)","v":0},"ZERO",{"$f":"SUM(C56)","v":0},"ZERO","ZERO","ZERO","ZERO","ZERO",{"$f":"SUM(C56)*70","v":0},"ZERO","ZERO","ZERO",null,null,null,null,null,null,{"$f":"SUM(C56)*2","v":0},null,null,"ZERO","ZERO"]
[" FUNMMY NUGGETS  BOX",5300,0,0,null,{"$f":"SUM(C57)","v":0},{"$f":"SUM(C57)","v":0},null,null,null,{"$f":"SUM(C57)","v":0},null,{"$f":"SUM(C57)","v":0},null,{"$f":"SUM(C57)","v":0},{"$f":"SUM(C57)","v":0},null,{"$f":"SUM(C57)","v":0},null,null,null,null,null,{"$f":"SUM(C57)","v":0},null,null,null,null,null,null,{"$f":"SUM(C57)","v":0},{"$f":"SUM(C57)*10","v":0}]
["FARM PRIDE 50 CL",500,0,0,null,"ZERO","ZERO","ZERO","ZERO","ZERO","ZERO","ZERO","ZERO","ZERO","ZERO","ZERO","ZERO","ZERO","ZERO","ZERO","ZERO","ZERO","ZERO","ZERO","ZERO","ZERO",null,null,null,null,null,null,null,{"$f":"SUM(C58)","v":0},null,"ZERO","ZERO"]
["FARM PRIDE 1 LITRE",800,0,0,null,"ZERO","ZERO","ZERO","ZERO","ZERO","ZERO","ZERO","ZERO","ZERO","ZERO","ZERO","ZERO","ZERO","ZERO","ZERO","ZERO","ZERO","ZERO","ZERO","ZERO","ZERO",null,null,null,null,null,null,null,"ZERO",{"$f":"SUM(C59)","v":0},"ZERO","ZERO"]
["GRILLED CHICKEN BURGER",1700,0,{"$f":"SUM(B60*C60)","v":0},null,{"$f":"SUM(C60)","v":0},{"$f":"SUM(C60)","v":0},"ZERO","ZERO","ZERO","ZERO","ZERO","ZERO","ZERO",{"$f":"SUM(C60)","v":0},"ZERO",{"$f":"SUM(C60)*1","v":0},"ZERO","ZERO","ZERO","ZERO","ZERO",{"$f":"SUM(C60)*70","v":0},"ZERO","ZERO","ZERO",null,null,null,null,null,null,null,null,null,"ZERO","ZERO"]
["GRILLED CHICKEN BURGER + JUICE",2200,0,0,null,0,{"$f":"SUM(C61)","v":0},"ZERO","ZERO","ZERO","ZERO","ZERO","ZERO","ZERO",{"$f":"SUM(C61)","v":0},"ZERO",{"$f":"SUM(C61)*1","v":0},"ZERO","ZERO","ZERO","ZERO","ZERO",0,"ZERO","ZERO","ZERO",null,null,null,null,null,null,null,{"$f":"SUM(C61)","v":0},null,"ZERO","ZERO"]
["GRILLED BURGER MEAL 1 & 3",4000,0,0,null,0,{"$f":"SUM(C62)","v":0},"ZERO","ZERO","ZERO",{"$f":"SUM(C62)","v":0},{"$f":"SUM(C62)*2","v":0},"ZERO","ZERO","ZERO",{"$f":"SUM(C62)","v":0},{"$f":"SUM(C62)","v":0},{"$f":"SUM(C62)","v":0},"ZERO","ZERO","ZERO","ZERO",0,{"$f":"SUM(C62)","v":0},"ZERO","ZERO",null,null,null,null,null,null,null,{"$f":"SUM(C62)","v":0},null,"ZERO","ZERO"]
["GRILLED BURGER MEAL 2",3700,0,0,null,0,{"$f":"SUM(C63)","v":0},"ZERO","ZERO","ZERO",{"$f":"SUM(C63)","v":0},{"$f":"SUM(C63)*2","v":0},"ZERO","ZERO","ZERO",{"$f":"SUM(C63)","v":0},{"$f":"SUM(C63)","v":0},{"$f":"SUM(C63)","v":0},"ZERO","ZERO",{"$f":"SUM(C63)","v":0},"ZERO",0,{"$f":"SUM(C63)","v":0},"ZERO","ZERO",null,null,null,null,null,null,null,"ZERO",null,"ZERO","ZERO"]
["MASTERPIECE BURGER ",5000,0,0,null,0,"ZERO","ZERO","ZERO","ZERO","ZERO","ZERO",{"$f":"SUM(C64)","v":0},"ZERO","ZERO",{"$f":"SUM(C64)","v":0},{"$f":"SUM(C64)","v":0},"ZERO","ZERO","ZERO",{"$f":"SUM(C64)","v":0},{"$f":"SUM(C64)","v":0},0,"ZERO","ZERO","ZERO",null,null,null,null,null,null,null,null,null,"ZERO",{"$f":"SUM(C64)","v":0}]
["SUYA BURGER BOX 2 (WITH BEEF SUYA BURGER)",6000,0,0,null,0,"ZERO ","ZERO","ZERO",{"$f":"SUM(C65)*4","v":0},{"$f":"SUM(C65)","v":0},{"$f":"SUM(C65)*4","v":0},"ZERO","ZERO",{"$f":"SUM(C65)","v":0},{"$f":"SUM(C65)","v":0},{"$f":"SUM(C65)","v":0},"ZERO","ZERO",null,{"$f":"SUM(C65)","v":0},"ZERO",0,{"$f":"SUM(C65)*2","v":0},{"$f":"SUM(C65)","v":0},"ZERO",{"$f":"SUM(C65)","v":0},null,null,null,null,null,null,null,null,"ZERO",{"$f":"SUM(C65)","v":0}]
["OPENING STOCK",null,null,null,null,{"$f":"SUM('Production DAY 3'!C2)","v":0},{"$f":"SUM('Production DAY 3'!C3)","v":0},{"$f":"SUM('Production DAY 3'!C4)","v":0},{"$f":"SUM('Production DAY 3'!C5)","v":0},{"$f":"SUM('Production DAY 3'!C6)","v":0},{"$f":"SUM('Production DAY 3'!C7)","v":0},{"$f":"SUM('Production DAY 3'!C8)","v":0},{"$f":"SUM('Production DAY 3'!C9)","v":0},{"$f":"SUM('Production DAY 3'!C10)","v":0},{"$f":"SUM('Production DAY 3'!C11)","v":0},{"$f":"SUM('Production DAY 3'!C12)","v":0},{"$f":"SUM('Production DAY 3'!C13)","v":0},{"$f":"SUM('Production DAY 3'!C14)","v":0},{"$f":"SUM('Production DAY 3'!C15)","v":0},{"$f":"SUM('Production DAY 3'!C16)","v":0},{"$f":"SUM('Production DAY 3'!C17)","v":0},{"$f":"SUM('Production DAY 3'!C18)","v":0},{"$f":"SUM('Production DAY 3'!C19)","v":0},{"$f":"SUM('Production DAY 3'!C20)","v":0},{"$f":"SUM('Production DAY 3'!C21)","v":0},{"$f":"SUM('Production DAY 3'!C22)","v":0},{"$f":"SUM('Production DAY 3'!C23)","v":0},{"$f":"SUM('Production DAY 3'!C24)","v":0},{"$f":"SUM('Production DAY 3'!C25)","v":0},{"$f":"SUM('Production DAY 3'!C26)","v":0},{"$f":"SUM('Production DAY 3'!C27)","v":0},{"$f":"SUM('Production DAY 3'!C28)","v":0},{"$f":"SUM('Production DAY 3'!C29)","v":0},{"$f":"SUM('Production DAY 3'!C30)","v":0},{"$f":"SUM('Production DAY 3'!C31)","v":0},{"$f":"SUM('Production DAY 3'!C32)","v":0},{"$f":"SUM('Production DAY 3'!C33)","v":0},{"$f":"SUM('Production DAY 3'!C34)","v":0},{"$f":"SUM('Production DAY 3'!C35)","v":0},{"$f":"SUM('Production DAY 3'!C36)","v":0},{"$f":"SUM('Production DAY 3'!C37)","v":0},{"$f":"SUM('Production DAY 3'!C38)","v":0},{"$f":"SUM('Production DAY 3'!C39)","v":0},{"$f":"SUM('Production DAY 3'!C40)","v":0},{"$f":"SUM('Production DAY 3'!C41)","v":0},{"$f":"SUM('Production DAY 3'!C42)","v":0},{"$f":"SUM('Production DAY 3'!C43)","v":0}]
["RECEIVED",null,null,null,null,{"$f":"SUM('Production DAY 3'!D2)","v":0},{"$f":"SUM('Production DAY 3'!D3)","v":0},{"$f":"SUM('Production DAY 3'!D4)","v":0},{"$f":"SUM('Production DAY 3'!D5)","v":0},{"$f":"SUM('Production DAY 3'!D6)","v":0},{"$f":"SUM('Production DAY 3'!D7)","v":0},{"$f":"SUM('Production DAY 3'!D8)","v":0},{"$f":"SUM('Production DAY 3'!D9)","v":0},{"$f":"SUM('Production DAY 3'!D10)","v":0},{"$f":"SUM('Production DAY 3'!D11)","v":0},{"$f":"SUM('Production DAY 3'!D12)","v":0},{"$f":"SUM('Production DAY 3'!D13)","v":0},{"$f":"SUM('Production DAY 3'!D14)","v":0},{"$f":"SUM('Production DAY 3'!D15)","v":0},{"$f":"SUM('Production DAY 3'!D16)","v":0},{"$f":"SUM('Production DAY 3'!D17)","v":0},{"$f":"SUM('Production DAY 3'!D18)","v":0},{"$f":"SUM('Production DAY 3'!D19)","v":0},{"$f":"SUM('Production DAY 3'!D20)","v":0},{"$f":"SUM('Production DAY 3'!D21)","v":0},{"$f":"SUM('Production DAY 3'!D22)","v":0},{"$f":"SUM('Production DAY 3'!D23)","v":0},{"$f":"SUM('Production DAY 3'!D24)","v":0},{"$f":"SUM('Production DAY 3'!D25)","v":0},{"$f":"SUM('Production DAY 3'!D26)","v":0},{"$f":"SUM('Production DAY 3'!D27)","v":0},{"$f":"SUM('Production DAY 3'!D28)","v":0},{"$f":"SUM('Production DAY 3'!D29)","v":0},{"$f":"SUM('Production DAY 3'!D30)","v":0},{"$f":"SUM('Production DAY 3'!D31)","v":0},{"$f":"SUM('Production DAY 3'!D32)","v":0},{"$f":"SUM('Production DAY 3'!D33)","v":0},{"$f":"SUM('Production DAY 3'!D34)","v":0},{"$f":"SUM('Production DAY 3'!D35)","v":0},{"$f":"SUM('Production DAY 3'!D36)","v":0},{"$f":"SUM('Production DAY 3'!D37)","v":0},{"$f":"SUM('Production DAY 3'!D38)","v":0},{"$f":"SUM('Production DAY 3'!D39)","v":0},{"$f":"SUM('Production DAY 3'!D40)","v":0},{"$f":"SUM('Production DAY 3'!D41)","v":0},{"$f":"SUM('Production DAY 3'!D42)","v":0},{"$f":"SUM('Production DAY 3'!D43)","v":0}]
["TOTAL STOCK",null,null,null,null,{"$f":"SUM(F66:F67)","v":0},{"$f":"SUM(G66:G67)","v":0},{"$f":"SUM(H66:H67)","v":0},{"$f":"SUM(I66:I67)","v":0},0,0,0,0,0,0,{"$f":"SUM(P66:P67)","v":0},0,0,0,0,0,0,0,0,0,0,0,0,0,0,0,0,0,0,0,0,0,0,0,0,0,0,0,0,0,0,0]
["USED",null,null,{"$f":"SUM(D3:D65)","v":0},null,{"$f":"SUM(F3:F65)","v":0},0,0,0,0,0,0,0,0,0,0,0,0,0,0,0,0,0,0,0,0,0,0,0,0,0,0,0,0,0,0,0,{"$f":"SUM(AL3:AL64)","v":0},0,0,0,0,0,0,0,0,0]
["CLOSING STOCK",null,null,null,null,{"$f":"SUM(F68-F69)","v":0},0,0,0,0,0,0,0,0,0,0,0,0,0,0,0,0,0,0,0,0,0,0,0,0,0,0,0,{"$f":"SUM(AH66-AH69)","v":0},{"$f":"SUM(AI68-AI69)","v":0},0,0,0,0,0,0,0,0,0,0,0,0]

{"sheet":"Production DAY 4","index":6,"n_rows":44,"n_cols":8,"rows_kept":44,"cut":false,"hidden":false,"merged":[]}
["Nos#","ITEMS"," < OPENING STOCK","RECEIVED","USED >","SALES CLOSING STOCK >","PHYSICAL STOCK COUNT","COMMENTS"]
[1,"Burger Bread",{"$f":"SUM('Production DAY 3'!G2)","v":0},null,{"$f":"SUM('DAY 4'!F69)","v":0},{"$f":"SUM('DAY 4'!F70)","v":0},0,{"$f":"IF(G2=F2,TRUE,FALSE)","v":true}]
[2,"Chicken Patty",{"$f":"SUM('Production DAY 3'!G3)","v":0},null,{"$f":"SUM('DAY 4'!G69)","v":0},{"$f":"SUM('DAY 4'!G70)","v":0},0,true]
[3,"Shawarma Bread",{"$f":"SUM('Production DAY 3'!G4)","v":0},null,{"$f":"SUM('DAY 4'!H69)","v":0},{"$f":"SUM('DAY 4'!H70)","v":0},0,true]
[4,"Chicken Portion or Shawarma portion",{"$f":"SUM('Production DAY 3'!G5)","v":0},null,{"$f":"SUM('DAY 4'!I69)","v":0},{"$f":"SUM('DAY 4'!I70)","v":0},0,true]
[5,"Sausage",{"$f":"SUM('Production DAY 3'!G6)","v":0},null,{"$f":"SUM('DAY 4'!J69)","v":0},{"$f":"SUM('DAY 4'!J70)","v":0},0,true]
[6,"Portion of Fries",{"$f":"SUM('Production DAY 3'!G7)","v":0},null,{"$f":"SUM('DAY 4'!K69)","v":0},{"$f":"SUM('DAY 4'!K70)","v":0},0,true]
[7,"Pieces of Chicken",{"$f":"SUM('Production DAY 3'!G8)","v":0},null,{"$f":"SUM('DAY 4'!L69)","v":0},{"$f":"SUM('DAY 4'!L70)","v":0},0,true]
[8,"Cheese",{"$f":"SUM('Production DAY 3'!G9)","v":0},null,{"$f":"SUM('DAY 4'!M69)","v":0},{"$f":"SUM('DAY 4'!M70)","v":0},0,true]
[9,"Bacon",{"$f":"SUM('Production DAY 3'!G10)","v":0},null,{"$f":"SUM('DAY 4'!N69)","v":0},{"$f":"SUM('DAY 4'!N70)","v":0},0,true]
[10,"A Paper Bag",{"$f":"SUM('Production DAY 3'!G11)","v":0},null,{"$f":"SUM('DAY 4'!O69)","v":0},{"$f":"SUM('DAY 4'!O70)","v":0},0,true]
[11,"Achicken Box",{"$f":"SUM('Production DAY 3'!G12)","v":0},null,{"$f":"SUM('DAY 4'!P69)","v":0},{"$f":"SUM('DAY 4'!P70)","v":0},0,true]
[12,"Paper Wrap",{"$f":"SUM('Production DAY 3'!G13)","v":0},null,{"$f":"SUM('DAY 4'!Q69)","v":0},{"$f":"SUM('DAY 4'!Q70)","v":0},0,true]
[13,"A Branded Nylon",{"$f":"SUM('Production DAY 3'!G14)","v":0},null,{"$f":"SUM('DAY 4'!R69)","v":0},{"$f":"SUM('DAY 4'!R70)","v":0},0,true]
[14,"Parfait",{"$f":"SUM('Production DAY 3'!G15)","v":0},null,{"$f":"SUM('DAY 4'!S69)","v":0},{"$f":"SUM('DAY 4'!S70)","v":0},0,true]
[15,"A Bottle of SUGAR Juice",{"$f":"SUM('Production DAY 3'!G16)","v":0},null,{"$f":"SUM('DAY 4'!T69)","v":0},{"$f":"SUM('DAY 4'!T70)","v":0},0,true]
[16,"35 CL Soft Drink",{"$f":"SUM('Production DAY 3'!G17)","v":0},null,{"$f":"SUM('DAY 4'!U69)","v":0},{"$f":"SUM('DAY 4'!U70)","v":0},0,true]
[17,"Beef Patty",{"$f":"SUM('Production DAY 3'!G18)","v":0},null,{"$f":"SUM('DAY 4'!V69)","v":0},{"$f":"SUM('DAY 4'!V70)","v":0},0,true]
[18,"Cream in GRAMS",{"$f":"SUM('Production DAY 3'!G19)","v":0},null,{"$f":"SUM('DAY 4'!W69)","v":0},{"$f":"SUM('DAY 4'!W70)","v":0},0,true]
[19,"KETCHUP",{"$f":"SUM('Production DAY 3'!G20)","v":0},null,{"$f":"SUM('DAY 4'!X69)","v":0},{"$f":"SUM('DAY 4'!X70)","v":0},0,true]
[20,"plain Nylon",{"$f":"SUM('Production DAY 3'!G21)","v":0},null,{"$f":"SUM('DAY 4'!Y69)","v":0},{"$f":"SUM('DAY 4'!Y70)","v":0},0,true]
[21,"Barbeque Sauce",{"$f":"SUM('Production DAY 3'!G22)","v":0},null,{"$f":"SUM('DAY 4'!Z69)","v":0},{"$f":"SUM('DAY 4'!Z70)","v":0},0,true]
[22,"Meal Box",{"$f":"SUM('Production DAY 3'!G23)","v":0},null,{"$f":"SUM('DAY 4'!AA69)","v":0},{"$f":"SUM('DAY 4'!AA70)","v":0},0,true]
[23,"COCONUT BREAD",{"$f":"SUM('Production DAY 3'!G24)","v":0},null,{"$f":"SUM('DAY 4'!AB69)","v":0},{"$f":"SUM('DAY 4'!AB70)","v":0},0,true]
[24,"SUPA KOMMANDO",{"$f":"SUM('Production DAY 3'!G25)","v":0},null,{"$f":"SUM('DAY 4'!AC69)","v":0},{"$f":"SUM('DAY 4'!AC70)","v":0},0,true]
[25,"SHAWARMA SUB",{"$f":"SUM('Production DAY 3'!G26)","v":0},null,{"$f":"SUM('DAY 4'!AD69)","v":0},{"$f":"SUM('DAY 4'!AD70)","v":0},0,true]
[26,"CAN COKE / FANTA",{"$f":"SUM('Production DAY 3'!G27)","v":0},null,{"$f":"SUM('DAY 4'!AE69)","v":0},{"$f":"SUM('DAY 4'!AE70)","v":0},0,true]
[27,"NUGGETS ",{"$f":"SUM('Production DAY 3'!G28)","v":0},null,{"$f":"SUM('DAY 4'!AF69)","v":0},{"$f":"SUM('DAY 4'!AF70)","v":0},0,true]
[28,"PRAWN",{"$f":"SUM('Production DAY 3'!G29)","v":0},null,{"$f":"SUM('DAY 4'!AG69)","v":0},{"$f":"SUM('DAY 4'!AG70)","v":0},0,true]
[29,"FARM PRIDE",{"$f":"SUM('Production DAY 3'!G30)","v":0},null,{"$f":"SUM('DAY 4'!AH69)","v":0},{"$f":"SUM('DAY 4'!AH70)","v":0},0,true]
[30,"50CL OR PULPY",{"$f":"SUM('Production DAY 3'!G31)","v":0},null,{"$f":"SUM('DAY 4'!AI69)","v":0},{"$f":"SUM('DAY 4'!AI70)","v":0},0,true]
[31,"FARM PRIDE 1 LT",{"$f":"SUM('Production DAY 3'!G32)","v":0},null,{"$f":"SUM('DAY 4'!AJ69)","v":0},{"$f":"SUM('DAY 4'!AJ70)","v":0},0,true]
[32,"BEEF PORTION FOR SHAWARMA",{"$f":"SUM('Production DAY 3'!G33)","v":0},null,{"$f":"SUM('DAY 4'!AK69)","v":0},{"$f":"SUM('DAY 4'!AK70)","v":0},0,true]
[33,"BEEF SUYA STICK",{"$f":"SUM('Production DAY 3'!G34)","v":0},null,{"$f":"SUM('DAY 4'!AL69)","v":0},{"$f":"SUM('DAY 4'!AL70)","v":0},0,true]
[34,"EMPTY 1",{"$f":"SUM('Production DAY 3'!G35)","v":0},null,{"$f":"SUM('DAY 4'!AM69)","v":0},{"$f":"SUM('DAY 4'!AM70)","v":0},0,true]
[35,"EMPTY 2",{"$f":"SUM('Production DAY 3'!G36)","v":0},null,{"$f":"SUM('DAY 4'!AN69)","v":0},{"$f":"SUM('DAY 4'!AN70)","v":0},0,true]
[36,"EMPTY 3",{"$f":"SUM('Production DAY 3'!G37)","v":0},null,{"$f":"SUM('DAY 4'!AO69)","v":0},{"$f":"SUM('DAY 4'!AO70)","v":0},0,true]
[37,"EMPTY 4",{"$f":"SUM('Production DAY 3'!G38)","v":0},null,{"$f":"SUM('DAY 4'!AP69)","v":0},{"$f":"SUM('DAY 4'!AP70)","v":0},0,true]
[38,"EMPTY 5",{"$f":"SUM('Production DAY 3'!G39)","v":0},null,{"$f":"SUM('DAY 4'!AQ69)","v":0},{"$f":"SUM('DAY 4'!AQ70)","v":0},0,true]
[39,"EMPTY 6",{"$f":"SUM('Production DAY 3'!G40)","v":0},null,{"$f":"SUM('DAY 4'!AR69)","v":0},{"$f":"SUM('DAY 4'!AR70)","v":0},0,true]
[40,"EMPTY 7",{"$f":"SUM('Production DAY 3'!G41)","v":0},null,{"$f":"SUM('DAY 4'!AS69)","v":0},{"$f":"SUM('DAY 4'!AS70)","v":0},0,true]
[41,"EMPTY 8",{"$f":"SUM('Production DAY 3'!G42)","v":0},null,{"$f":"SUM('DAY 4'!AT69)","v":0},{"$f":"SUM('DAY 4'!AT70)","v":0},0,true]
[42,"EMPTY 9",{"$f":"SUM('Production DAY 3'!G43)","v":0},null,{"$f":"SUM('DAY 4'!AU69)","v":0},{"$f":"SUM('DAY 4'!AU70)","v":0},0,true]
[43,"EMPTY 10",{"$f":"SUM('Production DAY 3'!G44)","v":0},null,{"$f":"SUM('DAY 4'!AV69)","v":0},{"$f":"SUM('DAY 4'!AV70)","v":0},0,true]

{"sheet":"DAY 4","index":7,"n_rows":70,"n_cols":47,"rows_kept":70,"cut":false,"hidden":false,"merged":[[0,7,0,28]]}
["FEBRUARY 12th, 2022",null,null,{"$f":"SUM(D3:D50)","v":0},null,null,null,"BURGER PALACE INVENTORY RECORDS"]
["ITEM","AMOUNT","QUANTITY","TOTAL",null,"Burger Bread","Chicken Patty","Shawarma Bread","Chicken Portion or Shawarma portion","Sausage","Portion of Fries","Pieces of Chicken","Cheese","Bacon","A Paper Bag","Achicken Box","Paper Wrap","A Branded Nylon","Parfait","A Bottle of SUGAR Juice","35 CL Soft Drink","Beef Patty","Cream in GRAMS","KETCHUP","plain Nylon","Barbeque Sauce","Meal Box","COCONUT BREAD ","SUPA KOMMANDO ","SHAWARMA SUB","CAN COKE / FANTA","NUGGETS","PRAWN","FARM PRIDE 50CL OR PULPY","FARM PRIDE 1 LT","BEEF PORTION FOR SHAWARMA ","BEEF SUYA STICK","EMPTY 1","EMPTY 2","EMPTY 3","EMPTY 4","EMPTY 5","EMPTY 6","EMPTY 7","EMPTY 8","EMPTY 9","EMPTY 10"]
["DELUXE BURGER MEAL (WITH SOFT DRINK)",5400,0,{"$f":"SUM(B3*C3)","v":0},null,{"$f":"SUM(C3)","v":0},{"$f":"SUM(C3)","v":0},{"$f":"SUM(C3)","v":0},{"$f":"SUM(C3)","v":0},{"$f":"SUM(C3)","v":0},{"$f":"SUM(C3)","v":0},{"$f":"SUM(C3)*2","v":0},"ZERO","ZERO",{"$f":"SUM(C3)*1","v":0},{"$f":"SUM(C3)","v":0},{"$f":"SUM(C3)*2","v":0},{"$f":"SUM(C3)","v":0},null,"ZERO",{"$f":"SUM(C3)","v":0},null,{"$f":"SUM(C3)*140","v":0},{"$f":"SUM(C3)","v":0},{"$f":"SUM(C3)","v":0},"ZERO",null,null,null,null,null,null,null,null,null,{"$f":"SUM(AD3)","v":0},0]
["DELUXE BURGER MEAL (WITH SUGARCANE JUICE)",5600,0,{"$f":"SUM(B4*C4)","v":0},null,{"$f":"SUM(C4)","v":0},{"$f":"SUM(C4)","v":0},{"$f":"SUM(C4)","v":0},{"$f":"SUM(C4)","v":0},{"$f":"SUM(C4)","v":0},0,{"$f":"SUM(C4)*2","v":0},"ZERO","ZERO",{"$f":"SUM(C4)*1","v":0},0,{"$f":"SUM(C4)*2","v":0},0,null,{"$f":"SUM(C4)","v":0},"ZERO",null,{"$f":"SUM(C4)*140","v":0},{"$f":"SUM(C4)","v":0},0,"ZERO",null,null,null,null,null,null,null,null,null,0,0]
["DELUXE MEAL EXTRA (WITH Soft Drink)",null,0,{"$f":"SUM(B5*C5)","v":0},null,{"$f":"SUM(C5)","v":0},{"$f":"SUM(C5)","v":0},{"$f":"SUM(C5)","v":0},{"$f":"SUM(C5)","v":0},{"$f":"SUM(C5)","v":0},0,{"$f":"SUM(C5)*2","v":0},"ZERO","ZERO",{"$f":"SUM(C5)","v":0},0,{"$f":"SUM(C5)*2","v":0},0,{"$f":"SUM(C5)","v":0},"ZERO",{"$f":"SUM(C5)","v":0},null,{"$f":"SUM(C5)*140","v":0},{"$f":"SUM(C5)","v":0},0,"ZERO",null,null,null,null,null,null,null,null,null,0,0]
["DELUXE BURGER MEAL Extra (With Sugarcane juice",null,0,{"$f":"SUM(B6*C6)","v":0},null,{"$f":"SUM(C6)","v":0},{"$f":"SUM(C6)","v":0},{"$f":"SUM(C6)","v":0},{"$f":"SUM(C6)","v":0},{"$f":"SUM(C6)","v":0},0,{"$f":"SUM(C6)*2","v":0},"ZERO","ZERO",{"$f":"SUM(C6)","v":0},0,{"$f":"SUM(C6)*2","v":0},0,{"$f":"SUM(C6)","v":0},{"$f":"SUM(C6)","v":0},"ZERO",null,{"$f":"SUM(C6)*140","v":0},{"$f":"SUM(C6)","v":0},0,"ZERO",null,null,null,null,null,null,null,null,null,0,0]
["PREMIUM BURGER Meal ",5900,0,{"$f":"SUM(B7*C7)","v":0},null,{"$f":"SUM(C7)","v":0},{"$f":"SUM(C7)","v":0},"ZERO","ZERO","ZERO",0,{"$f":"SUM(C7)*5","v":0},"ZERO","ZERO",{"$f":"SUM(C7)","v":0},0,{"$f":"SUM(C7)*1.25","v":0},0,"ZERO","ZERO",{"$f":"SUM(C7)","v":0},"ZERO",{"$f":"SUM(C7)*70","v":0},{"$f":"SUM(C7)*2","v":0},0,{"$f":"SUM(C7)","v":0},null,null,null,null,null,null,null,null,null,"ZERO","ZERO"]
["CRISPY CHICKEN BOX",4300,0,null,null,"ZERO","ZERO","ZERO","ZERO","ZERO",0,{"$f":"SUM(C8)*5","v":0},"ZERO","ZERO","ZERO",0,{"$f":"SUM(C8)*0.25","v":0},0,"ZERO","ZERO",{"$f":"SUM(C8)","v":0},"ZERO","ZERO",{"$f":"SUM(C8)*2","v":0},0,{"$f":"SUM(C8)","v":0},null,null,null,null,null,null,null,null,null,"ZERO","ZERO"]
["ROYAL BURGER MEAL (CHICKEN  PATTY)",null,0,{"$f":"SUM(B9*C9)","v":0},null,{"$f":"SUM(C9)","v":0},{"$f":"SUM(C9)*2","v":0},"ZERO","ZERO","ZERO",0,"ZERO",{"$f":"SUM(C9)*2","v":0},{"$f":"SUM(C9)*2","v":0},"ZERO",0,{"$f":"SUM(C9)","v":0},0,{"$f":"SUM(C9)","v":0},"ZERO","ZERO","ZERO",{"$f":"SUM(C9)*140","v":0},{"$f":"SUM(C9)*2","v":0},0,{"$f":"SUM(C9)","v":0},null,null,null,null,null,null,null,null,null,"ZERO","ZERO"]
["ROYAL BURGER MEAL (BEEF  PATTY)",null,0,{"$f":"SUM(B10*C10)","v":0},null,{"$f":"SUM(C10)","v":0},"ZERO","ZERO","ZERO","ZERO",0,"ZERO",{"$f":"SUM(C10)*2","v":0},{"$f":"SUM(C10)*2","v":0},"ZERO",0,0,0,{"$f":"SUM(C10)","v":0},"ZERO","ZERO",{"$f":"SUM(C10)*2","v":0},{"$f":"SUM(C10)*140","v":0},{"$f":"SUM(C10)*2","v":0},0,{"$f":"SUM(C10)","v":0},null,null,null,null,null,null,null,null,null,"ZERO","ZERO"]
["ROYAL BURGER ONLY (CHICKEN PATTY)",3300,0,{"$f":"SUM(B11*C11:C25,A1,A1,A1,A1,A1)","v":0},null,{"$f":"SUM(C11)","v":0},{"$f":"SUM(C11)*2","v":0},"ZERO","ZERO","ZERO","ZERO","ZERO",{"$f":"SUM(C11)*2","v":0},{"$f":"SUM(C11)*2","v":0},"ZERO",0,0,0,"ZERO","ZERO","ZERO","ZERO",{"$f":"SUM(C11)*140","v":0},{"$f":"SUM(C11)","v":0},"ZERO","ZERO",null,null,null,null,null,null,null,null,null,"ZERO","ZERO"]
["ROYAL BURGER ONLY (BEEF PATTY)",3300,0,{"$f":"SUM(B12*C12)","v":0},null,{"$f":"SUM(C12)","v":0},null,"ZERO","ZERO","ZERO","ZERO","ZERO",{"$f":"SUM(C12)*2","v":0},{"$f":"SUM(C12)*2","v":0},"ZERO",0,0,0,"ZERO","ZERO","ZERO",{"$f":"SUM(C12)*2","v":0},{"$f":"SUM(C12)*140","v":0},{"$f":"SUM(C12)","v":0},"ZERO","ZERO",null,null,null,null,null,null,null,null,null,"ZERO","ZERO"]
["MAYOR'S COCONUT BURGER ",2800,0,0,null,0,{"$f":"SUM(C13)","v":0},"ZERO","ZERO","ZERO","ZERO","ZERO",{"$f":"SUM(C13)","v":0},"ZERO","ZERO",0,0,0,"ZERO","ZERO","ZERO",{"$f":"SUM(C13)","v":0},{"$f":"SUM(C13)*140","v":0},"ZERO","ZERO","ZERO",null,{"$f":"SUM(C13)","v":0},{"$f":"SUM(C13)","v":0},null,null,null,null,null,null,"ZERO","ZERO"]
["DOUBLE DECKER CRISPY CHK. CHEESE BURGER",2500,0,0,null,{"$f":"SUM(C14)","v":0},{"$f":"SUM(C14)*2","v":0},"ZERO","ZERO","ZERO","ZERO","ZERO",{"$f":"SUM(C14)","v":0},"ZERO","ZERO",0,0,"ZERO","ZERO","ZERO","ZERO","ZERO",{"$f":"SUM(C14)*70","v":0},"ZERO","ZERO","ZERO",null,null,null,null,null,null,null,null,null,"ZERO","ZERO"]
["SINGLE BEEF BURGER",1700,0,0,null,0,"ZERO","ZERO","ZERO","ZERO","ZERO","ZERO",null,"ZERO",{"$f":"SUM(C15)","v":0},null,0,"ZERO","ZERO","ZERO","ZERO",{"$f":"SUM(C15)","v":0},{"$f":"SUM(C15)*70","v":0},"ZERO","ZERO","ZERO",null,null,null,null,null,null,null,null,null,"ZERO","ZERO"]
["YANKEE BURGER",2400,0,0,null,0,"ZERO","ZERO","ZERO","ZERO","ZERO","ZERO",null,{"$f":"SUM(C16)*2","v":0},{"$f":"SUM(C16)","v":0},null,0,"ZERO","ZERO","ZERO","ZERO",{"$f":"SUM(C16)","v":0},{"$f":"SUM(C16)*70","v":0},"ZERO","ZERO","ZERO",null,null,null,null,null,null,null,null,null,"ZERO","ZERO"]
["ROYAL BURGER WITH FRIES (Chicken)",4000,0,0,null,0,{"$f":"SUM(C17)*2","v":0},"ZERO","ZERO","ZERO",{"$f":"SUM(C17)","v":0},"ZERO",{"$f":"SUM(C17)*2","v":0},{"$f":"SUM(C17)*2","v":0},"ZERO",{"$f":"SUM(C17)","v":0},0,"ZERO","ZERO","ZERO","ZERO","ZERO",{"$f":"SUM(C17)*140","v":0},{"$f":"SUM(C17)*2","v":0},"ZERO","ZERO",null,null,null,null,null,null,null,null,null,"ZERO","ZERO"]
["ROYAL BURGER WITH FRIES (BEEF)",4000,0,0,null,0,"ZERO","ZERO","ZERO","ZERO",{"$f":"SUM(C18)","v":0},"ZERO",{"$f":"SUM(C18)*2","v":0},{"$f":"SUM(C18)*2","v":0},"ZERO",{"$f":"SUM(C18)","v":0},0,"ZERO","ZERO","ZERO","ZERO",{"$f":"SUM(C18)*2","v":0},{"$f":"SUM(C18)*140","v":0},{"$f":"SUM(C18)*2","v":0},"ZERO","ZERO",null,null,null,null,null,null,null,null,null,"ZERO","ZERO"]
["CRISPY CHICKEN BURGER",1700,0,0,null,0,{"$f":"SUM(C19)","v":0},"ZERO","ZERO","ZERO","ZERO","ZERO","ZERO","ZERO",{"$f":"SUM(C19)","v":0},"ZERO",{"$f":"SUM(C19)*1","v":0},"ZERO","ZERO","ZERO","ZERO","ZERO",{"$f":"SUM(C19)*70","v":0},"ZERO","ZERO","ZERO",null,null,null,null,null,null,null,null,null,"ZERO","ZERO"]
["SUYA BURGER BOX",5500,0,0,null,0,{"$f":"SUM(C20)*2","v":0},"ZERO","ZERO",{"$f":"SUM(C20)*4","v":0},{"$f":"SUM(C20)","v":0},{"$f":"SUM(C20)*4","v":0},"ZERO","ZERO",{"$f":"SUM(C20)","v":0},{"$f":"SUM(C20)","v":0},{"$f":"SUM(C20)","v":0},"ZERO","ZERO",null,{"$f":"SUM(C20)","v":0},"ZERO",0,{"$f":"SUM(C20)*2","v":0},{"$f":"SUM(C20)","v":0},"ZERO",{"$f":"SUM(C20)","v":0},null,null,null,null,null,null,null,null,"ZERO","ZERO"]
["CRISPY CHICKEN BURGER PLUS CHEESE",2100,0,0,null,0,{"$f":"SUM(C21)","v":0},"ZERO","ZERO","ZERO","ZERO","ZERO",{"$f":"SUM(C21)","v":0},"ZERO",{"$f":"SUM(C21)","v":0},"ZERO",0,"ZERO","ZERO","ZERO","ZERO","ZERO",0,"ZERO","ZERO","ZERO",null,null,null,null,null,null,null,null,null,"ZERO","ZERO"]
["SINGLE BEEF CHEESE BURGER ",2100,0,0,null,0,"ZERO","ZERO","ZERO","ZERO","ZERO","ZERO",{"$f":"SUM(C22)","v":0},"ZERO",{"$f":"SUM(C22)","v":0},"ZERO",0,"ZERO","ZERO","ZERO","ZERO",{"$f":"SUM(C22)","v":0},0,"ZERO","ZERO","ZERO",null,null,null,null,null,null,null,null,null,"ZERO","ZERO"]
["DOUBLE DECKER BEEF CHEESE BURGER",2800,0,0,null,0,"ZERO","ZERO","ZERO","ZERO","ZERO","ZERO",{"$f":"SUM(C23)*2","v":0},"ZERO","ZERO",{"$f":"SUM(C23)","v":0},0,"ZERO","ZERO","ZERO","ZERO",{"$f":"SUM(C23)*2","v":0},0,"ZERO","ZERO","ZERO",null,null,null,null,null,null,null,null,null,"ZERO","ZERO"]
["CHICKEN SUYA BURGER ",2200,0,0,null,0,{"$f":"SUM(C24)*2","v":0},"ZERO","ZERO","ZERO","ZERO","ZERO","ZERO","ZERO",{"$f":"SUM(C24)*1","v":0},"ZERO",0,"ZERO","ZERO","ZERO","ZERO","ZERO",0,"ZERO","ZERO","ZERO",null,null,null,null,null,null,null,null,null,"ZERO","ZERO"]
["CHICKEN SHAWARMA",1800,0,0,null,null,"ZERO",{"$f":"SUM(C25)","v":0},{"$f":"SUM(C25)","v":0},{"$f":"SUM(C25)*2","v":0},"ZERO","ZERO","ZERO","ZERO","ZERO","ZERO",0,{"$f":"SUM(C25)","v":0},"ZERO","ZERO","ZERO","ZERO",0,"ZERO","ZERO","ZERO",null,null,null,null,null,null,null,null,null,{"$f":"SUM(AD25)","v":0},{"$f":"SUM(AE25)","v":0}]
["BARBECUE BEEF SHAWARMA",2000,0,0,null,null,"ZERO",{"$f":"SUM(C26)","v":0},"ZERO",{"$f":"SUM(C26)*2","v":0},"ZERO","ZERO","ZERO","ZERO","ZERO","ZERO",0,0,"ZERO","ZERO","ZERO","ZERO",0,"ZERO","ZERO","ZERO",null,null,null,null,null,null,null,null,null,{"$f":"SUM(C26)","v":0},"ZERO"]
["BEEF SUYA SHAWARMA",2200,0,0,null,null,"ZERO",{"$f":"SUM(C27)","v":0},"ZERO",{"$f":"SUM(C27)*2","v":0},"ZERO","ZERO","ZERO","ZERO","ZERO","ZERO",0,0,"ZERO","ZERO","ZERO","ZERO",0,"ZERO","ZERO","ZERO",null,null,null,null,null,null,null,null,null,{"$f":"SUM(AD27)","v":0},{"$f":"SUM(C27)","v":0}]
["BEEF SUYA BURGER ",2200,0,0,null,{"$f":"SUM(C28)","v":0},"ZERO",null,"ZERO","ZERO","ZERO","ZERO","ZERO","ZERO",{"$f":"SUM(C28)","v":0},"ZERO",0,0,"ZERO","ZERO","ZERO","ZERO",0,"ZERO","ZERO","ZERO",null,null,null,null,null,null,null,null,null,{"$f":"SUM(AD28)","v":0},{"$f":"SUM(C28)","v":0}]
["CHICKEN SUYA SHAWARMA",2200,0,0,null,"ZERO",{"$f":"SUM(C29)*2","v":0},{"$f":"SUM(C29)","v":0},null,{"$f":"SUM(C29)*2","v":0},"ZERO","ZERO","ZERO","ZERO","ZERO","ZERO",0,0,"ZERO","ZERO","ZERO","ZERO",0,"ZERO","ZERO","ZERO"]
["CHESSY SHAWARMA",2500,0,0,null,"ZERO","ZERO",{"$f":"SUM(C30)","v":0},{"$f":"SUM(C30)","v":0},{"$f":"SUM(C30)*2","v":0},null,"ZERO",{"$f":"SUM(C30)*2","v":0},"ZERO","ZERO","ZERO",0,0,"ZERO","ZERO","ZERO","ZERO",{"$f":"SUM(C30)*140","v":0},"ZERO","ZERO","ZERO",null,null,null,null,null,null,null,null,null,{"$f":"SUM(AD30)","v":0},{"$f":"SUM(AE30)","v":0}]
["2 CHICKEN AND CHIPS",2300,0,0,null,"ZERO","ZERO","ZERO","ZERO","ZERO",{"$f":"SUM(C31)","v":0},{"$f":"SUM(C31)*2","v":0},"ZERO","ZERO","ZERO",{"$f":"SUM(C31)","v":0},"ZERO",0,"ZERO","ZERO","ZERO","ZERO","ZERO",{"$f":"SUM(C31)","v":0},"ZERO","ZERO",null,null,null,null,null,null,null,null,null,"ZERO","ZERO"]
["4 CHICKEN AND CHIPS",3500,0,0,null,"ZERO","ZERO","ZERO","ZERO","ZERO",{"$f":"SUM(C32)","v":0},{"$f":"SUM(C32)*4","v":0},"ZERO","ZERO","ZERO",{"$f":"SUM(C32)","v":0},"ZERO",0,"ZERO","ZERO","ZERO","ZERO","ZERO",{"$f":"SUM(C32)*2","v":0},"ZERO","ZERO","zero","zero","zero",null,null,null,null,null,null,"ZERO","ZERO"]
["SPICY CHICKEN ONLY",650,0,null,null,"ZERO","ZERO","ZERO","ZERO","ZERO","ZERO",{"$f":"SUM(C33)","v":0},"ZERO","ZERO","ZERO","ZERO","ZERO","ZERO","ZERO","ZERO","ZERO","ZERO","ZERO","ZERO",{"$f":"SUM(C33)","v":0},"ZERO",null,null,null,null,null,null,null,null,null,"ZERO","ZERO"]
["CRISPY CHICKEN ONLY",650,0,{"$f":"SUM(B34*C34)","v":0},null,"ZERO","ZERO","ZERO","ZERO","ZERO","ZERO",{"$f":"SUM(C34)","v":0},"ZERO","ZERO","ZERO","ZERO","ZERO","ZERO","ZERO","ZERO","ZERO","ZERO","ZERO","ZERO",{"$f":"SUM(C34)","v":0},"ZERO",null,null,null,null,null,null,null,null,null,"ZERO","ZERO"]
["POTATO FRIES",700,0,0,null,"ZERO","ZERO","ZERO","ZERO","ZERO",null,"ZERO","ZERO","ZERO","ZERO","ZERO","ZERO","ZERO","ZERO","ZERO","ZERO","ZERO","ZERO","ZERO","ZERO","ZERO",null,null,null,null,null,null,null,null,null,"ZERO","ZERO"]
["FRENCH FRIES ONLY",1000,0,0,null,"ZERO","ZERO","ZERO","ZERO","ZERO",{"$f":"SUM(C36)","v":0},"ZERO","ZERO","ZERO","ZERO","ZERO","ZERO","ZERO","ZERO","ZERO","ZERO","ZERO","ZERO","ZERO",{"$f":"SUM(C36)","v":0},"ZERO",null,null,null,null,null,null,null,null,null,"ZERO","ZERO"]
["SUGERCANNE JUICE",750,0,0,null,"ZERO","ZERO","ZERO","ZERO","ZERO","ZERO","ZERO","ZERO","ZERO","ZERO","ZERO","ZERO","ZERO","ZERO",{"$f":"SUM(C37)","v":0},"ZERO","ZERO","ZERO","ZERO","ZERO","ZERO",null,null,null,null,null,null,null,null,null,"ZERO","ZERO"]
["35 CL SOFT DRINK",200,0,0,null,"ZERO","ZERO","ZERO","ZERO","ZERO","ZERO","ZERO","ZERO","ZERO","ZERO","ZERO","ZERO","ZERO","ZERO","ZERO",{"$f":"SUM(C38)","v":0},"ZERO","ZERO","ZERO","ZERO","ZERO",null,null,null,null,null,null,null,null,null,"ZERO","ZERO"]
["PARFAIT",null,0,0,null,"ZERO","ZERO","ZERO","ZERO","ZERO","ZERO","ZERO","ZERO","ZERO","ZERO","ZERO","ZERO",{"$f":"SUM(C39)","v":0},{"$f":"SUM(C39)","v":0},"ZERO","ZERO","ZERO","ZERO","ZERO","ZERO","ZERO",null,null,null,null,null,null,null,null,null,"ZERO","ZERO"]
["MARINATED WINGS",500,0,0,null,"ZERO","ZERO","ZERO","ZERO","ZERO","ZERO",{"$f":"SUM(C40)","v":0},"ZERO","ZERO","ZERO","ZERO","ZERO","ZERO","ZERO","ZERO","ZERO","ZERO","ZERO","ZERO","ZERO","ZERO",null,null,null,null,null,null,null,null,null,"ZERO","ZERO"]
["CHEESE ",400,0,0,null,"ZERO","ZERO","ZERO","ZERO","ZERO","ZERO","ZERO",{"$f":"SUM(C41)","v":0},"ZERO","ZERO","ZERO","ZERO","ZERO","ZERO","ZERO","ZERO","ZERO","ZERO","ZERO","ZERO","ZERO",null,null,null,null,null,null,null,null,null,"ZERO","ZERO"]
["SAUSAGE",200,0,0,null,null,null,null,null,null,"ZERO"]
["BACON",400,0,0,null,"ZERO","ZERO","ZERO","ZERO","ZERO","ZERO","ZERO","ZERO",{"$f":"SUM(C43)","v":0},"ZERO","ZERO","ZERO","ZERO","ZERO","ZERO","ZERO","ZERO","ZERO","ZERO","ZERO","ZERO",null,null,null,null,null,null,null,null,null,"ZERO","ZERO"]
["FRIENDY BURGER MEAL (WITH SOFT DRINK)",10200,0,0,null,{"$f":"SUM(C44)*2","v":0},{"$f":"SUM(C44)*2","v":0},{"$f":"SUM(C44)*2","v":0},{"$f":"SUM(C44)*2","v":0},{"$f":"SUM(C44)*2","v":0},{"$f":"SUM(C44)*2","v":0},{"$f":"SUM(C44)*2*2","v":0},"ZERO","ZERO",{"$f":"SUM(C44)*1*2","v":0},{"$f":"SUM(C44)*2","v":0},{"$f":"SUM(C44)*2*2","v":0},{"$f":"SUM(C44)*2","v":0},null,"ZERO",{"$f":"SUM(C44)*2","v":0},null,{"$f":"SUM(C44)*140*2","v":0},{"$f":"SUM(C44)*2","v":0},{"$f":"SUM(C44)*2","v":0},"ZERO",null,null,null,null,null,null,null,null,null,{"$f":"SUM(AD44)*2","v":0},{"$f":"SUM(AE44)*2","v":0}]
["FRIENDY BURGER MEAL (WITH SUGARCANE JUICE)",10600,0,0,null,{"$f":"SUM(C45)*2","v":0},{"$f":"SUM(C45)*2","v":0},{"$f":"SUM(C45)*2","v":0},{"$f":"SUM(C45)*2","v":0},{"$f":"SUM(C45)*2","v":0},{"$f":"SUM(C45)*2","v":0},{"$f":"SUM(C45)*2*2","v":0},"ZERO","ZERO",{"$f":"SUM(C45)*1*2","v":0},{"$f":"SUM(C45)*2","v":0},{"$f":"SUM(C45)*2*2","v":0},{"$f":"SUM(C45)*2","v":0},null,{"$f":"SUM(C45)*2","v":0},"ZERO",null,{"$f":"SUM(C45)*140*2","v":0},{"$f":"SUM(C45)*2","v":0},{"$f":"SUM(C45)*2","v":0},"ZERO",null,null,null,null,null,null,null,null,null,{"$f":"SUM(AD45)*2","v":0},{"$f":"SUM(AE45)*2","v":0}]
["SHAWARMA  SUB",1800,0,0,null,null,"ZERO","ZERO",{"$f":"SUM(C46)","v":0},{"$f":"SUM(C46)*2","v":0},"ZERO","ZERO","ZERO","ZERO",{"$f":"SUM(C46)*1","v":0},"ZERO",{"$f":"SUM(C46)","v":0},"ZERO","ZERO","ZERO","ZERO","ZERO",{"$f":"SUM(C46)*70","v":0},"ZERO","ZERO","ZERO",null,null,null,{"$f":"SUM(C46)","v":0},null,null,null,null,null,{"$f":"SUM(AD46)","v":0},{"$f":"SUM(AE46)","v":0}]
["DELISH PACK 1",5300,0,0,null,{"$f":"SUM(C47)","v":0},{"$f":"SUM(C47)","v":0},"ZERO",{"$f":"SUM(C47)","v":0},{"$f":"SUM(C47)*2","v":0},"ZERO",{"$f":"SUM(C47)*4","v":0},"ZERO","ZERO",{"$f":"SUM(C47)*1","v":0},{"$f":"SUM(C47)*1","v":0},{"$f":"SUM(C47)*2","v":0},{"$f":"SUM(C47)","v":0},"ZERO","ZERO","ZERO","ZERO",{"$f":"SUM(C47)*70","v":0},"ZERO","ZERO","ZERO",null,null,null,{"$f":"SUM(C47)","v":0},{"$f":"SUM(C47)*1","v":0},null,null,null,null,{"$f":"SUM(AD47)","v":0},{"$f":"SUM(AE47)","v":0}]
["FAMILY BURGER MEAL (WITH SOFT DRINK)",19800,0,0,null,{"$f":"SUM(C48)*4","v":0},{"$f":"SUM(C48)*4","v":0},{"$f":"SUM(C48)*4","v":0},{"$f":"SUM(C48)*4","v":0},{"$f":"SUM(C48)*4","v":0},{"$f":"SUM(C48)*4","v":0},{"$f":"SUM(C48)*2*4","v":0},"ZERO","ZERO",{"$f":"SUM(C48)*1*4","v":0},{"$f":"SUM(C48)*4","v":0},{"$f":"SUM(C48)*2*4","v":0},{"$f":"SUM(C48)*4","v":0},null,"ZERO",{"$f":"SUM(C48)*4","v":0},null,{"$f":"SUM(C48)*140*4","v":0},{"$f":"SUM(C48)*4","v":0},{"$f":"SUM(C48)*4","v":0},"ZERO",null,null,null,null,null,null,null,null,null,{"$f":"SUM(AD48)*4","v":0},{"$f":"SUM(AE48)*4","v":0}]
["FAMILY BURGER MEAL (WITH SUGARCANE JUICE)",20800,0,0,null,{"$f":"SUM(C49)*4","v":0},{"$f":"SUM(C49)*4","v":0},{"$f":"SUM(C49)*4","v":0},{"$f":"SUM(C49)*4","v":0},{"$f":"SUM(C49)*4","v":0},{"$f":"SUM(C49)*4","v":0},{"$f":"SUM(C49)*2*4","v":0},"ZERO","ZERO",{"$f":"SUM(C49)*1*4","v":0},{"$f":"SUM(C49)*4","v":0},{"$f":"SUM(C49)*2*4","v":0},{"$f":"SUM(C49)*4","v":0},null,{"$f":"SUM(C49)*4","v":0},"ZERO",null,{"$f":"SUM(C49)*140*4","v":0},{"$f":"SUM(C49)*4","v":0},{"$f":"SUM(C49)*4","v":0},"ZERO",null,null,null,null,null,null,null,null,null,{"$f":"SUM(AD49)*4","v":0},{"$f":"SUM(AE49)*4","v":0}]
["CAN COKE/FANTA ONLY",null,0,0,null,"ZERO","ZERO","ZERO","ZERO","ZERO","ZERO","ZERO","ZERO","ZERO","ZERO","ZERO","ZERO","ZERO","ZERO","ZERO","ZERO","ZERO","ZERO","ZERO","ZERO","ZERO",null,null,null,null,{"$f":"SUM(C50)","v":0},null,null,null,null,"ZERO","ZERO"]
["SUPA KOMMANDO ONLY",250,0,0,null,"ZERO","ZERO","ZERO","ZERO","ZERO","ZERO","ZERO","ZERO","ZERO","ZERO","ZERO","ZERO","ZERO","ZERO","ZERO","ZERO","ZERO","ZERO","ZERO","ZERO","ZERO",null,null,{"$f":"SUM(C51)","v":0},null,"ZERO","ZERO",null,null,null,"ZERO","ZERO"]
["10X Chicken Nuggets ",2400,0,0,null,null,null,null,null,null,"ZERO",null,null,null,null,{"$f":"SUM(C52)","v":0},null,{"$f":"SUM(C52)","v":0},null,null,null,null,null,{"$f":"SUM(C52)","v":0},null,null,null,null,null,null,{"$f":"SUM(C52)","v":0},{"$f":"SUM(C52)*10","v":0}]
["20X Chicken Nuggets ",4800,0,0,null,null,null,null,null,null,"ZERO ",null,null,null,null,{"$f":"SUM(C53)","v":0},null,{"$f":"SUM(C53)","v":0},null,null,null,null,null,{"$f":"SUM(C53)","v":0},null,null,null,null,null,null,{"$f":"SUM(C53)","v":0},{"$f":"SUM(C53)*20","v":0}]
["10 CHICKEN NUGGETS & FRIES BOX",3300,0,0,null,null,null,null,null,null,{"$f":"SUM(C54)","v":0},null,null,null,null,{"$f":"SUM(C54)","v":0},null,{"$f":"SUM(C54)","v":0},null,null,null,null,null,{"$f":"SUM(C54)","v":0},null,null,null,null,null,null,{"$f":"SUM(C54)","v":0},{"$f":"SUM(C54)*10","v":0}]
["20 CHICKEN NUGGETS & FRIES BOX",6600,0,0,null,null,null,null,null,null,{"$f":"SUM(C55)","v":0},null,null,null,null,{"$f":"SUM(C55)","v":0},null,{"$f":"SUM(C55)","v":0},null,null,null,null,null,{"$f":"SUM(C55)","v":0},null,null,null,null,null,null,{"$f":"SUM(C55)","v":0},{"$f":"SUM(C55)*20","v":0}]
["PRAWN BURGER ",3000,0,0,null,{"$f":"SUM(C56)","v":0},"ZERO","ZERO","ZERO","ZERO","ZERO","ZERO",{"$f":"SUM(C56)","v":0},"ZERO",{"$f":"SUM(C56)","v":0},"ZERO",{"$f":"SUM(C56)","v":0},"ZERO","ZERO","ZERO","ZERO","ZERO",{"$f":"SUM(C56)*70","v":0},"ZERO","ZERO","ZERO",null,null,null,null,null,null,{"$f":"SUM(C56)*2","v":0},null,null,"ZERO","ZERO"]
[" FUNMMY NUGGETS  BOX",5300,0,0,null,{"$f":"SUM(C57)","v":0},{"$f":"SUM(C57)","v":0},null,null,null,{"$f":"SUM(C57)","v":0},null,{"$f":"SUM(C57)","v":0},null,{"$f":"SUM(C57)","v":0},{"$f":"SUM(C57)","v":0},null,{"$f":"SUM(C57)","v":0},null,null,null,null,null,{"$f":"SUM(C57)","v":0},null,null,null,null,null,null,{"$f":"SUM(C57)","v":0},{"$f":"SUM(C57)*10","v":0}]
["FARM PRIDE 50 CL",500,0,0,null,"ZERO","ZERO","ZERO","ZERO","ZERO","ZERO","ZERO","ZERO","ZERO","ZERO","ZERO","ZERO","ZERO","ZERO","ZERO","ZERO","ZERO","ZERO","ZERO","ZERO","ZERO",null,null,null,null,null,null,null,{"$f":"SUM(C58)","v":0},null,"ZERO","ZERO"]
["FARM PRIDE 1 LITRE",800,0,0,null,"ZERO","ZERO","ZERO","ZERO","ZERO","ZERO","ZERO","ZERO","ZERO","ZERO","ZERO","ZERO","ZERO","ZERO","ZERO","ZERO","ZERO","ZERO","ZERO","ZERO","ZERO",null,null,null,null,null,null,null,"ZERO",{"$f":"SUM(C59)","v":0},"ZERO","ZERO"]
["GRILLED CHICKEN BURGER",1700,0,{"$f":"SUM(B60*C60)","v":0},null,{"$f":"SUM(C60)","v":0},{"$f":"SUM(C60)","v":0},"ZERO","ZERO","ZERO","ZERO","ZERO","ZERO","ZERO",{"$f":"SUM(C60)","v":0},"ZERO",{"$f":"SUM(C60)*1","v":0},"ZERO","ZERO","ZERO","ZERO","ZERO",{"$f":"SUM(C60)*70","v":0},"ZERO","ZERO","ZERO",null,null,null,null,null,null,null,null,null,"ZERO","ZERO"]
["GRILLED CHICKEN BURGER + JUICE",2200,0,{"$f":"SUM(B61*C61)","v":0},null,{"$f":"SUM(C61)","v":0},{"$f":"SUM(C61)","v":0},"ZERO","ZERO","ZERO","ZERO","ZERO","ZERO","ZERO",{"$f":"SUM(C61)","v":0},"ZERO",{"$f":"SUM(C61)*1","v":0},"ZERO","ZERO","ZERO","ZERO","ZERO",{"$f":"SUM(C61)*70","v":0},"ZERO","ZERO","ZERO",null,null,null,null,null,null,null,{"$f":"SUM(C61)","v":0},null,"ZERO","ZERO"]
["GRILLED BURGER MEAL 1 & 3",4000,0,{"$f":"SUM(B62*C62)","v":0},null,{"$f":"SUM(C62)","v":0},{"$f":"SUM(C62)","v":0},"ZERO","ZERO","ZERO",{"$f":"SUM(C62)","v":0},{"$f":"SUM(C62)*2","v":0},"ZERO","ZERO","ZERO",{"$f":"SUM(C62)","v":0},{"$f":"SUM(C62)","v":0},{"$f":"SUM(C62)","v":0},"ZERO","ZERO","ZERO","ZERO",{"$f":"SUM(C62)*70","v":0},{"$f":"SUM(C62)","v":0},"ZERO","ZERO",null,null,null,null,null,null,null,{"$f":"SUM(C62)","v":0},null,"ZERO","ZERO"]
["GRILLED BURGER MEAL 2",3700,0,{"$f":"SUM(B63*C63)","v":0},null,{"$f":"SUM(C63)","v":0},{"$f":"SUM(C63)","v":0},"ZERO","ZERO","ZERO",{"$f":"SUM(C63)","v":0},{"$f":"SUM(C63)*2","v":0},"ZERO","ZERO","ZERO",{"$f":"SUM(C63)","v":0},{"$f":"SUM(C63)","v":0},{"$f":"SUM(C63)","v":0},"ZERO","ZERO",{"$f":"SUM(C63)","v":0},"ZERO",{"$f":"SUM(C63)*70","v":0},{"$f":"SUM(C63)","v":0},"ZERO","ZERO",null,null,null,null,null,null,null,"ZERO",null,"ZERO","ZERO"]
["MASTERPIECE BURGER ",5000,0,{"$f":"SUM(B64*C64)","v":0},null,{"$f":"SUM(C64)","v":0},"ZERO","ZERO","ZERO","ZERO","ZERO","ZERO",{"$f":"SUM(C64)","v":0},"ZERO","ZERO",{"$f":"SUM(C64)","v":0},{"$f":"SUM(C64)","v":0},"ZERO","ZERO","ZERO",{"$f":"SUM(C64)","v":0},{"$f":"SUM(C64)","v":0},{"$f":"SUM(C64)*70","v":0},"ZERO","ZERO","ZERO",null,null,null,null,null,null,null,null,null,"ZERO",{"$f":"SUM(C64)","v":0}]
["SUYA BURGER BOX 2 (WITH BEEF SUYA BURGER)",6000,0,0,null,0,"ZERO ","ZERO","ZERO",0,0,0,"ZERO","ZERO",0,0,0,"ZERO","ZERO",null,0,"ZERO",0,0,0,"ZERO",0,null,null,null,null,null,null,null,null,"ZERO",0]
["OPENING STOCK",null,null,null,null,{"$f":"SUM('Production DAY 4'!C2)","v":0},{"$f":"SUM('Production DAY 4'!C3)","v":0},{"$f":"SUM('Production DAY 4'!C4)","v":0},{"$f":"SUM('Production DAY 4'!C5)","v":0},{"$f":"SUM('Production DAY 4'!C6)","v":0},{"$f":"SUM('Production DAY 4'!C7)","v":0},{"$f":"SUM('Production DAY 4'!C8)","v":0},{"$f":"SUM('Production DAY 4'!C9)","v":0},{"$f":"SUM('Production DAY 4'!C10)","v":0},{"$f":"SUM('Production DAY 4'!C11)","v":0},{"$f":"SUM('Production DAY 4'!C12)","v":0},{"$f":"SUM('Production DAY 4'!C13)","v":0},{"$f":"SUM('Production DAY 4'!C14)","v":0},{"$f":"SUM('Production DAY 4'!C15)","v":0},{"$f":"SUM('Production DAY 4'!C16)","v":0},{"$f":"SUM('Production DAY 4'!C17)","v":0},{"$f":"SUM('Production DAY 4'!C18)","v":0},{"$f":"SUM('Production DAY 4'!C19)","v":0},{"$f":"SUM('Production DAY 4'!C20)","v":0},{"$f":"SUM('Production DAY 4'!C21)","v":0},{"$f":"SUM('Production DAY 4'!C22)","v":0},{"$f":"SUM('Production DAY 4'!C23)","v":0},{"$f":"SUM('Production DAY 4'!C24)","v":0},{"$f":"SUM('Production DAY 4'!C25)","v":0},{"$f":"SUM('Production DAY 4'!C26)","v":0},{"$f":"SUM('Production DAY 4'!C27)","v":0},{"$f":"SUM('Production DAY 4'!C28)","v":0},{"$f":"SUM('Production DAY 4'!C29)","v":0},{"$f":"SUM('Production DAY 4'!C30)","v":0},{"$f":"SUM('Production DAY 4'!C31)","v":0},{"$f":"SUM('Production DAY 4'!C32)","v":0},{"$f":"SUM('Production DAY 4'!C33)","v":0},{"$f":"SUM('Production DAY 4'!C34)","v":0},{"$f":"SUM('Production DAY 4'!C35)","v":0},{"$f":"SUM('Production DAY 4'!C36)","v":0},{"$f":"SUM('Production DAY 4'!C37)","v":0},{"$f":"SUM('Production DAY 4'!C38)","v":0},{"$f":"SUM('Production DAY 4'!C39)","v":0},{"$f":"SUM('Production DAY 4'!C40)","v":0},{"$f":"SUM('Production DAY 4'!C41)","v":0},{"$f":"SUM('Production DAY 4'!C42)","v":0},{"$f":"SUM('Production DAY 4'!C43)","v":0}]
["RECEIVED",null,null,null,null,{"$f":"SUM('Production DAY 4'!D2)","v":0},{"$f":"SUM('Production DAY 4'!D3)","v":0},{"$f":"SUM('Production DAY 4'!D4)","v":0},{"$f":"SUM('Production DAY 4'!D5)","v":0},{"$f":"SUM('Production DAY 4'!D6)","v":0},{"$f":"SUM('Production DAY 4'!D7)","v":0},{"$f":"SUM('Production DAY 4'!D8)","v":0},{"$f":"SUM('Production DAY 4'!D9)","v":0},{"$f":"SUM('Production DAY 4'!D10)","v":0},{"$f":"SUM('Production DAY 4'!D11)","v":0},{"$f":"SUM('Production DAY 4'!D12)","v":0},{"$f":"SUM('Production DAY 4'!D13)","v":0},{"$f":"SUM('Production DAY 4'!D14)","v":0},{"$f":"SUM('Production DAY 4'!D15)","v":0},{"$f":"SUM('Production DAY 4'!D16)","v":0},{"$f":"SUM('Production DAY 4'!D17)","v":0},{"$f":"SUM('Production DAY 4'!D18)","v":0},{"$f":"SUM('Production DAY 4'!D19)","v":0},{"$f":"SUM('Production DAY 4'!D20)","v":0},{"$f":"SUM('Production DAY 4'!D21)","v":0},{"$f":"SUM('Production DAY 4'!D22)","v":0},{"$f":"SUM('Production DAY 4'!D23)","v":0},{"$f":"SUM('Production DAY 4'!D24)","v":0},{"$f":"SUM('Production DAY 4'!D25)","v":0},{"$f":"SUM('Production DAY 4'!D26)","v":0},{"$f":"SUM('Production DAY 4'!D27)","v":0},{"$f":"SUM('Production DAY 4'!D28)","v":0},{"$f":"SUM('Production DAY 4'!D29)","v":0},{"$f":"SUM('Production DAY 4'!D30)","v":0},{"$f":"SUM('Production DAY 4'!D31)","v":0},{"$f":"SUM('Production DAY 4'!D32)","v":0},{"$f":"SUM('Production DAY 4'!D33)","v":0},{"$f":"SUM('Production DAY 4'!D34)","v":0},{"$f":"SUM('Production DAY 4'!D35)","v":0},{"$f":"SUM('Production DAY 4'!D36)","v":0},{"$f":"SUM('Production DAY 4'!D37)","v":0},{"$f":"SUM('Production DAY 4'!D38)","v":0},{"$f":"SUM('Production DAY 4'!D39)","v":0},{"$f":"SUM('Production DAY 4'!D40)","v":0},{"$f":"SUM('Production DAY 4'!D41)","v":0},{"$f":"SUM('Production DAY 4'!D42)","v":0},{"$f":"SUM('Production DAY 4'!D43)","v":0}]
["TOTAL STOCK",null,null,null,null,{"$f":"SUM(F66:F67)","v":0},{"$f":"SUM(G66:G67)","v":0},{"$f":"SUM(H66:H67)","v":0},{"$f":"SUM(I66:I67)","v":0},0,0,0,0,0,0,{"$f":"SUM(P66:P67)","v":0},0,0,0,0,0,0,0,0,0,0,0,0,0,0,0,0,0,0,0,0,0,0,0,0,0,0,0,0,0,0,0]
["USED",null,null,{"$f":"SUM(D3:D65)","v":0},null,{"$f":"SUM(F3:F65)","v":0},0,0,0,0,0,0,0,0,0,0,0,0,0,0,0,0,0,0,0,0,0,0,0,0,0,0,0,0,0,0,0,{"$f":"SUM(AL3:AL64)","v":0},0,0,0,0,0,0,0,0,0]
["CLOSING STOCK",null,null,null,null,{"$f":"SUM(F68-F69)","v":0},0,0,0,0,0,0,0,0,0,0,0,0,0,0,0,0,0,0,0,0,0,0,0,0,0,0,0,{"$f":"SUM(AH66-AH69)","v":0},{"$f":"SUM(AI68-AI69)","v":0},0,0,0,0,0,0,0,0,0,0,0,0]

{"sheet":"Production DAY 5","index":8,"n_rows":44,"n_cols":8,"rows_kept":44,"cut":false,"hidden":false,"merged":[]}
["Nos#","ITEMS"," < OPENING STOCK","RECEIVED","USED >","SALES CLOSING STOCK >","PHYSICAL STOCK COUNT","COMMENTS"]
[1,"Burger Bread",{"$f":"SUM('Production DAY 4'!G2)","v":0},null,{"$f":"SUM('DAY 5'!F69)","v":0},{"$f":"SUM('DAY 5'!F70)","v":0},0,{"$f":"IF(G2=F2,TRUE,FALSE)","v":true}]
[2,"Chicken Patty",{"$f":"SUM('Production DAY 4'!G3)","v":0},null,{"$f":"SUM('DAY 5'!G69)","v":0},{"$f":"SUM('DAY 5'!G70)","v":0},0,true]
[3,"Shawarma Bread",{"$f":"SUM('Production DAY 4'!G4)","v":0},null,{"$f":"SUM('DAY 5'!H69)","v":0},{"$f":"SUM('DAY 5'!H70)","v":0},0,true]
[4,"Chicken Portion or Shawarma portion",{"$f":"SUM('Production DAY 4'!G5)","v":0},null,{"$f":"SUM('DAY 5'!I69)","v":0},{"$f":"SUM('DAY 5'!I70)","v":0},0,true]
[5,"Sausage",{"$f":"SUM('Production DAY 4'!G6)","v":0},null,{"$f":"SUM('DAY 5'!J69)","v":0},{"$f":"SUM('DAY 5'!J70)","v":0},0,true]
[6,"Portion of Fries",{"$f":"SUM('Production DAY 4'!G7)","v":0},null,{"$f":"SUM('DAY 5'!K69)","v":0},{"$f":"SUM('DAY 5'!K70)","v":0},0,true]
[7,"Pieces of Chicken",{"$f":"SUM('Production DAY 4'!G8)","v":0},null,{"$f":"SUM('DAY 5'!L69)","v":0},{"$f":"SUM('DAY 5'!L70)","v":0},0,true]
[8,"Cheese",{"$f":"SUM('Production DAY 4'!G9)","v":0},null,{"$f":"SUM('DAY 5'!M69)","v":0},{"$f":"SUM('DAY 5'!M70)","v":0},0,true]
[9,"Bacon",{"$f":"SUM('Production DAY 4'!G10)","v":0},null,{"$f":"SUM('DAY 5'!N69)","v":0},{"$f":"SUM('DAY 5'!N70)","v":0},0,true]
[10,"A Paper Bag",{"$f":"SUM('Production DAY 4'!G11)","v":0},null,{"$f":"SUM('DAY 5'!O69)","v":0},{"$f":"SUM('DAY 5'!O70)","v":0},0,true]
[11,"Achicken Box",{"$f":"SUM('Production DAY 4'!G12)","v":0},null,{"$f":"SUM('DAY 5'!P69)","v":0},{"$f":"SUM('DAY 5'!P70)","v":0},0,true]
[12,"Paper Wrap",{"$f":"SUM('Production DAY 4'!G13)","v":0},null,{"$f":"SUM('DAY 5'!Q69)","v":0},{"$f":"SUM('DAY 5'!Q70)","v":0},0,true]
[13,"A Branded Nylon",{"$f":"SUM('Production DAY 4'!G14)","v":0},null,{"$f":"SUM('DAY 5'!R69)","v":0},{"$f":"SUM('DAY 5'!R70)","v":0},0,true]
[14,"Parfait",{"$f":"SUM('Production DAY 4'!G15)","v":0},null,{"$f":"SUM('DAY 5'!S69)","v":0},{"$f":"SUM('DAY 5'!S70)","v":0},0,true]
[15,"A Bottle of SUGAR Juice",{"$f":"SUM('Production DAY 4'!G16)","v":0},null,{"$f":"SUM('DAY 5'!T69)","v":0},{"$f":"SUM('DAY 5'!T70)","v":0},0,true]
[16,"35 CL Soft Drink",{"$f":"SUM('Production DAY 4'!G17)","v":0},null,{"$f":"SUM('DAY 5'!U69)","v":0},{"$f":"SUM('DAY 5'!U70)","v":0},0,true]
[17,"Beef Patty",{"$f":"SUM('Production DAY 4'!G18)","v":0},null,{"$f":"SUM('DAY 5'!V69)","v":0},{"$f":"SUM('DAY 5'!V70)","v":0},0,true]
[18,"Cream in GRAMS",{"$f":"SUM('Production DAY 4'!G19)","v":0},null,{"$f":"SUM('DAY 5'!W69)","v":0},{"$f":"SUM('DAY 5'!W70)","v":0},0,true]
[19,"KETCHUP",{"$f":"SUM('Production DAY 4'!G20)","v":0},null,{"$f":"SUM('DAY 5'!X69)","v":0},{"$f":"SUM('DAY 5'!X70)","v":0},0,true]
[20,"plain Nylon",{"$f":"SUM('Production DAY 4'!G21)","v":0},null,{"$f":"SUM('DAY 5'!Y69)","v":0},{"$f":"SUM('DAY 5'!Y70)","v":0},0,true]
[21,"Barbeque Sauce",{"$f":"SUM('Production DAY 4'!G22)","v":0},null,{"$f":"SUM('DAY 5'!Z69)","v":0},{"$f":"SUM('DAY 5'!Z70)","v":0},0,true]
[22,"Meal Box",{"$f":"SUM('Production DAY 4'!G23)","v":0},null,{"$f":"SUM('DAY 5'!AA69)","v":0},{"$f":"SUM('DAY 5'!AA70)","v":0},0,true]
[23,"COCONUT BREAD",{"$f":"SUM('Production DAY 4'!G24)","v":0},null,{"$f":"SUM('DAY 5'!AB69)","v":0},{"$f":"SUM('DAY 5'!AB70)","v":0},0,true]
[24,"SUPA KOMMANDO",{"$f":"SUM('Production DAY 4'!G25)","v":0},null,{"$f":"SUM('DAY 5'!AC69)","v":0},{"$f":"SUM('DAY 5'!AC70)","v":0},0,true]
[25,"SHAWARMA SUB",{"$f":"SUM('Production DAY 4'!G26)","v":0},null,{"$f":"SUM('DAY 5'!AD69)","v":0},{"$f":"SUM('DAY 5'!AD70)","v":0},0,true]
[26,"CAN COKE / FANTA",{"$f":"SUM('Production DAY 4'!G27)","v":0},null,{"$f":"SUM('DAY 5'!AE69)","v":0},{"$f":"SUM('DAY 5'!AE70)","v":0},0,true]
[27,"NUGGETS ",{"$f":"SUM('Production DAY 4'!G28)","v":0},null,{"$f":"SUM('DAY 5'!AF69)","v":0},{"$f":"SUM('DAY 5'!AF70)","v":0},0,true]
[28,"PRAWN",{"$f":"SUM('Production DAY 4'!G29)","v":0},null,{"$f":"SUM('DAY 5'!AG69)","v":0},{"$f":"SUM('DAY 5'!AG70)","v":0},0,true]
[29,"FARM PRIDE",{"$f":"SUM('Production DAY 4'!G30)","v":0},null,{"$f":"SUM('DAY 5'!AH69)","v":0},{"$f":"SUM('DAY 5'!AH70)","v":0},0,true]
[30,"50CL OR PULPY",{"$f":"SUM('Production DAY 4'!G31)","v":0},null,{"$f":"SUM('DAY 5'!AI69)","v":0},{"$f":"SUM('DAY 5'!AI70)","v":0},0,true]
[31,"FARM PRIDE 1 LT",{"$f":"SUM('Production DAY 4'!G32)","v":0},null,{"$f":"SUM('DAY 5'!AJ69)","v":0},{"$f":"SUM('DAY 5'!AJ70)","v":0},0,true]
[32,"BEEF PORTION FOR SHAWARMA",{"$f":"SUM('Production DAY 4'!G33)","v":0},null,{"$f":"SUM('DAY 5'!AK69)","v":0},{"$f":"SUM('DAY 5'!AK70)","v":0},0,true]
[33,"BEEF SUYA STICK",{"$f":"SUM('Production DAY 4'!G34)","v":0},null,{"$f":"SUM('DAY 5'!AL69)","v":0},{"$f":"SUM('DAY 5'!AL70)","v":0},0,true]
[34,"EMPTY 1",{"$f":"SUM('Production DAY 4'!G35)","v":0},null,{"$f":"SUM('DAY 5'!AM69)","v":0},{"$f":"SUM('DAY 5'!AM70)","v":0},0,true]
[35,"EMPTY 2",{"$f":"SUM('Production DAY 4'!G36)","v":0},null,{"$f":"SUM('DAY 5'!AN69)","v":0},{"$f":"SUM('DAY 5'!AN70)","v":0},0,true]
[36,"EMPTY 3",{"$f":"SUM('Production DAY 4'!G37)","v":0},null,{"$f":"SUM('DAY 5'!AO69)","v":0},{"$f":"SUM('DAY 5'!AO70)","v":0},0,true]
[37,"EMPTY 4",{"$f":"SUM('Production DAY 4'!G38)","v":0},null,{"$f":"SUM('DAY 5'!AP69)","v":0},{"$f":"SUM('DAY 5'!AP70)","v":0},0,true]
[38,"EMPTY 5",{"$f":"SUM('Production DAY 4'!G39)","v":0},null,{"$f":"SUM('DAY 5'!AQ69)","v":0},{"$f":"SUM('DAY 5'!AQ70)","v":0},0,true]
[39,"EMPTY 6",{"$f":"SUM('Production DAY 4'!G40)","v":0},null,{"$f":"SUM('DAY 5'!AR69)","v":0},{"$f":"SUM('DAY 5'!AR70)","v":0},0,true]
[40,"EMPTY 7",{"$f":"SUM('Production DAY 4'!G41)","v":0},null,{"$f":"SUM('DAY 5'!AS69)","v":0},{"$f":"SUM('DAY 5'!AS70)","v":0},0,true]
[41,"EMPTY 8",{"$f":"SUM('Production DAY 4'!G42)","v":0},null,{"$f":"SUM('DAY 5'!AT69)","v":0},{"$f":"SUM('DAY 5'!AT70)","v":0},0,true]
[42,"EMPTY 9",{"$f":"SUM('Production DAY 4'!G43)","v":0},null,{"$f":"SUM('DAY 5'!AU69)","v":0},{"$f":"SUM('DAY 5'!AU70)","v":0},0,true]
[43,"EMPTY 10",{"$f":"SUM('Production DAY 4'!G44)","v":0},null,{"$f":"SUM('DAY 5'!AV69)","v":0},{"$f":"SUM('DAY 5'!AV70)","v":0},0,true]

{"sheet":"DAY 5","index":9,"n_rows":70,"n_cols":47,"rows_kept":70,"cut":false,"hidden":false,"merged":[[0,7,0,28]]}
["FEBRUARY 12th, 2022",null,null,{"$f":"SUM(D3:D50)","v":0},null,null,null,"BURGER PALACE INVENTORY RECORDS"]
["ITEM","AMOUNT","QUANTITY","TOTAL",null,"Burger Bread","Chicken Patty","Shawarma Bread","Chicken Portion or Shawarma portion","Sausage","Portion of Fries","Pieces of Chicken","Cheese","Bacon","A Paper Bag","Achicken Box","Paper Wrap","A Branded Nylon","Parfait","A Bottle of SUGAR Juice","35 CL Soft Drink","Beef Patty","Cream in GRAMS","KETCHUP","plain Nylon","Barbeque Sauce","Meal Box","COCONUT BREAD ","SUPA KOMMANDO ","SHAWARMA SUB","CAN COKE / FANTA","NUGGETS","PRAWN","FARM PRIDE 50CL OR PULPY","FARM PRIDE 1 LT","BEEF PORTION FOR SHAWARMA ","BEEF SUYA STICK","EMPTY 1","EMPTY 2","EMPTY 3","EMPTY 4","EMPTY 5","EMPTY 6","EMPTY 7","EMPTY 8","EMPTY 9","EMPTY 10"]
["DELUXE BURGER MEAL (WITH SOFT DRINK)",5400,0,{"$f":"SUM(B3*C3)","v":0},null,{"$f":"SUM(C3)","v":0},{"$f":"SUM(C3)","v":0},{"$f":"SUM(C3)","v":0},{"$f":"SUM(C3)","v":0},{"$f":"SUM(C3)","v":0},{"$f":"SUM(C3)","v":0},{"$f":"SUM(C3)*2","v":0},"ZERO","ZERO",{"$f":"SUM(C3)*1","v":0},{"$f":"SUM(C3)","v":0},{"$f":"SUM(C3)*2","v":0},{"$f":"SUM(C3)","v":0},null,"ZERO",{"$f":"SUM(C3)","v":0},null,{"$f":"SUM(C3)*140","v":0},{"$f":"SUM(C3)","v":0},{"$f":"SUM(C3)","v":0},"ZERO",null,null,null,null,null,null,null,null,null,{"$f":"SUM(AD3)","v":0},0]
["DELUXE BURGER MEAL (WITH SUGARCANE JUICE)",5600,0,{"$f":"SUM(B4*C4)","v":0},null,{"$f":"SUM(C4)","v":0},{"$f":"SUM(C4)","v":0},{"$f":"SUM(C4)","v":0},{"$f":"SUM(C4)","v":0},{"$f":"SUM(C4)","v":0},0,{"$f":"SUM(C4)*2","v":0},"ZERO","ZERO",{"$f":"SUM(C4)*1","v":0},0,{"$f":"SUM(C4)*2","v":0},0,null,{"$f":"SUM(C4)","v":0},"ZERO",null,{"$f":"SUM(C4)*140","v":0},{"$f":"SUM(C4)","v":0},0,"ZERO",null,null,null,null,null,null,null,null,null,0,0]
["DELUXE MEAL EXTRA (WITH Soft Drink)",null,0,{"$f":"SUM(B5*C5)","v":0},null,{"$f":"SUM(C5)","v":0},{"$f":"SUM(C5)","v":0},{"$f":"SUM(C5)","v":0},{"$f":"SUM(C5)","v":0},{"$f":"SUM(C5)","v":0},0,{"$f":"SUM(C5)*2","v":0},"ZERO","ZERO",{"$f":"SUM(C5)","v":0},0,{"$f":"SUM(C5)*2","v":0},0,{"$f":"SUM(C5)","v":0},"ZERO",{"$f":"SUM(C5)","v":0},null,{"$f":"SUM(C5)*140","v":0},{"$f":"SUM(C5)","v":0},0,"ZERO",null,null,null,null,null,null,null,null,null,0,0]
["DELUXE BURGER MEAL Extra (With Sugarcane juice",null,0,{"$f":"SUM(B6*C6)","v":0},null,{"$f":"SUM(C6)","v":0},{"$f":"SUM(C6)","v":0},{"$f":"SUM(C6)","v":0},{"$f":"SUM(C6)","v":0},{"$f":"SUM(C6)","v":0},0,{"$f":"SUM(C6)*2","v":0},"ZERO","ZERO",{"$f":"SUM(C6)","v":0},0,{"$f":"SUM(C6)*2","v":0},0,{"$f":"SUM(C6)","v":0},{"$f":"SUM(C6)","v":0},"ZERO",null,{"$f":"SUM(C6)*140","v":0},{"$f":"SUM(C6)","v":0},0,"ZERO",null,null,null,null,null,null,null,null,null,0,0]
["PREMIUM BURGER Meal ",5900,0,{"$f":"SUM(B7*C7)","v":0},null,{"$f":"SUM(C7)","v":0},{"$f":"SUM(C7)","v":0},"ZERO","ZERO","ZERO",0,{"$f":"SUM(C7)*5","v":0},"ZERO","ZERO",{"$f":"SUM(C7)","v":0},0,{"$f":"SUM(C7)*1.25","v":0},0,"ZERO","ZERO",{"$f":"SUM(C7)","v":0},"ZERO",{"$f":"SUM(C7)*70","v":0},{"$f":"SUM(C7)*2","v":0},0,{"$f":"SUM(C7)","v":0},null,null,null,null,null,null,null,null,null,"ZERO","ZERO"]
["CRISPY CHICKEN BOX",4300,0,null,null,"ZERO","ZERO","ZERO","ZERO","ZERO",0,{"$f":"SUM(C8)*5","v":0},"ZERO","ZERO","ZERO",0,{"$f":"SUM(C8)*0.25","v":0},0,"ZERO","ZERO",{"$f":"SUM(C8)","v":0},"ZERO","ZERO",{"$f":"SUM(C8)*2","v":0},0,{"$f":"SUM(C8)","v":0},null,null,null,null,null,null,null,null,null,"ZERO","ZERO"]
["ROYAL BURGER MEAL (CHICKEN  PATTY)",null,0,{"$f":"SUM(B9*C9)","v":0},null,{"$f":"SUM(C9)","v":0},{"$f":"SUM(C9)*2","v":0},"ZERO","ZERO","ZERO",0,"ZERO",{"$f":"SUM(C9)*2","v":0},{"$f":"SUM(C9)*2","v":0},"ZERO",0,{"$f":"SUM(C9)","v":0},0,{"$f":"SUM(C9)","v":0},"ZERO","ZERO","ZERO",{"$f":"SUM(C9)*140","v":0},{"$f":"SUM(C9)*2","v":0},0,{"$f":"SUM(C9)","v":0},null,null,null,null,null,null,null,null,null,"ZERO","ZERO"]
["ROYAL BURGER MEAL (BEEF  PATTY)",null,0,{"$f":"SUM(B10*C10)","v":0},null,{"$f":"SUM(C10)","v":0},"ZERO","ZERO","ZERO","ZERO",0,"ZERO",{"$f":"SUM(C10)*2","v":0},{"$f":"SUM(C10)*2","v":0},"ZERO",0,0,0,{"$f":"SUM(C10)","v":0},"ZERO","ZERO",{"$f":"SUM(C10)*2","v":0},{"$f":"SUM(C10)*140","v":0},{"$f":"SUM(C10)*2","v":0},0,{"$f":"SUM(C10)","v":0},null,null,null,null,null,null,null,null,null,"ZERO","ZERO"]
["ROYAL BURGER ONLY (CHICKEN PATTY)",3300,0,{"$f":"SUM(B11*C11:C25,A1,A1,A1,A1,A1)","v":0},null,{"$f":"SUM(C11)","v":0},{"$f":"SUM(C11)*2","v":0},"ZERO","ZERO","ZERO","ZERO","ZERO",{"$f":"SUM(C11)*2","v":0},{"$f":"SUM(C11)*2","v":0},"ZERO",0,0,0,"ZERO","ZERO","ZERO","ZERO",{"$f":"SUM(C11)*140","v":0},{"$f":"SUM(C11)","v":0},"ZERO","ZERO",null,null,null,null,null,null,null,null,null,"ZERO","ZERO"]
["ROYAL BURGER ONLY (BEEF PATTY)",3300,0,{"$f":"SUM(B12*C12)","v":0},null,{"$f":"SUM(C12)","v":0},null,"ZERO","ZERO","ZERO","ZERO","ZERO",{"$f":"SUM(C12)*2","v":0},{"$f":"SUM(C12)*2","v":0},"ZERO",0,0,0,"ZERO","ZERO","ZERO",{"$f":"SUM(C12)*2","v":0},{"$f":"SUM(C12)*140","v":0},{"$f":"SUM(C12)","v":0},"ZERO","ZERO",null,null,null,null,null,null,null,null,null,"ZERO","ZERO"]
["MAYOR'S COCONUT BURGER ",2800,0,0,null,0,{"$f":"SUM(C13)","v":0},"ZERO","ZERO","ZERO","ZERO","ZERO",{"$f":"SUM(C13)","v":0},"ZERO","ZERO",0,0,0,"ZERO","ZERO","ZERO",{"$f":"SUM(C13)","v":0},{"$f":"SUM(C13)*140","v":0},"ZERO","ZERO","ZERO",null,{"$f":"SUM(C13)","v":0},{"$f":"SUM(C13)","v":0},null,null,null,null,null,null,"ZERO","ZERO"]
["DOUBLE DECKER CRISPY CHK. CHEESE BURGER",2500,0,0,null,{"$f":"SUM(C14)","v":0},{"$f":"SUM(C14)*2","v":0},"ZERO","ZERO","ZERO","ZERO","ZERO",{"$f":"SUM(C14)","v":0},"ZERO","ZERO",0,0,"ZERO","ZERO","ZERO","ZERO","ZERO",{"$f":"SUM(C14)*70","v":0},"ZERO","ZERO","ZERO",null,null,null,null,null,null,null,null,null,"ZERO","ZERO"]
["SINGLE BEEF BURGER",1700,0,0,null,0,"ZERO","ZERO","ZERO","ZERO","ZERO","ZERO",null,"ZERO",{"$f":"SUM(C15)","v":0},null,0,"ZERO","ZERO","ZERO","ZERO",{"$f":"SUM(C15)","v":0},{"$f":"SUM(C15)*70","v":0},"ZERO","ZERO","ZERO",null,null,null,null,null,null,null,null,null,"ZERO","ZERO"]
["YANKEE BURGER",2400,0,0,null,0,"ZERO","ZERO","ZERO","ZERO","ZERO","ZERO",null,{"$f":"SUM(C16)*2","v":0},{"$f":"SUM(C16)","v":0},null,0,"ZERO","ZERO","ZERO","ZERO",{"$f":"SUM(C16)","v":0},{"$f":"SUM(C16)*70","v":0},"ZERO","ZERO","ZERO",null,null,null,null,null,null,null,null,null,"ZERO","ZERO"]
["ROYAL BURGER WITH FRIES (Chicken)",4000,0,0,null,0,{"$f":"SUM(C17)*2","v":0},"ZERO","ZERO","ZERO",{"$f":"SUM(C17)","v":0},"ZERO",{"$f":"SUM(C17)*2","v":0},{"$f":"SUM(C17)*2","v":0},"ZERO",{"$f":"SUM(C17)","v":0},0,"ZERO","ZERO","ZERO","ZERO","ZERO",{"$f":"SUM(C17)*140","v":0},{"$f":"SUM(C17)*2","v":0},"ZERO","ZERO",null,null,null,null,null,null,null,null,null,"ZERO","ZERO"]
["ROYAL BURGER WITH FRIES (BEEF)",4000,0,0,null,0,"ZERO","ZERO","ZERO","ZERO",{"$f":"SUM(C18)","v":0},"ZERO",{"$f":"SUM(C18)*2","v":0},{"$f":"SUM(C18)*2","v":0},"ZERO",{"$f":"SUM(C18)","v":0},0,"ZERO","ZERO","ZERO","ZERO",{"$f":"SUM(C18)*2","v":0},{"$f":"SUM(C18)*140","v":0},{"$f":"SUM(C18)*2","v":0},"ZERO","ZERO",null,null,null,null,null,null,null,null,null,"ZERO","ZERO"]
["CRISPY CHICKEN BURGER",1700,0,0,null,0,{"$f":"SUM(C19)","v":0},"ZERO","ZERO","ZERO","ZERO","ZERO","ZERO","ZERO",{"$f":"SUM(C19)","v":0},"ZERO",{"$f":"SUM(C19)*1","v":0},"ZERO","ZERO","ZERO","ZERO","ZERO",{"$f":"SUM(C19)*70","v":0},"ZERO","ZERO","ZERO",null,null,null,null,null,null,null,null,null,"ZERO","ZERO"]
["SUYA BURGER BOX",5500,0,0,null,0,{"$f":"SUM(C20)*2","v":0},"ZERO","ZERO",{"$f":"SUM(C20)*4","v":0},{"$f":"SUM(C20)","v":0},{"$f":"SUM(C20)*4","v":0},"ZERO","ZERO",{"$f":"SUM(C20)","v":0},{"$f":"SUM(C20)","v":0},{"$f":"SUM(C20)","v":0},"ZERO","ZERO",null,{"$f":"SUM(C20)","v":0},"ZERO",0,{"$f":"SUM(C20)*2","v":0},{"$f":"SUM(C20)","v":0},"ZERO",{"$f":"SUM(C20)","v":0},null,null,null,null,null,null,null,null,"ZERO","ZERO"]
["CRISPY CHICKEN BURGER PLUS CHEESE",2100,0,0,null,0,{"$f":"SUM(C21)","v":0},"ZERO","ZERO","ZERO","ZERO","ZERO",{"$f":"SUM(C21)","v":0},"ZERO",{"$f":"SUM(C21)","v":0},"ZERO",0,"ZERO","ZERO","ZERO","ZERO","ZERO",0,"ZERO","ZERO","ZERO",null,null,null,null,null,null,null,null,null,"ZERO","ZERO"]
["SINGLE BEEF CHEESE BURGER ",2100,0,0,null,0,"ZERO","ZERO","ZERO","ZERO","ZERO","ZERO",{"$f":"SUM(C22)","v":0},"ZERO",{"$f":"SUM(C22)","v":0},"ZERO",0,"ZERO","ZERO","ZERO","ZERO",{"$f":"SUM(C22)","v":0},0,"ZERO","ZERO","ZERO",null,null,null,null,null,null,null,null,null,"ZERO","ZERO"]
["DOUBLE DECKER BEEF CHEESE BURGER",2800,0,0,null,0,"ZERO","ZERO","ZERO","ZERO","ZERO","ZERO",{"$f":"SUM(C23)*2","v":0},"ZERO","ZERO",{"$f":"SUM(C23)","v":0},0,"ZERO","ZERO","ZERO","ZERO",{"$f":"SUM(C23)*2","v":0},0,"ZERO","ZERO","ZERO",null,null,null,null,null,null,null,null,null,"ZERO","ZERO"]
["CHICKEN SUYA BURGER ",2200,0,0,null,0,{"$f":"SUM(C24)*2","v":0},"ZERO","ZERO","ZERO","ZERO","ZERO","ZERO","ZERO",{"$f":"SUM(C24)*1","v":0},"ZERO",0,"ZERO","ZERO","ZERO","ZERO","ZERO",0,"ZERO","ZERO","ZERO",null,null,null,null,null,null,null,null,null,"ZERO","ZERO"]
["CHICKEN SHAWARMA",1800,0,0,null,null,"ZERO",{"$f":"SUM(C25)","v":0},{"$f":"SUM(C25)","v":0},{"$f":"SUM(C25)*2","v":0},"ZERO","ZERO","ZERO","ZERO","ZERO","ZERO",0,{"$f":"SUM(C25)","v":0},"ZERO","ZERO","ZERO","ZERO",0,"ZERO","ZERO","ZERO",null,null,null,null,null,null,null,null,null,{"$f":"SUM(AD25)","v":0},{"$f":"SUM(AE25)","v":0}]
["BARBECUE BEEF SHAWARMA",2000,0,0,null,null,"ZERO",{"$f":"SUM(C26)","v":0},"ZERO",{"$f":"SUM(C26)*2","v":0},"ZERO","ZERO","ZERO","ZERO","ZERO","ZERO",0,0,"ZERO","ZERO","ZERO","ZERO",0,"ZERO","ZERO","ZERO",null,null,null,null,null,null,null,null,null,{"$f":"SUM(C26)","v":0},"ZERO"]
["BEEF SUYA SHAWARMA",2200,0,0,null,null,"ZERO",{"$f":"SUM(C27)","v":0},"ZERO",{"$f":"SUM(C27)*2","v":0},"ZERO","ZERO","ZERO","ZERO","ZERO","ZERO",0,0,"ZERO","ZERO","ZERO","ZERO",0,"ZERO","ZERO","ZERO",null,null,null,null,null,null,null,null,null,{"$f":"SUM(AD27)","v":0},{"$f":"SUM(C27)","v":0}]
["BEEF SUYA BURGER ",2200,0,0,null,{"$f":"SUM(C28)","v":0},"ZERO",null,"ZERO","ZERO","ZERO","ZERO","ZERO","ZERO",{"$f":"SUM(C28)","v":0},"ZERO",0,0,"ZERO","ZERO","ZERO","ZERO",0,"ZERO","ZERO","ZERO",null,null,null,null,null,null,null,null,null,{"$f":"SUM(AD28)","v":0},{"$f":"SUM(C28)","v":0}]
["CHICKEN SUYA SHAWARMA",2200,0,0,null,"ZERO",{"$f":"SUM(C29)*2","v":0},{"$f":"SUM(C29)","v":0},null,{"$f":"SUM(C29)*2","v":0},"ZERO","ZERO","ZERO","ZERO","ZERO","ZERO",0,0,"ZERO","ZERO","ZERO","ZERO",0,"ZERO","ZERO","ZERO"]
["CHESSY SHAWARMA",2500,0,0,null,"ZERO","ZERO",{"$f":"SUM(C30)","v":0},{"$f":"SUM(C30)","v":0},{"$f":"SUM(C30)*2","v":0},null,"ZERO",{"$f":"SUM(C30)*2","v":0},"ZERO","ZERO","ZERO",0,0,"ZERO","ZERO","ZERO","ZERO",{"$f":"SUM(C30)*140","v":0},"ZERO","ZERO","ZERO",null,null,null,null,null,null,null,null,null,{"$f":"SUM(AD30)","v":0},{"$f":"SUM(AE30)","v":0}]
["2 CHICKEN AND CHIPS",2300,0,0,null,"ZERO","ZERO","ZERO","ZERO","ZERO",{"$f":"SUM(C31)","v":0},{"$f":"SUM(C31)*2","v":0},"ZERO","ZERO","ZERO",{"$f":"SUM(C31)","v":0},"ZERO",0,"ZERO","ZERO","ZERO","ZERO","ZERO",{"$f":"SUM(C31)","v":0},"ZERO","ZERO",null,null,null,null,null,null,null,null,null,"ZERO","ZERO"]
["4 CHICKEN AND CHIPS",3500,0,0,null,"ZERO","ZERO","ZERO","ZERO","ZERO",{"$f":"SUM(C32)","v":0},{"$f":"SUM(C32)*4","v":0},"ZERO","ZERO","ZERO",{"$f":"SUM(C32)","v":0},"ZERO",0,"ZERO","ZERO","ZERO","ZERO","ZERO",{"$f":"SUM(C32)*2","v":0},"ZERO","ZERO","zero","zero","zero",null,null,null,null,null,null,"ZERO","ZERO"]
["SPICY CHICKEN ONLY",650,0,null,null,"ZERO","ZERO","ZERO","ZERO","ZERO","ZERO",{"$f":"SUM(C33)","v":0},"ZERO","ZERO","ZERO","ZERO","ZERO","ZERO","ZERO","ZERO","ZERO","ZERO","ZERO","ZERO",{"$f":"SUM(C33)","v":0},"ZERO",null,null,null,null,null,null,null,null,null,"ZERO","ZERO"]
["CRISPY CHICKEN ONLY",650,0,{"$f":"SUM(B34*C34)","v":0},null,"ZERO","ZERO","ZERO","ZERO","ZERO","ZERO",{"$f":"SUM(C34)","v":0},"ZERO","ZERO","ZERO","ZERO","ZERO","ZERO","ZERO","ZERO","ZERO","ZERO","ZERO","ZERO",{"$f":"SUM(C34)","v":0},"ZERO",null,null,null,null,null,null,null,null,null,"ZERO","ZERO"]
["POTATO FRIES",700,0,0,null,"ZERO","ZERO","ZERO","ZERO","ZERO",null,"ZERO","ZERO","ZERO","ZERO","ZERO","ZERO","ZERO","ZERO","ZERO","ZERO","ZERO","ZERO","ZERO","ZERO","ZERO",null,null,null,null,null,null,null,null,null,"ZERO","ZERO"]
["FRENCH FRIES ONLY",1000,0,0,null,"ZERO","ZERO","ZERO","ZERO","ZERO",{"$f":"SUM(C36)","v":0},"ZERO","ZERO","ZERO","ZERO","ZERO","ZERO","ZERO","ZERO","ZERO","ZERO","ZERO","ZERO","ZERO",{"$f":"SUM(C36)","v":0},"ZERO",null,null,null,null,null,null,null,null,null,"ZERO","ZERO"]
["SUGERCANNE JUICE",750,0,0,null,"ZERO","ZERO","ZERO","ZERO","ZERO","ZERO","ZERO","ZERO","ZERO","ZERO","ZERO","ZERO","ZERO","ZERO",{"$f":"SUM(C37)","v":0},"ZERO","ZERO","ZERO","ZERO","ZERO","ZERO",null,null,null,null,null,null,null,null,null,"ZERO","ZERO"]
["35 CL SOFT DRINK",200,0,0,null,"ZERO","ZERO","ZERO","ZERO","ZERO","ZERO","ZERO","ZERO","ZERO","ZERO","ZERO","ZERO","ZERO","ZERO","ZERO",{"$f":"SUM(C38)","v":0},"ZERO","ZERO","ZERO","ZERO","ZERO",null,null,null,null,null,null,null,null,null,"ZERO","ZERO"]
["PARFAIT",null,0,0,null,"ZERO","ZERO","ZERO","ZERO","ZERO","ZERO","ZERO","ZERO","ZERO","ZERO","ZERO","ZERO",{"$f":"SUM(C39)","v":0},{"$f":"SUM(C39)","v":0},"ZERO","ZERO","ZERO","ZERO","ZERO","ZERO","ZERO",null,null,null,null,null,null,null,null,null,"ZERO","ZERO"]
["MARINATED WINGS",500,0,0,null,"ZERO","ZERO","ZERO","ZERO","ZERO","ZERO",{"$f":"SUM(C40)","v":0},"ZERO","ZERO","ZERO","ZERO","ZERO","ZERO","ZERO","ZERO","ZERO","ZERO","ZERO","ZERO","ZERO","ZERO",null,null,null,null,null,null,null,null,null,"ZERO","ZERO"]
["CHEESE ",400,0,0,null,"ZERO","ZERO","ZERO","ZERO","ZERO","ZERO","ZERO",{"$f":"SUM(C41)","v":0},"ZERO","ZERO","ZERO","ZERO","ZERO","ZERO","ZERO","ZERO","ZERO","ZERO","ZERO","ZERO","ZERO",null,null,null,null,null,null,null,null,null,"ZERO","ZERO"]
["SAUSAGE",200,0,0,null,null,null,null,null,null,"ZERO"]
["BACON",400,0,0,null,"ZERO","ZERO","ZERO","ZERO","ZERO","ZERO","ZERO","ZERO",{"$f":"SUM(C43)","v":0},"ZERO","ZERO","ZERO","ZERO","ZERO","ZERO","ZERO","ZERO","ZERO","ZERO","ZERO","ZERO",null,null,null,null,null,null,null,null,null,"ZERO","ZERO"]
["FRIENDY BURGER MEAL (WITH SOFT DRINK)",10200,0,0,null,{"$f":"SUM(C44)*2","v":0},{"$f":"SUM(C44)*2","v":0},{"$f":"SUM(C44)*2","v":0},{"$f":"SUM(C44)*2","v":0},{"$f":"SUM(C44)*2","v":0},{"$f":"SUM(C44)*2","v":0},{"$f":"SUM(C44)*2*2","v":0},"ZERO","ZERO",{"$f":"SUM(C44)*1*2","v":0},{"$f":"SUM(C44)*2","v":0},{"$f":"SUM(C44)*2*2","v":0},{"$f":"SUM(C44)*2","v":0},null,"ZERO",{"$f":"SUM(C44)*2","v":0},null,{"$f":"SUM(C44)*140*2","v":0},{"$f":"SUM(C44)*2","v":0},{"$f":"SUM(C44)*2","v":0},"ZERO",null,null,null,null,null,null,null,null,null,{"$f":"SUM(AD44)*2","v":0},{"$f":"SUM(AE44)*2","v":0}]
["FRIENDY BURGER MEAL (WITH SUGARCANE JUICE)",10600,0,0,null,{"$f":"SUM(C45)*2","v":0},{"$f":"SUM(C45)*2","v":0},{"$f":"SUM(C45)*2","v":0},{"$f":"SUM(C45)*2","v":0},{"$f":"SUM(C45)*2","v":0},{"$f":"SUM(C45)*2","v":0},{"$f":"SUM(C45)*2*2","v":0},"ZERO","ZERO",{"$f":"SUM(C45)*1*2","v":0},{"$f":"SUM(C45)*2","v":0},{"$f":"SUM(C45)*2*2","v":0},{"$f":"SUM(C45)*2","v":0},null,{"$f":"SUM(C45)*2","v":0},"ZERO",null,{"$f":"SUM(C45)*140*2","v":0},{"$f":"SUM(C45)*2","v":0},{"$f":"SUM(C45)*2","v":0},"ZERO",null,null,null,null,null,null,null,null,null,{"$f":"SUM(AD45)*2","v":0},{"$f":"SUM(AE45)*2","v":0}]
["SHAWARMA  SUB",1800,0,0,null,null,"ZERO","ZERO",{"$f":"SUM(C46)","v":0},{"$f":"SUM(C46)*2","v":0},"ZERO","ZERO","ZERO","ZERO",{"$f":"SUM(C46)*1","v":0},"ZERO",{"$f":"SUM(C46)","v":0},"ZERO","ZERO","ZERO","ZERO","ZERO",{"$f":"SUM(C46)*70","v":0},"ZERO","ZERO","ZERO",null,null,null,{"$f":"SUM(C46)","v":0},null,null,null,null,null,{"$f":"SUM(AD46)","v":0},{"$f":"SUM(AE46)","v":0}]
["DELISH PACK 1",5300,0,0,null,{"$f":"SUM(C47)","v":0},{"$f":"SUM(C47)","v":0},"ZERO",{"$f":"SUM(C47)","v":0},{"$f":"SUM(C47)*2","v":0},"ZERO",{"$f":"SUM(C47)*4","v":0},"ZERO","ZERO",{"$f":"SUM(C47)*1","v":0},{"$f":"SUM(C47)*1","v":0},{"$f":"SUM(C47)*2","v":0},{"$f":"SUM(C47)","v":0},"ZERO","ZERO","ZERO","ZERO",{"$f":"SUM(C47)*70","v":0},"ZERO","ZERO","ZERO",null,null,null,{"$f":"SUM(C47)","v":0},{"$f":"SUM(C47)*1","v":0},null,null,null,null,{"$f":"SUM(AD47)","v":0},{"$f":"SUM(AE47)","v":0}]
["FAMILY BURGER MEAL (WITH SOFT DRINK)",19800,0,0,null,{"$f":"SUM(C48)*4","v":0},{"$f":"SUM(C48)*4","v":0},{"$f":"SUM(C48)*4","v":0},{"$f":"SUM(C48)*4","v":0},{"$f":"SUM(C48)*4","v":0},{"$f":"SUM(C48)*4","v":0},{"$f":"SUM(C48)*2*4","v":0},"ZERO","ZERO",{"$f":"SUM(C48)*1*4","v":0},{"$f":"SUM(C48)*4","v":0},{"$f":"SUM(C48)*2*4","v":0},{"$f":"SUM(C48)*4","v":0},null,"ZERO",{"$f":"SUM(C48)*4","v":0},null,{"$f":"SUM(C48)*140*4","v":0},{"$f":"SUM(C48)*4","v":0},{"$f":"SUM(C48)*4","v":0},"ZERO",null,null,null,null,null,null,null,null,null,{"$f":"SUM(AD48)*4","v":0},{"$f":"SUM(AE48)*4","v":0}]
["FAMILY BURGER MEAL (WITH SUGARCANE JUICE)",20800,0,0,null,{"$f":"SUM(C49)*4","v":0},{"$f":"SUM(C49)*4","v":0},{"$f":"SUM(C49)*4","v":0},{"$f":"SUM(C49)*4","v":0},{"$f":"SUM(C49)*4","v":0},{"$f":"SUM(C49)*4","v":0},{"$f":"SUM(C49)*2*4","v":0},"ZERO","ZERO",{"$f":"SUM(C49)*1*4","v":0},{"$f":"SUM(C49)*4","v":0},{"$f":"SUM(C49)*2*4","v":0},{"$f":"SUM(C49)*4","v":0},null,{"$f":"SUM(C49)*4","v":0},"ZERO",null,{"$f":"SUM(C49)*140*4","v":0},{"$f":"SUM(C49)*4","v":0},{"$f":"SUM(C49)*4","v":0},"ZERO",null,null,null,null,null,null,null,null,null,{"$f":"SUM(AD49)*4","v":0},{"$f":"SUM(AE49)*4","v":0}]
["CAN COKE/FANTA ONLY",null,0,0,null,"ZERO","ZERO","ZERO","ZERO","ZERO","ZERO","ZERO","ZERO","ZERO","ZERO","ZERO","ZERO","ZERO","ZERO","ZERO","ZERO","ZERO","ZERO","ZERO","ZERO","ZERO",null,null,null,null,{"$f":"SUM(C50)","v":0},null,null,null,null,"ZERO","ZERO"]
["SUPA KOMMANDO ONLY",250,0,0,null,"ZERO","ZERO","ZERO","ZERO","ZERO","ZERO","ZERO","ZERO","ZERO","ZERO","ZERO","ZERO","ZERO","ZERO","ZERO","ZERO","ZERO","ZERO","ZERO","ZERO","ZERO",null,null,{"$f":"SUM(C51)","v":0},null,"ZERO","ZERO",null,null,null,"ZERO","ZERO"]
["10X Chicken Nuggets ",2400,0,0,null,null,null,null,null,null,"ZERO",null,null,null,null,{"$f":"SUM(C52)","v":0},null,{"$f":"SUM(C52)","v":0},null,null,null,null,null,{"$f":"SUM(C52)","v":0},null,null,null,null,null,null,{"$f":"SUM(C52)","v":0},{"$f":"SUM(C52)*10","v":0}]
["20X Chicken Nuggets ",4800,0,0,null,null,null,null,null,null,"ZERO ",null,null,null,null,{"$f":"SUM(C53)","v":0},null,{"$f":"SUM(C53)","v":0},null,null,null,null,null,{"$f":"SUM(C53)","v":0},null,null,null,null,null,null,{"$f":"SUM(C53)","v":0},{"$f":"SUM(C53)*20","v":0}]
["10 CHICKEN NUGGETS & FRIES BOX",3300,0,0,null,null,null,null,null,null,{"$f":"SUM(C54)","v":0},null,null,null,null,{"$f":"SUM(C54)","v":0},null,{"$f":"SUM(C54)","v":0},null,null,null,null,null,{"$f":"SUM(C54)","v":0},null,null,null,null,null,null,{"$f":"SUM(C54)","v":0},{"$f":"SUM(C54)*10","v":0}]
["20 CHICKEN NUGGETS & FRIES BOX",6600,0,0,null,null,null,null,null,null,{"$f":"SUM(C55)","v":0},null,null,null,null,{"$f":"SUM(C55)","v":0},null,{"$f":"SUM(C55)","v":0},null,null,null,null,null,{"$f":"SUM(C55)","v":0},null,null,null,null,null,null,{"$f":"SUM(C55)","v":0},{"$f":"SUM(C55)*20","v":0}]
["PRAWN BURGER ",3000,0,0,null,{"$f":"SUM(C56)","v":0},"ZERO","ZERO","ZERO","ZERO","ZERO","ZERO",{"$f":"SUM(C56)","v":0},"ZERO",{"$f":"SUM(C56)","v":0},"ZERO",{"$f":"SUM(C56)","v":0},"ZERO","ZERO","ZERO","ZERO","ZERO",{"$f":"SUM(C56)*70","v":0},"ZERO","ZERO","ZERO",null,null,null,null,null,null,{"$f":"SUM(C56)*2","v":0},null,null,"ZERO","ZERO"]
[" FUNMMY NUGGETS  BOX",5300,0,0,null,{"$f":"SUM(C57)","v":0},{"$f":"SUM(C57)","v":0},null,null,null,{"$f":"SUM(C57)","v":0},null,{"$f":"SUM(C57)","v":0},null,{"$f":"SUM(C57)","v":0},{"$f":"SUM(C57)","v":0},null,{"$f":"SUM(C57)","v":0},null,null,null,null,null,{"$f":"SUM(C57)","v":0},null,null,null,null,null,null,{"$f":"SUM(C57)","v":0},{"$f":"SUM(C57)*10","v":0}]
["FARM PRIDE 50 CL",500,0,0,null,"ZERO","ZERO","ZERO","ZERO","ZERO","ZERO","ZERO","ZERO","ZERO","ZERO","ZERO","ZERO","ZERO","ZERO","ZERO","ZERO","ZERO","ZERO","ZERO","ZERO","ZERO",null,null,null,null,null,null,null,{"$f":"SUM(C58)","v":0},null,"ZERO","ZERO"]
["FARM PRIDE 1 LITRE",800,0,0,null,"ZERO","ZERO","ZERO","ZERO","ZERO","ZERO","ZERO","ZERO","ZERO","ZERO","ZERO","ZERO","ZERO","ZERO","ZERO","ZERO","ZERO","ZERO","ZERO","ZERO","ZERO",null,null,null,null,null,null,null,"ZERO",{"$f":"SUM(C59)","v":0},"ZERO","ZERO"]
["GRILLED CHICKEN BURGER",1700,0,{"$f":"SUM(B60*C60)","v":0},null,{"$f":"SUM(C60)","v":0},{"$f":"SUM(C60)","v":0},"ZERO","ZERO","ZERO","ZERO","ZERO","ZERO","ZERO",{"$f":"SUM(C60)","v":0},"ZERO",{"$f":"SUM(C60)*1","v":0},"ZERO","ZERO","ZERO","ZERO","ZERO",{"$f":"SUM(C60)*70","v":0},"ZERO","ZERO","ZERO",null,null,null,null,null,null,null,null,null,"ZERO","ZERO"]
["GRILLED CHICKEN BURGER + JUICE",2200,0,{"$f":"SUM(B61*C61)","v":0},null,{"$f":"SUM(C61)","v":0},{"$f":"SUM(C61)","v":0},"ZERO","ZERO","ZERO","ZERO","ZERO","ZERO","ZERO",{"$f":"SUM(C61)","v":0},"ZERO",{"$f":"SUM(C61)*1","v":0},"ZERO","ZERO","ZERO","ZERO","ZERO",{"$f":"SUM(C61)*70","v":0},"ZERO","ZERO","ZERO",null,null,null,null,null,null,null,{"$f":"SUM(C61)","v":0},null,"ZERO","ZERO"]
["GRILLED BURGER MEAL 1 & 3",4000,0,{"$f":"SUM(B62*C62)","v":0},null,{"$f":"SUM(C62)","v":0},{"$f":"SUM(C62)","v":0},"ZERO","ZERO","ZERO",{"$f":"SUM(C62)","v":0},{"$f":"SUM(C62)*2","v":0},"ZERO","ZERO","ZERO",{"$f":"SUM(C62)","v":0},{"$f":"SUM(C62)","v":0},{"$f":"SUM(C62)","v":0},"ZERO","ZERO","ZERO","ZERO",{"$f":"SUM(C62)*70","v":0},{"$f":"SUM(C62)","v":0},"ZERO","ZERO",null,null,null,null,null,null,null,{"$f":"SUM(C62)","v":0},null,"ZERO","ZERO"]
["GRILLED BURGER MEAL 2",3700,0,{"$f":"SUM(B63*C63)","v":0},null,{"$f":"SUM(C63)","v":0},{"$f":"SUM(C63)","v":0},"ZERO","ZERO","ZERO",{"$f":"SUM(C63)","v":0},{"$f":"SUM(C63)*2","v":0},"ZERO","ZERO","ZERO",{"$f":"SUM(C63)","v":0},{"$f":"SUM(C63)","v":0},{"$f":"SUM(C63)","v":0},"ZERO","ZERO",{"$f":"SUM(C63)","v":0},"ZERO",{"$f":"SUM(C63)*70","v":0},{"$f":"SUM(C63)","v":0},"ZERO","ZERO",null,null,null,null,null,null,null,"ZERO",null,"ZERO","ZERO"]
["MASTERPIECE BURGER ",5000,0,{"$f":"SUM(B64*C64)","v":0},null,{"$f":"SUM(C64)","v":0},"ZERO","ZERO","ZERO","ZERO","ZERO","ZERO",{"$f":"SUM(C64)","v":0},"ZERO","ZERO",{"$f":"SUM(C64)","v":0},{"$f":"SUM(C64)","v":0},"ZERO","ZERO","ZERO",{"$f":"SUM(C64)","v":0},{"$f":"SUM(C64)","v":0},{"$f":"SUM(C64)*70","v":0},"ZERO","ZERO","ZERO",null,null,null,null,null,null,null,null,null,"ZERO",{"$f":"SUM(C64)","v":0}]
["SUYA BURGER BOX 2 (WITH BEEF SUYA BURGER)",6000,0,0,null,0,"ZERO ","ZERO","ZERO",0,0,0,"ZERO","ZERO",0,0,0,"ZERO","ZERO",null,0,"ZERO",0,0,0,"ZERO",0,null,null,null,null,null,null,null,null,"ZERO",0]
["OPENING STOCK",null,null,null,null,{"$f":"SUM('Production DAY 5'!C2)","v":0},{"$f":"SUM('Production DAY 5'!C3)","v":0},{"$f":"SUM('Production DAY 5'!C4)","v":0},{"$f":"SUM('Production DAY 5'!C5)","v":0},{"$f":"SUM('Production DAY 5'!C6)","v":0},{"$f":"SUM('Production DAY 5'!C7)","v":0},{"$f":"SUM('Production DAY 5'!C8)","v":0},{"$f":"SUM('Production DAY 5'!C9)","v":0},{"$f":"SUM('Production DAY 5'!C10)","v":0},{"$f":"SUM('Production DAY 5'!C11)","v":0},{"$f":"SUM('Production DAY 5'!C12)","v":0},{"$f":"SUM('Production DAY 5'!C13)","v":0},{"$f":"SUM('Production DAY 5'!C14)","v":0},{"$f":"SUM('Production DAY 5'!C15)","v":0},{"$f":"SUM('Production DAY 5'!C16)","v":0},{"$f":"SUM('Production DAY 5'!C17)","v":0},{"$f":"SUM('Production DAY 5'!C18)","v":0},{"$f":"SUM('Production DAY 5'!C19)","v":0},{"$f":"SUM('Production DAY 5'!C20)","v":0},{"$f":"SUM('Production DAY 5'!C21)","v":0},{"$f":"SUM('Production DAY 5'!C22)","v":0},{"$f":"SUM('Production DAY 5'!C23)","v":0},{"$f":"SUM('Production DAY 5'!C24)","v":0},{"$f":"SUM('Production DAY 5'!C25)","v":0},{"$f":"SUM('Production DAY 5'!C26)","v":0},{"$f":"SUM('Production DAY 5'!C27)","v":0},{"$f":"SUM('Production DAY 5'!C28)","v":0},{"$f":"SUM('Production DAY 5'!C29)","v":0},{"$f":"SUM('Production DAY 5'!C30)","v":0},{"$f":"SUM('Production DAY 5'!C31)","v":0},{"$f":"SUM('Production DAY 5'!C32)","v":0},{"$f":"SUM('Production DAY 5'!C33)","v":0},{"$f":"SUM('Production DAY 5'!C34)","v":0},{"$f":"SUM('Production DAY 5'!C35)","v":0},{"$f":"SUM('Production DAY 5'!C36)","v":0},{"$f":"SUM('Production DAY 5'!C37)","v":0},{"$f":"SUM('Production DAY 5'!C38)","v":0},{"$f":"SUM('Production DAY 5'!C39)","v":0},{"$f":"SUM('Production DAY 5'!C40)","v":0},{"$f":"SUM('Production DAY 5'!C41)","v":0},{"$f":"SUM('Production DAY 5'!C42)","v":0},{"$f":"SUM('Production DAY 5'!C43)","v":0}]
["RECEIVED",null,null,null,null,{"$f":"SUM('Production DAY 5'!D2)","v":0},{"$f":"SUM('Production DAY 5'!D3)","v":0},{"$f":"SUM('Production DAY 5'!D4)","v":0},{"$f":"SUM('Production DAY 5'!D5)","v":0},{"$f":"SUM('Production DAY 5'!D6)","v":0},{"$f":"SUM('Production DAY 5'!D7)","v":0},{"$f":"SUM('Production DAY 5'!D8)","v":0},{"$f":"SUM('Production DAY 5'!D9)","v":0},{"$f":"SUM('Production DAY 5'!D10)","v":0},{"$f":"SUM('Production DAY 5'!D11)","v":0},{"$f":"SUM('Production DAY 5'!D12)","v":0},{"$f":"SUM('Production DAY 5'!D13)","v":0},{"$f":"SUM('Production DAY 5'!D14)","v":0},{"$f":"SUM('Production DAY 5'!D15)","v":0},{"$f":"SUM('Production DAY 5'!D16)","v":0},{"$f":"SUM('Production DAY 5'!D17)","v":0},{"$f":"SUM('Production DAY 5'!D18)","v":0},{"$f":"SUM('Production DAY 5'!D19)","v":0},{"$f":"SUM('Production DAY 5'!D20)","v":0},{"$f":"SUM('Production DAY 5'!D21)","v":0},{"$f":"SUM('Production DAY 5'!D22)","v":0},{"$f":"SUM('Production DAY 5'!D23)","v":0},{"$f":"SUM('Production DAY 5'!D24)","v":0},{"$f":"SUM('Production DAY 5'!D25)","v":0},{"$f":"SUM('Production DAY 5'!D26)","v":0},{"$f":"SUM('Production DAY 5'!D27)","v":0},{"$f":"SUM('Production DAY 5'!D28)","v":0},{"$f":"SUM('Production DAY 5'!D29)","v":0},{"$f":"SUM('Production DAY 5'!D30)","v":0},{"$f":"SUM('Production DAY 5'!D31)","v":0},{"$f":"SUM('Production DAY 5'!D32)","v":0},{"$f":"SUM('Production DAY 5'!D33)","v":0},{"$f":"SUM('Production DAY 5'!D34)","v":0},{"$f":"SUM('Production DAY 5'!D35)","v":0},{"$f":"SUM('Production DAY 5'!D36)","v":0},{"$f":"SUM('Production DAY 5'!D37)","v":0},{"$f":"SUM('Production DAY 5'!D38)","v":0},{"$f":"SUM('Production DAY 5'!D39)","v":0},{"$f":"SUM('Production DAY 5'!D40)","v":0},{"$f":"SUM('Production DAY 5'!D41)","v":0},{"$f":"SUM('Production DAY 5'!D42)","v":0},{"$f":"SUM('Production DAY 5'!D43)","v":0}]
["TOTAL STOCK",null,null,null,null,{"$f":"SUM(F66:F67)","v":0},{"$f":"SUM(G66:G67)","v":0},{"$f":"SUM(H66:H67)","v":0},{"$f":"SUM(I66:I67)","v":0},0,0,0,0,0,0,{"$f":"SUM(P66:P67)","v":0},0,0,0,0,0,0,0,0,0,0,0,0,0,0,0,0,0,0,0,0,0,0,0,0,0,0,0,0,0,0,0]
["USED",null,null,{"$f":"SUM(D3:D65)","v":0},null,{"$f":"SUM(F3:F65)","v":0},0,0,0,0,0,0,0,0,0,0,0,0,0,0,0,0,0,0,0,0,0,0,0,0,0,0,0,0,0,0,0,{"$f":"SUM(AL3:AL64)","v":0},0,0,0,0,0,0,0,0,0]
["CLOSING STOCK",null,null,null,null,{"$f":"SUM(F68-F69)","v":0},0,0,0,0,0,0,0,0,0,0,0,0,0,0,0,0,0,0,0,0,0,0,0,0,0,0,0,{"$f":"SUM(AH66-AH69)","v":0},{"$f":"SUM(AI68-AI69)","v":0},0,0,0,0,0,0,0,0,0,0,0,0]

{"sheet":"Production DAY 6","index":10,"n_rows":44,"n_cols":8,"rows_kept":44,"cut":false,"hidden":false,"merged":[]}
["Nos#","ITEMS"," < OPENING STOCK","RECEIVED","USED >","SALES CLOSING STOCK >","PHYSICAL STOCK COUNT","COMMENTS"]
[1,"Burger Bread",{"$f":"SUM('Production DAY 5'!G2)","v":0},null,{"$f":"SUM('DAY 6'!F69)","v":0},{"$f":"SUM('DAY 6'!F70)","v":0},0,{"$f":"IF(G2=F2,TRUE,FALSE)","v":true}]
[2,"Chicken Patty",{"$f":"SUM('Production DAY 5'!G3)","v":0},null,{"$f":"SUM('DAY 6'!G69)","v":0},{"$f":"SUM('DAY 6'!G70)","v":0},0,true]
[3,"Shawarma Bread",{"$f":"SUM('Production DAY 5'!G4)","v":0},null,{"$f":"SUM('DAY 6'!H69)","v":0},{"$f":"SUM('DAY 6'!H70)","v":0},0,true]
[4,"Chicken Portion or Shawarma portion",{"$f":"SUM('Production DAY 5'!G5)","v":0},null,{"$f":"SUM('DAY 6'!I69)","v":0},{"$f":"SUM('DAY 6'!I70)","v":0},0,true]
[5,"Sausage",{"$f":"SUM('Production DAY 5'!G6)","v":0},null,{"$f":"SUM('DAY 6'!J69)","v":0},{"$f":"SUM('DAY 6'!J70)","v":0},0,true]
[6,"Portion of Fries",{"$f":"SUM('Production DAY 5'!G7)","v":0},null,{"$f":"SUM('DAY 6'!K69)","v":0},{"$f":"SUM('DAY 6'!K70)","v":0},0,true]
[7,"Pieces of Chicken",{"$f":"SUM('Production DAY 5'!G8)","v":0},null,{"$f":"SUM('DAY 6'!L69)","v":0},{"$f":"SUM('DAY 6'!L70)","v":0},0,true]
[8,"Cheese",{"$f":"SUM('Production DAY 5'!G9)","v":0},null,{"$f":"SUM('DAY 6'!M69)","v":0},{"$f":"SUM('DAY 6'!M70)","v":0},0,true]
[9,"Bacon",{"$f":"SUM('Production DAY 5'!G10)","v":0},null,{"$f":"SUM('DAY 6'!N69)","v":0},{"$f":"SUM('DAY 6'!N70)","v":0},0,true]
[10,"A Paper Bag",{"$f":"SUM('Production DAY 5'!G11)","v":0},null,{"$f":"SUM('DAY 6'!O69)","v":0},{"$f":"SUM('DAY 6'!O70)","v":0},0,true]
[11,"Achicken Box",{"$f":"SUM('Production DAY 5'!G12)","v":0},null,{"$f":"SUM('DAY 6'!P69)","v":0},{"$f":"SUM('DAY 6'!P70)","v":0},0,true]
[12,"Paper Wrap",{"$f":"SUM('Production DAY 5'!G13)","v":0},null,{"$f":"SUM('DAY 6'!Q69)","v":0},{"$f":"SUM('DAY 6'!Q70)","v":0},0,true]
[13,"A Branded Nylon",{"$f":"SUM('Production DAY 5'!G14)","v":0},null,{"$f":"SUM('DAY 6'!R69)","v":0},{"$f":"SUM('DAY 6'!R70)","v":0},0,true]
[14,"Parfait",{"$f":"SUM('Production DAY 5'!G15)","v":0},null,{"$f":"SUM('DAY 6'!S69)","v":0},{"$f":"SUM('DAY 6'!S70)","v":0},0,true]
[15,"A Bottle of SUGAR Juice",{"$f":"SUM('Production DAY 5'!G16)","v":0},null,{"$f":"SUM('DAY 6'!T69)","v":0},{"$f":"SUM('DAY 6'!T70)","v":0},0,true]
[16,"35 CL Soft Drink",{"$f":"SUM('Production DAY 5'!G17)","v":0},null,{"$f":"SUM('DAY 6'!U69)","v":0},{"$f":"SUM('DAY 6'!U70)","v":0},0,true]
[17,"Beef Patty",{"$f":"SUM('Production DAY 5'!G18)","v":0},null,{"$f":"SUM('DAY 6'!V69)","v":0},{"$f":"SUM('DAY 6'!V70)","v":0},0,true]
[18,"Cream in GRAMS",{"$f":"SUM('Production DAY 5'!G19)","v":0},null,{"$f":"SUM('DAY 6'!W69)","v":0},{"$f":"SUM('DAY 6'!W70)","v":0},0,true]
[19,"KETCHUP",{"$f":"SUM('Production DAY 5'!G20)","v":0},null,{"$f":"SUM('DAY 6'!X69)","v":0},{"$f":"SUM('DAY 6'!X70)","v":0},0,true]
[20,"plain Nylon",{"$f":"SUM('Production DAY 5'!G21)","v":0},null,{"$f":"SUM('DAY 6'!Y69)","v":0},{"$f":"SUM('DAY 6'!Y70)","v":0},0,true]
[21,"Barbeque Sauce",{"$f":"SUM('Production DAY 5'!G22)","v":0},null,{"$f":"SUM('DAY 6'!Z69)","v":0},{"$f":"SUM('DAY 6'!Z70)","v":0},0,true]
[22,"Meal Box",{"$f":"SUM('Production DAY 5'!G23)","v":0},null,{"$f":"SUM('DAY 6'!AA69)","v":0},{"$f":"SUM('DAY 6'!AA70)","v":0},0,true]
[23,"COCONUT BREAD",{"$f":"SUM('Production DAY 5'!G24)","v":0},null,{"$f":"SUM('DAY 6'!AB69)","v":0},{"$f":"SUM('DAY 6'!AB70)","v":0},0,true]
[24,"SUPA KOMMANDO",{"$f":"SUM('Production DAY 5'!G25)","v":0},null,{"$f":"SUM('DAY 6'!AC69)","v":0},{"$f":"SUM('DAY 6'!AC70)","v":0},0,true]
[25,"SHAWARMA SUB",{"$f":"SUM('Production DAY 5'!G26)","v":0},null,{"$f":"SUM('DAY 6'!AD69)","v":0},{"$f":"SUM('DAY 6'!AD70)","v":0},0,true]
[26,"CAN COKE / FANTA",{"$f":"SUM('Production DAY 5'!G27)","v":0},null,{"$f":"SUM('DAY 6'!AE69)","v":0},{"$f":"SUM('DAY 6'!AE70)","v":0},0,true]
[27,"NUGGETS ",{"$f":"SUM('Production DAY 5'!G28)","v":0},null,{"$f":"SUM('DAY 6'!AF69)","v":0},{"$f":"SUM('DAY 6'!AF70)","v":0},0,true]
[28,"PRAWN",{"$f":"SUM('Production DAY 5'!G29)","v":0},null,{"$f":"SUM('DAY 6'!AG69)","v":0},{"$f":"SUM('DAY 6'!AG70)","v":0},0,true]
[29,"FARM PRIDE",{"$f":"SUM('Production DAY 5'!G30)","v":0},null,{"$f":"SUM('DAY 6'!AH69)","v":0},{"$f":"SUM('DAY 6'!AH70)","v":0},0,true]
[30,"50CL OR PULPY",{"$f":"SUM('Production DAY 5'!G31)","v":0},null,{"$f":"SUM('DAY 6'!AI69)","v":0},{"$f":"SUM('DAY 6'!AI70)","v":0},0,true]
[31,"FARM PRIDE 1 LT",{"$f":"SUM('Production DAY 5'!G32)","v":0},null,{"$f":"SUM('DAY 6'!AJ69)","v":0},{"$f":"SUM('DAY 6'!AJ70)","v":0},0,true]
[32,"BEEF PORTION FOR SHAWARMA",{"$f":"SUM('Production DAY 5'!G33)","v":0},null,{"$f":"SUM('DAY 6'!AK69)","v":0},{"$f":"SUM('DAY 6'!AK70)","v":0},0,true]
[33,"BEEF SUYA STICK",{"$f":"SUM('Production DAY 5'!G34)","v":0},null,{"$f":"SUM('DAY 6'!AL69)","v":0},{"$f":"SUM('DAY 6'!AL70)","v":0},0,true]
[34,"EMPTY 1",{"$f":"SUM('Production DAY 5'!G35)","v":0},null,{"$f":"SUM('DAY 6'!AM69)","v":0},{"$f":"SUM('DAY 6'!AM70)","v":0},0,true]
[35,"EMPTY 2",{"$f":"SUM('Production DAY 5'!G36)","v":0},null,{"$f":"SUM('DAY 6'!AN69)","v":0},{"$f":"SUM('DAY 6'!AN70)","v":0},0,true]
[36,"EMPTY 3",{"$f":"SUM('Production DAY 5'!G37)","v":0},null,{"$f":"SUM('DAY 6'!AO69)","v":0},{"$f":"SUM('DAY 6'!AO70)","v":0},0,true]
[37,"EMPTY 4",{"$f":"SUM('Production DAY 5'!G38)","v":0},null,{"$f":"SUM('DAY 6'!AP69)","v":0},{"$f":"SUM('DAY 6'!AP70)","v":0},0,true]
[38,"EMPTY 5",{"$f":"SUM('Production DAY 5'!G39)","v":0},null,{"$f":"SUM('DAY 6'!AQ69)","v":0},{"$f":"SUM('DAY 6'!AQ70)","v":0},0,true]
[39,"EMPTY 6",{"$f":"SUM('Production DAY 5'!G40)","v":0},null,{"$f":"SUM('DAY 6'!AR69)","v":0},{"$f":"SUM('DAY 6'!AR70)","v":0},0,true]
[40,"EMPTY 7",{"$f":"SUM('Production DAY 5'!G41)","v":0},null,{"$f":"SUM('DAY 6'!AS69)","v":0},{"$f":"SUM('DAY 6'!AS70)","v":0},0,true]
[41,"EMPTY 8",{"$f":"SUM('Production DAY 5'!G42)","v":0},null,{"$f":"SUM('DAY 6'!AT69)","v":0},{"$f":"SUM('DAY 6'!AT70)","v":0},0,true]
[42,"EMPTY 9",{"$f":"SUM('Production DAY 5'!G43)","v":0},null,{"$f":"SUM('DAY 6'!AU69)","v":0},{"$f":"SUM('DAY 6'!AU70)","v":0},0,true]
[43,"EMPTY 10",{"$f":"SUM('Production DAY 5'!G44)","v":0},null,{"$f":"SUM('DAY 6'!AV69)","v":0},{"$f":"SUM('DAY 6'!AV70)","v":0},0,true]

{"sheet":"DAY 6","index":11,"n_rows":70,"n_cols":47,"rows_kept":70,"cut":false,"hidden":false,"merged":[[0,7,0,28]]}
["FEBRUARY 12th, 2022",null,null,{"$f":"SUM(D3:D50)","v":0},null,null,null,"BURGER PALACE INVENTORY RECORDS"]
["ITEM","AMOUNT","QUANTITY","TOTAL",null,"Burger Bread","Chicken Patty","Shawarma Bread","Chicken Portion or Shawarma portion","Sausage","Portion of Fries","Pieces of Chicken","Cheese","Bacon","A Paper Bag","Achicken Box","Paper Wrap","A Branded Nylon","Parfait","A Bottle of SUGAR Juice","35 CL Soft Drink","Beef Patty","Cream in GRAMS","KETCHUP","plain Nylon","Barbeque Sauce","Meal Box","COCONUT BREAD ","SUPA KOMMANDO ","SHAWARMA SUB","CAN COKE / FANTA","NUGGETS","PRAWN","FARM PRIDE 50CL OR PULPY","FARM PRIDE 1 LT","BEEF PORTION FOR SHAWARMA ","BEEF SUYA STICK","EMPTY 1","EMPTY 2","EMPTY 3","EMPTY 4","EMPTY 5","EMPTY 6","EMPTY 7","EMPTY 8","EMPTY 9","EMPTY 10"]
["DELUXE BURGER MEAL (WITH SOFT DRINK)",5400,0,{"$f":"SUM(B3*C3)","v":0},null,{"$f":"SUM(C3)","v":0},{"$f":"SUM(C3)","v":0},{"$f":"SUM(C3)","v":0},{"$f":"SUM(C3)","v":0},{"$f":"SUM(C3)","v":0},{"$f":"SUM(C3)","v":0},{"$f":"SUM(C3)*2","v":0},"ZERO","ZERO",{"$f":"SUM(C3)*1","v":0},{"$f":"SUM(C3)","v":0},{"$f":"SUM(C3)*2","v":0},{"$f":"SUM(C3)","v":0},null,"ZERO",{"$f":"SUM(C3)","v":0},null,{"$f":"SUM(C3)*140","v":0},{"$f":"SUM(C3)","v":0},{"$f":"SUM(C3)","v":0},"ZERO",null,null,null,null,null,null,null,null,null,{"$f":"SUM(AD3)","v":0},0]
["DELUXE BURGER MEAL (WITH SUGARCANE JUICE)",5600,0,{"$f":"SUM(B4*C4)","v":0},null,{"$f":"SUM(C4)","v":0},{"$f":"SUM(C4)","v":0},{"$f":"SUM(C4)","v":0},{"$f":"SUM(C4)","v":0},{"$f":"SUM(C4)","v":0},0,{"$f":"SUM(C4)*2","v":0},"ZERO","ZERO",{"$f":"SUM(C4)*1","v":0},0,{"$f":"SUM(C4)*2","v":0},0,null,{"$f":"SUM(C4)","v":0},"ZERO",null,{"$f":"SUM(C4)*140","v":0},{"$f":"SUM(C4)","v":0},0,"ZERO",null,null,null,null,null,null,null,null,null,0,0]
["DELUXE MEAL EXTRA (WITH Soft Drink)",null,0,{"$f":"SUM(B5*C5)","v":0},null,{"$f":"SUM(C5)","v":0},{"$f":"SUM(C5)","v":0},{"$f":"SUM(C5)","v":0},{"$f":"SUM(C5)","v":0},{"$f":"SUM(C5)","v":0},0,{"$f":"SUM(C5)*2","v":0},"ZERO","ZERO",{"$f":"SUM(C5)","v":0},0,{"$f":"SUM(C5)*2","v":0},0,{"$f":"SUM(C5)","v":0},"ZERO",{"$f":"SUM(C5)","v":0},null,{"$f":"SUM(C5)*140","v":0},{"$f":"SUM(C5)","v":0},0,"ZERO",null,null,null,null,null,null,null,null,null,0,0]
["DELUXE BURGER MEAL Extra (With Sugarcane juice",null,0,{"$f":"SUM(B6*C6)","v":0},null,{"$f":"SUM(C6)","v":0},{"$f":"SUM(C6)","v":0},{"$f":"SUM(C6)","v":0},{"$f":"SUM(C6)","v":0},{"$f":"SUM(C6)","v":0},0,{"$f":"SUM(C6)*2","v":0},"ZERO","ZERO",{"$f":"SUM(C6)","v":0},0,{"$f":"SUM(C6)*2","v":0},0,{"$f":"SUM(C6)","v":0},{"$f":"SUM(C6)","v":0},"ZERO",null,{"$f":"SUM(C6)*140","v":0},{"$f":"SUM(C6)","v":0},0,"ZERO",null,null,null,null,null,null,null,null,null,0,0]
["PREMIUM BURGER Meal ",5900,0,{"$f":"SUM(B7*C7)","v":0},null,{"$f":"SUM(C7)","v":0},{"$f":"SUM(C7)","v":0},"ZERO","ZERO","ZERO",0,{"$f":"SUM(C7)*5","v":0},"ZERO","ZERO",{"$f":"SUM(C7)","v":0},0,{"$f":"SUM(C7)*1.25","v":0},0,"ZERO","ZERO",{"$f":"SUM(C7)","v":0},"ZERO",{"$f":"SUM(C7)*70","v":0},{"$f":"SUM(C7)*2","v":0},0,{"$f":"SUM(C7)","v":0},null,null,null,null,null,null,null,null,null,"ZERO","ZERO"]
["CRISPY CHICKEN BOX",4300,0,null,null,"ZERO","ZERO","ZERO","ZERO","ZERO",0,{"$f":"SUM(C8)*5","v":0},"ZERO","ZERO","ZERO",0,{"$f":"SUM(C8)*0.25","v":0},0,"ZERO","ZERO",{"$f":"SUM(C8)","v":0},"ZERO","ZERO",{"$f":"SUM(C8)*2","v":0},0,{"$f":"SUM(C8)","v":0},null,null,null,null,null,null,null,null,null,"ZERO","ZERO"]
["ROYAL BURGER MEAL (CHICKEN  PATTY)",null,0,{"$f":"SUM(B9*C9)","v":0},null,{"$f":"SUM(C9)","v":0},{"$f":"SUM(C9)*2","v":0},"ZERO","ZERO","ZERO",0,"ZERO",{"$f":"SUM(C9)*2","v":0},{"$f":"SUM(C9)*2","v":0},"ZERO",0,{"$f":"SUM(C9)","v":0},0,{"$f":"SUM(C9)","v":0},"ZERO","ZERO","ZERO",{"$f":"SUM(C9)*140","v":0},{"$f":"SUM(C9)*2","v":0},0,{"$f":"SUM(C9)","v":0},null,null,null,null,null,null,null,null,null,"ZERO","ZERO"]
["ROYAL BURGER MEAL (BEEF  PATTY)",null,0,{"$f":"SUM(B10*C10)","v":0},null,{"$f":"SUM(C10)","v":0},"ZERO","ZERO","ZERO","ZERO",0,"ZERO",{"$f":"SUM(C10)*2","v":0},{"$f":"SUM(C10)*2","v":0},"ZERO",0,0,0,{"$f":"SUM(C10)","v":0},"ZERO","ZERO",{"$f":"SUM(C10)*2","v":0},{"$f":"SUM(C10)*140","v":0},{"$f":"SUM(C10)*2","v":0},0,{"$f":"SUM(C10)","v":0},null,null,null,null,null,null,null,null,null,"ZERO","ZERO"]
["ROYAL BURGER ONLY (CHICKEN PATTY)",3300,0,{"$f":"SUM(B11*C11:C25,A1,A1,A1,A1,A1)","v":0},null,{"$f":"SUM(C11)","v":0},{"$f":"SUM(C11)*2","v":0},"ZERO","ZERO","ZERO","ZERO","ZERO",{"$f":"SUM(C11)*2","v":0},{"$f":"SUM(C11)*2","v":0},"ZERO",0,0,0,"ZERO","ZERO","ZERO","ZERO",{"$f":"SUM(C11)*140","v":0},{"$f":"SUM(C11)","v":0},"ZERO","ZERO",null,null,null,null,null,null,null,null,null,"ZERO","ZERO"]
["ROYAL BURGER ONLY (BEEF PATTY)",3300,0,{"$f":"SUM(B12*C12)","v":0},null,{"$f":"SUM(C12)","v":0},null,"ZERO","ZERO","ZERO","ZERO","ZERO",{"$f":"SUM(C12)*2","v":0},{"$f":"SUM(C12)*2","v":0},"ZERO",0,0,0,"ZERO","ZERO","ZERO",{"$f":"SUM(C12)*2","v":0},{"$f":"SUM(C12)*140","v":0},{"$f":"SUM(C12)","v":0},"ZERO","ZERO",null,null,null,null,null,null,null,null,null,"ZERO","ZERO"]
["MAYOR'S COCONUT BURGER ",2800,0,0,null,0,{"$f":"SUM(C13)","v":0},"ZERO","ZERO","ZERO","ZERO","ZERO",{"$f":"SUM(C13)","v":0},"ZERO","ZERO",0,0,0,"ZERO","ZERO","ZERO",{"$f":"SUM(C13)","v":0},{"$f":"SUM(C13)*140","v":0},"ZERO","ZERO","ZERO",null,{"$f":"SUM(C13)","v":0},{"$f":"SUM(C13)","v":0},null,null,null,null,null,null,"ZERO","ZERO"]
["DOUBLE DECKER CRISPY CHK. CHEESE BURGER",2500,0,0,null,{"$f":"SUM(C14)","v":0},{"$f":"SUM(C14)*2","v":0},"ZERO","ZERO","ZERO","ZERO","ZERO",{"$f":"SUM(C14)","v":0},"ZERO","ZERO",0,0,"ZERO","ZERO","ZERO","ZERO","ZERO",{"$f":"SUM(C14)*70","v":0},"ZERO","ZERO","ZERO",null,null,null,null,null,null,null,null,null,"ZERO","ZERO"]
["SINGLE BEEF BURGER",1700,0,0,null,0,"ZERO","ZERO","ZERO","ZERO","ZERO","ZERO",null,"ZERO",{"$f":"SUM(C15)","v":0},null,0,"ZERO","ZERO","ZERO","ZERO",{"$f":"SUM(C15)","v":0},{"$f":"SUM(C15)*70","v":0},"ZERO","ZERO","ZERO",null,null,null,null,null,null,null,null,null,"ZERO","ZERO"]
["YANKEE BURGER",2400,0,0,null,0,"ZERO","ZERO","ZERO","ZERO","ZERO","ZERO",null,{"$f":"SUM(C16)*2","v":0},{"$f":"SUM(C16)","v":0},null,0,"ZERO","ZERO","ZERO","ZERO",{"$f":"SUM(C16)","v":0},{"$f":"SUM(C16)*70","v":0},"ZERO","ZERO","ZERO",null,null,null,null,null,null,null,null,null,"ZERO","ZERO"]
["ROYAL BURGER WITH FRIES (Chicken)",4000,0,0,null,0,{"$f":"SUM(C17)*2","v":0},"ZERO","ZERO","ZERO",{"$f":"SUM(C17)","v":0},"ZERO",{"$f":"SUM(C17)*2","v":0},{"$f":"SUM(C17)*2","v":0},"ZERO",{"$f":"SUM(C17)","v":0},0,"ZERO","ZERO","ZERO","ZERO","ZERO",{"$f":"SUM(C17)*140","v":0},{"$f":"SUM(C17)*2","v":0},"ZERO","ZERO",null,null,null,null,null,null,null,null,null,"ZERO","ZERO"]
["ROYAL BURGER WITH FRIES (BEEF)",4000,0,0,null,0,"ZERO","ZERO","ZERO","ZERO",{"$f":"SUM(C18)","v":0},"ZERO",{"$f":"SUM(C18)*2","v":0},{"$f":"SUM(C18)*2","v":0},"ZERO",{"$f":"SUM(C18)","v":0},0,"ZERO","ZERO","ZERO","ZERO",{"$f":"SUM(C18)*2","v":0},{"$f":"SUM(C18)*140","v":0},{"$f":"SUM(C18)*2","v":0},"ZERO","ZERO",null,null,null,null,null,null,null,null,null,"ZERO","ZERO"]
["CRISPY CHICKEN BURGER",1700,0,0,null,0,{"$f":"SUM(C19)","v":0},"ZERO","ZERO","ZERO","ZERO","ZERO","ZERO","ZERO",{"$f":"SUM(C19)","v":0},"ZERO",{"$f":"SUM(C19)*1","v":0},"ZERO","ZERO","ZERO","ZERO","ZERO",{"$f":"SUM(C19)*70","v":0},"ZERO","ZERO","ZERO",null,null,null,null,null,null,null,null,null,"ZERO","ZERO"]
["SUYA BURGER BOX",5500,0,0,null,0,{"$f":"SUM(C20)*2","v":0},"ZERO","ZERO",{"$f":"SUM(C20)*4","v":0},{"$f":"SUM(C20)","v":0},{"$f":"SUM(C20)*4","v":0},"ZERO","ZERO",{"$f":"SUM(C20)","v":0},{"$f":"SUM(C20)","v":0},{"$f":"SUM(C20)","v":0},"ZERO","ZERO",null,{"$f":"SUM(C20)","v":0},"ZERO",0,{"$f":"SUM(C20)*2","v":0},{"$f":"SUM(C20)","v":0},"ZERO",{"$f":"SUM(C20)","v":0},null,null,null,null,null,null,null,null,"ZERO","ZERO"]
["CRISPY CHICKEN BURGER PLUS CHEESE",2100,0,0,null,0,{"$f":"SUM(C21)","v":0},"ZERO","ZERO","ZERO","ZERO","ZERO",{"$f":"SUM(C21)","v":0},"ZERO",{"$f":"SUM(C21)","v":0},"ZERO",0,"ZERO","ZERO","ZERO","ZERO","ZERO",0,"ZERO","ZERO","ZERO",null,null,null,null,null,null,null,null,null,"ZERO","ZERO"]
["SINGLE BEEF CHEESE BURGER ",2100,0,0,null,0,"ZERO","ZERO","ZERO","ZERO","ZERO","ZERO",{"$f":"SUM(C22)","v":0},"ZERO",{"$f":"SUM(C22)","v":0},"ZERO",0,"ZERO","ZERO","ZERO","ZERO",{"$f":"SUM(C22)","v":0},0,"ZERO","ZERO","ZERO",null,null,null,null,null,null,null,null,null,"ZERO","ZERO"]
["DOUBLE DECKER BEEF CHEESE BURGER",2800,0,0,null,0,"ZERO","ZERO","ZERO","ZERO","ZERO","ZERO",{"$f":"SUM(C23)*2","v":0},"ZERO","ZERO",{"$f":"SUM(C23)","v":0},0,"ZERO","ZERO","ZERO","ZERO",{"$f":"SUM(C23)*2","v":0},0,"ZERO","ZERO","ZERO",null,null,null,null,null,null,null,null,null,"ZERO","ZERO"]
["CHICKEN SUYA BURGER ",2200,0,0,null,0,{"$f":"SUM(C24)*2","v":0},"ZERO","ZERO","ZERO","ZERO","ZERO","ZERO","ZERO",{"$f":"SUM(C24)*1","v":0},"ZERO",0,"ZERO","ZERO","ZERO","ZERO","ZERO",0,"ZERO","ZERO","ZERO",null,null,null,null,null,null,null,null,null,"ZERO","ZERO"]
["CHICKEN SHAWARMA",1800,0,0,null,null,"ZERO",{"$f":"SUM(C25)","v":0},{"$f":"SUM(C25)","v":0},{"$f":"SUM(C25)*2","v":0},"ZERO","ZERO","ZERO","ZERO","ZERO","ZERO",0,{"$f":"SUM(C25)","v":0},"ZERO","ZERO","ZERO","ZERO",0,"ZERO","ZERO","ZERO",null,null,null,null,null,null,null,null,null,{"$f":"SUM(AD25)","v":0},{"$f":"SUM(AE25)","v":0}]
["BARBECUE BEEF SHAWARMA",2000,0,0,null,null,"ZERO",{"$f":"SUM(C26)","v":0},"ZERO",{"$f":"SUM(C26)*2","v":0},"ZERO","ZERO","ZERO","ZERO","ZERO","ZERO",0,0,"ZERO","ZERO","ZERO","ZERO",0,"ZERO","ZERO","ZERO",null,null,null,null,null,null,null,null,null,{"$f":"SUM(C26)","v":0},"ZERO"]
["BEEF SUYA SHAWARMA",2200,0,0,null,null,"ZERO",{"$f":"SUM(C27)","v":0},"ZERO",{"$f":"SUM(C27)*2","v":0},"ZERO","ZERO","ZERO","ZERO","ZERO","ZERO",0,0,"ZERO","ZERO","ZERO","ZERO",0,"ZERO","ZERO","ZERO",null,null,null,null,null,null,null,null,null,{"$f":"SUM(AD27)","v":0},{"$f":"SUM(C27)","v":0}]
["BEEF SUYA BURGER ",2200,0,0,null,{"$f":"SUM(C28)","v":0},"ZERO",null,"ZERO","ZERO","ZERO","ZERO","ZERO","ZERO",{"$f":"SUM(C28)","v":0},"ZERO",0,0,"ZERO","ZERO","ZERO","ZERO",0,"ZERO","ZERO","ZERO",null,null,null,null,null,null,null,null,null,{"$f":"SUM(AD28)","v":0},{"$f":"SUM(C28)","v":0}]
["CHICKEN SUYA SHAWARMA",2200,0,0,null,"ZERO",{"$f":"SUM(C29)*2","v":0},{"$f":"SUM(C29)","v":0},null,{"$f":"SUM(C29)*2","v":0},"ZERO","ZERO","ZERO","ZERO","ZERO","ZERO",0,0,"ZERO","ZERO","ZERO","ZERO",0,"ZERO","ZERO","ZERO"]
["CHESSY SHAWARMA",2500,0,0,null,"ZERO","ZERO",{"$f":"SUM(C30)","v":0},{"$f":"SUM(C30)","v":0},{"$f":"SUM(C30)*2","v":0},null,"ZERO",{"$f":"SUM(C30)*2","v":0},"ZERO","ZERO","ZERO",0,0,"ZERO","ZERO","ZERO","ZERO",{"$f":"SUM(C30)*140","v":0},"ZERO","ZERO","ZERO",null,null,null,null,null,null,null,null,null,{"$f":"SUM(AD30)","v":0},{"$f":"SUM(AE30)","v":0}]
["2 CHICKEN AND CHIPS",2300,0,0,null,"ZERO","ZERO","ZERO","ZERO","ZERO",{"$f":"SUM(C31)","v":0},{"$f":"SUM(C31)*2","v":0},"ZERO","ZERO","ZERO",{"$f":"SUM(C31)","v":0},"ZERO",0,"ZERO","ZERO","ZERO","ZERO","ZERO",{"$f":"SUM(C31)","v":0},"ZERO","ZERO",null,null,null,null,null,null,null,null,null,"ZERO","ZERO"]
["4 CHICKEN AND CHIPS",3500,0,0,null,"ZERO","ZERO","ZERO","ZERO","ZERO",{"$f":"SUM(C32)","v":0},{"$f":"SUM(C32)*4","v":0},"ZERO","ZERO","ZERO",{"$f":"SUM(C32)","v":0},"ZERO",0,"ZERO","ZERO","ZERO","ZERO","ZERO",{"$f":"SUM(C32)*2","v":0},"ZERO","ZERO","zero","zero","zero",null,null,null,null,null,null,"ZERO","ZERO"]
["SPICY CHICKEN ONLY",650,0,null,null,"ZERO","ZERO","ZERO","ZERO","ZERO","ZERO",{"$f":"SUM(C33)","v":0},"ZERO","ZERO","ZERO","ZERO","ZERO","ZERO","ZERO","ZERO","ZERO","ZERO","ZERO","ZERO",{"$f":"SUM(C33)","v":0},"ZERO",null,null,null,null,null,null,null,null,null,"ZERO","ZERO"]
["CRISPY CHICKEN ONLY",650,0,{"$f":"SUM(B34*C34)","v":0},null,"ZERO","ZERO","ZERO","ZERO","ZERO","ZERO",{"$f":"SUM(C34)","v":0},"ZERO","ZERO","ZERO","ZERO","ZERO","ZERO","ZERO","ZERO","ZERO","ZERO","ZERO","ZERO",{"$f":"SUM(C34)","v":0},"ZERO",null,null,null,null,null,null,null,null,null,"ZERO","ZERO"]
["POTATO FRIES",700,0,0,null,"ZERO","ZERO","ZERO","ZERO","ZERO",null,"ZERO","ZERO","ZERO","ZERO","ZERO","ZERO","ZERO","ZERO","ZERO","ZERO","ZERO","ZERO","ZERO","ZERO","ZERO",null,null,null,null,null,null,null,null,null,"ZERO","ZERO"]
["FRENCH FRIES ONLY",1000,0,0,null,"ZERO","ZERO","ZERO","ZERO","ZERO",{"$f":"SUM(C36)","v":0},"ZERO","ZERO","ZERO","ZERO","ZERO","ZERO","ZERO","ZERO","ZERO","ZERO","ZERO","ZERO","ZERO",{"$f":"SUM(C36)","v":0},"ZERO",null,null,null,null,null,null,null,null,null,"ZERO","ZERO"]
["SUGERCANNE JUICE",750,0,0,null,"ZERO","ZERO","ZERO","ZERO","ZERO","ZERO","ZERO","ZERO","ZERO","ZERO","ZERO","ZERO","ZERO","ZERO",{"$f":"SUM(C37)","v":0},"ZERO","ZERO","ZERO","ZERO","ZERO","ZERO",null,null,null,null,null,null,null,null,null,"ZERO","ZERO"]
["35 CL SOFT DRINK",200,0,0,null,"ZERO","ZERO","ZERO","ZERO","ZERO","ZERO","ZERO","ZERO","ZERO","ZERO","ZERO","ZERO","ZERO","ZERO","ZERO",{"$f":"SUM(C38)","v":0},"ZERO","ZERO","ZERO","ZERO","ZERO",null,null,null,null,null,null,null,null,null,"ZERO","ZERO"]
["PARFAIT",null,0,0,null,"ZERO","ZERO","ZERO","ZERO","ZERO","ZERO","ZERO","ZERO","ZERO","ZERO","ZERO","ZERO",{"$f":"SUM(C39)","v":0},{"$f":"SUM(C39)","v":0},"ZERO","ZERO","ZERO","ZERO","ZERO","ZERO","ZERO",null,null,null,null,null,null,null,null,null,"ZERO","ZERO"]
["MARINATED WINGS",500,0,0,null,"ZERO","ZERO","ZERO","ZERO","ZERO","ZERO",{"$f":"SUM(C40)","v":0},"ZERO","ZERO","ZERO","ZERO","ZERO","ZERO","ZERO","ZERO","ZERO","ZERO","ZERO","ZERO","ZERO","ZERO",null,null,null,null,null,null,null,null,null,"ZERO","ZERO"]
["CHEESE ",400,0,0,null,"ZERO","ZERO","ZERO","ZERO","ZERO","ZERO","ZERO",{"$f":"SUM(C41)","v":0},"ZERO","ZERO","ZERO","ZERO","ZERO","ZERO","ZERO","ZERO","ZERO","ZERO","ZERO","ZERO","ZERO",null,null,null,null,null,null,null,null,null,"ZERO","ZERO"]
["SAUSAGE",200,0,0,null,null,null,null,null,null,"ZERO"]
["BACON",400,0,0,null,"ZERO","ZERO","ZERO","ZERO","ZERO","ZERO","ZERO","ZERO",{"$f":"SUM(C43)","v":0},"ZERO","ZERO","ZERO","ZERO","ZERO","ZERO","ZERO","ZERO","ZERO","ZERO","ZERO","ZERO",null,null,null,null,null,null,null,null,null,"ZERO","ZERO"]
["FRIENDY BURGER MEAL (WITH SOFT DRINK)",10200,0,0,null,{"$f":"SUM(C44)*2","v":0},{"$f":"SUM(C44)*2","v":0},{"$f":"SUM(C44)*2","v":0},{"$f":"SUM(C44)*2","v":0},{"$f":"SUM(C44)*2","v":0},{"$f":"SUM(C44)*2","v":0},{"$f":"SUM(C44)*2*2","v":0},"ZERO","ZERO",{"$f":"SUM(C44)*1*2","v":0},{"$f":"SUM(C44)*2","v":0},{"$f":"SUM(C44)*2*2","v":0},{"$f":"SUM(C44)*2","v":0},null,"ZERO",{"$f":"SUM(C44)*2","v":0},null,{"$f":"SUM(C44)*140*2","v":0},{"$f":"SUM(C44)*2","v":0},{"$f":"SUM(C44)*2","v":0},"ZERO",null,null,null,null,null,null,null,null,null,{"$f":"SUM(AD44)*2","v":0},{"$f":"SUM(AE44)*2","v":0}]
["FRIENDY BURGER MEAL (WITH SUGARCANE JUICE)",10600,0,0,null,{"$f":"SUM(C45)*2","v":0},{"$f":"SUM(C45)*2","v":0},{"$f":"SUM(C45)*2","v":0},{"$f":"SUM(C45)*2","v":0},{"$f":"SUM(C45)*2","v":0},{"$f":"SUM(C45)*2","v":0},{"$f":"SUM(C45)*2*2","v":0},"ZERO","ZERO",{"$f":"SUM(C45)*1*2","v":0},{"$f":"SUM(C45)*2","v":0},{"$f":"SUM(C45)*2*2","v":0},{"$f":"SUM(C45)*2","v":0},null,{"$f":"SUM(C45)*2","v":0},"ZERO",null,{"$f":"SUM(C45)*140*2","v":0},{"$f":"SUM(C45)*2","v":0},{"$f":"SUM(C45)*2","v":0},"ZERO",null,null,null,null,null,null,null,null,null,{"$f":"SUM(AD45)*2","v":0},{"$f":"SUM(AE45)*2","v":0}]
["SHAWARMA  SUB",1800,0,0,null,null,"ZERO","ZERO",{"$f":"SUM(C46)","v":0},{"$f":"SUM(C46)*2","v":0},"ZERO","ZERO","ZERO","ZERO",{"$f":"SUM(C46)*1","v":0},"ZERO",{"$f":"SUM(C46)","v":0},"ZERO","ZERO","ZERO","ZERO","ZERO",{"$f":"SUM(C46)*70","v":0},"ZERO","ZERO","ZERO",null,null,null,{"$f":"SUM(C46)","v":0},null,null,null,null,null,{"$f":"SUM(AD46)","v":0},{"$f":"SUM(AE46)","v":0}]
["DELISH PACK 1",5300,0,0,null,{"$f":"SUM(C47)","v":0},{"$f":"SUM(C47)","v":0},"ZERO",{"$f":"SUM(C47)","v":0},{"$f":"SUM(C47)*2","v":0},"ZERO",{"$f":"SUM(C47)*4","v":0},"ZERO","ZERO",{"$f":"SUM(C47)*1","v":0},{"$f":"SUM(C47)*1","v":0},{"$f":"SUM(C47)*2","v":0},{"$f":"SUM(C47)","v":0},"ZERO","ZERO","ZERO","ZERO",{"$f":"SUM(C47)*70","v":0},"ZERO","ZERO","ZERO",null,null,null,{"$f":"SUM(C47)","v":0},{"$f":"SUM(C47)*1","v":0},null,null,null,null,{"$f":"SUM(AD47)","v":0},{"$f":"SUM(AE47)","v":0}]
["FAMILY BURGER MEAL (WITH SOFT DRINK)",19800,0,0,null,{"$f":"SUM(C48)*4","v":0},{"$f":"SUM(C48)*4","v":0},{"$f":"SUM(C48)*4","v":0},{"$f":"SUM(C48)*4","v":0},{"$f":"SUM(C48)*4","v":0},{"$f":"SUM(C48)*4","v":0},{"$f":"SUM(C48)*2*4","v":0},"ZERO","ZERO",{"$f":"SUM(C48)*1*4","v":0},{"$f":"SUM(C48)*4","v":0},{"$f":"SUM(C48)*2*4","v":0},{"$f":"SUM(C48)*4","v":0},null,"ZERO",{"$f":"SUM(C48)*4","v":0},null,{"$f":"SUM(C48)*140*4","v":0},{"$f":"SUM(C48)*4","v":0},{"$f":"SUM(C48)*4","v":0},"ZERO",null,null,null,null,null,null,null,null,null,{"$f":"SUM(AD48)*4","v":0},{"$f":"SUM(AE48)*4","v":0}]
["FAMILY BURGER MEAL (WITH SUGARCANE JUICE)",20800,0,0,null,{"$f":"SUM(C49)*4","v":0},{"$f":"SUM(C49)*4","v":0},{"$f":"SUM(C49)*4","v":0},{"$f":"SUM(C49)*4","v":0},{"$f":"SUM(C49)*4","v":0},{"$f":"SUM(C49)*4","v":0},{"$f":"SUM(C49)*2*4","v":0},"ZERO","ZERO",{"$f":"SUM(C49)*1*4","v":0},{"$f":"SUM(C49)*4","v":0},{"$f":"SUM(C49)*2*4","v":0},{"$f":"SUM(C49)*4","v":0},null,{"$f":"SUM(C49)*4","v":0},"ZERO",null,{"$f":"SUM(C49)*140*4","v":0},{"$f":"SUM(C49)*4","v":0},{"$f":"SUM(C49)*4","v":0},"ZERO",null,null,null,null,null,null,null,null,null,{"$f":"SUM(AD49)*4","v":0},{"$f":"SUM(AE49)*4","v":0}]
["CAN COKE/FANTA ONLY",null,0,0,null,"ZERO","ZERO","ZERO","ZERO","ZERO","ZERO","ZERO","ZERO","ZERO","ZERO","ZERO","ZERO","ZERO","ZERO","ZERO","ZERO","ZERO","ZERO","ZERO","ZERO","ZERO",null,null,null,null,{"$f":"SUM(C50)","v":0},null,null,null,null,"ZERO","ZERO"]
["SUPA KOMMANDO ONLY",250,0,0,null,"ZERO","ZERO","ZERO","ZERO","ZERO","ZERO","ZERO","ZERO","ZERO","ZERO","ZERO","ZERO","ZERO","ZERO","ZERO","ZERO","ZERO","ZERO","ZERO","ZERO","ZERO",null,null,{"$f":"SUM(C51)","v":0},null,"ZERO","ZERO",null,null,null,"ZERO","ZERO"]
["10X Chicken Nuggets ",2400,0,0,null,null,null,null,null,null,"ZERO",null,null,null,null,{"$f":"SUM(C52)","v":0},null,{"$f":"SUM(C52)","v":0},null,null,null,null,null,{"$f":"SUM(C52)","v":0},null,null,null,null,null,null,{"$f":"SUM(C52)","v":0},{"$f":"SUM(C52)*10","v":0}]
["20X Chicken Nuggets ",4800,0,0,null,null,null,null,null,null,"ZERO ",null,null,null,null,{"$f":"SUM(C53)","v":0},null,{"$f":"SUM(C53)","v":0},null,null,null,null,null,{"$f":"SUM(C53)","v":0},null,null,null,null,null,null,{"$f":"SUM(C53)","v":0},{"$f":"SUM(C53)*20","v":0}]
["10 CHICKEN NUGGETS & FRIES BOX",3300,0,0,null,null,null,null,null,null,{"$f":"SUM(C54)","v":0},null,null,null,null,{"$f":"SUM(C54)","v":0},null,{"$f":"SUM(C54)","v":0},null,null,null,null,null,{"$f":"SUM(C54)","v":0},null,null,null,null,null,null,{"$f":"SUM(C54)","v":0},{"$f":"SUM(C54)*10","v":0}]
["20 CHICKEN NUGGETS & FRIES BOX",6600,0,0,null,null,null,null,null,null,{"$f":"SUM(C55)","v":0},null,null,null,null,{"$f":"SUM(C55)","v":0},null,{"$f":"SUM(C55)","v":0},null,null,null,null,null,{"$f":"SUM(C55)","v":0},null,null,null,null,null,null,{"$f":"SUM(C55)","v":0},{"$f":"SUM(C55)*20","v":0}]
["PRAWN BURGER ",3000,0,0,null,{"$f":"SUM(C56)","v":0},"ZERO","ZERO","ZERO","ZERO","ZERO","ZERO",{"$f":"SUM(C56)","v":0},"ZERO",{"$f":"SUM(C56)","v":0},"ZERO",{"$f":"SUM(C56)","v":0},"ZERO","ZERO","ZERO","ZERO","ZERO",{"$f":"SUM(C56)*70","v":0},"ZERO","ZERO","ZERO",null,null,null,null,null,null,{"$f":"SUM(C56)*2","v":0},null,null,"ZERO","ZERO"]
[" FUNMMY NUGGETS  BOX",5300,0,0,null,{"$f":"SUM(C57)","v":0},{"$f":"SUM(C57)","v":0},null,null,null,{"$f":"SUM(C57)","v":0},null,{"$f":"SUM(C57)","v":0},null,{"$f":"SUM(C57)","v":0},{"$f":"SUM(C57)","v":0},null,{"$f":"SUM(C57)","v":0},null,null,null,null,null,{"$f":"SUM(C57)","v":0},null,null,null,null,null,null,{"$f":"SUM(C57)","v":0},{"$f":"SUM(C57)*10","v":0}]
["FARM PRIDE 50 CL",500,0,0,null,"ZERO","ZERO","ZERO","ZERO","ZERO","ZERO","ZERO","ZERO","ZERO","ZERO","ZERO","ZERO","ZERO","ZERO","ZERO","ZERO","ZERO","ZERO","ZERO","ZERO","ZERO",null,null,null,null,null,null,null,{"$f":"SUM(C58)","v":0},null,"ZERO","ZERO"]
["FARM PRIDE 1 LITRE",800,0,0,null,"ZERO","ZERO","ZERO","ZERO","ZERO","ZERO","ZERO","ZERO","ZERO","ZERO","ZERO","ZERO","ZERO","ZERO","ZERO","ZERO","ZERO","ZERO","ZERO","ZERO","ZERO",null,null,null,null,null,null,null,"ZERO",{"$f":"SUM(C59)","v":0},"ZERO","ZERO"]
["GRILLED CHICKEN BURGER",1700,0,{"$f":"SUM(B60*C60)","v":0},null,{"$f":"SUM(C60)","v":0},{"$f":"SUM(C60)","v":0},"ZERO","ZERO","ZERO","ZERO","ZERO","ZERO","ZERO",{"$f":"SUM(C60)","v":0},"ZERO",{"$f":"SUM(C60)*1","v":0},"ZERO","ZERO","ZERO","ZERO","ZERO",{"$f":"SUM(C60)*70","v":0},"ZERO","ZERO","ZERO",null,null,null,null,null,null,null,null,null,"ZERO","ZERO"]
["GRILLED CHICKEN BURGER + JUICE",2200,0,{"$f":"SUM(B61*C61)","v":0},null,{"$f":"SUM(C61)","v":0},{"$f":"SUM(C61)","v":0},"ZERO","ZERO","ZERO","ZERO","ZERO","ZERO","ZERO",{"$f":"SUM(C61)","v":0},"ZERO",{"$f":"SUM(C61)*1","v":0},"ZERO","ZERO","ZERO","ZERO","ZERO",{"$f":"SUM(C61)*70","v":0},"ZERO","ZERO","ZERO",null,null,null,null,null,null,null,{"$f":"SUM(C61)","v":0},null,"ZERO","ZERO"]
["GRILLED BURGER MEAL 1 & 3",4000,0,{"$f":"SUM(B62*C62)","v":0},null,{"$f":"SUM(C62)","v":0},{"$f":"SUM(C62)","v":0},"ZERO","ZERO","ZERO",{"$f":"SUM(C62)","v":0},{"$f":"SUM(C62)*2","v":0},"ZERO","ZERO","ZERO",{"$f":"SUM(C62)","v":0},{"$f":"SUM(C62)","v":0},{"$f":"SUM(C62)","v":0},"ZERO","ZERO","ZERO","ZERO",{"$f":"SUM(C62)*70","v":0},{"$f":"SUM(C62)","v":0},"ZERO","ZERO",null,null,null,null,null,null,null,{"$f":"SUM(C62)","v":0},null,"ZERO","ZERO"]
["GRILLED BURGER MEAL 2",3700,0,{"$f":"SUM(B63*C63)","v":0},null,{"$f":"SUM(C63)","v":0},{"$f":"SUM(C63)","v":0},"ZERO","ZERO","ZERO",{"$f":"SUM(C63)","v":0},{"$f":"SUM(C63)*2","v":0},"ZERO","ZERO","ZERO",{"$f":"SUM(C63)","v":0},{"$f":"SUM(C63)","v":0},{"$f":"SUM(C63)","v":0},"ZERO","ZERO",{"$f":"SUM(C63)","v":0},"ZERO",{"$f":"SUM(C63)*70","v":0},{"$f":"SUM(C63)","v":0},"ZERO","ZERO",null,null,null,null,null,null,null,"ZERO",null,"ZERO","ZERO"]
["MASTERPIECE BURGER ",5000,0,{"$f":"SUM(B64*C64)","v":0},null,{"$f":"SUM(C64)","v":0},"ZERO","ZERO","ZERO","ZERO","ZERO","ZERO",{"$f":"SUM(C64)","v":0},"ZERO","ZERO",{"$f":"SUM(C64)","v":0},{"$f":"SUM(C64)","v":0},"ZERO","ZERO","ZERO",{"$f":"SUM(C64)","v":0},{"$f":"SUM(C64)","v":0},{"$f":"SUM(C64)*70","v":0},"ZERO","ZERO","ZERO",null,null,null,null,null,null,null,null,null,"ZERO",{"$f":"SUM(C64)","v":0}]
["SUYA BURGER BOX 2 (WITH BEEF SUYA BURGER)",6000,0,0,null,0,"ZERO ","ZERO","ZERO",0,0,0,"ZERO","ZERO",0,0,0,"ZERO","ZERO",null,0,"ZERO",0,0,0,"ZERO",0,null,null,null,null,null,null,null,null,"ZERO",0]
["OPENING STOCK",null,null,null,null,{"$f":"SUM('Production DAY 6'!C2)","v":0},{"$f":"SUM('Production DAY 6'!C3)","v":0},{"$f":"SUM('Production DAY 6'!C4)","v":0},{"$f":"SUM('Production DAY 6'!C5)","v":0},{"$f":"SUM('Production DAY 6'!C6)","v":0},{"$f":"SUM('Production DAY 6'!C7)","v":0},{"$f":"SUM('Production DAY 6'!C8)","v":0},{"$f":"SUM('Production DAY 6'!C9)","v":0},{"$f":"SUM('Production DAY 6'!C10)","v":0},{"$f":"SUM('Production DAY 6'!C11)","v":0},{"$f":"SUM('Production DAY 6'!C12)","v":0},{"$f":"SUM('Production DAY 6'!C13)","v":0},{"$f":"SUM('Production DAY 6'!C14)","v":0},{"$f":"SUM('Production DAY 6'!C15)","v":0},{"$f":"SUM('Production DAY 6'!C16)","v":0},{"$f":"SUM('Production DAY 6'!C17)","v":0},{"$f":"SUM('Production DAY 6'!C18)","v":0},{"$f":"SUM('Production DAY 6'!C19)","v":0},{"$f":"SUM('Production DAY 6'!C20)","v":0},{"$f":"SUM('Production DAY 6'!C21)","v":0},{"$f":"SUM('Production DAY 6'!C22)","v":0},{"$f":"SUM('Production DAY 6'!C23)","v":0},{"$f":"SUM('Production DAY 6'!C24)","v":0},{"$f":"SUM('Production DAY 6'!C25)","v":0},{"$f":"SUM('Production DAY 6'!C26)","v":0},{"$f":"SUM('Production DAY 6'!C27)","v":0},{"$f":"SUM('Production DAY 6'!C28)","v":0},{"$f":"SUM('Production DAY 6'!C29)","v":0},{"$f":"SUM('Production DAY 6'!C30)","v":0},{"$f":"SUM('Production DAY 6'!C31)","v":0},{"$f":"SUM('Production DAY 6'!C32)","v":0},{"$f":"SUM('Production DAY 6'!C33)","v":0},{"$f":"SUM('Production DAY 6'!C34)","v":0},{"$f":"SUM('Production DAY 6'!C35)","v":0},{"$f":"SUM('Production DAY 6'!C36)","v":0},{"$f":"SUM('Production DAY 6'!C37)","v":0},{"$f":"SUM('Production DAY 6'!C38)","v":0},{"$f":"SUM('Production DAY 6'!C39)","v":0},{"$f":"SUM('Production DAY 6'!C40)","v":0},{"$f":"SUM('Production DAY 6'!C41)","v":0},{"$f":"SUM('Production DAY 6'!C42)","v":0},{"$f":"SUM('Production DAY 6'!C43)","v":0}]
["RECEIVED",null,null,null,null,{"$f":"SUM('Production DAY 6'!D2)","v":0},{"$f":"SUM('Production DAY 6'!D3)","v":0},{"$f":"SUM('Production DAY 6'!D4)","v":0},{"$f":"SUM('Production DAY 6'!D5)","v":0},{"$f":"SUM('Production DAY 6'!D6)","v":0},{"$f":"SUM('Production DAY 6'!D7)","v":0},{"$f":"SUM('Production DAY 6'!D8)","v":0},{"$f":"SUM('Production DAY 6'!D9)","v":0},{"$f":"SUM('Production DAY 6'!D10)","v":0},{"$f":"SUM('Production DAY 6'!D11)","v":0},{"$f":"SUM('Production DAY 6'!D12)","v":0},{"$f":"SUM('Production DAY 6'!D13)","v":0},{"$f":"SUM('Production DAY 6'!D14)","v":0},{"$f":"SUM('Production DAY 6'!D15)","v":0},{"$f":"SUM('Production DAY 6'!D16)","v":0},{"$f":"SUM('Production DAY 6'!D17)","v":0},{"$f":"SUM('Production DAY 6'!D18)","v":0},{"$f":"SUM('Production DAY 6'!D19)","v":0},{"$f":"SUM('Production DAY 6'!D20)","v":0},{"$f":"SUM('Production DAY 6'!D21)","v":0},{"$f":"SUM('Production DAY 6'!D22)","v":0},{"$f":"SUM('Production DAY 6'!D23)","v":0},{"$f":"SUM('Production DAY 6'!D24)","v":0},{"$f":"SUM('Production DAY 6'!D25)","v":0},{"$f":"SUM('Production DAY 6'!D26)","v":0},{"$f":"SUM('Production DAY 6'!D27)","v":0},{"$f":"SUM('Production DAY 6'!D28)","v":0},{"$f":"SUM('Production DAY 6'!D29)","v":0},{"$f":"SUM('Production DAY 6'!D30)","v":0},{"$f":"SUM('Production DAY 6'!D31)","v":0},{"$f":"SUM('Production DAY 6'!D32)","v":0},{"$f":"SUM('Production DAY 6'!D33)","v":0},{"$f":"SUM('Production DAY 6'!D34)","v":0},{"$f":"SUM('Production DAY 6'!D35)","v":0},{"$f":"SUM('Production DAY 6'!D36)","v":0},{"$f":"SUM('Production DAY 6'!D37)","v":0},{"$f":"SUM('Production DAY 6'!D38)","v":0},{"$f":"SUM('Production DAY 6'!D39)","v":0},{"$f":"SUM('Production DAY 6'!D40)","v":0},{"$f":"SUM('Production DAY 6'!D41)","v":0},{"$f":"SUM('Production DAY 6'!D42)","v":0},{"$f":"SUM('Production DAY 6'!D43)","v":0}]
["TOTAL STOCK",null,null,null,null,{"$f":"SUM(F66:F67)","v":0},{"$f":"SUM(G66:G67)","v":0},{"$f":"SUM(H66:H67)","v":0},{"$f":"SUM(I66:I67)","v":0},0,0,0,0,0,0,{"$f":"SUM(P66:P67)","v":0},0,0,0,0,0,0,0,0,0,0,0,0,0,0,0,0,0,0,0,0,0,0,0,0,0,0,0,0,0,0,0]
["USED",null,null,{"$f":"SUM(D3:D65)","v":0},null,{"$f":"SUM(F3:F65)","v":0},0,0,0,0,0,0,0,0,0,0,0,0,0,0,0,0,0,0,0,0,0,0,0,0,0,0,0,0,0,0,0,{"$f":"SUM(AL3:AL64)","v":0},0,0,0,0,0,0,0,0,0]
["CLOSING STOCK",null,null,null,null,{"$f":"SUM(F68-F69)","v":0},0,0,0,0,0,0,0,0,0,0,0,0,0,0,0,0,0,0,0,0,0,0,0,0,0,0,0,{"$f":"SUM(AH66-AH69)","v":0},{"$f":"SUM(AI68-AI69)","v":0},0,0,0,0,0,0,0,0,0,0,0,0]

{"sheet":"Production DAY 7","index":12,"n_rows":44,"n_cols":8,"rows_kept":44,"cut":false,"hidden":false,"merged":[]}
["Nos#","ITEMS"," < OPENING STOCK","RECEIVED","USED >","SALES CLOSING STOCK >","PHYSICAL STOCK COUNT","COMMENTS"]
[1,"Burger Bread",{"$f":"SUM('Production DAY 6'!G2)","v":0},null,{"$f":"SUM('DAY 7'!F69)","v":0},{"$f":"SUM('DAY 7'!F70)","v":0},0,{"$f":"IF(G2=F2,TRUE,FALSE)","v":true}]
[2,"Chicken Patty",{"$f":"SUM('Production DAY 6'!G3)","v":0},null,{"$f":"SUM('DAY 7'!G69)","v":0},{"$f":"SUM('DAY 7'!G70)","v":0},0,true]
[3,"Shawarma Bread",{"$f":"SUM('Production DAY 6'!G4)","v":0},null,{"$f":"SUM('DAY 7'!H69)","v":0},{"$f":"SUM('DAY 7'!H70)","v":0},0,true]
[4,"Chicken Portion or Shawarma portion",{"$f":"SUM('Production DAY 6'!G5)","v":0},null,{"$f":"SUM('DAY 7'!I69)","v":0},{"$f":"SUM('DAY 7'!I70)","v":0},0,true]
[5,"Sausage",{"$f":"SUM('Production DAY 6'!G6)","v":0},null,{"$f":"SUM('DAY 7'!J69)","v":0},{"$f":"SUM('DAY 7'!J70)","v":0},0,true]
[6,"Portion of Fries",{"$f":"SUM('Production DAY 6'!G7)","v":0},null,{"$f":"SUM('DAY 7'!K69)","v":0},{"$f":"SUM('DAY 7'!K70)","v":0},0,true]
[7,"Pieces of Chicken",{"$f":"SUM('Production DAY 6'!G8)","v":0},null,{"$f":"SUM('DAY 7'!L69)","v":0},{"$f":"SUM('DAY 7'!L70)","v":0},0,true]
[8,"Cheese",{"$f":"SUM('Production DAY 6'!G9)","v":0},null,{"$f":"SUM('DAY 7'!M69)","v":0},{"$f":"SUM('DAY 7'!M70)","v":0},0,true]
[9,"Bacon",{"$f":"SUM('Production DAY 6'!G10)","v":0},null,{"$f":"SUM('DAY 7'!N69)","v":0},{"$f":"SUM('DAY 7'!N70)","v":0},0,true]
[10,"A Paper Bag",{"$f":"SUM('Production DAY 6'!G11)","v":0},null,{"$f":"SUM('DAY 7'!O69)","v":0},{"$f":"SUM('DAY 7'!O70)","v":0},0,true]
[11,"Achicken Box",{"$f":"SUM('Production DAY 6'!G12)","v":0},null,{"$f":"SUM('DAY 7'!P69)","v":0},{"$f":"SUM('DAY 7'!P70)","v":0},0,true]
[12,"Paper Wrap",{"$f":"SUM('Production DAY 6'!G13)","v":0},null,{"$f":"SUM('DAY 7'!Q69)","v":0},{"$f":"SUM('DAY 7'!Q70)","v":0},0,true]
[13,"A Branded Nylon",{"$f":"SUM('Production DAY 6'!G14)","v":0},null,{"$f":"SUM('DAY 7'!R69)","v":0},{"$f":"SUM('DAY 7'!R70)","v":0},0,true]
[14,"Parfait",{"$f":"SUM('Production DAY 6'!G15)","v":0},null,{"$f":"SUM('DAY 7'!S69)","v":0},{"$f":"SUM('DAY 7'!S70)","v":0},0,true]
[15,"A Bottle of SUGAR Juice",{"$f":"SUM('Production DAY 6'!G16)","v":0},null,{"$f":"SUM('DAY 7'!T69)","v":0},{"$f":"SUM('DAY 7'!T70)","v":0},0,true]
[16,"35 CL Soft Drink",{"$f":"SUM('Production DAY 6'!G17)","v":0},null,{"$f":"SUM('DAY 7'!U69)","v":0},{"$f":"SUM('DAY 7'!U70)","v":0},0,true]
[17,"Beef Patty",{"$f":"SUM('Production DAY 6'!G18)","v":0},null,{"$f":"SUM('DAY 7'!V69)","v":0},{"$f":"SUM('DAY 7'!V70)","v":0},0,true]
[18,"Cream in GRAMS",{"$f":"SUM('Production DAY 6'!G19)","v":0},null,{"$f":"SUM('DAY 7'!W69)","v":0},{"$f":"SUM('DAY 7'!W70)","v":0},0,true]
[19,"KETCHUP",{"$f":"SUM('Production DAY 6'!G20)","v":0},null,{"$f":"SUM('DAY 7'!X69)","v":0},{"$f":"SUM('DAY 7'!X70)","v":0},0,true]
[20,"plain Nylon",{"$f":"SUM('Production DAY 6'!G21)","v":0},null,{"$f":"SUM('DAY 7'!Y69)","v":0},{"$f":"SUM('DAY 7'!Y70)","v":0},0,true]
[21,"Barbeque Sauce",{"$f":"SUM('Production DAY 6'!G22)","v":0},null,{"$f":"SUM('DAY 7'!Z69)","v":0},{"$f":"SUM('DAY 7'!Z70)","v":0},0,true]
[22,"Meal Box",{"$f":"SUM('Production DAY 6'!G23)","v":0},null,{"$f":"SUM('DAY 7'!AA69)","v":0},{"$f":"SUM('DAY 7'!AA70)","v":0},0,true]
[23,"COCONUT BREAD",{"$f":"SUM('Production DAY 6'!G24)","v":0},null,{"$f":"SUM('DAY 7'!AB69)","v":0},{"$f":"SUM('DAY 7'!AB70)","v":0},0,true]
[24,"SUPA KOMMANDO",{"$f":"SUM('Production DAY 6'!G25)","v":0},null,{"$f":"SUM('DAY 7'!AC69)","v":0},{"$f":"SUM('DAY 7'!AC70)","v":0},0,true]
[25,"SHAWARMA SUB",{"$f":"SUM('Production DAY 6'!G26)","v":0},null,{"$f":"SUM('DAY 7'!AD69)","v":0},{"$f":"SUM('DAY 7'!AD70)","v":0},0,true]
[26,"CAN COKE / FANTA",{"$f":"SUM('Production DAY 6'!G27)","v":0},null,{"$f":"SUM('DAY 7'!AE69)","v":0},{"$f":"SUM('DAY 7'!AE70)","v":0},0,true]
[27,"NUGGETS ",{"$f":"SUM('Production DAY 6'!G28)","v":0},null,{"$f":"SUM('DAY 7'!AF69)","v":0},{"$f":"SUM('DAY 7'!AF70)","v":0},0,true]
[28,"PRAWN",{"$f":"SUM('Production DAY 6'!G29)","v":0},null,{"$f":"SUM('DAY 7'!AG69)","v":0},{"$f":"SUM('DAY 7'!AG70)","v":0},0,true]
[29,"FARM PRIDE",{"$f":"SUM('Production DAY 6'!G30)","v":0},null,{"$f":"SUM('DAY 7'!AH69)","v":0},{"$f":"SUM('DAY 7'!AH70)","v":0},0,true]
[30,"50CL OR PULPY",{"$f":"SUM('Production DAY 6'!G31)","v":0},null,{"$f":"SUM('DAY 7'!AI69)","v":0},{"$f":"SUM('DAY 7'!AI70)","v":0},0,true]
[31,"FARM PRIDE 1 LT",{"$f":"SUM('Production DAY 6'!G32)","v":0},null,{"$f":"SUM('DAY 7'!AJ69)","v":0},{"$f":"SUM('DAY 7'!AJ70)","v":0},0,true]
[32,"BEEF PORTION FOR SHAWARMA",{"$f":"SUM('Production DAY 6'!G33)","v":0},null,{"$f":"SUM('DAY 7'!AK69)","v":0},{"$f":"SUM('DAY 7'!AK70)","v":0},0,true]
[33,"BEEF SUYA STICK",{"$f":"SUM('Production DAY 6'!G34)","v":0},null,{"$f":"SUM('DAY 7'!AL69)","v":0},{"$f":"SUM('DAY 7'!AL70)","v":0},0,true]
[34,"EMPTY 1",{"$f":"SUM('Production DAY 6'!G35)","v":0},null,{"$f":"SUM('DAY 7'!AM69)","v":0},{"$f":"SUM('DAY 7'!AM70)","v":0},0,true]
[35,"EMPTY 2",{"$f":"SUM('Production DAY 6'!G36)","v":0},null,{"$f":"SUM('DAY 7'!AN69)","v":0},{"$f":"SUM('DAY 7'!AN70)","v":0},0,true]
[36,"EMPTY 3",{"$f":"SUM('Production DAY 6'!G37)","v":0},null,{"$f":"SUM('DAY 7'!AO69)","v":0},{"$f":"SUM('DAY 7'!AO70)","v":0},0,true]
[37,"EMPTY 4",{"$f":"SUM('Production DAY 6'!G38)","v":0},null,{"$f":"SUM('DAY 7'!AP69)","v":0},{"$f":"SUM('DAY 7'!AP70)","v":0},0,true]
[38,"EMPTY 5",{"$f":"SUM('Production DAY 6'!G39)","v":0},null,{"$f":"SUM('DAY 7'!AQ69)","v":0},{"$f":"SUM('DAY 7'!AQ70)","v":0},0,true]
[39,"EMPTY 6",{"$f":"SUM('Production DAY 6'!G40)","v":0},null,{"$f":"SUM('DAY 7'!AR69)","v":0},{"$f":"SUM('DAY 7'!AR70)","v":0},0,true]
[40,"EMPTY 7",{"$f":"SUM('Production DAY 6'!G41)","v":0},null,{"$f":"SUM('DAY 7'!AS69)","v":0},{"$f":"SUM('DAY 7'!AS70)","v":0},0,true]
[41,"EMPTY 8",{"$f":"SUM('Production DAY 6'!G42)","v":0},null,{"$f":"SUM('DAY 7'!AT69)","v":0},{"$f":"SUM('DAY 7'!AT70)","v":0},0,true]
[42,"EMPTY 9",{"$f":"SUM('Production DAY 6'!G43)","v":0},null,{"$f":"SUM('DAY 7'!AU69)","v":0},{"$f":"SUM('DAY 7'!AU70)","v":0},0,true]
[43,"EMPTY 10",{"$f":"SUM('Production DAY 6'!G44)","v":0},null,{"$f":"SUM('DAY 7'!AV69)","v":0},{"$f":"SUM('DAY 7'!AV70)","v":0},0,true]

{"sheet":"DAY 7","index":13,"n_rows":70,"n_cols":47,"rows_kept":70,"cut":false,"hidden":false,"merged":[[0,7,0,28]]}
["FEBRUARY 12th, 2022",null,null,{"$f":"SUM(D3:D50)","v":0},null,null,null,"BURGER PALACE INVENTORY RECORDS"]
["ITEM","AMOUNT","QUANTITY","TOTAL",null,"Burger Bread","Chicken Patty","Shawarma Bread","Chicken Portion or Shawarma portion","Sausage","Portion of Fries","Pieces of Chicken","Cheese","Bacon","A Paper Bag","Achicken Box","Paper Wrap","A Branded Nylon","Parfait","A Bottle of SUGAR Juice","35 CL Soft Drink","Beef Patty","Cream in GRAMS","KETCHUP","plain Nylon","Barbeque Sauce","Meal Box","COCONUT BREAD ","SUPA KOMMANDO ","SHAWARMA SUB","CAN COKE / FANTA","NUGGETS","PRAWN","FARM PRIDE 50CL OR PULPY","FARM PRIDE 1 LT","BEEF PORTION FOR SHAWARMA ","BEEF SUYA STICK","EMPTY 1","EMPTY 2","EMPTY 3","EMPTY 4","EMPTY 5","EMPTY 6","EMPTY 7","EMPTY 8","EMPTY 9","EMPTY 10"]
["DELUXE BURGER MEAL (WITH SOFT DRINK)",5400,0,{"$f":"SUM(B3*C3)","v":0},null,{"$f":"SUM(C3)","v":0},{"$f":"SUM(C3)","v":0},{"$f":"SUM(C3)","v":0},{"$f":"SUM(C3)","v":0},{"$f":"SUM(C3)","v":0},{"$f":"SUM(C3)","v":0},{"$f":"SUM(C3)*2","v":0},"ZERO","ZERO",{"$f":"SUM(C3)*1","v":0},{"$f":"SUM(C3)","v":0},{"$f":"SUM(C3)*2","v":0},{"$f":"SUM(C3)","v":0},null,"ZERO",{"$f":"SUM(C3)","v":0},null,{"$f":"SUM(C3)*140","v":0},{"$f":"SUM(C3)","v":0},{"$f":"SUM(C3)","v":0},"ZERO",null,null,null,null,null,null,null,null,null,{"$f":"SUM(AD3)","v":0},0]
["DELUXE BURGER MEAL (WITH SUGARCANE JUICE)",5600,0,{"$f":"SUM(B4*C4)","v":0},null,{"$f":"SUM(C4)","v":0},{"$f":"SUM(C4)","v":0},{"$f":"SUM(C4)","v":0},{"$f":"SUM(C4)","v":0},{"$f":"SUM(C4)","v":0},0,{"$f":"SUM(C4)*2","v":0},"ZERO","ZERO",{"$f":"SUM(C4)*1","v":0},0,{"$f":"SUM(C4)*2","v":0},0,null,{"$f":"SUM(C4)","v":0},"ZERO",null,{"$f":"SUM(C4)*140","v":0},{"$f":"SUM(C4)","v":0},0,"ZERO",null,null,null,null,null,null,null,null,null,0,0]
["DELUXE MEAL EXTRA (WITH Soft Drink)",null,0,{"$f":"SUM(B5*C5)","v":0},null,{"$f":"SUM(C5)","v":0},{"$f":"SUM(C5)","v":0},{"$f":"SUM(C5)","v":0},{"$f":"SUM(C5)","v":0},{"$f":"SUM(C5)","v":0},0,{"$f":"SUM(C5)*2","v":0},"ZERO","ZERO",{"$f":"SUM(C5)","v":0},0,{"$f":"SUM(C5)*2","v":0},0,{"$f":"SUM(C5)","v":0},"ZERO",{"$f":"SUM(C5)","v":0},null,{"$f":"SUM(C5)*140","v":0},{"$f":"SUM(C5)","v":0},0,"ZERO",null,null,null,null,null,null,null,null,null,0,0]
["DELUXE BURGER MEAL Extra (With Sugarcane juice",null,0,{"$f":"SUM(B6*C6)","v":0},null,{"$f":"SUM(C6)","v":0},{"$f":"SUM(C6)","v":0},{"$f":"SUM(C6)","v":0},{"$f":"SUM(C6)","v":0},{"$f":"SUM(C6)","v":0},0,{"$f":"SUM(C6)*2","v":0},"ZERO","ZERO",{"$f":"SUM(C6)","v":0},0,{"$f":"SUM(C6)*2","v":0},0,{"$f":"SUM(C6)","v":0},{"$f":"SUM(C6)","v":0},"ZERO",null,{"$f":"SUM(C6)*140","v":0},{"$f":"SUM(C6)","v":0},0,"ZERO",null,null,null,null,null,null,null,null,null,0,0]
["PREMIUM BURGER Meal ",5900,0,{"$f":"SUM(B7*C7)","v":0},null,{"$f":"SUM(C7)","v":0},{"$f":"SUM(C7)","v":0},"ZERO","ZERO","ZERO",0,{"$f":"SUM(C7)*5","v":0},"ZERO","ZERO",{"$f":"SUM(C7)","v":0},0,{"$f":"SUM(C7)*1.25","v":0},0,"ZERO","ZERO",{"$f":"SUM(C7)","v":0},"ZERO",{"$f":"SUM(C7)*70","v":0},{"$f":"SUM(C7)*2","v":0},0,{"$f":"SUM(C7)","v":0},null,null,null,null,null,null,null,null,null,"ZERO","ZERO"]
["CRISPY CHICKEN BOX",4300,0,null,null,"ZERO","ZERO","ZERO","ZERO","ZERO",0,{"$f":"SUM(C8)*5","v":0},"ZERO","ZERO","ZERO",0,{"$f":"SUM(C8)*0.25","v":0},0,"ZERO","ZERO",{"$f":"SUM(C8)","v":0},"ZERO","ZERO",{"$f":"SUM(C8)*2","v":0},0,{"$f":"SUM(C8)","v":0},null,null,null,null,null,null,null,null,null,"ZERO","ZERO"]
["ROYAL BURGER MEAL (CHICKEN  PATTY)",null,0,{"$f":"SUM(B9*C9)","v":0},null,{"$f":"SUM(C9)","v":0},{"$f":"SUM(C9)*2","v":0},"ZERO","ZERO","ZERO",0,"ZERO",{"$f":"SUM(C9)*2","v":0},{"$f":"SUM(C9)*2","v":0},"ZERO",0,{"$f":"SUM(C9)","v":0},0,{"$f":"SUM(C9)","v":0},"ZERO","ZERO","ZERO",{"$f":"SUM(C9)*140","v":0},{"$f":"SUM(C9)*2","v":0},0,{"$f":"SUM(C9)","v":0},null,null,null,null,null,null,null,null,null,"ZERO","ZERO"]
["ROYAL BURGER MEAL (BEEF  PATTY)",null,0,{"$f":"SUM(B10*C10)","v":0},null,{"$f":"SUM(C10)","v":0},"ZERO","ZERO","ZERO","ZERO",0,"ZERO",{"$f":"SUM(C10)*2","v":0},{"$f":"SUM(C10)*2","v":0},"ZERO",0,0,0,{"$f":"SUM(C10)","v":0},"ZERO","ZERO",{"$f":"SUM(C10)*2","v":0},{"$f":"SUM(C10)*140","v":0},{"$f":"SUM(C10)*2","v":0},0,{"$f":"SUM(C10)","v":0},null,null,null,null,null,null,null,null,null,"ZERO","ZERO"]
["ROYAL BURGER ONLY (CHICKEN PATTY)",3300,0,{"$f":"SUM(B11*C11:C25,A1,A1,A1,A1,A1)","v":0},null,{"$f":"SUM(C11)","v":0},{"$f":"SUM(C11)*2","v":0},"ZERO","ZERO","ZERO","ZERO","ZERO",{"$f":"SUM(C11)*2","v":0},{"$f":"SUM(C11)*2","v":0},"ZERO",0,0,0,"ZERO","ZERO","ZERO","ZERO",{"$f":"SUM(C11)*140","v":0},{"$f":"SUM(C11)","v":0},"ZERO","ZERO",null,null,null,null,null,null,null,null,null,"ZERO","ZERO"]
["ROYAL BURGER ONLY (BEEF PATTY)",3300,0,{"$f":"SUM(B12*C12)","v":0},null,{"$f":"SUM(C12)","v":0},null,"ZERO","ZERO","ZERO","ZERO","ZERO",{"$f":"SUM(C12)*2","v":0},{"$f":"SUM(C12)*2","v":0},"ZERO",0,0,0,"ZERO","ZERO","ZERO",{"$f":"SUM(C12)*2","v":0},{"$f":"SUM(C12)*140","v":0},{"$f":"SUM(C12)","v":0},"ZERO","ZERO",null,null,null,null,null,null,null,null,null,"ZERO","ZERO"]
["MAYOR'S COCONUT BURGER ",2800,0,0,null,0,{"$f":"SUM(C13)","v":0},"ZERO","ZERO","ZERO","ZERO","ZERO",{"$f":"SUM(C13)","v":0},"ZERO","ZERO",0,0,0,"ZERO","ZERO","ZERO",{"$f":"SUM(C13)","v":0},{"$f":"SUM(C13)*140","v":0},"ZERO","ZERO","ZERO",null,{"$f":"SUM(C13)","v":0},{"$f":"SUM(C13)","v":0},null,null,null,null,null,null,"ZERO","ZERO"]
["DOUBLE DECKER CRISPY CHK. CHEESE BURGER",2500,0,0,null,{"$f":"SUM(C14)","v":0},{"$f":"SUM(C14)*2","v":0},"ZERO","ZERO","ZERO","ZERO","ZERO",{"$f":"SUM(C14)","v":0},"ZERO","ZERO",0,0,"ZERO","ZERO","ZERO","ZERO","ZERO",{"$f":"SUM(C14)*70","v":0},"ZERO","ZERO","ZERO",null,null,null,null,null,null,null,null,null,"ZERO","ZERO"]
["SINGLE BEEF BURGER",1700,0,0,null,0,"ZERO","ZERO","ZERO","ZERO","ZERO","ZERO",null,"ZERO",{"$f":"SUM(C15)","v":0},null,0,"ZERO","ZERO","ZERO","ZERO",{"$f":"SUM(C15)","v":0},{"$f":"SUM(C15)*70","v":0},"ZERO","ZERO","ZERO",null,null,null,null,null,null,null,null,null,"ZERO","ZERO"]
["YANKEE BURGER",2400,0,0,null,0,"ZERO","ZERO","ZERO","ZERO","ZERO","ZERO",null,{"$f":"SUM(C16)*2","v":0},{"$f":"SUM(C16)","v":0},null,0,"ZERO","ZERO","ZERO","ZERO",{"$f":"SUM(C16)","v":0},{"$f":"SUM(C16)*70","v":0},"ZERO","ZERO","ZERO",null,null,null,null,null,null,null,null,null,"ZERO","ZERO"]
["ROYAL BURGER WITH FRIES (Chicken)",4000,0,0,null,0,{"$f":"SUM(C17)*2","v":0},"ZERO","ZERO","ZERO",{"$f":"SUM(C17)","v":0},"ZERO",{"$f":"SUM(C17)*2","v":0},{"$f":"SUM(C17)*2","v":0},"ZERO",{"$f":"SUM(C17)","v":0},0,"ZERO","ZERO","ZERO","ZERO","ZERO",{"$f":"SUM(C17)*140","v":0},{"$f":"SUM(C17)*2","v":0},"ZERO","ZERO",null,null,null,null,null,null,null,null,null,"ZERO","ZERO"]
["ROYAL BURGER WITH FRIES (BEEF)",4000,0,0,null,0,"ZERO","ZERO","ZERO","ZERO",{"$f":"SUM(C18)","v":0},"ZERO",{"$f":"SUM(C18)*2","v":0},{"$f":"SUM(C18)*2","v":0},"ZERO",{"$f":"SUM(C18)","v":0},0,"ZERO","ZERO","ZERO","ZERO",{"$f":"SUM(C18)*2","v":0},{"$f":"SUM(C18)*140","v":0},{"$f":"SUM(C18)*2","v":0},"ZERO","ZERO",null,null,null,null,null,null,null,null,null,"ZERO","ZERO"]
["CRISPY CHICKEN BURGER",1700,0,0,null,0,{"$f":"SUM(C19)","v":0},"ZERO","ZERO","ZERO","ZERO","ZERO","ZERO","ZERO",{"$f":"SUM(C19)","v":0},"ZERO",{"$f":"SUM(C19)*1","v":0},"ZERO","ZERO","ZERO","ZERO","ZERO",{"$f":"SUM(C19)*70","v":0},"ZERO","ZERO","ZERO",null,null,null,null,null,null,null,null,null,"ZERO","ZERO"]
["SUYA BURGER BOX",5500,0,0,null,0,{"$f":"SUM(C20)*2","v":0},"ZERO","ZERO",{"$f":"SUM(C20)*4","v":0},{"$f":"SUM(C20)","v":0},{"$f":"SUM(C20)*4","v":0},"ZERO","ZERO",{"$f":"SUM(C20)","v":0},{"$f":"SUM(C20)","v":0},{"$f":"SUM(C20)","v":0},"ZERO","ZERO",null,{"$f":"SUM(C20)","v":0},"ZERO",0,{"$f":"SUM(C20)*2","v":0},{"$f":"SUM(C20)","v":0},"ZERO",{"$f":"SUM(C20)","v":0},null,null,null,null,null,null,null,null,"ZERO","ZERO"]
["CRISPY CHICKEN BURGER PLUS CHEESE",2100,0,0,null,0,{"$f":"SUM(C21)","v":0},"ZERO","ZERO","ZERO","ZERO","ZERO",{"$f":"SUM(C21)","v":0},"ZERO",{"$f":"SUM(C21)","v":0},"ZERO",0,"ZERO","ZERO","ZERO","ZERO","ZERO",0,"ZERO","ZERO","ZERO",null,null,null,null,null,null,null,null,null,"ZERO","ZERO"]
["SINGLE BEEF CHEESE BURGER ",2100,0,0,null,0,"ZERO","ZERO","ZERO","ZERO","ZERO","ZERO",{"$f":"SUM(C22)","v":0},"ZERO",{"$f":"SUM(C22)","v":0},"ZERO",0,"ZERO","ZERO","ZERO","ZERO",{"$f":"SUM(C22)","v":0},0,"ZERO","ZERO","ZERO",null,null,null,null,null,null,null,null,null,"ZERO","ZERO"]
["DOUBLE DECKER BEEF CHEESE BURGER",2800,0,0,null,0,"ZERO","ZERO","ZERO","ZERO","ZERO","ZERO",{"$f":"SUM(C23)*2","v":0},"ZERO","ZERO",{"$f":"SUM(C23)","v":0},0,"ZERO","ZERO","ZERO","ZERO",{"$f":"SUM(C23)*2","v":0},0,"ZERO","ZERO","ZERO",null,null,null,null,null,null,null,null,null,"ZERO","ZERO"]
["CHICKEN SUYA BURGER ",2200,0,0,null,0,{"$f":"SUM(C24)*2","v":0},"ZERO","ZERO","ZERO","ZERO","ZERO","ZERO","ZERO",{"$f":"SUM(C24)*1","v":0},"ZERO",0,"ZERO","ZERO","ZERO","ZERO","ZERO",0,"ZERO","ZERO","ZERO",null,null,null,null,null,null,null,null,null,"ZERO","ZERO"]
["CHICKEN SHAWARMA",1800,0,0,null,null,"ZERO",{"$f":"SUM(C25)","v":0},{"$f":"SUM(C25)","v":0},{"$f":"SUM(C25)*2","v":0},"ZERO","ZERO","ZERO","ZERO","ZERO","ZERO",0,{"$f":"SUM(C25)","v":0},"ZERO","ZERO","ZERO","ZERO",0,"ZERO","ZERO","ZERO",null,null,null,null,null,null,null,null,null,{"$f":"SUM(AD25)","v":0},{"$f":"SUM(AE25)","v":0}]
["BARBECUE BEEF SHAWARMA",2000,0,0,null,null,"ZERO",{"$f":"SUM(C26)","v":0},"ZERO",{"$f":"SUM(C26)*2","v":0},"ZERO","ZERO","ZERO","ZERO","ZERO","ZERO",0,0,"ZERO","ZERO","ZERO","ZERO",0,"ZERO","ZERO","ZERO",null,null,null,null,null,null,null,null,null,{"$f":"SUM(C26)","v":0},"ZERO"]
["BEEF SUYA SHAWARMA",2200,0,0,null,null,"ZERO",{"$f":"SUM(C27)","v":0},"ZERO",{"$f":"SUM(C27)*2","v":0},"ZERO","ZERO","ZERO","ZERO","ZERO","ZERO",0,0,"ZERO","ZERO","ZERO","ZERO",0,"ZERO","ZERO","ZERO",null,null,null,null,null,null,null,null,null,{"$f":"SUM(AD27)","v":0},{"$f":"SUM(C27)","v":0}]
["BEEF SUYA BURGER ",2200,0,0,null,{"$f":"SUM(C28)","v":0},"ZERO",null,"ZERO","ZERO","ZERO","ZERO","ZERO","ZERO",{"$f":"SUM(C28)","v":0},"ZERO",0,0,"ZERO","ZERO","ZERO","ZERO",0,"ZERO","ZERO","ZERO",null,null,null,null,null,null,null,null,null,{"$f":"SUM(AD28)","v":0},{"$f":"SUM(C28)","v":0}]
["CHICKEN SUYA SHAWARMA",2200,0,0,null,"ZERO",{"$f":"SUM(C29)*2","v":0},{"$f":"SUM(C29)","v":0},null,{"$f":"SUM(C29)*2","v":0},"ZERO","ZERO","ZERO","ZERO","ZERO","ZERO",0,0,"ZERO","ZERO","ZERO","ZERO",0,"ZERO","ZERO","ZERO"]
["CHESSY SHAWARMA",2500,0,0,null,"ZERO","ZERO",{"$f":"SUM(C30)","v":0},{"$f":"SUM(C30)","v":0},{"$f":"SUM(C30)*2","v":0},null,"ZERO",{"$f":"SUM(C30)*2","v":0},"ZERO","ZERO","ZERO",0,0,"ZERO","ZERO","ZERO","ZERO",{"$f":"SUM(C30)*140","v":0},"ZERO","ZERO","ZERO",null,null,null,null,null,null,null,null,null,{"$f":"SUM(AD30)","v":0},{"$f":"SUM(AE30)","v":0}]
["2 CHICKEN AND CHIPS",2300,0,0,null,"ZERO","ZERO","ZERO","ZERO","ZERO",{"$f":"SUM(C31)","v":0},{"$f":"SUM(C31)*2","v":0},"ZERO","ZERO","ZERO",{"$f":"SUM(C31)","v":0},"ZERO",0,"ZERO","ZERO","ZERO","ZERO","ZERO",{"$f":"SUM(C31)","v":0},"ZERO","ZERO",null,null,null,null,null,null,null,null,null,"ZERO","ZERO"]
["4 CHICKEN AND CHIPS",3500,0,0,null,"ZERO","ZERO","ZERO","ZERO","ZERO",{"$f":"SUM(C32)","v":0},{"$f":"SUM(C32)*4","v":0},"ZERO","ZERO","ZERO",{"$f":"SUM(C32)","v":0},"ZERO",0,"ZERO","ZERO","ZERO","ZERO","ZERO",{"$f":"SUM(C32)*2","v":0},"ZERO","ZERO","zero","zero","zero",null,null,null,null,null,null,"ZERO","ZERO"]
["SPICY CHICKEN ONLY",650,0,null,null,"ZERO","ZERO","ZERO","ZERO","ZERO","ZERO",{"$f":"SUM(C33)","v":0},"ZERO","ZERO","ZERO","ZERO","ZERO","ZERO","ZERO","ZERO","ZERO","ZERO","ZERO","ZERO",{"$f":"SUM(C33)","v":0},"ZERO",null,null,null,null,null,null,null,null,null,"ZERO","ZERO"]
["CRISPY CHICKEN ONLY",650,0,{"$f":"SUM(B34*C34)","v":0},null,"ZERO","ZERO","ZERO","ZERO","ZERO","ZERO",{"$f":"SUM(C34)","v":0},"ZERO","ZERO","ZERO","ZERO","ZERO","ZERO","ZERO","ZERO","ZERO","ZERO","ZERO","ZERO",{"$f":"SUM(C34)","v":0},"ZERO",null,null,null,null,null,null,null,null,null,"ZERO","ZERO"]
["POTATO FRIES",700,0,0,null,"ZERO","ZERO","ZERO","ZERO","ZERO",null,"ZERO","ZERO","ZERO","ZERO","ZERO","ZERO","ZERO","ZERO","ZERO","ZERO","ZERO","ZERO","ZERO","ZERO","ZERO",null,null,null,null,null,null,null,null,null,"ZERO","ZERO"]
["FRENCH FRIES ONLY",1000,0,0,null,"ZERO","ZERO","ZERO","ZERO","ZERO",{"$f":"SUM(C36)","v":0},"ZERO","ZERO","ZERO","ZERO","ZERO","ZERO","ZERO","ZERO","ZERO","ZERO","ZERO","ZERO","ZERO",{"$f":"SUM(C36)","v":0},"ZERO",null,null,null,null,null,null,null,null,null,"ZERO","ZERO"]
["SUGERCANNE JUICE",750,0,0,null,"ZERO","ZERO","ZERO","ZERO","ZERO","ZERO","ZERO","ZERO","ZERO","ZERO","ZERO","ZERO","ZERO","ZERO",{"$f":"SUM(C37)","v":0},"ZERO","ZERO","ZERO","ZERO","ZERO","ZERO",null,null,null,null,null,null,null,null,null,"ZERO","ZERO"]
["35 CL SOFT DRINK",200,0,0,null,"ZERO","ZERO","ZERO","ZERO","ZERO","ZERO","ZERO","ZERO","ZERO","ZERO","ZERO","ZERO","ZERO","ZERO","ZERO",{"$f":"SUM(C38)","v":0},"ZERO","ZERO","ZERO","ZERO","ZERO",null,null,null,null,null,null,null,null,null,"ZERO","ZERO"]
["PARFAIT",null,0,0,null,"ZERO","ZERO","ZERO","ZERO","ZERO","ZERO","ZERO","ZERO","ZERO","ZERO","ZERO","ZERO",{"$f":"SUM(C39)","v":0},{"$f":"SUM(C39)","v":0},"ZERO","ZERO","ZERO","ZERO","ZERO","ZERO","ZERO",null,null,null,null,null,null,null,null,null,"ZERO","ZERO"]
["MARINATED WINGS",500,0,0,null,"ZERO","ZERO","ZERO","ZERO","ZERO","ZERO",{"$f":"SUM(C40)","v":0},"ZERO","ZERO","ZERO","ZERO","ZERO","ZERO","ZERO","ZERO","ZERO","ZERO","ZERO","ZERO","ZERO","ZERO",null,null,null,null,null,null,null,null,null,"ZERO","ZERO"]
["CHEESE ",400,0,0,null,"ZERO","ZERO","ZERO","ZERO","ZERO","ZERO","ZERO",{"$f":"SUM(C41)","v":0},"ZERO","ZERO","ZERO","ZERO","ZERO","ZERO","ZERO","ZERO","ZERO","ZERO","ZERO","ZERO","ZERO",null,null,null,null,null,null,null,null,null,"ZERO","ZERO"]
["SAUSAGE",200,0,0,null,null,null,null,null,null,"ZERO"]
["BACON",400,0,0,null,"ZERO","ZERO","ZERO","ZERO","ZERO","ZERO","ZERO","ZERO",{"$f":"SUM(C43)","v":0},"ZERO","ZERO","ZERO","ZERO","ZERO","ZERO","ZERO","ZERO","ZERO","ZERO","ZERO","ZERO",null,null,null,null,null,null,null,null,null,"ZERO","ZERO"]
["FRIENDY BURGER MEAL (WITH SOFT DRINK)",10200,0,0,null,{"$f":"SUM(C44)*2","v":0},{"$f":"SUM(C44)*2","v":0},{"$f":"SUM(C44)*2","v":0},{"$f":"SUM(C44)*2","v":0},{"$f":"SUM(C44)*2","v":0},{"$f":"SUM(C44)*2","v":0},{"$f":"SUM(C44)*2*2","v":0},"ZERO","ZERO",{"$f":"SUM(C44)*1*2","v":0},{"$f":"SUM(C44)*2","v":0},{"$f":"SUM(C44)*2*2","v":0},{"$f":"SUM(C44)*2","v":0},null,"ZERO",{"$f":"SUM(C44)*2","v":0},null,{"$f":"SUM(C44)*140*2","v":0},{"$f":"SUM(C44)*2","v":0},{"$f":"SUM(C44)*2","v":0},"ZERO",null,null,null,null,null,null,null,null,null,{"$f":"SUM(AD44)*2","v":0},{"$f":"SUM(AE44)*2","v":0}]
["FRIENDY BURGER MEAL (WITH SUGARCANE JUICE)",10600,0,0,null,{"$f":"SUM(C45)*2","v":0},{"$f":"SUM(C45)*2","v":0},{"$f":"SUM(C45)*2","v":0},{"$f":"SUM(C45)*2","v":0},{"$f":"SUM(C45)*2","v":0},{"$f":"SUM(C45)*2","v":0},{"$f":"SUM(C45)*2*2","v":0},"ZERO","ZERO",{"$f":"SUM(C45)*1*2","v":0},{"$f":"SUM(C45)*2","v":0},{"$f":"SUM(C45)*2*2","v":0},{"$f":"SUM(C45)*2","v":0},null,{"$f":"SUM(C45)*2","v":0},"ZERO",null,{"$f":"SUM(C45)*140*2","v":0},{"$f":"SUM(C45)*2","v":0},{"$f":"SUM(C45)*2","v":0},"ZERO",null,null,null,null,null,null,null,null,null,{"$f":"SUM(AD45)*2","v":0},{"$f":"SUM(AE45)*2","v":0}]
["SHAWARMA  SUB",1800,0,0,null,null,"ZERO","ZERO",{"$f":"SUM(C46)","v":0},{"$f":"SUM(C46)*2","v":0},"ZERO","ZERO","ZERO","ZERO",{"$f":"SUM(C46)*1","v":0},"ZERO",{"$f":"SUM(C46)","v":0},"ZERO","ZERO","ZERO","ZERO","ZERO",{"$f":"SUM(C46)*70","v":0},"ZERO","ZERO","ZERO",null,null,null,{"$f":"SUM(C46)","v":0},null,null,null,null,null,{"$f":"SUM(AD46)","v":0},{"$f":"SUM(AE46)","v":0}]
["DELISH PACK 1",5300,0,0,null,{"$f":"SUM(C47)","v":0},{"$f":"SUM(C47)","v":0},"ZERO",{"$f":"SUM(C47)","v":0},{"$f":"SUM(C47)*2","v":0},"ZERO",{"$f":"SUM(C47)*4","v":0},"ZERO","ZERO",{"$f":"SUM(C47)*1","v":0},{"$f":"SUM(C47)*1","v":0},{"$f":"SUM(C47)*2","v":0},{"$f":"SUM(C47)","v":0},"ZERO","ZERO","ZERO","ZERO",{"$f":"SUM(C47)*70","v":0},"ZERO","ZERO","ZERO",null,null,null,{"$f":"SUM(C47)","v":0},{"$f":"SUM(C47)*1","v":0},null,null,null,null,{"$f":"SUM(AD47)","v":0},{"$f":"SUM(AE47)","v":0}]
["FAMILY BURGER MEAL (WITH SOFT DRINK)",19800,0,0,null,{"$f":"SUM(C48)*4","v":0},{"$f":"SUM(C48)*4","v":0},{"$f":"SUM(C48)*4","v":0},{"$f":"SUM(C48)*4","v":0},{"$f":"SUM(C48)*4","v":0},{"$f":"SUM(C48)*4","v":0},{"$f":"SUM(C48)*2*4","v":0},"ZERO","ZERO",{"$f":"SUM(C48)*1*4","v":0},{"$f":"SUM(C48)*4","v":0},{"$f":"SUM(C48)*2*4","v":0},{"$f":"SUM(C48)*4","v":0},null,"ZERO",{"$f":"SUM(C48)*4","v":0},null,{"$f":"SUM(C48)*140*4","v":0},{"$f":"SUM(C48)*4","v":0},{"$f":"SUM(C48)*4","v":0},"ZERO",null,null,null,null,null,null,null,null,null,{"$f":"SUM(AD48)*4","v":0},{"$f":"SUM(AE48)*4","v":0}]
["FAMILY BURGER MEAL (WITH SUGARCANE JUICE)",20800,0,0,null,{"$f":"SUM(C49)*4","v":0},{"$f":"SUM(C49)*4","v":0},{"$f":"SUM(C49)*4","v":0},{"$f":"SUM(C49)*4","v":0},{"$f":"SUM(C49)*4","v":0},{"$f":"SUM(C49)*4","v":0},{"$f":"SUM(C49)*2*4","v":0},"ZERO","ZERO",{"$f":"SUM(C49)*1*4","v":0},{"$f":"SUM(C49)*4","v":0},{"$f":"SUM(C49)*2*4","v":0},{"$f":"SUM(C49)*4","v":0},null,{"$f":"SUM(C49)*4","v":0},"ZERO",null,{"$f":"SUM(C49)*140*4","v":0},{"$f":"SUM(C49)*4","v":0},{"$f":"SUM(C49)*4","v":0},"ZERO",null,null,null,null,null,null,null,null,null,{"$f":"SUM(AD49)*4","v":0},{"$f":"SUM(AE49)*4","v":0}]
["CAN COKE/FANTA ONLY",null,0,0,null,"ZERO","ZERO","ZERO","ZERO","ZERO","ZERO","ZERO","ZERO","ZERO","ZERO","ZERO","ZERO","ZERO","ZERO","ZERO","ZERO","ZERO","ZERO","ZERO","ZERO","ZERO",null,null,null,null,{"$f":"SUM(C50)","v":0},null,null,null,null,"ZERO","ZERO"]
["SUPA KOMMANDO ONLY",250,0,0,null,"ZERO","ZERO","ZERO","ZERO","ZERO","ZERO","ZERO","ZERO","ZERO","ZERO","ZERO","ZERO","ZERO","ZERO","ZERO","ZERO","ZERO","ZERO","ZERO","ZERO","ZERO",null,null,{"$f":"SUM(C51)","v":0},null,"ZERO","ZERO",null,null,null,"ZERO","ZERO"]
["10X Chicken Nuggets ",2400,0,0,null,null,null,null,null,null,"ZERO",null,null,null,null,{"$f":"SUM(C52)","v":0},null,{"$f":"SUM(C52)","v":0},null,null,null,null,null,{"$f":"SUM(C52)","v":0},null,null,null,null,null,null,{"$f":"SUM(C52)","v":0},{"$f":"SUM(C52)*10","v":0}]
["20X Chicken Nuggets ",4800,0,0,null,null,null,null,null,null,"ZERO ",null,null,null,null,{"$f":"SUM(C53)","v":0},null,{"$f":"SUM(C53)","v":0},null,null,null,null,null,{"$f":"SUM(C53)","v":0},null,null,null,null,null,null,{"$f":"SUM(C53)","v":0},{"$f":"SUM(C53)*20","v":0}]
["10 CHICKEN NUGGETS & FRIES BOX",3300,0,0,null,null,null,null,null,null,{"$f":"SUM(C54)","v":0},null,null,null,null,{"$f":"SUM(C54)","v":0},null,{"$f":"SUM(C54)","v":0},null,null,null,null,null,{"$f":"SUM(C54)","v":0},null,null,null,null,null,null,{"$f":"SUM(C54)","v":0},{"$f":"SUM(C54)*10","v":0}]
["20 CHICKEN NUGGETS & FRIES BOX",6600,0,0,null,null,null,null,null,null,{"$f":"SUM(C55)","v":0},null,null,null,null,{"$f":"SUM(C55)","v":0},null,{"$f":"SUM(C55)","v":0},null,null,null,null,null,{"$f":"SUM(C55)","v":0},null,null,null,null,null,null,{"$f":"SUM(C55)","v":0},{"$f":"SUM(C55)*20","v":0}]
["PRAWN BURGER ",3000,0,0,null,{"$f":"SUM(C56)","v":0},"ZERO","ZERO","ZERO","ZERO","ZERO","ZERO",{"$f":"SUM(C56)","v":0},"ZERO",{"$f":"SUM(C56)","v":0},"ZERO",{"$f":"SUM(C56)","v":0},"ZERO","ZERO","ZERO","ZERO","ZERO",{"$f":"SUM(C56)*70","v":0},"ZERO","ZERO","ZERO",null,null,null,null,null,null,{"$f":"SUM(C56)*2","v":0},null,null,"ZERO","ZERO"]
[" FUNMMY NUGGETS  BOX",5300,0,0,null,{"$f":"SUM(C57)","v":0},{"$f":"SUM(C57)","v":0},null,null,null,{"$f":"SUM(C57)","v":0},null,{"$f":"SUM(C57)","v":0},null,{"$f":"SUM(C57)","v":0},{"$f":"SUM(C57)","v":0},null,{"$f":"SUM(C57)","v":0},null,null,null,null,null,{"$f":"SUM(C57)","v":0},null,null,null,null,null,null,{"$f":"SUM(C57)","v":0},{"$f":"SUM(C57)*10","v":0}]
["FARM PRIDE 50 CL",500,0,0,null,"ZERO","ZERO","ZERO","ZERO","ZERO","ZERO","ZERO","ZERO","ZERO","ZERO","ZERO","ZERO","ZERO","ZERO","ZERO","ZERO","ZERO","ZERO","ZERO","ZERO","ZERO",null,null,null,null,null,null,null,{"$f":"SUM(C58)","v":0},null,"ZERO","ZERO"]
["FARM PRIDE 1 LITRE",800,0,0,null,"ZERO","ZERO","ZERO","ZERO","ZERO","ZERO","ZERO","ZERO","ZERO","ZERO","ZERO","ZERO","ZERO","ZERO","ZERO","ZERO","ZERO","ZERO","ZERO","ZERO","ZERO",null,null,null,null,null,null,null,"ZERO",{"$f":"SUM(C59)","v":0},"ZERO","ZERO"]
["GRILLED CHICKEN BURGER",1700,0,{"$f":"SUM(B60*C60)","v":0},null,{"$f":"SUM(C60)","v":0},{"$f":"SUM(C60)","v":0},"ZERO","ZERO","ZERO","ZERO","ZERO","ZERO","ZERO",{"$f":"SUM(C60)","v":0},"ZERO",{"$f":"SUM(C60)*1","v":0},"ZERO","ZERO","ZERO","ZERO","ZERO",{"$f":"SUM(C60)*70","v":0},"ZERO","ZERO","ZERO",null,null,null,null,null,null,null,null,null,"ZERO","ZERO"]
["GRILLED CHICKEN BURGER + JUICE",2200,0,{"$f":"SUM(B61*C61)","v":0},null,{"$f":"SUM(C61)","v":0},{"$f":"SUM(C61)","v":0},"ZERO","ZERO","ZERO","ZERO","ZERO","ZERO","ZERO",{"$f":"SUM(C61)","v":0},"ZERO",{"$f":"SUM(C61)*1","v":0},"ZERO","ZERO","ZERO","ZERO","ZERO",{"$f":"SUM(C61)*70","v":0},"ZERO","ZERO","ZERO",null,null,null,null,null,null,null,{"$f":"SUM(C61)","v":0},null,"ZERO","ZERO"]
["GRILLED BURGER MEAL 1 & 3",4000,0,{"$f":"SUM(B62*C62)","v":0},null,{"$f":"SUM(C62)","v":0},{"$f":"SUM(C62)","v":0},"ZERO","ZERO","ZERO",{"$f":"SUM(C62)","v":0},{"$f":"SUM(C62)*2","v":0},"ZERO","ZERO","ZERO",{"$f":"SUM(C62)","v":0},{"$f":"SUM(C62)","v":0},{"$f":"SUM(C62)","v":0},"ZERO","ZERO","ZERO","ZERO",{"$f":"SUM(C62)*70","v":0},{"$f":"SUM(C62)","v":0},"ZERO","ZERO",null,null,null,null,null,null,null,{"$f":"SUM(C62)","v":0},null,"ZERO","ZERO"]
["GRILLED BURGER MEAL 2",3700,0,{"$f":"SUM(B63*C63)","v":0},null,{"$f":"SUM(C63)","v":0},{"$f":"SUM(C63)","v":0},"ZERO","ZERO","ZERO",{"$f":"SUM(C63)","v":0},{"$f":"SUM(C63)*2","v":0},"ZERO","ZERO","ZERO",{"$f":"SUM(C63)","v":0},{"$f":"SUM(C63)","v":0},{"$f":"SUM(C63)","v":0},"ZERO","ZERO",{"$f":"SUM(C63)","v":0},"ZERO",{"$f":"SUM(C63)*70","v":0},{"$f":"SUM(C63)","v":0},"ZERO","ZERO",null,null,null,null,null,null,null,"ZERO",null,"ZERO","ZERO"]
["MASTERPIECE BURGER ",5000,0,{"$f":"SUM(B64*C64)","v":0},null,{"$f":"SUM(C64)","v":0},"ZERO","ZERO","ZERO","ZERO","ZERO","ZERO",{"$f":"SUM(C64)","v":0},"ZERO","ZERO",{"$f":"SUM(C64)","v":0},{"$f":"SUM(C64)","v":0},"ZERO","ZERO","ZERO",{"$f":"SUM(C64)","v":0},{"$f":"SUM(C64)","v":0},{"$f":"SUM(C64)*70","v":0},"ZERO","ZERO","ZERO",null,null,null,null,null,null,null,null,null,"ZERO",{"$f":"SUM(C64)","v":0}]
["SUYA BURGER BOX 2 (WITH BEEF SUYA BURGER)",6000,0,0,null,0,"ZERO ","ZERO","ZERO",0,0,0,"ZERO","ZERO",0,0,0,"ZERO","ZERO",null,0,"ZERO",0,0,0,"ZERO",0,null,null,null,null,null,null,null,null,"ZERO",0]
["OPENING STOCK",null,null,null,null,{"$f":"SUM('Production DAY 7'!C2)","v":0},{"$f":"SUM('Production DAY 7'!C3)","v":0},{"$f":"SUM('Production DAY 7'!C4)","v":0},{"$f":"SUM('Production DAY 7'!C5)","v":0},{"$f":"SUM('Production DAY 7'!C6)","v":0},{"$f":"SUM('Production DAY 7'!C7)","v":0},{"$f":"SUM('Production DAY 7'!C8)","v":0},{"$f":"SUM('Production DAY 7'!C9)","v":0},{"$f":"SUM('Production DAY 7'!C10)","v":0},{"$f":"SUM('Production DAY 7'!C11)","v":0},{"$f":"SUM('Production DAY 7'!C12)","v":0},{"$f":"SUM('Production DAY 7'!C13)","v":0},{"$f":"SUM('Production DAY 7'!C14)","v":0},{"$f":"SUM('Production DAY 7'!C15)","v":0},{"$f":"SUM('Production DAY 7'!C16)","v":0},{"$f":"SUM('Production DAY 7'!C17)","v":0},{"$f":"SUM('Production DAY 7'!C18)","v":0},{"$f":"SUM('Production DAY 7'!C19)","v":0},{"$f":"SUM('Production DAY 7'!C20)","v":0},{"$f":"SUM('Production DAY 7'!C21)","v":0},{"$f":"SUM('Production DAY 7'!C22)","v":0},{"$f":"SUM('Production DAY 7'!C23)","v":0},{"$f":"SUM('Production DAY 7'!C24)","v":0},{"$f":"SUM('Production DAY 7'!C25)","v":0},{"$f":"SUM('Production DAY 7'!C26)","v":0},{"$f":"SUM('Production DAY 7'!C27)","v":0},{"$f":"SUM('Production DAY 7'!C28)","v":0},{"$f":"SUM('Production DAY 7'!C29)","v":0},{"$f":"SUM('Production DAY 7'!C30)","v":0},{"$f":"SUM('Production DAY 7'!C31)","v":0},{"$f":"SUM('Production DAY 7'!C32)","v":0},{"$f":"SUM('Production DAY 7'!C33)","v":0},{"$f":"SUM('Production DAY 7'!C34)","v":0},{"$f":"SUM('Production DAY 7'!C35)","v":0},{"$f":"SUM('Production DAY 7'!C36)","v":0},{"$f":"SUM('Production DAY 7'!C37)","v":0},{"$f":"SUM('Production DAY 7'!C38)","v":0},{"$f":"SUM('Production DAY 7'!C39)","v":0},{"$f":"SUM('Production DAY 7'!C40)","v":0},{"$f":"SUM('Production DAY 7'!C41)","v":0},{"$f":"SUM('Production DAY 7'!C42)","v":0},{"$f":"SUM('Production DAY 7'!C43)","v":0}]
["RECEIVED",null,null,null,null,{"$f":"SUM('Production DAY 7'!D2)","v":0},{"$f":"SUM('Production DAY 7'!D3)","v":0},{"$f":"SUM('Production DAY 7'!D4)","v":0},{"$f":"SUM('Production DAY 7'!D5)","v":0},{"$f":"SUM('Production DAY 7'!D6)","v":0},{"$f":"SUM('Production DAY 7'!D7)","v":0},{"$f":"SUM('Production DAY 7'!D8)","v":0},{"$f":"SUM('Production DAY 7'!D9)","v":0},{"$f":"SUM('Production DAY 7'!D10)","v":0},{"$f":"SUM('Production DAY 7'!D11)","v":0},{"$f":"SUM('Production DAY 7'!D12)","v":0},{"$f":"SUM('Production DAY 7'!D13)","v":0},{"$f":"SUM('Production DAY 7'!D14)","v":0},{"$f":"SUM('Production DAY 7'!D15)","v":0},{"$f":"SUM('Production DAY 7'!D16)","v":0},{"$f":"SUM('Production DAY 7'!D17)","v":0},{"$f":"SUM('Production DAY 7'!D18)","v":0},{"$f":"SUM('Production DAY 7'!D19)","v":0},{"$f":"SUM('Production DAY 7'!D20)","v":0},{"$f":"SUM('Production DAY 7'!D21)","v":0},{"$f":"SUM('Production DAY 7'!D22)","v":0},{"$f":"SUM('Production DAY 7'!D23)","v":0},{"$f":"SUM('Production DAY 7'!D24)","v":0},{"$f":"SUM('Production DAY 7'!D25)","v":0},{"$f":"SUM('Production DAY 7'!D26)","v":0},{"$f":"SUM('Production DAY 7'!D27)","v":0},{"$f":"SUM('Production DAY 7'!D28)","v":0},{"$f":"SUM('Production DAY 7'!D29)","v":0},{"$f":"SUM('Production DAY 7'!D30)","v":0},{"$f":"SUM('Production DAY 7'!D31)","v":0},{"$f":"SUM('Production DAY 7'!D32)","v":0},{"$f":"SUM('Production DAY 7'!D33)","v":0},{"$f":"SUM('Production DAY 7'!D34)","v":0},{"$f":"SUM('Production DAY 7'!D35)","v":0},{"$f":"SUM('Production DAY 7'!D36)","v":0},{"$f":"SUM('Production DAY 7'!D37)","v":0},{"$f":"SUM('Production DAY 7'!D38)","v":0},{"$f":"SUM('Production DAY 7'!D39)","v":0},{"$f":"SUM('Production DAY 7'!D40)","v":0},{"$f":"SUM('Production DAY 7'!D41)","v":0},{"$f":"SUM('Production DAY 7'!D42)","v":0},{"$f":"SUM('Production DAY 7'!D43)","v":0}]
["TOTAL STOCK",null,null,null,null,{"$f":"SUM(F66:F67)","v":0},{"$f":"SUM(G66:G67)","v":0},{"$f":"SUM(H66:H67)","v":0},{"$f":"SUM(I66:I67)","v":0},0,0,0,0,0,0,{"$f":"SUM(P66:P67)","v":0},0,0,0,0,0,0,0,0,0,0,0,0,0,0,0,0,0,0,0,0,0,0,0,0,0,0,0,0,0,0,0]
["USED",null,null,{"$f":"SUM(D3:D65)","v":0},null,{"$f":"SUM(F3:F65)","v":0},0,0,0,0,0,0,0,0,0,0,0,0,0,0,0,0,0,0,0,0,0,0,0,0,0,0,0,0,0,0,0,{"$f":"SUM(AL3:AL64)","v":0},0,0,0,0,0,0,0,0,0]
["CLOSING STOCK",null,null,null,null,{"$f":"SUM(F68-F69)","v":0},0,0,0,0,0,0,0,0,0,0,0,0,0,0,0,0,0,0,0,0,0,0,0,0,0,0,0,{"$f":"SUM(AH66-AH69)","v":0},{"$f":"SUM(AI68-AI69)","v":0},0,0,0,0,0,0,0,0,0,0,0,0]

{"sheet":"Production DAY 8","index":14,"n_rows":44,"n_cols":8,"rows_kept":44,"cut":false,"hidden":false,"merged":[]}
["Nos#","ITEMS"," < OPENING STOCK","RECEIVED","USED >","SALES CLOSING STOCK >","PHYSICAL STOCK COUNT","COMMENTS"]
[1,"Burger Bread",{"$f":"SUM('Production DAY 7'!G2)","v":0},null,{"$f":"SUM('DAY 8'!F69)","v":0},{"$f":"SUM('DAY 8'!F70)","v":0},0,{"$f":"IF(G2=F2,TRUE,FALSE)","v":true}]
[2,"Chicken Patty",{"$f":"SUM('Production DAY 7'!G3)","v":0},null,{"$f":"SUM('DAY 8'!G69)","v":0},{"$f":"SUM('DAY 8'!G70)","v":0},0,true]
[3,"Shawarma Bread",{"$f":"SUM('Production DAY 7'!G4)","v":0},null,{"$f":"SUM('DAY 8'!H69)","v":0},{"$f":"SUM('DAY 8'!H70)","v":0},0,true]
[4,"Chicken Portion or Shawarma portion",{"$f":"SUM('Production DAY 7'!G5)","v":0},null,{"$f":"SUM('DAY 8'!I69)","v":0},{"$f":"SUM('DAY 8'!I70)","v":0},0,true]
[5,"Sausage",{"$f":"SUM('Production DAY 7'!G6)","v":0},null,{"$f":"SUM('DAY 8'!J69)","v":0},{"$f":"SUM('DAY 8'!J70)","v":0},0,true]
[6,"Portion of Fries",{"$f":"SUM('Production DAY 7'!G7)","v":0},null,{"$f":"SUM('DAY 8'!K69)","v":0},{"$f":"SUM('DAY 8'!K70)","v":0},0,true]
[7,"Pieces of Chicken",{"$f":"SUM('Production DAY 7'!G8)","v":0},null,{"$f":"SUM('DAY 8'!L69)","v":0},{"$f":"SUM('DAY 8'!L70)","v":0},0,true]
[8,"Cheese",{"$f":"SUM('Production DAY 7'!G9)","v":0},null,{"$f":"SUM('DAY 8'!M69)","v":0},{"$f":"SUM('DAY 8'!M70)","v":0},0,true]
[9,"Bacon",{"$f":"SUM('Production DAY 7'!G10)","v":0},null,{"$f":"SUM('DAY 8'!N69)","v":0},{"$f":"SUM('DAY 8'!N70)","v":0},0,true]
[10,"A Paper Bag",{"$f":"SUM('Production DAY 7'!G11)","v":0},null,{"$f":"SUM('DAY 8'!O69)","v":0},{"$f":"SUM('DAY 8'!O70)","v":0},0,true]
[11,"Achicken Box",{"$f":"SUM('Production DAY 7'!G12)","v":0},null,{"$f":"SUM('DAY 8'!P69)","v":0},{"$f":"SUM('DAY 8'!P70)","v":0},0,true]
[12,"Paper Wrap",{"$f":"SUM('Production DAY 7'!G13)","v":0},null,{"$f":"SUM('DAY 8'!Q69)","v":0},{"$f":"SUM('DAY 8'!Q70)","v":0},0,true]
[13,"A Branded Nylon",{"$f":"SUM('Production DAY 7'!G14)","v":0},null,{"$f":"SUM('DAY 8'!R69)","v":0},{"$f":"SUM('DAY 8'!R70)","v":0},0,true]
[14,"Parfait",{"$f":"SUM('Production DAY 7'!G15)","v":0},null,{"$f":"SUM('DAY 8'!S69)","v":0},{"$f":"SUM('DAY 8'!S70)","v":0},0,true]
[15,"A Bottle of SUGAR Juice",{"$f":"SUM('Production DAY 7'!G16)","v":0},null,{"$f":"SUM('DAY 8'!T69)","v":0},{"$f":"SUM('DAY 8'!T70)","v":0},0,true]
[16,"35 CL Soft Drink",{"$f":"SUM('Production DAY 7'!G17)","v":0},null,{"$f":"SUM('DAY 8'!U69)","v":0},{"$f":"SUM('DAY 8'!U70)","v":0},0,true]
[17,"Beef Patty",{"$f":"SUM('Production DAY 7'!G18)","v":0},null,{"$f":"SUM('DAY 8'!V69)","v":0},{"$f":"SUM('DAY 8'!V70)","v":0},0,true]
[18,"Cream in GRAMS",{"$f":"SUM('Production DAY 7'!G19)","v":0},null,{"$f":"SUM('DAY 8'!W69)","v":0},{"$f":"SUM('DAY 8'!W70)","v":0},0,true]
[19,"KETCHUP",{"$f":"SUM('Production DAY 7'!G20)","v":0},null,{"$f":"SUM('DAY 8'!X69)","v":0},{"$f":"SUM('DAY 8'!X70)","v":0},0,true]
[20,"plain Nylon",{"$f":"SUM('Production DAY 7'!G21)","v":0},null,{"$f":"SUM('DAY 8'!Y69)","v":0},{"$f":"SUM('DAY 8'!Y70)","v":0},0,true]
[21,"Barbeque Sauce",{"$f":"SUM('Production DAY 7'!G22)","v":0},null,{"$f":"SUM('DAY 8'!Z69)","v":0},{"$f":"SUM('DAY 8'!Z70)","v":0},0,true]
[22,"Meal Box",{"$f":"SUM('Production DAY 7'!G23)","v":0},null,{"$f":"SUM('DAY 8'!AA69)","v":0},{"$f":"SUM('DAY 8'!AA70)","v":0},0,true]
[23,"COCONUT BREAD",{"$f":"SUM('Production DAY 7'!G24)","v":0},null,{"$f":"SUM('DAY 8'!AB69)","v":0},{"$f":"SUM('DAY 8'!AB70)","v":0},0,true]
[24,"SUPA KOMMANDO",{"$f":"SUM('Production DAY 7'!G25)","v":0},null,{"$f":"SUM('DAY 8'!AC69)","v":0},{"$f":"SUM('DAY 8'!AC70)","v":0},0,true]
[25,"SHAWARMA SUB",{"$f":"SUM('Production DAY 7'!G26)","v":0},null,{"$f":"SUM('DAY 8'!AD69)","v":0},{"$f":"SUM('DAY 8'!AD70)","v":0},0,true]
[26,"CAN COKE / FANTA",{"$f":"SUM('Production DAY 7'!G27)","v":0},null,{"$f":"SUM('DAY 8'!AE69)","v":0},{"$f":"SUM('DAY 8'!AE70)","v":0},0,true]
[27,"NUGGETS ",{"$f":"SUM('Production DAY 7'!G28)","v":0},null,{"$f":"SUM('DAY 8'!AF69)","v":0},{"$f":"SUM('DAY 8'!AF70)","v":0},0,true]
[28,"PRAWN",{"$f":"SUM('Production DAY 7'!G29)","v":0},null,{"$f":"SUM('DAY 8'!AG69)","v":0},{"$f":"SUM('DAY 8'!AG70)","v":0},0,true]
[29,"FARM PRIDE",{"$f":"SUM('Production DAY 7'!G30)","v":0},null,{"$f":"SUM('DAY 8'!AH69)","v":0},{"$f":"SUM('DAY 8'!AH70)","v":0},0,true]
[30,"50CL OR PULPY",{"$f":"SUM('Production DAY 7'!G31)","v":0},null,{"$f":"SUM('DAY 8'!AI69)","v":0},{"$f":"SUM('DAY 8'!AI70)","v":0},0,true]
[31,"FARM PRIDE 1 LT",{"$f":"SUM('Production DAY 7'!G32)","v":0},null,{"$f":"SUM('DAY 8'!AJ69)","v":0},{"$f":"SUM('DAY 8'!AJ70)","v":0},0,true]
[32,"BEEF PORTION FOR SHAWARMA",{"$f":"SUM('Production DAY 7'!G33)","v":0},null,{"$f":"SUM('DAY 8'!AK69)","v":0},{"$f":"SUM('DAY 8'!AK70)","v":0},0,true]
[33,"BEEF SUYA STICK",{"$f":"SUM('Production DAY 7'!G34)","v":0},null,{"$f":"SUM('DAY 8'!AL69)","v":0},{"$f":"SUM('DAY 8'!AL70)","v":0},0,true]
[34,"EMPTY 1",{"$f":"SUM('Production DAY 7'!G35)","v":0},null,{"$f":"SUM('DAY 8'!AM69)","v":0},{"$f":"SUM('DAY 8'!AM70)","v":0},0,true]
[35,"EMPTY 2",{"$f":"SUM('Production DAY 7'!G36)","v":0},null,{"$f":"SUM('DAY 8'!AN69)","v":0},{"$f":"SUM('DAY 8'!AN70)","v":0},0,true]
[36,"EMPTY 3",{"$f":"SUM('Production DAY 7'!G37)","v":0},null,{"$f":"SUM('DAY 8'!AO69)","v":0},{"$f":"SUM('DAY 8'!AO70)","v":0},0,true]
[37,"EMPTY 4",{"$f":"SUM('Production DAY 7'!G38)","v":0},null,{"$f":"SUM('DAY 8'!AP69)","v":0},{"$f":"SUM('DAY 8'!AP70)","v":0},0,true]
[38,"EMPTY 5",{"$f":"SUM('Production DAY 7'!G39)","v":0},null,{"$f":"SUM('DAY 8'!AQ69)","v":0},{"$f":"SUM('DAY 8'!AQ70)","v":0},0,true]
[39,"EMPTY 6",{"$f":"SUM('Production DAY 7'!G40)","v":0},null,{"$f":"SUM('DAY 8'!AR69)","v":0},{"$f":"SUM('DAY 8'!AR70)","v":0},0,true]
[40,"EMPTY 7",{"$f":"SUM('Production DAY 7'!G41)","v":0},null,{"$f":"SUM('DAY 8'!AS69)","v":0},{"$f":"SUM('DAY 8'!AS70)","v":0},0,true]
[41,"EMPTY 8",{"$f":"SUM('Production DAY 7'!G42)","v":0},null,{"$f":"SUM('DAY 8'!AT69)","v":0},{"$f":"SUM('DAY 8'!AT70)","v":0},0,true]
[42,"EMPTY 9",{"$f":"SUM('Production DAY 7'!G43)","v":0},null,{"$f":"SUM('DAY 8'!AU69)","v":0},{"$f":"SUM('DAY 8'!AU70)","v":0},0,true]
[43,"EMPTY 10",{"$f":"SUM('Production DAY 7'!G44)","v":0},null,{"$f":"SUM('DAY 8'!AV69)","v":0},{"$f":"SUM('DAY 8'!AV70)","v":0},0,true]

{"sheet":"DAY 8","index":15,"n_rows":70,"n_cols":47,"rows_kept":70,"cut":false,"hidden":false,"merged":[[0,7,0,28]]}
["FEBRUARY 12th, 2022",null,null,{"$f":"SUM(D3:D50)","v":0},null,null,null,"BURGER PALACE INVENTORY RECORDS"]
["ITEM","AMOUNT","QUANTITY","TOTAL",null,"Burger Bread","Chicken Patty","Shawarma Bread","Chicken Portion or Shawarma portion","Sausage","Portion of Fries","Pieces of Chicken","Cheese","Bacon","A Paper Bag","Achicken Box","Paper Wrap","A Branded Nylon","Parfait","A Bottle of SUGAR Juice","35 CL Soft Drink","Beef Patty","Cream in GRAMS","KETCHUP","plain Nylon","Barbeque Sauce","Meal Box","COCONUT BREAD ","SUPA KOMMANDO ","SHAWARMA SUB","CAN COKE / FANTA","NUGGETS","PRAWN","FARM PRIDE 50CL OR PULPY","FARM PRIDE 1 LT","BEEF PORTION FOR SHAWARMA ","BEEF SUYA STICK","EMPTY 1","EMPTY 2","EMPTY 3","EMPTY 4","EMPTY 5","EMPTY 6","EMPTY 7","EMPTY 8","EMPTY 9","EMPTY 10"]
["DELUXE BURGER MEAL (WITH SOFT DRINK)",5400,0,{"$f":"SUM(B3*C3)","v":0},null,{"$f":"SUM(C3)","v":0},{"$f":"SUM(C3)","v":0},{"$f":"SUM(C3)","v":0},{"$f":"SUM(C3)","v":0},{"$f":"SUM(C3)","v":0},{"$f":"SUM(C3)","v":0},{"$f":"SUM(C3)*2","v":0},"ZERO","ZERO",{"$f":"SUM(C3)*1","v":0},{"$f":"SUM(C3)","v":0},{"$f":"SUM(C3)*2","v":0},{"$f":"SUM(C3)","v":0},null,"ZERO",{"$f":"SUM(C3)","v":0},null,{"$f":"SUM(C3)*140","v":0},{"$f":"SUM(C3)","v":0},{"$f":"SUM(C3)","v":0},"ZERO",null,null,null,null,null,null,null,null,null,{"$f":"SUM(AD3)","v":0},0]
["DELUXE BURGER MEAL (WITH SUGARCANE JUICE)",5600,0,{"$f":"SUM(B4*C4)","v":0},null,{"$f":"SUM(C4)","v":0},{"$f":"SUM(C4)","v":0},{"$f":"SUM(C4)","v":0},{"$f":"SUM(C4)","v":0},{"$f":"SUM(C4)","v":0},0,{"$f":"SUM(C4)*2","v":0},"ZERO","ZERO",{"$f":"SUM(C4)*1","v":0},0,{"$f":"SUM(C4)*2","v":0},0,null,{"$f":"SUM(C4)","v":0},"ZERO",null,{"$f":"SUM(C4)*140","v":0},{"$f":"SUM(C4)","v":0},0,"ZERO",null,null,null,null,null,null,null,null,null,0,0]
["DELUXE MEAL EXTRA (WITH Soft Drink)",null,0,{"$f":"SUM(B5*C5)","v":0},null,{"$f":"SUM(C5)","v":0},{"$f":"SUM(C5)","v":0},{"$f":"SUM(C5)","v":0},{"$f":"SUM(C5)","v":0},{"$f":"SUM(C5)","v":0},0,{"$f":"SUM(C5)*2","v":0},"ZERO","ZERO",{"$f":"SUM(C5)","v":0},0,{"$f":"SUM(C5)*2","v":0},0,{"$f":"SUM(C5)","v":0},"ZERO",{"$f":"SUM(C5)","v":0},null,{"$f":"SUM(C5)*140","v":0},{"$f":"SUM(C5)","v":0},0,"ZERO",null,null,null,null,null,null,null,null,null,0,0]
["DELUXE BURGER MEAL Extra (With Sugarcane juice",null,0,{"$f":"SUM(B6*C6)","v":0},null,{"$f":"SUM(C6)","v":0},{"$f":"SUM(C6)","v":0},{"$f":"SUM(C6)","v":0},{"$f":"SUM(C6)","v":0},{"$f":"SUM(C6)","v":0},0,{"$f":"SUM(C6)*2","v":0},"ZERO","ZERO",{"$f":"SUM(C6)","v":0},0,{"$f":"SUM(C6)*2","v":0},0,{"$f":"SUM(C6)","v":0},{"$f":"SUM(C6)","v":0},"ZERO",null,{"$f":"SUM(C6)*140","v":0},{"$f":"SUM(C6)","v":0},0,"ZERO",null,null,null,null,null,null,null,null,null,0,0]
["PREMIUM BURGER Meal ",5900,0,{"$f":"SUM(B7*C7)","v":0},null,{"$f":"SUM(C7)","v":0},{"$f":"SUM(C7)","v":0},"ZERO","ZERO","ZERO",0,{"$f":"SUM(C7)*5","v":0},"ZERO","ZERO",{"$f":"SUM(C7)","v":0},0,{"$f":"SUM(C7)*1.25","v":0},0,"ZERO","ZERO",{"$f":"SUM(C7)","v":0},"ZERO",{"$f":"SUM(C7)*70","v":0},{"$f":"SUM(C7)*2","v":0},0,{"$f":"SUM(C7)","v":0},null,null,null,null,null,null,null,null,null,"ZERO","ZERO"]
["CRISPY CHICKEN BOX",4300,0,null,null,"ZERO","ZERO","ZERO","ZERO","ZERO",0,{"$f":"SUM(C8)*5","v":0},"ZERO","ZERO","ZERO",0,{"$f":"SUM(C8)*0.25","v":0},0,"ZERO","ZERO",{"$f":"SUM(C8)","v":0},"ZERO","ZERO",{"$f":"SUM(C8)*2","v":0},0,{"$f":"SUM(C8)","v":0},null,null,null,null,null,null,null,null,null,"ZERO","ZERO"]
["ROYAL BURGER MEAL (CHICKEN  PATTY)",null,0,{"$f":"SUM(B9*C9)","v":0},null,{"$f":"SUM(C9)","v":0},{"$f":"SUM(C9)*2","v":0},"ZERO","ZERO","ZERO",0,"ZERO",{"$f":"SUM(C9)*2","v":0},{"$f":"SUM(C9)*2","v":0},"ZERO",0,{"$f":"SUM(C9)","v":0},0,{"$f":"SUM(C9)","v":0},"ZERO","ZERO","ZERO",{"$f":"SUM(C9)*140","v":0},{"$f":"SUM(C9)*2","v":0},0,{"$f":"SUM(C9)","v":0},null,null,null,null,null,null,null,null,null,"ZERO","ZERO"]
["ROYAL BURGER MEAL (BEEF  PATTY)",null,0,{"$f":"SUM(B10*C10)","v":0},null,{"$f":"SUM(C10)","v":0},"ZERO","ZERO","ZERO","ZERO",0,"ZERO",{"$f":"SUM(C10)*2","v":0},{"$f":"SUM(C10)*2","v":0},"ZERO",0,0,0,{"$f":"SUM(C10)","v":0},"ZERO","ZERO",{"$f":"SUM(C10)*2","v":0},{"$f":"SUM(C10)*140","v":0},{"$f":"SUM(C10)*2","v":0},0,{"$f":"SUM(C10)","v":0},null,null,null,null,null,null,null,null,null,"ZERO","ZERO"]
["ROYAL BURGER ONLY (CHICKEN PATTY)",3300,0,{"$f":"SUM(B11*C11:C25,A1,A1,A1,A1,A1)","v":0},null,{"$f":"SUM(C11)","v":0},{"$f":"SUM(C11)*2","v":0},"ZERO","ZERO","ZERO","ZERO","ZERO",{"$f":"SUM(C11)*2","v":0},{"$f":"SUM(C11)*2","v":0},"ZERO",0,0,0,"ZERO","ZERO","ZERO","ZERO",{"$f":"SUM(C11)*140","v":0},{"$f":"SUM(C11)","v":0},"ZERO","ZERO",null,null,null,null,null,null,null,null,null,"ZERO","ZERO"]
["ROYAL BURGER ONLY (BEEF PATTY)",3300,0,{"$f":"SUM(B12*C12)","v":0},null,{"$f":"SUM(C12)","v":0},null,"ZERO","ZERO","ZERO","ZERO","ZERO",{"$f":"SUM(C12)*2","v":0},{"$f":"SUM(C12)*2","v":0},"ZERO",0,0,0,"ZERO","ZERO","ZERO",{"$f":"SUM(C12)*2","v":0},{"$f":"SUM(C12)*140","v":0},{"$f":"SUM(C12)","v":0},"ZERO","ZERO",null,null,null,null,null,null,null,null,null,"ZERO","ZERO"]
["MAYOR'S COCONUT BURGER ",2800,0,0,null,0,{"$f":"SUM(C13)","v":0},"ZERO","ZERO","ZERO","ZERO","ZERO",{"$f":"SUM(C13)","v":0},"ZERO","ZERO",0,0,0,"ZERO","ZERO","ZERO",{"$f":"SUM(C13)","v":0},{"$f":"SUM(C13)*140","v":0},"ZERO","ZERO","ZERO",null,{"$f":"SUM(C13)","v":0},{"$f":"SUM(C13)","v":0},null,null,null,null,null,null,"ZERO","ZERO"]
["DOUBLE DECKER CRISPY CHK. CHEESE BURGER",2500,0,0,null,{"$f":"SUM(C14)","v":0},{"$f":"SUM(C14)*2","v":0},"ZERO","ZERO","ZERO","ZERO","ZERO",{"$f":"SUM(C14)","v":0},"ZERO","ZERO",0,0,"ZERO","ZERO","ZERO","ZERO","ZERO",{"$f":"SUM(C14)*70","v":0},"ZERO","ZERO","ZERO",null,null,null,null,null,null,null,null,null,"ZERO","ZERO"]
["SINGLE BEEF BURGER",1700,0,0,null,0,"ZERO","ZERO","ZERO","ZERO","ZERO","ZERO",null,"ZERO",{"$f":"SUM(C15)","v":0},null,0,"ZERO","ZERO","ZERO","ZERO",{"$f":"SUM(C15)","v":0},{"$f":"SUM(C15)*70","v":0},"ZERO","ZERO","ZERO",null,null,null,null,null,null,null,null,null,"ZERO","ZERO"]
["YANKEE BURGER",2400,0,0,null,0,"ZERO","ZERO","ZERO","ZERO","ZERO","ZERO",null,{"$f":"SUM(C16)*2","v":0},{"$f":"SUM(C16)","v":0},null,0,"ZERO","ZERO","ZERO","ZERO",{"$f":"SUM(C16)","v":0},{"$f":"SUM(C16)*70","v":0},"ZERO","ZERO","ZERO",null,null,null,null,null,null,null,null,null,"ZERO","ZERO"]
["ROYAL BURGER WITH FRIES (Chicken)",4000,0,0,null,0,{"$f":"SUM(C17)*2","v":0},"ZERO","ZERO","ZERO",{"$f":"SUM(C17)","v":0},"ZERO",{"$f":"SUM(C17)*2","v":0},{"$f":"SUM(C17)*2","v":0},"ZERO",{"$f":"SUM(C17)","v":0},0,"ZERO","ZERO","ZERO","ZERO","ZERO",{"$f":"SUM(C17)*140","v":0},{"$f":"SUM(C17)*2","v":0},"ZERO","ZERO",null,null,null,null,null,null,null,null,null,"ZERO","ZERO"]
["ROYAL BURGER WITH FRIES (BEEF)",4000,0,0,null,0,"ZERO","ZERO","ZERO","ZERO",{"$f":"SUM(C18)","v":0},"ZERO",{"$f":"SUM(C18)*2","v":0},{"$f":"SUM(C18)*2","v":0},"ZERO",{"$f":"SUM(C18)","v":0},0,"ZERO","ZERO","ZERO","ZERO",{"$f":"SUM(C18)*2","v":0},{"$f":"SUM(C18)*140","v":0},{"$f":"SUM(C18)*2","v":0},"ZERO","ZERO",null,null,null,null,null,null,null,null,null,"ZERO","ZERO"]
["CRISPY CHICKEN BURGER",1700,0,0,null,0,{"$f":"SUM(C19)","v":0},"ZERO","ZERO","ZERO","ZERO","ZERO","ZERO","ZERO",{"$f":"SUM(C19)","v":0},"ZERO",{"$f":"SUM(C19)*1","v":0},"ZERO","ZERO","ZERO","ZERO","ZERO",{"$f":"SUM(C19)*70","v":0},"ZERO","ZERO","ZERO",null,null,null,null,null,null,null,null,null,"ZERO","ZERO"]
["SUYA BURGER BOX",5500,0,0,null,0,{"$f":"SUM(C20)*2","v":0},"ZERO","ZERO",{"$f":"SUM(C20)*4","v":0},{"$f":"SUM(C20)","v":0},{"$f":"SUM(C20)*4","v":0},"ZERO","ZERO",{"$f":"SUM(C20)","v":0},{"$f":"SUM(C20)","v":0},{"$f":"SUM(C20)","v":0},"ZERO","ZERO",null,{"$f":"SUM(C20)","v":0},"ZERO",0,{"$f":"SUM(C20)*2","v":0},{"$f":"SUM(C20)","v":0},"ZERO",{"$f":"SUM(C20)","v":0},null,null,null,null,null,null,null,null,"ZERO","ZERO"]
["CRISPY CHICKEN BURGER PLUS CHEESE",2100,0,0,null,0,{"$f":"SUM(C21)","v":0},"ZERO","ZERO","ZERO","ZERO","ZERO",{"$f":"SUM(C21)","v":0},"ZERO",{"$f":"SUM(C21)","v":0},"ZERO",0,"ZERO","ZERO","ZERO","ZERO","ZERO",0,"ZERO","ZERO","ZERO",null,null,null,null,null,null,null,null,null,"ZERO","ZERO"]
["SINGLE BEEF CHEESE BURGER ",2100,0,0,null,0,"ZERO","ZERO","ZERO","ZERO","ZERO","ZERO",{"$f":"SUM(C22)","v":0},"ZERO",{"$f":"SUM(C22)","v":0},"ZERO",0,"ZERO","ZERO","ZERO","ZERO",{"$f":"SUM(C22)","v":0},0,"ZERO","ZERO","ZERO",null,null,null,null,null,null,null,null,null,"ZERO","ZERO"]
["DOUBLE DECKER BEEF CHEESE BURGER",2800,0,0,null,0,"ZERO","ZERO","ZERO","ZERO","ZERO","ZERO",{"$f":"SUM(C23)*2","v":0},"ZERO","ZERO",{"$f":"SUM(C23)","v":0},0,"ZERO","ZERO","ZERO","ZERO",{"$f":"SUM(C23)*2","v":0},0,"ZERO","ZERO","ZERO",null,null,null,null,null,null,null,null,null,"ZERO","ZERO"]
["CHICKEN SUYA BURGER ",2200,0,0,null,0,{"$f":"SUM(C24)*2","v":0},"ZERO","ZERO","ZERO","ZERO","ZERO","ZERO","ZERO",{"$f":"SUM(C24)*1","v":0},"ZERO",0,"ZERO","ZERO","ZERO","ZERO","ZERO",0,"ZERO","ZERO","ZERO",null,null,null,null,null,null,null,null,null,"ZERO","ZERO"]
["CHICKEN SHAWARMA",1800,0,0,null,null,"ZERO",{"$f":"SUM(C25)","v":0},{"$f":"SUM(C25)","v":0},{"$f":"SUM(C25)*2","v":0},"ZERO","ZERO","ZERO","ZERO","ZERO","ZERO",0,{"$f":"SUM(C25)","v":0},"ZERO","ZERO","ZERO","ZERO",0,"ZERO","ZERO","ZERO",null,null,null,null,null,null,null,null,null,{"$f":"SUM(AD25)","v":0},{"$f":"SUM(AE25)","v":0}]
["BARBECUE BEEF SHAWARMA",2000,0,0,null,null,"ZERO",{"$f":"SUM(C26)","v":0},"ZERO",{"$f":"SUM(C26)*2","v":0},"ZERO","ZERO","ZERO","ZERO","ZERO","ZERO",0,0,"ZERO","ZERO","ZERO","ZERO",0,"ZERO","ZERO","ZERO",null,null,null,null,null,null,null,null,null,{"$f":"SUM(C26)","v":0},"ZERO"]
["BEEF SUYA SHAWARMA",2200,0,0,null,null,"ZERO",{"$f":"SUM(C27)","v":0},"ZERO",{"$f":"SUM(C27)*2","v":0},"ZERO","ZERO","ZERO","ZERO","ZERO","ZERO",0,0,"ZERO","ZERO","ZERO","ZERO",0,"ZERO","ZERO","ZERO",null,null,null,null,null,null,null,null,null,{"$f":"SUM(AD27)","v":0},{"$f":"SUM(C27)","v":0}]
["BEEF SUYA BURGER ",2200,0,0,null,{"$f":"SUM(C28)","v":0},"ZERO",null,"ZERO","ZERO","ZERO","ZERO","ZERO","ZERO",{"$f":"SUM(C28)","v":0},"ZERO",0,0,"ZERO","ZERO","ZERO","ZERO",0,"ZERO","ZERO","ZERO",null,null,null,null,null,null,null,null,null,{"$f":"SUM(AD28)","v":0},{"$f":"SUM(C28)","v":0}]
["CHICKEN SUYA SHAWARMA",2200,0,0,null,"ZERO",{"$f":"SUM(C29)*2","v":0},{"$f":"SUM(C29)","v":0},null,{"$f":"SUM(C29)*2","v":0},"ZERO","ZERO","ZERO","ZERO","ZERO","ZERO",0,0,"ZERO","ZERO","ZERO","ZERO",0,"ZERO","ZERO","ZERO"]
["CHESSY SHAWARMA",2500,0,0,null,"ZERO","ZERO",{"$f":"SUM(C30)","v":0},{"$f":"SUM(C30)","v":0},{"$f":"SUM(C30)*2","v":0},null,"ZERO",{"$f":"SUM(C30)*2","v":0},"ZERO","ZERO","ZERO",0,0,"ZERO","ZERO","ZERO","ZERO",{"$f":"SUM(C30)*140","v":0},"ZERO","ZERO","ZERO",null,null,null,null,null,null,null,null,null,{"$f":"SUM(AD30)","v":0},{"$f":"SUM(AE30)","v":0}]
["2 CHICKEN AND CHIPS",2300,0,0,null,"ZERO","ZERO","ZERO","ZERO","ZERO",{"$f":"SUM(C31)","v":0},{"$f":"SUM(C31)*2","v":0},"ZERO","ZERO","ZERO",{"$f":"SUM(C31)","v":0},"ZERO",0,"ZERO","ZERO","ZERO","ZERO","ZERO",{"$f":"SUM(C31)","v":0},"ZERO","ZERO",null,null,null,null,null,null,null,null,null,"ZERO","ZERO"]
["4 CHICKEN AND CHIPS",3500,0,0,null,"ZERO","ZERO","ZERO","ZERO","ZERO",{"$f":"SUM(C32)","v":0},{"$f":"SUM(C32)*4","v":0},"ZERO","ZERO","ZERO",{"$f":"SUM(C32)","v":0},"ZERO",0,"ZERO","ZERO","ZERO","ZERO","ZERO",{"$f":"SUM(C32)*2","v":0},"ZERO","ZERO","zero","zero","zero",null,null,null,null,null,null,"ZERO","ZERO"]
["SPICY CHICKEN ONLY",650,0,null,null,"ZERO","ZERO","ZERO","ZERO","ZERO","ZERO",{"$f":"SUM(C33)","v":0},"ZERO","ZERO","ZERO","ZERO","ZERO","ZERO","ZERO","ZERO","ZERO","ZERO","ZERO","ZERO",{"$f":"SUM(C33)","v":0},"ZERO",null,null,null,null,null,null,null,null,null,"ZERO","ZERO"]
["CRISPY CHICKEN ONLY",650,0,{"$f":"SUM(B34*C34)","v":0},null,"ZERO","ZERO","ZERO","ZERO","ZERO","ZERO",{"$f":"SUM(C34)","v":0},"ZERO","ZERO","ZERO","ZERO","ZERO","ZERO","ZERO","ZERO","ZERO","ZERO","ZERO","ZERO",{"$f":"SUM(C34)","v":0},"ZERO",null,null,null,null,null,null,null,null,null,"ZERO","ZERO"]
["POTATO FRIES",700,0,0,null,"ZERO","ZERO","ZERO","ZERO","ZERO",null,"ZERO","ZERO","ZERO","ZERO","ZERO","ZERO","ZERO","ZERO","ZERO","ZERO","ZERO","ZERO","ZERO","ZERO","ZERO",null,null,null,null,null,null,null,null,null,"ZERO","ZERO"]
["FRENCH FRIES ONLY",1000,0,0,null,"ZERO","ZERO","ZERO","ZERO","ZERO",{"$f":"SUM(C36)","v":0},"ZERO","ZERO","ZERO","ZERO","ZERO","ZERO","ZERO","ZERO","ZERO","ZERO","ZERO","ZERO","ZERO",{"$f":"SUM(C36)","v":0},"ZERO",null,null,null,null,null,null,null,null,null,"ZERO","ZERO"]
["SUGERCANNE JUICE",750,0,0,null,"ZERO","ZERO","ZERO","ZERO","ZERO","ZERO","ZERO","ZERO","ZERO","ZERO","ZERO","ZERO","ZERO","ZERO",{"$f":"SUM(C37)","v":0},"ZERO","ZERO","ZERO","ZERO","ZERO","ZERO",null,null,null,null,null,null,null,null,null,"ZERO","ZERO"]
["35 CL SOFT DRINK",200,0,0,null,"ZERO","ZERO","ZERO","ZERO","ZERO","ZERO","ZERO","ZERO","ZERO","ZERO","ZERO","ZERO","ZERO","ZERO","ZERO",{"$f":"SUM(C38)","v":0},"ZERO","ZERO","ZERO","ZERO","ZERO",null,null,null,null,null,null,null,null,null,"ZERO","ZERO"]
["PARFAIT",null,0,0,null,"ZERO","ZERO","ZERO","ZERO","ZERO","ZERO","ZERO","ZERO","ZERO","ZERO","ZERO","ZERO",{"$f":"SUM(C39)","v":0},{"$f":"SUM(C39)","v":0},"ZERO","ZERO","ZERO","ZERO","ZERO","ZERO","ZERO",null,null,null,null,null,null,null,null,null,"ZERO","ZERO"]
["MARINATED WINGS",500,0,0,null,"ZERO","ZERO","ZERO","ZERO","ZERO","ZERO",{"$f":"SUM(C40)","v":0},"ZERO","ZERO","ZERO","ZERO","ZERO","ZERO","ZERO","ZERO","ZERO","ZERO","ZERO","ZERO","ZERO","ZERO",null,null,null,null,null,null,null,null,null,"ZERO","ZERO"]
["CHEESE ",400,0,0,null,"ZERO","ZERO","ZERO","ZERO","ZERO","ZERO","ZERO",{"$f":"SUM(C41)","v":0},"ZERO","ZERO","ZERO","ZERO","ZERO","ZERO","ZERO","ZERO","ZERO","ZERO","ZERO","ZERO","ZERO",null,null,null,null,null,null,null,null,null,"ZERO","ZERO"]
["SAUSAGE",200,0,0,null,null,null,null,null,null,"ZERO"]
["BACON",400,0,0,null,"ZERO","ZERO","ZERO","ZERO","ZERO","ZERO","ZERO","ZERO",{"$f":"SUM(C43)","v":0},"ZERO","ZERO","ZERO","ZERO","ZERO","ZERO","ZERO","ZERO","ZERO","ZERO","ZERO","ZERO",null,null,null,null,null,null,null,null,null,"ZERO","ZERO"]
["FRIENDY BURGER MEAL (WITH SOFT DRINK)",10200,0,0,null,{"$f":"SUM(C44)*2","v":0},{"$f":"SUM(C44)*2","v":0},{"$f":"SUM(C44)*2","v":0},{"$f":"SUM(C44)*2","v":0},{"$f":"SUM(C44)*2","v":0},{"$f":"SUM(C44)*2","v":0},{"$f":"SUM(C44)*2*2","v":0},"ZERO","ZERO",{"$f":"SUM(C44)*1*2","v":0},{"$f":"SUM(C44)*2","v":0},{"$f":"SUM(C44)*2*2","v":0},{"$f":"SUM(C44)*2","v":0},null,"ZERO",{"$f":"SUM(C44)*2","v":0},null,{"$f":"SUM(C44)*140*2","v":0},{"$f":"SUM(C44)*2","v":0},{"$f":"SUM(C44)*2","v":0},"ZERO",null,null,null,null,null,null,null,null,null,{"$f":"SUM(AD44)*2","v":0},{"$f":"SUM(AE44)*2","v":0}]
["FRIENDY BURGER MEAL (WITH SUGARCANE JUICE)",10600,0,0,null,{"$f":"SUM(C45)*2","v":0},{"$f":"SUM(C45)*2","v":0},{"$f":"SUM(C45)*2","v":0},{"$f":"SUM(C45)*2","v":0},{"$f":"SUM(C45)*2","v":0},{"$f":"SUM(C45)*2","v":0},{"$f":"SUM(C45)*2*2","v":0},"ZERO","ZERO",{"$f":"SUM(C45)*1*2","v":0},{"$f":"SUM(C45)*2","v":0},{"$f":"SUM(C45)*2*2","v":0},{"$f":"SUM(C45)*2","v":0},null,{"$f":"SUM(C45)*2","v":0},"ZERO",null,{"$f":"SUM(C45)*140*2","v":0},{"$f":"SUM(C45)*2","v":0},{"$f":"SUM(C45)*2","v":0},"ZERO",null,null,null,null,null,null,null,null,null,{"$f":"SUM(AD45)*2","v":0},{"$f":"SUM(AE45)*2","v":0}]
["SHAWARMA  SUB",1800,0,0,null,null,"ZERO","ZERO",{"$f":"SUM(C46)","v":0},{"$f":"SUM(C46)*2","v":0},"ZERO","ZERO","ZERO","ZERO",{"$f":"SUM(C46)*1","v":0},"ZERO",{"$f":"SUM(C46)","v":0},"ZERO","ZERO","ZERO","ZERO","ZERO",{"$f":"SUM(C46)*70","v":0},"ZERO","ZERO","ZERO",null,null,null,{"$f":"SUM(C46)","v":0},null,null,null,null,null,{"$f":"SUM(AD46)","v":0},{"$f":"SUM(AE46)","v":0}]
["DELISH PACK 1",5300,0,0,null,{"$f":"SUM(C47)","v":0},{"$f":"SUM(C47)","v":0},"ZERO",{"$f":"SUM(C47)","v":0},{"$f":"SUM(C47)*2","v":0},"ZERO",{"$f":"SUM(C47)*4","v":0},"ZERO","ZERO",{"$f":"SUM(C47)*1","v":0},{"$f":"SUM(C47)*1","v":0},{"$f":"SUM(C47)*2","v":0},{"$f":"SUM(C47)","v":0},"ZERO","ZERO","ZERO","ZERO",{"$f":"SUM(C47)*70","v":0},"ZERO","ZERO","ZERO",null,null,null,{"$f":"SUM(C47)","v":0},{"$f":"SUM(C47)*1","v":0},null,null,null,null,{"$f":"SUM(AD47)","v":0},{"$f":"SUM(AE47)","v":0}]
["FAMILY BURGER MEAL (WITH SOFT DRINK)",19800,0,0,null,{"$f":"SUM(C48)*4","v":0},{"$f":"SUM(C48)*4","v":0},{"$f":"SUM(C48)*4","v":0},{"$f":"SUM(C48)*4","v":0},{"$f":"SUM(C48)*4","v":0},{"$f":"SUM(C48)*4","v":0},{"$f":"SUM(C48)*2*4","v":0},"ZERO","ZERO",{"$f":"SUM(C48)*1*4","v":0},{"$f":"SUM(C48)*4","v":0},{"$f":"SUM(C48)*2*4","v":0},{"$f":"SUM(C48)*4","v":0},null,"ZERO",{"$f":"SUM(C48)*4","v":0},null,{"$f":"SUM(C48)*140*4","v":0},{"$f":"SUM(C48)*4","v":0},{"$f":"SUM(C48)*4","v":0},"ZERO",null,null,null,null,null,null,null,null,null,{"$f":"SUM(AD48)*4","v":0},{"$f":"SUM(AE48)*4","v":0}]
["FAMILY BURGER MEAL (WITH SUGARCANE JUICE)",20800,0,0,null,{"$f":"SUM(C49)*4","v":0},{"$f":"SUM(C49)*4","v":0},{"$f":"SUM(C49)*4","v":0},{"$f":"SUM(C49)*4","v":0},{"$f":"SUM(C49)*4","v":0},{"$f":"SUM(C49)*4","v":0},{"$f":"SUM(C49)*2*4","v":0},"ZERO","ZERO",{"$f":"SUM(C49)*1*4","v":0},{"$f":"SUM(C49)*4","v":0},{"$f":"SUM(C49)*2*4","v":0},{"$f":"SUM(C49)*4","v":0},null,{"$f":"SUM(C49)*4","v":0},"ZERO",null,{"$f":"SUM(C49)*140*4","v":0},{"$f":"SUM(C49)*4","v":0},{"$f":"SUM(C49)*4","v":0},"ZERO",null,null,null,null,null,null,null,null,null,{"$f":"SUM(AD49)*4","v":0},{"$f":"SUM(AE49)*4","v":0}]
["CAN COKE/FANTA ONLY",null,0,0,null,"ZERO","ZERO","ZERO","ZERO","ZERO","ZERO","ZERO","ZERO","ZERO","ZERO","ZERO","ZERO","ZERO","ZERO","ZERO","ZERO","ZERO","ZERO","ZERO","ZERO","ZERO",null,null,null,null,{"$f":"SUM(C50)","v":0},null,null,null,null,"ZERO","ZERO"]
["SUPA KOMMANDO ONLY",250,0,0,null,"ZERO","ZERO","ZERO","ZERO","ZERO","ZERO","ZERO","ZERO","ZERO","ZERO","ZERO","ZERO","ZERO","ZERO","ZERO","ZERO","ZERO","ZERO","ZERO","ZERO","ZERO",null,null,{"$f":"SUM(C51)","v":0},null,"ZERO","ZERO",null,null,null,"ZERO","ZERO"]
["10X Chicken Nuggets ",2400,0,0,null,null,null,null,null,null,"ZERO",null,null,null,null,{"$f":"SUM(C52)","v":0},null,{"$f":"SUM(C52)","v":0},null,null,null,null,null,{"$f":"SUM(C52)","v":0},null,null,null,null,null,null,{"$f":"SUM(C52)","v":0},{"$f":"SUM(C52)*10","v":0}]
["20X Chicken Nuggets ",4800,0,0,null,null,null,null,null,null,"ZERO ",null,null,null,null,{"$f":"SUM(C53)","v":0},null,{"$f":"SUM(C53)","v":0},null,null,null,null,null,{"$f":"SUM(C53)","v":0},null,null,null,null,null,null,{"$f":"SUM(C53)","v":0},{"$f":"SUM(C53)*20","v":0}]
["10 CHICKEN NUGGETS & FRIES BOX",3300,0,0,null,null,null,null,null,null,{"$f":"SUM(C54)","v":0},null,null,null,null,{"$f":"SUM(C54)","v":0},null,{"$f":"SUM(C54)","v":0},null,null,null,null,null,{"$f":"SUM(C54)","v":0},null,null,null,null,null,null,{"$f":"SUM(C54)","v":0},{"$f":"SUM(C54)*10","v":0}]
["20 CHICKEN NUGGETS & FRIES BOX",6600,0,0,null,null,null,null,null,null,{"$f":"SUM(C55)","v":0},null,null,null,null,{"$f":"SUM(C55)","v":0},null,{"$f":"SUM(C55)","v":0},null,null,null,null,null,{"$f":"SUM(C55)","v":0},null,null,null,null,null,null,{"$f":"SUM(C55)","v":0},{"$f":"SUM(C55)*20","v":0}]
["PRAWN BURGER ",3000,0,0,null,{"$f":"SUM(C56)","v":0},"ZERO","ZERO","ZERO","ZERO","ZERO","ZERO",{"$f":"SUM(C56)","v":0},"ZERO",{"$f":"SUM(C56)","v":0},"ZERO",{"$f":"SUM(C56)","v":0},"ZERO","ZERO","ZERO","ZERO","ZERO",{"$f":"SUM(C56)*70","v":0},"ZERO","ZERO","ZERO",null,null,null,null,null,null,{"$f":"SUM(C56)*2","v":0},null,null,"ZERO","ZERO"]
[" FUNMMY NUGGETS  BOX",5300,0,0,null,{"$f":"SUM(C57)","v":0},{"$f":"SUM(C57)","v":0},null,null,null,{"$f":"SUM(C57)","v":0},null,{"$f":"SUM(C57)","v":0},null,{"$f":"SUM(C57)","v":0},{"$f":"SUM(C57)","v":0},null,{"$f":"SUM(C57)","v":0},null,null,null,null,null,{"$f":"SUM(C57)","v":0},null,null,null,null,null,null,{"$f":"SUM(C57)","v":0},{"$f":"SUM(C57)*10","v":0}]
["FARM PRIDE 50 CL",500,0,0,null,"ZERO","ZERO","ZERO","ZERO","ZERO","ZERO","ZERO","ZERO","ZERO","ZERO","ZERO","ZERO","ZERO","ZERO","ZERO","ZERO","ZERO","ZERO","ZERO","ZERO","ZERO",null,null,null,null,null,null,null,{"$f":"SUM(C58)","v":0},null,"ZERO","ZERO"]
["FARM PRIDE 1 LITRE",800,0,0,null,"ZERO","ZERO","ZERO","ZERO","ZERO","ZERO","ZERO","ZERO","ZERO","ZERO","ZERO","ZERO","ZERO","ZERO","ZERO","ZERO","ZERO","ZERO","ZERO","ZERO","ZERO",null,null,null,null,null,null,null,"ZERO",{"$f":"SUM(C59)","v":0},"ZERO","ZERO"]
["GRILLED CHICKEN BURGER",1700,0,{"$f":"SUM(B60*C60)","v":0},null,{"$f":"SUM(C60)","v":0},{"$f":"SUM(C60)","v":0},"ZERO","ZERO","ZERO","ZERO","ZERO","ZERO","ZERO",{"$f":"SUM(C60)","v":0},"ZERO",{"$f":"SUM(C60)*1","v":0},"ZERO","ZERO","ZERO","ZERO","ZERO",{"$f":"SUM(C60)*70","v":0},"ZERO","ZERO","ZERO",null,null,null,null,null,null,null,null,null,"ZERO","ZERO"]
["GRILLED CHICKEN BURGER + JUICE",2200,0,{"$f":"SUM(B61*C61)","v":0},null,{"$f":"SUM(C61)","v":0},{"$f":"SUM(C61)","v":0},"ZERO","ZERO","ZERO","ZERO","ZERO","ZERO","ZERO",{"$f":"SUM(C61)","v":0},"ZERO",{"$f":"SUM(C61)*1","v":0},"ZERO","ZERO","ZERO","ZERO","ZERO",{"$f":"SUM(C61)*70","v":0},"ZERO","ZERO","ZERO",null,null,null,null,null,null,null,{"$f":"SUM(C61)","v":0},null,"ZERO","ZERO"]
["GRILLED BURGER MEAL 1 & 3",4000,0,{"$f":"SUM(B62*C62)","v":0},null,{"$f":"SUM(C62)","v":0},{"$f":"SUM(C62)","v":0},"ZERO","ZERO","ZERO",{"$f":"SUM(C62)","v":0},{"$f":"SUM(C62)*2","v":0},"ZERO","ZERO","ZERO",{"$f":"SUM(C62)","v":0},{"$f":"SUM(C62)","v":0},{"$f":"SUM(C62)","v":0},"ZERO","ZERO","ZERO","ZERO",{"$f":"SUM(C62)*70","v":0},{"$f":"SUM(C62)","v":0},"ZERO","ZERO",null,null,null,null,null,null,null,{"$f":"SUM(C62)","v":0},null,"ZERO","ZERO"]
["GRILLED BURGER MEAL 2",3700,0,{"$f":"SUM(B63*C63)","v":0},null,{"$f":"SUM(C63)","v":0},{"$f":"SUM(C63)","v":0},"ZERO","ZERO","ZERO",{"$f":"SUM(C63)","v":0},{"$f":"SUM(C63)*2","v":0},"ZERO","ZERO","ZERO",{"$f":"SUM(C63)","v":0},{"$f":"SUM(C63)","v":0},{"$f":"SUM(C63)","v":0},"ZERO","ZERO",{"$f":"SUM(C63)","v":0},"ZERO",{"$f":"SUM(C63)*70","v":0},{"$f":"SUM(C63)","v":0},"ZERO","ZERO",null,null,null,null,null,null,null,"ZERO",null,"ZERO","ZERO"]
["MASTERPIECE BURGER ",5000,0,{"$f":"SUM(B64*C64)","v":0},null,{"$f":"SUM(C64)","v":0},"ZERO","ZERO","ZERO","ZERO","ZERO","ZERO",{"$f":"SUM(C64)","v":0},"ZERO","ZERO",{"$f":"SUM(C64)","v":0},{"$f":"SUM(C64)","v":0},"ZERO","ZERO","ZERO",{"$f":"SUM(C64)","v":0},{"$f":"SUM(C64)","v":0},{"$f":"SUM(C64)*70","v":0},"ZERO","ZERO","ZERO",null,null,null,null,null,null,null,null,null,"ZERO",{"$f":"SUM(C64)","v":0}]
["SUYA BURGER BOX 2 (WITH BEEF SUYA BURGER)",6000,0,0,null,0,"ZERO ","ZERO","ZERO",0,0,0,"ZERO","ZERO",0,0,0,"ZERO","ZERO",null,0,"ZERO",0,0,0,"ZERO",0,null,null,null,null,null,null,null,null,"ZERO",0]
["OPENING STOCK",null,null,null,null,{"$f":"SUM('Production DAY 8'!C2)","v":0},{"$f":"SUM('Production DAY 8'!C3)","v":0},{"$f":"SUM('Production DAY 8'!C4)","v":0},{"$f":"SUM('Production DAY 8'!C5)","v":0},{"$f":"SUM('Production DAY 8'!C6)","v":0},{"$f":"SUM('Production DAY 8'!C7)","v":0},{"$f":"SUM('Production DAY 8'!C8)","v":0},{"$f":"SUM('Production DAY 8'!C9)","v":0},{"$f":"SUM('Production DAY 8'!C10)","v":0},{"$f":"SUM('Production DAY 8'!C11)","v":0},{"$f":"SUM('Production DAY 8'!C12)","v":0},{"$f":"SUM('Production DAY 8'!C13)","v":0},{"$f":"SUM('Production DAY 8'!C14)","v":0},{"$f":"SUM('Production DAY 8'!C15)","v":0},{"$f":"SUM('Production DAY 8'!C16)","v":0},{"$f":"SUM('Production DAY 8'!C17)","v":0},{"$f":"SUM('Production DAY 8'!C18)","v":0},{"$f":"SUM('Production DAY 8'!C19)","v":0},{"$f":"SUM('Production DAY 8'!C20)","v":0},{"$f":"SUM('Production DAY 8'!C21)","v":0},{"$f":"SUM('Production DAY 8'!C22)","v":0},{"$f":"SUM('Production DAY 8'!C23)","v":0},{"$f":"SUM('Production DAY 8'!C24)","v":0},{"$f":"SUM('Production DAY 8'!C25)","v":0},{"$f":"SUM('Production DAY 8'!C26)","v":0},{"$f":"SUM('Production DAY 8'!C27)","v":0},{"$f":"SUM('Production DAY 8'!C28)","v":0},{"$f":"SUM('Production DAY 8'!C29)","v":0},{"$f":"SUM('Production DAY 8'!C30)","v":0},{"$f":"SUM('Production DAY 8'!C31)","v":0},{"$f":"SUM('Production DAY 8'!C32)","v":0},{"$f":"SUM('Production DAY 8'!C33)","v":0},{"$f":"SUM('Production DAY 8'!C34)","v":0},{"$f":"SUM('Production DAY 8'!C35)","v":0},{"$f":"SUM('Production DAY 8'!C36)","v":0},{"$f":"SUM('Production DAY 8'!C37)","v":0},{"$f":"SUM('Production DAY 8'!C38)","v":0},{"$f":"SUM('Production DAY 8'!C39)","v":0},{"$f":"SUM('Production DAY 8'!C40)","v":0},{"$f":"SUM('Production DAY 8'!C41)","v":0},{"$f":"SUM('Production DAY 8'!C42)","v":0},{"$f":"SUM('Production DAY 8'!C43)","v":0}]
["RECEIVED",null,null,null,null,{"$f":"SUM('Production DAY 8'!D2)","v":0},{"$f":"SUM('Production DAY 8'!D3)","v":0},{"$f":"SUM('Production DAY 8'!D4)","v":0},{"$f":"SUM('Production DAY 8'!D5)","v":0},{"$f":"SUM('Production DAY 8'!D6)","v":0},{"$f":"SUM('Production DAY 8'!D7)","v":0},{"$f":"SUM('Production DAY 8'!D8)","v":0},{"$f":"SUM('Production DAY 8'!D9)","v":0},{"$f":"SUM('Production DAY 8'!D10)","v":0},{"$f":"SUM('Production DAY 8'!D11)","v":0},{"$f":"SUM('Production DAY 8'!D12)","v":0},{"$f":"SUM('Production DAY 8'!D13)","v":0},{"$f":"SUM('Production DAY 8'!D14)","v":0},{"$f":"SUM('Production DAY 8'!D15)","v":0},{"$f":"SUM('Production DAY 8'!D16)","v":0},{"$f":"SUM('Production DAY 8'!D17)","v":0},{"$f":"SUM('Production DAY 8'!D18)","v":0},{"$f":"SUM('Production DAY 8'!D19)","v":0},{"$f":"SUM('Production DAY 8'!D20)","v":0},{"$f":"SUM('Production DAY 8'!D21)","v":0},{"$f":"SUM('Production DAY 8'!D22)","v":0},{"$f":"SUM('Production DAY 8'!D23)","v":0},{"$f":"SUM('Production DAY 8'!D24)","v":0},{"$f":"SUM('Production DAY 8'!D25)","v":0},{"$f":"SUM('Production DAY 8'!D26)","v":0},{"$f":"SUM('Production DAY 8'!D27)","v":0},{"$f":"SUM('Production DAY 8'!D28)","v":0},{"$f":"SUM('Production DAY 8'!D29)","v":0},{"$f":"SUM('Production DAY 8'!D30)","v":0},{"$f":"SUM('Production DAY 8'!D31)","v":0},{"$f":"SUM('Production DAY 8'!D32)","v":0},{"$f":"SUM('Production DAY 8'!D33)","v":0},{"$f":"SUM('Production DAY 8'!D34)","v":0},{"$f":"SUM('Production DAY 8'!D35)","v":0},{"$f":"SUM('Production DAY 8'!D36)","v":0},{"$f":"SUM('Production DAY 8'!D37)","v":0},{"$f":"SUM('Production DAY 8'!D38)","v":0},{"$f":"SUM('Production DAY 8'!D39)","v":0},{"$f":"SUM('Production DAY 8'!D40)","v":0},{"$f":"SUM('Production DAY 8'!D41)","v":0},{"$f":"SUM('Production DAY 8'!D42)","v":0},{"$f":"SUM('Production DAY 8'!D43)","v":0}]
["TOTAL STOCK",null,null,null,null,{"$f":"SUM(F66:F67)","v":0},{"$f":"SUM(G66:G67)","v":0},{"$f":"SUM(H66:H67)","v":0},{"$f":"SUM(I66:I67)","v":0},0,0,0,0,0,0,{"$f":"SUM(P66:P67)","v":0},0,0,0,0,0,0,0,0,0,0,0,0,0,0,0,0,0,0,0,0,0,0,0,0,0,0,0,0,0,0,0]
["USED",null,null,{"$f":"SUM(D3:D65)","v":0},null,{"$f":"SUM(F3:F65)","v":0},0,0,0,0,0,0,0,0,0,0,0,0,0,0,0,0,0,0,0,0,0,0,0,0,0,0,0,0,0,0,0,{"$f":"SUM(AL3:AL64)","v":0},0,0,0,0,0,0,0,0,0]
["CLOSING STOCK",null,null,null,null,{"$f":"SUM(F68-F69)","v":0},0,0,0,0,0,0,0,0,0,0,0,0,0,0,0,0,0,0,0,0,0,0,0,0,0,0,0,{"$f":"SUM(AH66-AH69)","v":0},{"$f":"SUM(AI68-AI69)","v":0},0,0,0,0,0,0,0,0,0,0,0,0]

{"sheet":"Production DAY 9","index":16,"n_rows":44,"n_cols":8,"rows_kept":44,"cut":false,"hidden":false,"merged":[]}
["Nos#","ITEMS"," < OPENING STOCK","RECEIVED","USED >","SALES CLOSING STOCK >","PHYSICAL STOCK COUNT","COMMENTS"]
[1,"Burger Bread",{"$f":"SUM('Production DAY 8'!G2)","v":0},null,{"$f":"SUM('DAY 9'!F69)","v":0},{"$f":"SUM('DAY 9'!F70)","v":0},0,{"$f":"IF(G2=F2,TRUE,FALSE)","v":true}]
[2,"Chicken Patty",{"$f":"SUM('Production DAY 8'!G3)","v":0},null,{"$f":"SUM('DAY 9'!G69)","v":0},{"$f":"SUM('DAY 9'!G70)","v":0},0,true]
[3,"Shawarma Bread",{"$f":"SUM('Production DAY 8'!G4)","v":0},null,{"$f":"SUM('DAY 9'!H69)","v":0},{"$f":"SUM('DAY 9'!H70)","v":0},0,true]
[4,"Chicken Portion or Shawarma portion",{"$f":"SUM('Production DAY 8'!G5)","v":0},null,{"$f":"SUM('DAY 9'!I69)","v":0},{"$f":"SUM('DAY 9'!I70)","v":0},0,true]
[5,"Sausage",{"$f":"SUM('Production DAY 8'!G6)","v":0},null,{"$f":"SUM('DAY 9'!J69)","v":0},{"$f":"SUM('DAY 9'!J70)","v":0},0,true]
[6,"Portion of Fries",{"$f":"SUM('Production DAY 8'!G7)","v":0},null,{"$f":"SUM('DAY 9'!K69)","v":0},{"$f":"SUM('DAY 9'!K70)","v":0},0,true]
[7,"Pieces of Chicken",{"$f":"SUM('Production DAY 8'!G8)","v":0},null,{"$f":"SUM('DAY 9'!L69)","v":0},{"$f":"SUM('DAY 9'!L70)","v":0},0,true]
[8,"Cheese",{"$f":"SUM('Production DAY 8'!G9)","v":0},null,{"$f":"SUM('DAY 9'!M69)","v":0},{"$f":"SUM('DAY 9'!M70)","v":0},0,true]
[9,"Bacon",{"$f":"SUM('Production DAY 8'!G10)","v":0},null,{"$f":"SUM('DAY 9'!N69)","v":0},{"$f":"SUM('DAY 9'!N70)","v":0},0,true]
[10,"A Paper Bag",{"$f":"SUM('Production DAY 8'!G11)","v":0},null,{"$f":"SUM('DAY 9'!O69)","v":0},{"$f":"SUM('DAY 9'!O70)","v":0},0,true]
[11,"Achicken Box",{"$f":"SUM('Production DAY 8'!G12)","v":0},null,{"$f":"SUM('DAY 9'!P69)","v":0},{"$f":"SUM('DAY 9'!P70)","v":0},0,true]
[12,"Paper Wrap",{"$f":"SUM('Production DAY 8'!G13)","v":0},null,{"$f":"SUM('DAY 9'!Q69)","v":0},{"$f":"SUM('DAY 9'!Q70)","v":0},0,true]
[13,"A Branded Nylon",{"$f":"SUM('Production DAY 8'!G14)","v":0},null,{"$f":"SUM('DAY 9'!R69)","v":0},{"$f":"SUM('DAY 9'!R70)","v":0},0,true]
[14,"Parfait",{"$f":"SUM('Production DAY 8'!G15)","v":0},null,{"$f":"SUM('DAY 9'!S69)","v":0},{"$f":"SUM('DAY 9'!S70)","v":0},0,true]
[15,"A Bottle of SUGAR Juice",{"$f":"SUM('Production DAY 8'!G16)","v":0},null,{"$f":"SUM('DAY 9'!T69)","v":0},{"$f":"SUM('DAY 9'!T70)","v":0},0,true]
[16,"35 CL Soft Drink",{"$f":"SUM('Production DAY 8'!G17)","v":0},null,{"$f":"SUM('DAY 9'!U69)","v":0},{"$f":"SUM('DAY 9'!U70)","v":0},0,true]
[17,"Beef Patty",{"$f":"SUM('Production DAY 8'!G18)","v":0},null,{"$f":"SUM('DAY 9'!V69)","v":0},{"$f":"SUM('DAY 9'!V70)","v":0},0,true]
[18,"Cream in GRAMS",{"$f":"SUM('Production DAY 8'!G19)","v":0},null,{"$f":"SUM('DAY 9'!W69)","v":0},{"$f":"SUM('DAY 9'!W70)","v":0},0,true]
[19,"KETCHUP",{"$f":"SUM('Production DAY 8'!G20)","v":0},null,{"$f":"SUM('DAY 9'!X69)","v":0},{"$f":"SUM('DAY 9'!X70)","v":0},0,true]
[20,"plain Nylon",{"$f":"SUM('Production DAY 8'!G21)","v":0},null,{"$f":"SUM('DAY 9'!Y69)","v":0},{"$f":"SUM('DAY 9'!Y70)","v":0},0,true]
[21,"Barbeque Sauce",{"$f":"SUM('Production DAY 8'!G22)","v":0},null,{"$f":"SUM('DAY 9'!Z69)","v":0},{"$f":"SUM('DAY 9'!Z70)","v":0},0,true]
[22,"Meal Box",{"$f":"SUM('Production DAY 8'!G23)","v":0},null,{"$f":"SUM('DAY 9'!AA69)","v":0},{"$f":"SUM('DAY 9'!AA70)","v":0},0,true]
[23,"COCONUT BREAD",{"$f":"SUM('Production DAY 8'!G24)","v":0},null,{"$f":"SUM('DAY 9'!AB69)","v":0},{"$f":"SUM('DAY 9'!AB70)","v":0},0,true]
[24,"SUPA KOMMANDO",{"$f":"SUM('Production DAY 8'!G25)","v":0},null,{"$f":"SUM('DAY 9'!AC69)","v":0},{"$f":"SUM('DAY 9'!AC70)","v":0},0,true]
[25,"SHAWARMA SUB",{"$f":"SUM('Production DAY 8'!G26)","v":0},null,{"$f":"SUM('DAY 9'!AD69)","v":0},{"$f":"SUM('DAY 9'!AD70)","v":0},0,true]
[26,"CAN COKE / FANTA",{"$f":"SUM('Production DAY 8'!G27)","v":0},null,{"$f":"SUM('DAY 9'!AE69)","v":0},{"$f":"SUM('DAY 9'!AE70)","v":0},0,true]
[27,"NUGGETS ",{"$f":"SUM('Production DAY 8'!G28)","v":0},null,{"$f":"SUM('DAY 9'!AF69)","v":0},{"$f":"SUM('DAY 9'!AF70)","v":0},0,true]
[28,"PRAWN",{"$f":"SUM('Production DAY 8'!G29)","v":0},null,{"$f":"SUM('DAY 9'!AG69)","v":0},{"$f":"SUM('DAY 9'!AG70)","v":0},0,true]
[29,"FARM PRIDE",{"$f":"SUM('Production DAY 8'!G30)","v":0},null,{"$f":"SUM('DAY 9'!AH69)","v":0},{"$f":"SUM('DAY 9'!AH70)","v":0},0,true]
[30,"50CL OR PULPY",{"$f":"SUM('Production DAY 8'!G31)","v":0},null,{"$f":"SUM('DAY 9'!AI69)","v":0},{"$f":"SUM('DAY 9'!AI70)","v":0},0,true]
[31,"FARM PRIDE 1 LT",{"$f":"SUM('Production DAY 8'!G32)","v":0},null,{"$f":"SUM('DAY 9'!AJ69)","v":0},{"$f":"SUM('DAY 9'!AJ70)","v":0},0,true]
[32,"BEEF PORTION FOR SHAWARMA",{"$f":"SUM('Production DAY 8'!G33)","v":0},null,{"$f":"SUM('DAY 9'!AK69)","v":0},{"$f":"SUM('DAY 9'!AK70)","v":0},0,true]
[33,"BEEF SUYA STICK",{"$f":"SUM('Production DAY 8'!G34)","v":0},null,{"$f":"SUM('DAY 9'!AL69)","v":0},{"$f":"SUM('DAY 9'!AL70)","v":0},0,true]
[34,"EMPTY 1",{"$f":"SUM('Production DAY 8'!G35)","v":0},null,{"$f":"SUM('DAY 9'!AM69)","v":0},{"$f":"SUM('DAY 9'!AM70)","v":0},0,true]
[35,"EMPTY 2",{"$f":"SUM('Production DAY 8'!G36)","v":0},null,{"$f":"SUM('DAY 9'!AN69)","v":0},{"$f":"SUM('DAY 9'!AN70)","v":0},0,true]
[36,"EMPTY 3",{"$f":"SUM('Production DAY 8'!G37)","v":0},null,{"$f":"SUM('DAY 9'!AO69)","v":0},{"$f":"SUM('DAY 9'!AO70)","v":0},0,true]
[37,"EMPTY 4",{"$f":"SUM('Production DAY 8'!G38)","v":0},null,{"$f":"SUM('DAY 9'!AP69)","v":0},{"$f":"SUM('DAY 9'!AP70)","v":0},0,true]
[38,"EMPTY 5",{"$f":"SUM('Production DAY 8'!G39)","v":0},null,{"$f":"SUM('DAY 9'!AQ69)","v":0},{"$f":"SUM('DAY 9'!AQ70)","v":0},0,true]
[39,"EMPTY 6",{"$f":"SUM('Production DAY 8'!G40)","v":0},null,{"$f":"SUM('DAY 9'!AR69)","v":0},{"$f":"SUM('DAY 9'!AR70)","v":0},0,true]
[40,"EMPTY 7",{"$f":"SUM('Production DAY 8'!G41)","v":0},null,{"$f":"SUM('DAY 9'!AS69)","v":0},{"$f":"SUM('DAY 9'!AS70)","v":0},0,true]
[41,"EMPTY 8",{"$f":"SUM('Production DAY 8'!G42)","v":0},null,{"$f":"SUM('DAY 9'!AT69)","v":0},{"$f":"SUM('DAY 9'!AT70)","v":0},0,true]
[42,"EMPTY 9",{"$f":"SUM('Production DAY 8'!G43)","v":0},null,{"$f":"SUM('DAY 9'!AU69)","v":0},{"$f":"SUM('DAY 9'!AU70)","v":0},0,true]
[43,"EMPTY 10",{"$f":"SUM('Production DAY 8'!G44)","v":0},null,{"$f":"SUM('DAY 9'!AV69)","v":0},{"$f":"SUM('DAY 9'!AV70)","v":0},0,true]

{"sheet":"DAY 9","index":17,"n_rows":70,"n_cols":47,"rows_kept":70,"cut":false,"hidden":false,"merged":[[0,7,0,28]]}
["FEBRUARY 12th, 2022",null,null,{"$f":"SUM(D3:D50)","v":0},null,null,null,"BURGER PALACE INVENTORY RECORDS"]
["ITEM","AMOUNT","QUANTITY","TOTAL",null,"Burger Bread","Chicken Patty","Shawarma Bread","Chicken Portion or Shawarma portion","Sausage","Portion of Fries","Pieces of Chicken","Cheese","Bacon","A Paper Bag","Achicken Box","Paper Wrap","A Branded Nylon","Parfait","A Bottle of SUGAR Juice","35 CL Soft Drink","Beef Patty","Cream in GRAMS","KETCHUP","plain Nylon","Barbeque Sauce","Meal Box","COCONUT BREAD ","SUPA KOMMANDO ","SHAWARMA SUB","CAN COKE / FANTA","NUGGETS","PRAWN","FARM PRIDE 50CL OR PULPY","FARM PRIDE 1 LT","BEEF PORTION FOR SHAWARMA ","BEEF SUYA STICK","EMPTY 1","EMPTY 2","EMPTY 3","EMPTY 4","EMPTY 5","EMPTY 6","EMPTY 7","EMPTY 8","EMPTY 9","EMPTY 10"]
["DELUXE BURGER MEAL (WITH SOFT DRINK)",5400,0,{"$f":"SUM(B3*C3)","v":0},null,{"$f":"SUM(C3)","v":0},{"$f":"SUM(C3)","v":0},{"$f":"SUM(C3)","v":0},{"$f":"SUM(C3)","v":0},{"$f":"SUM(C3)","v":0},{"$f":"SUM(C3)","v":0},{"$f":"SUM(C3)*2","v":0},"ZERO","ZERO",{"$f":"SUM(C3)*1","v":0},{"$f":"SUM(C3)","v":0},{"$f":"SUM(C3)*2","v":0},{"$f":"SUM(C3)","v":0},null,"ZERO",{"$f":"SUM(C3)","v":0},null,{"$f":"SUM(C3)*140","v":0},{"$f":"SUM(C3)","v":0},{"$f":"SUM(C3)","v":0},"ZERO",null,null,null,null,null,null,null,null,null,{"$f":"SUM(AD3)","v":0},0]
["DELUXE BURGER MEAL (WITH SUGARCANE JUICE)",5600,0,{"$f":"SUM(B4*C4)","v":0},null,{"$f":"SUM(C4)","v":0},{"$f":"SUM(C4)","v":0},{"$f":"SUM(C4)","v":0},{"$f":"SUM(C4)","v":0},{"$f":"SUM(C4)","v":0},0,{"$f":"SUM(C4)*2","v":0},"ZERO","ZERO",{"$f":"SUM(C4)*1","v":0},0,{"$f":"SUM(C4)*2","v":0},0,null,{"$f":"SUM(C4)","v":0},"ZERO",null,{"$f":"SUM(C4)*140","v":0},{"$f":"SUM(C4)","v":0},0,"ZERO",null,null,null,null,null,null,null,null,null,0,0]
["DELUXE MEAL EXTRA (WITH Soft Drink)",null,0,{"$f":"SUM(B5*C5)","v":0},null,{"$f":"SUM(C5)","v":0},{"$f":"SUM(C5)","v":0},{"$f":"SUM(C5)","v":0},{"$f":"SUM(C5)","v":0},{"$f":"SUM(C5)","v":0},0,{"$f":"SUM(C5)*2","v":0},"ZERO","ZERO",{"$f":"SUM(C5)","v":0},0,{"$f":"SUM(C5)*2","v":0},0,{"$f":"SUM(C5)","v":0},"ZERO",{"$f":"SUM(C5)","v":0},null,{"$f":"SUM(C5)*140","v":0},{"$f":"SUM(C5)","v":0},0,"ZERO",null,null,null,null,null,null,null,null,null,0,0]
["DELUXE BURGER MEAL Extra (With Sugarcane juice",null,0,{"$f":"SUM(B6*C6)","v":0},null,{"$f":"SUM(C6)","v":0},{"$f":"SUM(C6)","v":0},{"$f":"SUM(C6)","v":0},{"$f":"SUM(C6)","v":0},{"$f":"SUM(C6)","v":0},0,{"$f":"SUM(C6)*2","v":0},"ZERO","ZERO",{"$f":"SUM(C6)","v":0},0,{"$f":"SUM(C6)*2","v":0},0,{"$f":"SUM(C6)","v":0},{"$f":"SUM(C6)","v":0},"ZERO",null,{"$f":"SUM(C6)*140","v":0},{"$f":"SUM(C6)","v":0},0,"ZERO",null,null,null,null,null,null,null,null,null,0,0]
["PREMIUM BURGER Meal ",5900,0,{"$f":"SUM(B7*C7)","v":0},null,{"$f":"SUM(C7)","v":0},{"$f":"SUM(C7)","v":0},"ZERO","ZERO","ZERO",0,{"$f":"SUM(C7)*5","v":0},"ZERO","ZERO",{"$f":"SUM(C7)","v":0},0,{"$f":"SUM(C7)*1.25","v":0},0,"ZERO","ZERO",{"$f":"SUM(C7)","v":0},"ZERO",{"$f":"SUM(C7)*70","v":0},{"$f":"SUM(C7)*2","v":0},0,{"$f":"SUM(C7)","v":0},null,null,null,null,null,null,null,null,null,"ZERO","ZERO"]
["CRISPY CHICKEN BOX",4300,0,null,null,"ZERO","ZERO","ZERO","ZERO","ZERO",0,{"$f":"SUM(C8)*5","v":0},"ZERO","ZERO","ZERO",0,{"$f":"SUM(C8)*0.25","v":0},0,"ZERO","ZERO",{"$f":"SUM(C8)","v":0},"ZERO","ZERO",{"$f":"SUM(C8)*2","v":0},0,{"$f":"SUM(C8)","v":0},null,null,null,null,null,null,null,null,null,"ZERO","ZERO"]
["ROYAL BURGER MEAL (CHICKEN  PATTY)",null,0,{"$f":"SUM(B9*C9)","v":0},null,{"$f":"SUM(C9)","v":0},{"$f":"SUM(C9)*2","v":0},"ZERO","ZERO","ZERO",0,"ZERO",{"$f":"SUM(C9)*2","v":0},{"$f":"SUM(C9)*2","v":0},"ZERO",0,{"$f":"SUM(C9)","v":0},0,{"$f":"SUM(C9)","v":0},"ZERO","ZERO","ZERO",{"$f":"SUM(C9)*140","v":0},{"$f":"SUM(C9)*2","v":0},0,{"$f":"SUM(C9)","v":0},null,null,null,null,null,null,null,null,null,"ZERO","ZERO"]
["ROYAL BURGER MEAL (BEEF  PATTY)",null,0,{"$f":"SUM(B10*C10)","v":0},null,{"$f":"SUM(C10)","v":0},"ZERO","ZERO","ZERO","ZERO",0,"ZERO",{"$f":"SUM(C10)*2","v":0},{"$f":"SUM(C10)*2","v":0},"ZERO",0,0,0,{"$f":"SUM(C10)","v":0},"ZERO","ZERO",{"$f":"SUM(C10)*2","v":0},{"$f":"SUM(C10)*140","v":0},{"$f":"SUM(C10)*2","v":0},0,{"$f":"SUM(C10)","v":0},null,null,null,null,null,null,null,null,null,"ZERO","ZERO"]
["ROYAL BURGER ONLY (CHICKEN PATTY)",3300,0,{"$f":"SUM(B11*C11:C25,A1,A1,A1,A1,A1)","v":0},null,{"$f":"SUM(C11)","v":0},{"$f":"SUM(C11)*2","v":0},"ZERO","ZERO","ZERO","ZERO","ZERO",{"$f":"SUM(C11)*2","v":0},{"$f":"SUM(C11)*2","v":0},"ZERO",0,0,0,"ZERO","ZERO","ZERO","ZERO",{"$f":"SUM(C11)*140","v":0},{"$f":"SUM(C11)","v":0},"ZERO","ZERO",null,null,null,null,null,null,null,null,null,"ZERO","ZERO"]
["ROYAL BURGER ONLY (BEEF PATTY)",3300,0,{"$f":"SUM(B12*C12)","v":0},null,{"$f":"SUM(C12)","v":0},null,"ZERO","ZERO","ZERO","ZERO","ZERO",{"$f":"SUM(C12)*2","v":0},{"$f":"SUM(C12)*2","v":0},"ZERO",0,0,0,"ZERO","ZERO","ZERO",{"$f":"SUM(C12)*2","v":0},{"$f":"SUM(C12)*140","v":0},{"$f":"SUM(C12)","v":0},"ZERO","ZERO",null,null,null,null,null,null,null,null,null,"ZERO","ZERO"]
["MAYOR'S COCONUT BURGER ",2800,0,0,null,0,{"$f":"SUM(C13)","v":0},"ZERO","ZERO","ZERO","ZERO","ZERO",{"$f":"SUM(C13)","v":0},"ZERO","ZERO",0,0,0,"ZERO","ZERO","ZERO",{"$f":"SUM(C13)","v":0},{"$f":"SUM(C13)*140","v":0},"ZERO","ZERO","ZERO",null,{"$f":"SUM(C13)","v":0},{"$f":"SUM(C13)","v":0},null,null,null,null,null,null,"ZERO","ZERO"]
["DOUBLE DECKER CRISPY CHK. CHEESE BURGER",2500,0,0,null,{"$f":"SUM(C14)","v":0},{"$f":"SUM(C14)*2","v":0},"ZERO","ZERO","ZERO","ZERO","ZERO",{"$f":"SUM(C14)","v":0},"ZERO","ZERO",0,0,"ZERO","ZERO","ZERO","ZERO","ZERO",{"$f":"SUM(C14)*70","v":0},"ZERO","ZERO","ZERO",null,null,null,null,null,null,null,null,null,"ZERO","ZERO"]
["SINGLE BEEF BURGER",1700,0,0,null,0,"ZERO","ZERO","ZERO","ZERO","ZERO","ZERO",null,"ZERO",{"$f":"SUM(C15)","v":0},null,0,"ZERO","ZERO","ZERO","ZERO",{"$f":"SUM(C15)","v":0},{"$f":"SUM(C15)*70","v":0},"ZERO","ZERO","ZERO",null,null,null,null,null,null,null,null,null,"ZERO","ZERO"]
["YANKEE BURGER",2400,0,0,null,0,"ZERO","ZERO","ZERO","ZERO","ZERO","ZERO",null,{"$f":"SUM(C16)*2","v":0},{"$f":"SUM(C16)","v":0},null,0,"ZERO","ZERO","ZERO","ZERO",{"$f":"SUM(C16)","v":0},{"$f":"SUM(C16)*70","v":0},"ZERO","ZERO","ZERO",null,null,null,null,null,null,null,null,null,"ZERO","ZERO"]
["ROYAL BURGER WITH FRIES (Chicken)",4000,0,0,null,0,{"$f":"SUM(C17)*2","v":0},"ZERO","ZERO","ZERO",{"$f":"SUM(C17)","v":0},"ZERO",{"$f":"SUM(C17)*2","v":0},{"$f":"SUM(C17)*2","v":0},"ZERO",{"$f":"SUM(C17)","v":0},0,"ZERO","ZERO","ZERO","ZERO","ZERO",{"$f":"SUM(C17)*140","v":0},{"$f":"SUM(C17)*2","v":0},"ZERO","ZERO",null,null,null,null,null,null,null,null,null,"ZERO","ZERO"]
["ROYAL BURGER WITH FRIES (BEEF)",4000,0,0,null,0,"ZERO","ZERO","ZERO","ZERO",{"$f":"SUM(C18)","v":0},"ZERO",{"$f":"SUM(C18)*2","v":0},{"$f":"SUM(C18)*2","v":0},"ZERO",{"$f":"SUM(C18)","v":0},0,"ZERO","ZERO","ZERO","ZERO",{"$f":"SUM(C18)*2","v":0},{"$f":"SUM(C18)*140","v":0},{"$f":"SUM(C18)*2","v":0},"ZERO","ZERO",null,null,null,null,null,null,null,null,null,"ZERO","ZERO"]
["CRISPY CHICKEN BURGER",1700,0,0,null,0,{"$f":"SUM(C19)","v":0},"ZERO","ZERO","ZERO","ZERO","ZERO","ZERO","ZERO",{"$f":"SUM(C19)","v":0},"ZERO",{"$f":"SUM(C19)*1","v":0},"ZERO","ZERO","ZERO","ZERO","ZERO",{"$f":"SUM(C19)*70","v":0},"ZERO","ZERO","ZERO",null,null,null,null,null,null,null,null,null,"ZERO","ZERO"]
["SUYA BURGER BOX",5500,0,0,null,0,{"$f":"SUM(C20)*2","v":0},"ZERO","ZERO",{"$f":"SUM(C20)*4","v":0},{"$f":"SUM(C20)","v":0},{"$f":"SUM(C20)*4","v":0},"ZERO","ZERO",{"$f":"SUM(C20)","v":0},{"$f":"SUM(C20)","v":0},{"$f":"SUM(C20)","v":0},"ZERO","ZERO",null,{"$f":"SUM(C20)","v":0},"ZERO",0,{"$f":"SUM(C20)*2","v":0},{"$f":"SUM(C20)","v":0},"ZERO",{"$f":"SUM(C20)","v":0},null,null,null,null,null,null,null,null,"ZERO","ZERO"]
["CRISPY CHICKEN BURGER PLUS CHEESE",2100,0,0,null,0,{"$f":"SUM(C21)","v":0},"ZERO","ZERO","ZERO","ZERO","ZERO",{"$f":"SUM(C21)","v":0},"ZERO",{"$f":"SUM(C21)","v":0},"ZERO",0,"ZERO","ZERO","ZERO","ZERO","ZERO",0,"ZERO","ZERO","ZERO",null,null,null,null,null,null,null,null,null,"ZERO","ZERO"]
["SINGLE BEEF CHEESE BURGER ",2100,0,0,null,0,"ZERO","ZERO","ZERO","ZERO","ZERO","ZERO",{"$f":"SUM(C22)","v":0},"ZERO",{"$f":"SUM(C22)","v":0},"ZERO",0,"ZERO","ZERO","ZERO","ZERO",{"$f":"SUM(C22)","v":0},0,"ZERO","ZERO","ZERO",null,null,null,null,null,null,null,null,null,"ZERO","ZERO"]
["DOUBLE DECKER BEEF CHEESE BURGER",2800,0,0,null,0,"ZERO","ZERO","ZERO","ZERO","ZERO","ZERO",{"$f":"SUM(C23)*2","v":0},"ZERO","ZERO",{"$f":"SUM(C23)","v":0},0,"ZERO","ZERO","ZERO","ZERO",{"$f":"SUM(C23)*2","v":0},0,"ZERO","ZERO","ZERO",null,null,null,null,null,null,null,null,null,"ZERO","ZERO"]
["CHICKEN SUYA BURGER ",2200,0,0,null,0,{"$f":"SUM(C24)*2","v":0},"ZERO","ZERO","ZERO","ZERO","ZERO","ZERO","ZERO",{"$f":"SUM(C24)*1","v":0},"ZERO",0,"ZERO","ZERO","ZERO","ZERO","ZERO",0,"ZERO","ZERO","ZERO",null,null,null,null,null,null,null,null,null,"ZERO","ZERO"]
["CHICKEN SHAWARMA",1800,0,0,null,null,"ZERO",{"$f":"SUM(C25)","v":0},{"$f":"SUM(C25)","v":0},{"$f":"SUM(C25)*2","v":0},"ZERO","ZERO","ZERO","ZERO","ZERO","ZERO",0,{"$f":"SUM(C25)","v":0},"ZERO","ZERO","ZERO","ZERO",0,"ZERO","ZERO","ZERO",null,null,null,null,null,null,null,null,null,{"$f":"SUM(AD25)","v":0},{"$f":"SUM(AE25)","v":0}]
["BARBECUE BEEF SHAWARMA",2000,0,0,null,null,"ZERO",{"$f":"SUM(C26)","v":0},"ZERO",{"$f":"SUM(C26)*2","v":0},"ZERO","ZERO","ZERO","ZERO","ZERO","ZERO",0,0,"ZERO","ZERO","ZERO","ZERO",0,"ZERO","ZERO","ZERO",null,null,null,null,null,null,null,null,null,{"$f":"SUM(C26)","v":0},"ZERO"]
["BEEF SUYA SHAWARMA",2200,0,0,null,null,"ZERO",{"$f":"SUM(C27)","v":0},"ZERO",{"$f":"SUM(C27)*2","v":0},"ZERO","ZERO","ZERO","ZERO","ZERO","ZERO",0,0,"ZERO","ZERO","ZERO","ZERO",0,"ZERO","ZERO","ZERO",null,null,null,null,null,null,null,null,null,{"$f":"SUM(AD27)","v":0},{"$f":"SUM(C27)","v":0}]
["BEEF SUYA BURGER ",2200,0,0,null,{"$f":"SUM(C28)","v":0},"ZERO",null,"ZERO","ZERO","ZERO","ZERO","ZERO","ZERO",{"$f":"SUM(C28)","v":0},"ZERO",0,0,"ZERO","ZERO","ZERO","ZERO",0,"ZERO","ZERO","ZERO",null,null,null,null,null,null,null,null,null,{"$f":"SUM(AD28)","v":0},{"$f":"SUM(C28)","v":0}]
["CHICKEN SUYA SHAWARMA",2200,0,0,null,"ZERO",{"$f":"SUM(C29)*2","v":0},{"$f":"SUM(C29)","v":0},null,{"$f":"SUM(C29)*2","v":0},"ZERO","ZERO","ZERO","ZERO","ZERO","ZERO",0,0,"ZERO","ZERO","ZERO","ZERO",0,"ZERO","ZERO","ZERO"]
["CHESSY SHAWARMA",2500,0,0,null,"ZERO","ZERO",{"$f":"SUM(C30)","v":0},{"$f":"SUM(C30)","v":0},{"$f":"SUM(C30)*2","v":0},null,"ZERO",{"$f":"SUM(C30)*2","v":0},"ZERO","ZERO","ZERO",0,0,"ZERO","ZERO","ZERO","ZERO",{"$f":"SUM(C30)*140","v":0},"ZERO","ZERO","ZERO",null,null,null,null,null,null,null,null,null,{"$f":"SUM(AD30)","v":0},{"$f":"SUM(AE30)","v":0}]
["2 CHICKEN AND CHIPS",2300,0,0,null,"ZERO","ZERO","ZERO","ZERO","ZERO",{"$f":"SUM(C31)","v":0},{"$f":"SUM(C31)*2","v":0},"ZERO","ZERO","ZERO",{"$f":"SUM(C31)","v":0},"ZERO",0,"ZERO","ZERO","ZERO","ZERO","ZERO",{"$f":"SUM(C31)","v":0},"ZERO","ZERO",null,null,null,null,null,null,null,null,null,"ZERO","ZERO"]
["4 CHICKEN AND CHIPS",3500,0,0,null,"ZERO","ZERO","ZERO","ZERO","ZERO",{"$f":"SUM(C32)","v":0},{"$f":"SUM(C32)*4","v":0},"ZERO","ZERO","ZERO",{"$f":"SUM(C32)","v":0},"ZERO",0,"ZERO","ZERO","ZERO","ZERO","ZERO",{"$f":"SUM(C32)*2","v":0},"ZERO","ZERO","zero","zero","zero",null,null,null,null,null,null,"ZERO","ZERO"]
["SPICY CHICKEN ONLY",650,0,null,null,"ZERO","ZERO","ZERO","ZERO","ZERO","ZERO",{"$f":"SUM(C33)","v":0},"ZERO","ZERO","ZERO","ZERO","ZERO","ZERO","ZERO","ZERO","ZERO","ZERO","ZERO","ZERO",{"$f":"SUM(C33)","v":0},"ZERO",null,null,null,null,null,null,null,null,null,"ZERO","ZERO"]
["CRISPY CHICKEN ONLY",650,0,{"$f":"SUM(B34*C34)","v":0},null,"ZERO","ZERO","ZERO","ZERO","ZERO","ZERO",{"$f":"SUM(C34)","v":0},"ZERO","ZERO","ZERO","ZERO","ZERO","ZERO","ZERO","ZERO","ZERO","ZERO","ZERO","ZERO",{"$f":"SUM(C34)","v":0},"ZERO",null,null,null,null,null,null,null,null,null,"ZERO","ZERO"]
["POTATO FRIES",700,0,0,null,"ZERO","ZERO","ZERO","ZERO","ZERO",null,"ZERO","ZERO","ZERO","ZERO","ZERO","ZERO","ZERO","ZERO","ZERO","ZERO","ZERO","ZERO","ZERO","ZERO","ZERO",null,null,null,null,null,null,null,null,null,"ZERO","ZERO"]
["FRENCH FRIES ONLY",1000,0,0,null,"ZERO","ZERO","ZERO","ZERO","ZERO",{"$f":"SUM(C36)","v":0},"ZERO","ZERO","ZERO","ZERO","ZERO","ZERO","ZERO","ZERO","ZERO","ZERO","ZERO","ZERO","ZERO",{"$f":"SUM(C36)","v":0},"ZERO",null,null,null,null,null,null,null,null,null,"ZERO","ZERO"]
["SUGERCANNE JUICE",750,0,0,null,"ZERO","ZERO","ZERO","ZERO","ZERO","ZERO","ZERO","ZERO","ZERO","ZERO","ZERO","ZERO","ZERO","ZERO",{"$f":"SUM(C37)","v":0},"ZERO","ZERO","ZERO","ZERO","ZERO","ZERO",null,null,null,null,null,null,null,null,null,"ZERO","ZERO"]
["35 CL SOFT DRINK",200,0,0,null,"ZERO","ZERO","ZERO","ZERO","ZERO","ZERO","ZERO","ZERO","ZERO","ZERO","ZERO","ZERO","ZERO","ZERO","ZERO",{"$f":"SUM(C38)","v":0},"ZERO","ZERO","ZERO","ZERO","ZERO",null,null,null,null,null,null,null,null,null,"ZERO","ZERO"]
["PARFAIT",null,0,0,null,"ZERO","ZERO","ZERO","ZERO","ZERO","ZERO","ZERO","ZERO","ZERO","ZERO","ZERO","ZERO",{"$f":"SUM(C39)","v":0},{"$f":"SUM(C39)","v":0},"ZERO","ZERO","ZERO","ZERO","ZERO","ZERO","ZERO",null,null,null,null,null,null,null,null,null,"ZERO","ZERO"]
["MARINATED WINGS",500,0,0,null,"ZERO","ZERO","ZERO","ZERO","ZERO","ZERO",{"$f":"SUM(C40)","v":0},"ZERO","ZERO","ZERO","ZERO","ZERO","ZERO","ZERO","ZERO","ZERO","ZERO","ZERO","ZERO","ZERO","ZERO",null,null,null,null,null,null,null,null,null,"ZERO","ZERO"]
["CHEESE ",400,0,0,null,"ZERO","ZERO","ZERO","ZERO","ZERO","ZERO","ZERO",{"$f":"SUM(C41)","v":0},"ZERO","ZERO","ZERO","ZERO","ZERO","ZERO","ZERO","ZERO","ZERO","ZERO","ZERO","ZERO","ZERO",null,null,null,null,null,null,null,null,null,"ZERO","ZERO"]
["SAUSAGE",200,0,0,null,null,null,null,null,null,"ZERO"]
["BACON",400,0,0,null,"ZERO","ZERO","ZERO","ZERO","ZERO","ZERO","ZERO","ZERO",{"$f":"SUM(C43)","v":0},"ZERO","ZERO","ZERO","ZERO","ZERO","ZERO","ZERO","ZERO","ZERO","ZERO","ZERO","ZERO",null,null,null,null,null,null,null,null,null,"ZERO","ZERO"]
["FRIENDY BURGER MEAL (WITH SOFT DRINK)",10200,0,0,null,{"$f":"SUM(C44)*2","v":0},{"$f":"SUM(C44)*2","v":0},{"$f":"SUM(C44)*2","v":0},{"$f":"SUM(C44)*2","v":0},{"$f":"SUM(C44)*2","v":0},{"$f":"SUM(C44)*2","v":0},{"$f":"SUM(C44)*2*2","v":0},"ZERO","ZERO",{"$f":"SUM(C44)*1*2","v":0},{"$f":"SUM(C44)*2","v":0},{"$f":"SUM(C44)*2*2","v":0},{"$f":"SUM(C44)*2","v":0},null,"ZERO",{"$f":"SUM(C44)*2","v":0},null,{"$f":"SUM(C44)*140*2","v":0},{"$f":"SUM(C44)*2","v":0},{"$f":"SUM(C44)*2","v":0},"ZERO",null,null,null,null,null,null,null,null,null,{"$f":"SUM(AD44)*2","v":0},{"$f":"SUM(AE44)*2","v":0}]
["FRIENDY BURGER MEAL (WITH SUGARCANE JUICE)",10600,0,0,null,{"$f":"SUM(C45)*2","v":0},{"$f":"SUM(C45)*2","v":0},{"$f":"SUM(C45)*2","v":0},{"$f":"SUM(C45)*2","v":0},{"$f":"SUM(C45)*2","v":0},{"$f":"SUM(C45)*2","v":0},{"$f":"SUM(C45)*2*2","v":0},"ZERO","ZERO",{"$f":"SUM(C45)*1*2","v":0},{"$f":"SUM(C45)*2","v":0},{"$f":"SUM(C45)*2*2","v":0},{"$f":"SUM(C45)*2","v":0},null,{"$f":"SUM(C45)*2","v":0},"ZERO",null,{"$f":"SUM(C45)*140*2","v":0},{"$f":"SUM(C45)*2","v":0},{"$f":"SUM(C45)*2","v":0},"ZERO",null,null,null,null,null,null,null,null,null,{"$f":"SUM(AD45)*2","v":0},{"$f":"SUM(AE45)*2","v":0}]
["SHAWARMA  SUB",1800,0,0,null,null,"ZERO","ZERO",{"$f":"SUM(C46)","v":0},{"$f":"SUM(C46)*2","v":0},"ZERO","ZERO","ZERO","ZERO",{"$f":"SUM(C46)*1","v":0},"ZERO",{"$f":"SUM(C46)","v":0},"ZERO","ZERO","ZERO","ZERO","ZERO",{"$f":"SUM(C46)*70","v":0},"ZERO","ZERO","ZERO",null,null,null,{"$f":"SUM(C46)","v":0},null,null,null,null,null,{"$f":"SUM(AD46)","v":0},{"$f":"SUM(AE46)","v":0}]
["DELISH PACK 1",5300,0,0,null,{"$f":"SUM(C47)","v":0},{"$f":"SUM(C47)","v":0},"ZERO",{"$f":"SUM(C47)","v":0},{"$f":"SUM(C47)*2","v":0},"ZERO",{"$f":"SUM(C47)*4","v":0},"ZERO","ZERO",{"$f":"SUM(C47)*1","v":0},{"$f":"SUM(C47)*1","v":0},{"$f":"SUM(C47)*2","v":0},{"$f":"SUM(C47)","v":0},"ZERO","ZERO","ZERO","ZERO",{"$f":"SUM(C47)*70","v":0},"ZERO","ZERO","ZERO",null,null,null,{"$f":"SUM(C47)","v":0},{"$f":"SUM(C47)*1","v":0},null,null,null,null,{"$f":"SUM(AD47)","v":0},{"$f":"SUM(AE47)","v":0}]
["FAMILY BURGER MEAL (WITH SOFT DRINK)",19800,0,0,null,{"$f":"SUM(C48)*4","v":0},{"$f":"SUM(C48)*4","v":0},{"$f":"SUM(C48)*4","v":0},{"$f":"SUM(C48)*4","v":0},{"$f":"SUM(C48)*4","v":0},{"$f":"SUM(C48)*4","v":0},{"$f":"SUM(C48)*2*4","v":0},"ZERO","ZERO",{"$f":"SUM(C48)*1*4","v":0},{"$f":"SUM(C48)*4","v":0},{"$f":"SUM(C48)*2*4","v":0},{"$f":"SUM(C48)*4","v":0},null,"ZERO",{"$f":"SUM(C48)*4","v":0},null,{"$f":"SUM(C48)*140*4","v":0},{"$f":"SUM(C48)*4","v":0},{"$f":"SUM(C48)*4","v":0},"ZERO",null,null,null,null,null,null,null,null,null,{"$f":"SUM(AD48)*4","v":0},{"$f":"SUM(AE48)*4","v":0}]
["FAMILY BURGER MEAL (WITH SUGARCANE JUICE)",20800,0,0,null,{"$f":"SUM(C49)*4","v":0},{"$f":"SUM(C49)*4","v":0},{"$f":"SUM(C49)*4","v":0},{"$f":"SUM(C49)*4","v":0},{"$f":"SUM(C49)*4","v":0},{"$f":"SUM(C49)*4","v":0},{"$f":"SUM(C49)*2*4","v":0},"ZERO","ZERO",{"$f":"SUM(C49)*1*4","v":0},{"$f":"SUM(C49)*4","v":0},{"$f":"SUM(C49)*2*4","v":0},{"$f":"SUM(C49)*4","v":0},null,{"$f":"SUM(C49)*4","v":0},"ZERO",null,{"$f":"SUM(C49)*140*4","v":0},{"$f":"SUM(C49)*4","v":0},{"$f":"SUM(C49)*4","v":0},"ZERO",null,null,null,null,null,null,null,null,null,{"$f":"SUM(AD49)*4","v":0},{"$f":"SUM(AE49)*4","v":0}]
["CAN COKE/FANTA ONLY",null,0,0,null,"ZERO","ZERO","ZERO","ZERO","ZERO","ZERO","ZERO","ZERO","ZERO","ZERO","ZERO","ZERO","ZERO","ZERO","ZERO","ZERO","ZERO","ZERO","ZERO","ZERO","ZERO",null,null,null,null,{"$f":"SUM(C50)","v":0},null,null,null,null,"ZERO","ZERO"]
["SUPA KOMMANDO ONLY",250,0,0,null,"ZERO","ZERO","ZERO","ZERO","ZERO","ZERO","ZERO","ZERO","ZERO","ZERO","ZERO","ZERO","ZERO","ZERO","ZERO","ZERO","ZERO","ZERO","ZERO","ZERO","ZERO",null,null,{"$f":"SUM(C51)","v":0},null,"ZERO","ZERO",null,null,null,"ZERO","ZERO"]
["10X Chicken Nuggets ",2400,0,0,null,null,null,null,null,null,"ZERO",null,null,null,null,{"$f":"SUM(C52)","v":0},null,{"$f":"SUM(C52)","v":0},null,null,null,null,null,{"$f":"SUM(C52)","v":0},null,null,null,null,null,null,{"$f":"SUM(C52)","v":0},{"$f":"SUM(C52)*10","v":0}]
["20X Chicken Nuggets ",4800,0,0,null,null,null,null,null,null,"ZERO ",null,null,null,null,{"$f":"SUM(C53)","v":0},null,{"$f":"SUM(C53)","v":0},null,null,null,null,null,{"$f":"SUM(C53)","v":0},null,null,null,null,null,null,{"$f":"SUM(C53)","v":0},{"$f":"SUM(C53)*20","v":0}]
["10 CHICKEN NUGGETS & FRIES BOX",3300,0,0,null,null,null,null,null,null,{"$f":"SUM(C54)","v":0},null,null,null,null,{"$f":"SUM(C54)","v":0},null,{"$f":"SUM(C54)","v":0},null,null,null,null,null,{"$f":"SUM(C54)","v":0},null,null,null,null,null,null,{"$f":"SUM(C54)","v":0},{"$f":"SUM(C54)*10","v":0}]
["20 CHICKEN NUGGETS & FRIES BOX",6600,0,0,null,null,null,null,null,null,{"$f":"SUM(C55)","v":0},null,null,null,null,{"$f":"SUM(C55)","v":0},null,{"$f":"SUM(C55)","v":0},null,null,null,null,null,{"$f":"SUM(C55)","v":0},null,null,null,null,null,null,{"$f":"SUM(C55)","v":0},{"$f":"SUM(C55)*20","v":0}]
["PRAWN BURGER ",3000,0,0,null,{"$f":"SUM(C56)","v":0},"ZERO","ZERO","ZERO","ZERO","ZERO","ZERO",{"$f":"SUM(C56)","v":0},"ZERO",{"$f":"SUM(C56)","v":0},"ZERO",{"$f":"SUM(C56)","v":0},"ZERO","ZERO","ZERO","ZERO","ZERO",{"$f":"SUM(C56)*70","v":0},"ZERO","ZERO","ZERO",null,null,null,null,null,null,{"$f":"SUM(C56)*2","v":0},null,null,"ZERO","ZERO"]
[" FUNMMY NUGGETS  BOX",5300,0,0,null,{"$f":"SUM(C57)","v":0},{"$f":"SUM(C57)","v":0},null,null,null,{"$f":"SUM(C57)","v":0},null,{"$f":"SUM(C57)","v":0},null,{"$f":"SUM(C57)","v":0},{"$f":"SUM(C57)","v":0},null,{"$f":"SUM(C57)","v":0},null,null,null,null,null,{"$f":"SUM(C57)","v":0},null,null,null,null,null,null,{"$f":"SUM(C57)","v":0},{"$f":"SUM(C57)*10","v":0}]
["FARM PRIDE 50 CL",500,0,0,null,"ZERO","ZERO","ZERO","ZERO","ZERO","ZERO","ZERO","ZERO","ZERO","ZERO","ZERO","ZERO","ZERO","ZERO","ZERO","ZERO","ZERO","ZERO","ZERO","ZERO","ZERO",null,null,null,null,null,null,null,{"$f":"SUM(C58)","v":0},null,"ZERO","ZERO"]
["FARM PRIDE 1 LITRE",800,0,0,null,"ZERO","ZERO","ZERO","ZERO","ZERO","ZERO","ZERO","ZERO","ZERO","ZERO","ZERO","ZERO","ZERO","ZERO","ZERO","ZERO","ZERO","ZERO","ZERO","ZERO","ZERO",null,null,null,null,null,null,null,"ZERO",{"$f":"SUM(C59)","v":0},"ZERO","ZERO"]
["GRILLED CHICKEN BURGER",1700,0,{"$f":"SUM(B60*C60)","v":0},null,{"$f":"SUM(C60)","v":0},{"$f":"SUM(C60)","v":0},"ZERO","ZERO","ZERO","ZERO","ZERO","ZERO","ZERO",{"$f":"SUM(C60)","v":0},"ZERO",{"$f":"SUM(C60)*1","v":0},"ZERO","ZERO","ZERO","ZERO","ZERO",{"$f":"SUM(C60)*70","v":0},"ZERO","ZERO","ZERO",null,null,null,null,null,null,null,null,null,"ZERO","ZERO"]
["GRILLED CHICKEN BURGER + JUICE",2200,0,{"$f":"SUM(B61*C61)","v":0},null,{"$f":"SUM(C61)","v":0},{"$f":"SUM(C61)","v":0},"ZERO","ZERO","ZERO","ZERO","ZERO","ZERO","ZERO",{"$f":"SUM(C61)","v":0},"ZERO",{"$f":"SUM(C61)*1","v":0},"ZERO","ZERO","ZERO","ZERO","ZERO",{"$f":"SUM(C61)*70","v":0},"ZERO","ZERO","ZERO",null,null,null,null,null,null,null,{"$f":"SUM(C61)","v":0},null,"ZERO","ZERO"]
["GRILLED BURGER MEAL 1 & 3",4000,0,{"$f":"SUM(B62*C62)","v":0},null,{"$f":"SUM(C62)","v":0},{"$f":"SUM(C62)","v":0},"ZERO","ZERO","ZERO",{"$f":"SUM(C62)","v":0},{"$f":"SUM(C62)*2","v":0},"ZERO","ZERO","ZERO",{"$f":"SUM(C62)","v":0},{"$f":"SUM(C62)","v":0},{"$f":"SUM(C62)","v":0},"ZERO","ZERO","ZERO","ZERO",{"$f":"SUM(C62)*70","v":0},{"$f":"SUM(C62)","v":0},"ZERO","ZERO",null,null,null,null,null,null,null,{"$f":"SUM(C62)","v":0},null,"ZERO","ZERO"]
["GRILLED BURGER MEAL 2",3700,0,{"$f":"SUM(B63*C63)","v":0},null,{"$f":"SUM(C63)","v":0},{"$f":"SUM(C63)","v":0},"ZERO","ZERO","ZERO",{"$f":"SUM(C63)","v":0},{"$f":"SUM(C63)*2","v":0},"ZERO","ZERO","ZERO",{"$f":"SUM(C63)","v":0},{"$f":"SUM(C63)","v":0},{"$f":"SUM(C63)","v":0},"ZERO","ZERO",{"$f":"SUM(C63)","v":0},"ZERO",{"$f":"SUM(C63)*70","v":0},{"$f":"SUM(C63)","v":0},"ZERO","ZERO",null,null,null,null,null,null,null,"ZERO",null,"ZERO","ZERO"]
["MASTERPIECE BURGER ",5000,0,{"$f":"SUM(B64*C64)","v":0},null,{"$f":"SUM(C64)","v":0},"ZERO","ZERO","ZERO","ZERO","ZERO","ZERO",{"$f":"SUM(C64)","v":0},"ZERO","ZERO",{"$f":"SUM(C64)","v":0},{"$f":"SUM(C64)","v":0},"ZERO","ZERO","ZERO",{"$f":"SUM(C64)","v":0},{"$f":"SUM(C64)","v":0},{"$f":"SUM(C64)*70","v":0},"ZERO","ZERO","ZERO",null,null,null,null,null,null,null,null,null,"ZERO",{"$f":"SUM(C64)","v":0}]
["SUYA BURGER BOX 2 (WITH BEEF SUYA BURGER)",6000,0,0,null,0,"ZERO ","ZERO","ZERO",0,0,0,"ZERO","ZERO",0,0,0,"ZERO","ZERO",null,0,"ZERO",0,0,0,"ZERO",0,null,null,null,null,null,null,null,null,"ZERO",0]
["OPENING STOCK",null,null,null,null,{"$f":"SUM('Production DAY 9'!C2)","v":0},{"$f":"SUM('Production DAY 9'!C3)","v":0},{"$f":"SUM('Production DAY 9'!C4)","v":0},{"$f":"SUM('Production DAY 9'!C5)","v":0},{"$f":"SUM('Production DAY 9'!C6)","v":0},{"$f":"SUM('Production DAY 9'!C7)","v":0},{"$f":"SUM('Production DAY 9'!C8)","v":0},{"$f":"SUM('Production DAY 9'!C9)","v":0},{"$f":"SUM('Production DAY 9'!C10)","v":0},{"$f":"SUM('Production DAY 9'!C11)","v":0},{"$f":"SUM('Production DAY 9'!C12)","v":0},{"$f":"SUM('Production DAY 9'!C13)","v":0},{"$f":"SUM('Production DAY 9'!C14)","v":0},{"$f":"SUM('Production DAY 9'!C15)","v":0},{"$f":"SUM('Production DAY 9'!C16)","v":0},{"$f":"SUM('Production DAY 9'!C17)","v":0},{"$f":"SUM('Production DAY 9'!C18)","v":0},{"$f":"SUM('Production DAY 9'!C19)","v":0},{"$f":"SUM('Production DAY 9'!C20)","v":0},{"$f":"SUM('Production DAY 9'!C21)","v":0},{"$f":"SUM('Production DAY 9'!C22)","v":0},{"$f":"SUM('Production DAY 9'!C23)","v":0},{"$f":"SUM('Production DAY 9'!C24)","v":0},{"$f":"SUM('Production DAY 9'!C25)","v":0},{"$f":"SUM('Production DAY 9'!C26)","v":0},{"$f":"SUM('Production DAY 9'!C27)","v":0},{"$f":"SUM('Production DAY 9'!C28)","v":0},{"$f":"SUM('Production DAY 9'!C29)","v":0},{"$f":"SUM('Production DAY 9'!C30)","v":0},{"$f":"SUM('Production DAY 9'!C31)","v":0},{"$f":"SUM('Production DAY 9'!C32)","v":0},{"$f":"SUM('Production DAY 9'!C33)","v":0},{"$f":"SUM('Production DAY 9'!C34)","v":0},{"$f":"SUM('Production DAY 9'!C35)","v":0},{"$f":"SUM('Production DAY 9'!C36)","v":0},{"$f":"SUM('Production DAY 9'!C37)","v":0},{"$f":"SUM('Production DAY 9'!C38)","v":0},{"$f":"SUM('Production DAY 9'!C39)","v":0},{"$f":"SUM('Production DAY 9'!C40)","v":0},{"$f":"SUM('Production DAY 9'!C41)","v":0},{"$f":"SUM('Production DAY 9'!C42)","v":0},{"$f":"SUM('Production DAY 9'!C43)","v":0}]
["RECEIVED",null,null,null,null,{"$f":"SUM('Production DAY 9'!D2)","v":0},{"$f":"SUM('Production DAY 9'!D3)","v":0},{"$f":"SUM('Production DAY 9'!D4)","v":0},{"$f":"SUM('Production DAY 9'!D5)","v":0},{"$f":"SUM('Production DAY 9'!D6)","v":0},{"$f":"SUM('Production DAY 9'!D7)","v":0},{"$f":"SUM('Production DAY 9'!D8)","v":0},{"$f":"SUM('Production DAY 9'!D9)","v":0},{"$f":"SUM('Production DAY 9'!D10)","v":0},{"$f":"SUM('Production DAY 9'!D11)","v":0},{"$f":"SUM('Production DAY 9'!D12)","v":0},{"$f":"SUM('Production DAY 9'!D13)","v":0},{"$f":"SUM('Production DAY 9'!D14)","v":0},{"$f":"SUM('Production DAY 9'!D15)","v":0},{"$f":"SUM('Production DAY 9'!D16)","v":0},{"$f":"SUM('Production DAY 9'!D17)","v":0},{"$f":"SUM('Production DAY 9'!D18)","v":0},{"$f":"SUM('Production DAY 9'!D19)","v":0},{"$f":"SUM('Production DAY 9'!D20)","v":0},{"$f":"SUM('Production DAY 9'!D21)","v":0},{"$f":"SUM('Production DAY 9'!D22)","v":0},{"$f":"SUM('Production DAY 9'!D23)","v":0},{"$f":"SUM('Production DAY 9'!D24)","v":0},{"$f":"SUM('Production DAY 9'!D25)","v":0},{"$f":"SUM('Production DAY 9'!D26)","v":0},{"$f":"SUM('Production DAY 9'!D27)","v":0},{"$f":"SUM('Production DAY 9'!D28)","v":0},{"$f":"SUM('Production DAY 9'!D29)","v":0},{"$f":"SUM('Production DAY 9'!D30)","v":0},{"$f":"SUM('Production DAY 9'!D31)","v":0},{"$f":"SUM('Production DAY 9'!D32)","v":0},{"$f":"SUM('Production DAY 9'!D33)","v":0},{"$f":"SUM('Production DAY 9'!D34)","v":0},{"$f":"SUM('Production DAY 9'!D35)","v":0},{"$f":"SUM('Production DAY 9'!D36)","v":0},{"$f":"SUM('Production DAY 9'!D37)","v":0},{"$f":"SUM('Production DAY 9'!D38)","v":0},{"$f":"SUM('Production DAY 9'!D39)","v":0},{"$f":"SUM('Production DAY 9'!D40)","v":0},{"$f":"SUM('Production DAY 9'!D41)","v":0},{"$f":"SUM('Production DAY 9'!D42)","v":0},{"$f":"SUM('Production DAY 9'!D43)","v":0}]
["TOTAL STOCK",null,null,null,null,{"$f":"SUM(F66:F67)","v":0},{"$f":"SUM(G66:G67)","v":0},{"$f":"SUM(H66:H67)","v":0},{"$f":"SUM(I66:I67)","v":0},0,0,0,0,0,0,{"$f":"SUM(P66:P67)","v":0},0,0,0,0,0,0,0,0,0,0,0,0,0,0,0,0,0,0,0,0,0,0,0,0,0,0,0,0,0,0,0]
["USED",null,null,{"$f":"SUM(D3:D65)","v":0},null,{"$f":"SUM(F3:F65)","v":0},0,0,0,0,0,0,0,0,0,0,0,0,0,0,0,0,0,0,0,0,0,0,0,0,0,0,0,0,0,0,0,{"$f":"SUM(AL3:AL64)","v":0},0,0,0,0,0,0,0,0,0]
["CLOSING STOCK",null,null,null,null,{"$f":"SUM(F68-F69)","v":0},0,0,0,0,0,0,0,0,0,0,0,0,0,0,0,0,0,0,0,0,0,0,0,0,0,0,0,{"$f":"SUM(AH66-AH69)","v":0},{"$f":"SUM(AI68-AI69)","v":0},0,0,0,0,0,0,0,0,0,0,0,0]

{"sheet":"Production DAY 10","index":18,"n_rows":44,"n_cols":8,"rows_kept":44,"cut":false,"hidden":false,"merged":[]}
["Nos#","ITEMS"," < OPENING STOCK","RECEIVED","USED >","SALES CLOSING STOCK >","PHYSICAL STOCK COUNT","COMMENTS"]
[1,"Burger Bread",{"$f":"SUM('Production DAY 9'!G2)","v":0},null,{"$f":"SUM('DAY 10'!F69)","v":0},{"$f":"SUM('DAY 10'!F70)","v":0},0,{"$f":"IF(G2=F2,TRUE,FALSE)","v":true}]
[2,"Chicken Patty",{"$f":"SUM('Production DAY 9'!G3)","v":0},null,{"$f":"SUM('DAY 10'!G69)","v":0},{"$f":"SUM('DAY 10'!G70)","v":0},0,true]
[3,"Shawarma Bread",{"$f":"SUM('Production DAY 9'!G4)","v":0},null,{"$f":"SUM('DAY 10'!H69)","v":0},{"$f":"SUM('DAY 10'!H70)","v":0},0,true]
[4,"Chicken Portion or Shawarma portion",{"$f":"SUM('Production DAY 9'!G5)","v":0},null,{"$f":"SUM('DAY 10'!I69)","v":0},{"$f":"SUM('DAY 10'!I70)","v":0},0,true]
[5,"Sausage",{"$f":"SUM('Production DAY 9'!G6)","v":0},null,{"$f":"SUM('DAY 10'!J69)","v":0},{"$f":"SUM('DAY 10'!J70)","v":0},0,true]
[6,"Portion of Fries",{"$f":"SUM('Production DAY 9'!G7)","v":0},null,{"$f":"SUM('DAY 10'!K69)","v":0},{"$f":"SUM('DAY 10'!K70)","v":0},0,true]
[7,"Pieces of Chicken",{"$f":"SUM('Production DAY 9'!G8)","v":0},null,{"$f":"SUM('DAY 10'!L69)","v":0},{"$f":"SUM('DAY 10'!L70)","v":0},0,true]
[8,"Cheese",{"$f":"SUM('Production DAY 9'!G9)","v":0},null,{"$f":"SUM('DAY 10'!M69)","v":0},{"$f":"SUM('DAY 10'!M70)","v":0},0,true]
[9,"Bacon",{"$f":"SUM('Production DAY 9'!G10)","v":0},null,{"$f":"SUM('DAY 10'!N69)","v":0},{"$f":"SUM('DAY 10'!N70)","v":0},0,true]
[10,"A Paper Bag",{"$f":"SUM('Production DAY 9'!G11)","v":0},null,{"$f":"SUM('DAY 10'!O69)","v":0},{"$f":"SUM('DAY 10'!O70)","v":0},0,true]
[11,"Achicken Box",{"$f":"SUM('Production DAY 9'!G12)","v":0},null,{"$f":"SUM('DAY 10'!P69)","v":0},{"$f":"SUM('DAY 10'!P70)","v":0},0,true]
[12,"Paper Wrap",{"$f":"SUM('Production DAY 9'!G13)","v":0},null,{"$f":"SUM('DAY 10'!Q69)","v":0},{"$f":"SUM('DAY 10'!Q70)","v":0},0,true]
[13,"A Branded Nylon",{"$f":"SUM('Production DAY 9'!G14)","v":0},null,{"$f":"SUM('DAY 10'!R69)","v":0},{"$f":"SUM('DAY 10'!R70)","v":0},0,true]
[14,"Parfait",{"$f":"SUM('Production DAY 9'!G15)","v":0},null,{"$f":"SUM('DAY 10'!S69)","v":0},{"$f":"SUM('DAY 10'!S70)","v":0},0,true]
[15,"A Bottle of SUGAR Juice",{"$f":"SUM('Production DAY 9'!G16)","v":0},null,{"$f":"SUM('DAY 10'!T69)","v":0},{"$f":"SUM('DAY 10'!T70)","v":0},0,true]
[16,"35 CL Soft Drink",{"$f":"SUM('Production DAY 9'!G17)","v":0},null,{"$f":"SUM('DAY 10'!U69)","v":0},{"$f":"SUM('DAY 10'!U70)","v":0},0,true]
[17,"Beef Patty",{"$f":"SUM('Production DAY 9'!G18)","v":0},null,{"$f":"SUM('DAY 10'!V69)","v":0},{"$f":"SUM('DAY 10'!V70)","v":0},0,true]
[18,"Cream in GRAMS",{"$f":"SUM('Production DAY 9'!G19)","v":0},null,{"$f":"SUM('DAY 10'!W69)","v":0},{"$f":"SUM('DAY 10'!W70)","v":0},0,true]
[19,"KETCHUP",{"$f":"SUM('Production DAY 9'!G20)","v":0},null,{"$f":"SUM('DAY 10'!X69)","v":0},{"$f":"SUM('DAY 10'!X70)","v":0},0,true]
[20,"plain Nylon",{"$f":"SUM('Production DAY 9'!G21)","v":0},null,{"$f":"SUM('DAY 10'!Y69)","v":0},{"$f":"SUM('DAY 10'!Y70)","v":0},0,true]
[21,"Barbeque Sauce",{"$f":"SUM('Production DAY 9'!G22)","v":0},null,{"$f":"SUM('DAY 10'!Z69)","v":0},{"$f":"SUM('DAY 10'!Z70)","v":0},0,true]
[22,"Meal Box",{"$f":"SUM('Production DAY 9'!G23)","v":0},null,{"$f":"SUM('DAY 10'!AA69)","v":0},{"$f":"SUM('DAY 10'!AA70)","v":0},0,true]
[23,"COCONUT BREAD",{"$f":"SUM('Production DAY 9'!G24)","v":0},null,{"$f":"SUM('DAY 10'!AB69)","v":0},{"$f":"SUM('DAY 10'!AB70)","v":0},0,true]
[24,"SUPA KOMMANDO",{"$f":"SUM('Production DAY 9'!G25)","v":0},null,{"$f":"SUM('DAY 10'!AC69)","v":0},{"$f":"SUM('DAY 10'!AC70)","v":0},0,true]
[25,"SHAWARMA SUB",{"$f":"SUM('Production DAY 9'!G26)","v":0},null,{"$f":"SUM('DAY 10'!AD69)","v":0},{"$f":"SUM('DAY 10'!AD70)","v":0},0,true]
[26,"CAN COKE / FANTA",{"$f":"SUM('Production DAY 9'!G27)","v":0},null,{"$f":"SUM('DAY 10'!AE69)","v":0},{"$f":"SUM('DAY 10'!AE70)","v":0},0,true]
[27,"NUGGETS ",{"$f":"SUM('Production DAY 9'!G28)","v":0},null,{"$f":"SUM('DAY 10'!AF69)","v":0},{"$f":"SUM('DAY 10'!AF70)","v":0},0,true]
[28,"PRAWN",{"$f":"SUM('Production DAY 9'!G29)","v":0},null,{"$f":"SUM('DAY 10'!AG69)","v":0},{"$f":"SUM('DAY 10'!AG70)","v":0},0,true]
[29,"FARM PRIDE",{"$f":"SUM('Production DAY 9'!G30)","v":0},null,{"$f":"SUM('DAY 10'!AH69)","v":0},{"$f":"SUM('DAY 10'!AH70)","v":0},0,true]
[30,"50CL OR PULPY",{"$f":"SUM('Production DAY 9'!G31)","v":0},null,{"$f":"SUM('DAY 10'!AI69)","v":0},{"$f":"SUM('DAY 10'!AI70)","v":0},0,true]
[31,"FARM PRIDE 1 LT",{"$f":"SUM('Production DAY 9'!G32)","v":0},null,{"$f":"SUM('DAY 10'!AJ69)","v":0},{"$f":"SUM('DAY 10'!AJ70)","v":0},0,true]
[32,"BEEF PORTION FOR SHAWARMA",{"$f":"SUM('Production DAY 9'!G33)","v":0},null,{"$f":"SUM('DAY 10'!AK69)","v":0},{"$f":"SUM('DAY 10'!AK70)","v":0},0,true]
[33,"BEEF SUYA STICK",{"$f":"SUM('Production DAY 9'!G34)","v":0},null,{"$f":"SUM('DAY 10'!AL69)","v":0},{"$f":"SUM('DAY 10'!AL70)","v":0},0,true]
[34,"EMPTY 1",{"$f":"SUM('Production DAY 9'!G35)","v":0},null,{"$f":"SUM('DAY 10'!AM69)","v":0},{"$f":"SUM('DAY 10'!AM70)","v":0},0,true]
[35,"EMPTY 2",{"$f":"SUM('Production DAY 9'!G36)","v":0},null,{"$f":"SUM('DAY 10'!AN69)","v":0},{"$f":"SUM('DAY 10'!AN70)","v":0},0,true]
[36,"EMPTY 3",{"$f":"SUM('Production DAY 9'!G37)","v":0},null,{"$f":"SUM('DAY 10'!AO69)","v":0},{"$f":"SUM('DAY 10'!AO70)","v":0},0,true]
[37,"EMPTY 4",{"$f":"SUM('Production DAY 9'!G38)","v":0},null,{"$f":"SUM('DAY 10'!AP69)","v":0},{"$f":"SUM('DAY 10'!AP70)","v":0},0,true]
[38,"EMPTY 5",{"$f":"SUM('Production DAY 9'!G39)","v":0},null,{"$f":"SUM('DAY 10'!AQ69)","v":0},{"$f":"SUM('DAY 10'!AQ70)","v":0},0,true]
[39,"EMPTY 6",{"$f":"SUM('Production DAY 9'!G40)","v":0},null,{"$f":"SUM('DAY 10'!AR69)","v":0},{"$f":"SUM('DAY 10'!AR70)","v":0},0,true]
[40,"EMPTY 7",{"$f":"SUM('Production DAY 9'!G41)","v":0},null,{"$f":"SUM('DAY 10'!AS69)","v":0},{"$f":"SUM('DAY 10'!AS70)","v":0},0,true]
[41,"EMPTY 8",{"$f":"SUM('Production DAY 9'!G42)","v":0},null,{"$f":"SUM('DAY 10'!AT69)","v":0},{"$f":"SUM('DAY 10'!AT70)","v":0},0,true]
[42,"EMPTY 9",{"$f":"SUM('Production DAY 9'!G43)","v":0},null,{"$f":"SUM('DAY 10'!AU69)","v":0},{"$f":"SUM('DAY 10'!AU70)","v":0},0,true]
[43,"EMPTY 10",{"$f":"SUM('Production DAY 9'!G44)","v":0},null,{"$f":"SUM('DAY 10'!AV69)","v":0},{"$f":"SUM('DAY 10'!AV70)","v":0},0,true]

{"sheet":"DAY 10","index":19,"n_rows":70,"n_cols":47,"rows_kept":70,"cut":false,"hidden":false,"merged":[[0,7,0,28]]}
["FEBRUARY 12th, 2022",null,null,{"$f":"SUM(D3:D50)","v":0},null,null,null,"BURGER PALACE INVENTORY RECORDS"]
["ITEM","AMOUNT","QUANTITY","TOTAL",null,"Burger Bread","Chicken Patty","Shawarma Bread","Chicken Portion or Shawarma portion","Sausage","Portion of Fries","Pieces of Chicken","Cheese","Bacon","A Paper Bag","Achicken Box","Paper Wrap","A Branded Nylon","Parfait","A Bottle of SUGAR Juice","35 CL Soft Drink","Beef Patty","Cream in GRAMS","KETCHUP","plain Nylon","Barbeque Sauce","Meal Box","COCONUT BREAD ","SUPA KOMMANDO ","SHAWARMA SUB","CAN COKE / FANTA","NUGGETS","PRAWN","FARM PRIDE 50CL OR PULPY","FARM PRIDE 1 LT","BEEF PORTION FOR SHAWARMA ","BEEF SUYA STICK","EMPTY 1","EMPTY 2","EMPTY 3","EMPTY 4","EMPTY 5","EMPTY 6","EMPTY 7","EMPTY 8","EMPTY 9","EMPTY 10"]
["DELUXE BURGER MEAL (WITH SOFT DRINK)",5400,0,{"$f":"SUM(B3*C3)","v":0},null,{"$f":"SUM(C3)","v":0},{"$f":"SUM(C3)","v":0},{"$f":"SUM(C3)","v":0},{"$f":"SUM(C3)","v":0},{"$f":"SUM(C3)","v":0},{"$f":"SUM(C3)","v":0},{"$f":"SUM(C3)*2","v":0},"ZERO","ZERO",{"$f":"SUM(C3)*1","v":0},{"$f":"SUM(C3)","v":0},{"$f":"SUM(C3)*2","v":0},{"$f":"SUM(C3)","v":0},null,"ZERO",{"$f":"SUM(C3)","v":0},null,{"$f":"SUM(C3)*140","v":0},{"$f":"SUM(C3)","v":0},{"$f":"SUM(C3)","v":0},"ZERO",null,null,null,null,null,null,null,null,null,{"$f":"SUM(AD3)","v":0},0]
["DELUXE BURGER MEAL (WITH SUGARCANE JUICE)",5600,0,{"$f":"SUM(B4*C4)","v":0},null,{"$f":"SUM(C4)","v":0},{"$f":"SUM(C4)","v":0},{"$f":"SUM(C4)","v":0},{"$f":"SUM(C4)","v":0},{"$f":"SUM(C4)","v":0},0,{"$f":"SUM(C4)*2","v":0},"ZERO","ZERO",{"$f":"SUM(C4)*1","v":0},0,{"$f":"SUM(C4)*2","v":0},0,null,{"$f":"SUM(C4)","v":0},"ZERO",null,{"$f":"SUM(C4)*140","v":0},{"$f":"SUM(C4)","v":0},0,"ZERO",null,null,null,null,null,null,null,null,null,0,0]
["DELUXE MEAL EXTRA (WITH Soft Drink)",null,0,{"$f":"SUM(B5*C5)","v":0},null,{"$f":"SUM(C5)","v":0},{"$f":"SUM(C5)","v":0},{"$f":"SUM(C5)","v":0},{"$f":"SUM(C5)","v":0},{"$f":"SUM(C5)","v":0},0,{"$f":"SUM(C5)*2","v":0},"ZERO","ZERO",{"$f":"SUM(C5)","v":0},0,{"$f":"SUM(C5)*2","v":0},0,{"$f":"SUM(C5)","v":0},"ZERO",{"$f":"SUM(C5)","v":0},null,{"$f":"SUM(C5)*140","v":0},{"$f":"SUM(C5)","v":0},0,"ZERO",null,null,null,null,null,null,null,null,null,0,0]
["DELUXE BURGER MEAL Extra (With Sugarcane juice",null,0,{"$f":"SUM(B6*C6)","v":0},null,{"$f":"SUM(C6)","v":0},{"$f":"SUM(C6)","v":0},{"$f":"SUM(C6)","v":0},{"$f":"SUM(C6)","v":0},{"$f":"SUM(C6)","v":0},0,{"$f":"SUM(C6)*2","v":0},"ZERO","ZERO",{"$f":"SUM(C6)","v":0},0,{"$f":"SUM(C6)*2","v":0},0,{"$f":"SUM(C6)","v":0},{"$f":"SUM(C6)","v":0},"ZERO",null,{"$f":"SUM(C6)*140","v":0},{"$f":"SUM(C6)","v":0},0,"ZERO",null,null,null,null,null,null,null,null,null,0,0]
["PREMIUM BURGER Meal ",5900,0,{"$f":"SUM(B7*C7)","v":0},null,{"$f":"SUM(C7)","v":0},{"$f":"SUM(C7)","v":0},"ZERO","ZERO","ZERO",0,{"$f":"SUM(C7)*5","v":0},"ZERO","ZERO",{"$f":"SUM(C7)","v":0},0,{"$f":"SUM(C7)*1.25","v":0},0,"ZERO","ZERO",{"$f":"SUM(C7)","v":0},"ZERO",{"$f":"SUM(C7)*70","v":0},{"$f":"SUM(C7)*2","v":0},0,{"$f":"SUM(C7)","v":0},null,null,null,null,null,null,null,null,null,"ZERO","ZERO"]
["CRISPY CHICKEN BOX",4300,0,null,null,"ZERO","ZERO","ZERO","ZERO","ZERO",0,{"$f":"SUM(C8)*5","v":0},"ZERO","ZERO","ZERO",0,{"$f":"SUM(C8)*0.25","v":0},0,"ZERO","ZERO",{"$f":"SUM(C8)","v":0},"ZERO","ZERO",{"$f":"SUM(C8)*2","v":0},0,{"$f":"SUM(C8)","v":0},null,null,null,null,null,null,null,null,null,"ZERO","ZERO"]
["ROYAL BURGER MEAL (CHICKEN  PATTY)",null,0,{"$f":"SUM(B9*C9)","v":0},null,{"$f":"SUM(C9)","v":0},{"$f":"SUM(C9)*2","v":0},"ZERO","ZERO","ZERO",0,"ZERO",{"$f":"SUM(C9)*2","v":0},{"$f":"SUM(C9)*2","v":0},"ZERO",0,{"$f":"SUM(C9)","v":0},0,{"$f":"SUM(C9)","v":0},"ZERO","ZERO","ZERO",{"$f":"SUM(C9)*140","v":0},{"$f":"SUM(C9)*2","v":0},0,{"$f":"SUM(C9)","v":0},null,null,null,null,null,null,null,null,null,"ZERO","ZERO"]
["ROYAL BURGER MEAL (BEEF  PATTY)",null,0,{"$f":"SUM(B10*C10)","v":0},null,{"$f":"SUM(C10)","v":0},"ZERO","ZERO","ZERO","ZERO",0,"ZERO",{"$f":"SUM(C10)*2","v":0},{"$f":"SUM(C10)*2","v":0},"ZERO",0,0,0,{"$f":"SUM(C10)","v":0},"ZERO","ZERO",{"$f":"SUM(C10)*2","v":0},{"$f":"SUM(C10)*140","v":0},{"$f":"SUM(C10)*2","v":0},0,{"$f":"SUM(C10)","v":0},null,null,null,null,null,null,null,null,null,"ZERO","ZERO"]
["ROYAL BURGER ONLY (CHICKEN PATTY)",3300,0,{"$f":"SUM(B11*C11:C25,A1,A1,A1,A1,A1)","v":0},null,{"$f":"SUM(C11)","v":0},{"$f":"SUM(C11)*2","v":0},"ZERO","ZERO","ZERO","ZERO","ZERO",{"$f":"SUM(C11)*2","v":0},{"$f":"SUM(C11)*2","v":0},"ZERO",0,0,0,"ZERO","ZERO","ZERO","ZERO",{"$f":"SUM(C11)*140","v":0},{"$f":"SUM(C11)","v":0},"ZERO","ZERO",null,null,null,null,null,null,null,null,null,"ZERO","ZERO"]
["ROYAL BURGER ONLY (BEEF PATTY)",3300,0,{"$f":"SUM(B12*C12)","v":0},null,{"$f":"SUM(C12)","v":0},null,"ZERO","ZERO","ZERO","ZERO","ZERO",{"$f":"SUM(C12)*2","v":0},{"$f":"SUM(C12)*2","v":0},"ZERO",0,0,0,"ZERO","ZERO","ZERO",{"$f":"SUM(C12)*2","v":0},{"$f":"SUM(C12)*140","v":0},{"$f":"SUM(C12)","v":0},"ZERO","ZERO",null,null,null,null,null,null,null,null,null,"ZERO","ZERO"]
["MAYOR'S COCONUT BURGER ",2800,0,0,null,0,{"$f":"SUM(C13)","v":0},"ZERO","ZERO","ZERO","ZERO","ZERO",{"$f":"SUM(C13)","v":0},"ZERO","ZERO",0,0,0,"ZERO","ZERO","ZERO",{"$f":"SUM(C13)","v":0},{"$f":"SUM(C13)*140","v":0},"ZERO","ZERO","ZERO",null,{"$f":"SUM(C13)","v":0},{"$f":"SUM(C13)","v":0},null,null,null,null,null,null,"ZERO","ZERO"]
["DOUBLE DECKER CRISPY CHK. CHEESE BURGER",2500,0,0,null,{"$f":"SUM(C14)","v":0},{"$f":"SUM(C14)*2","v":0},"ZERO","ZERO","ZERO","ZERO","ZERO",{"$f":"SUM(C14)","v":0},"ZERO","ZERO",0,0,"ZERO","ZERO","ZERO","ZERO","ZERO",{"$f":"SUM(C14)*70","v":0},"ZERO","ZERO","ZERO",null,null,null,null,null,null,null,null,null,"ZERO","ZERO"]
["SINGLE BEEF BURGER",1700,0,0,null,0,"ZERO","ZERO","ZERO","ZERO","ZERO","ZERO",null,"ZERO",{"$f":"SUM(C15)","v":0},null,0,"ZERO","ZERO","ZERO","ZERO",{"$f":"SUM(C15)","v":0},{"$f":"SUM(C15)*70","v":0},"ZERO","ZERO","ZERO",null,null,null,null,null,null,null,null,null,"ZERO","ZERO"]
["YANKEE BURGER",2400,0,0,null,0,"ZERO","ZERO","ZERO","ZERO","ZERO","ZERO",null,{"$f":"SUM(C16)*2","v":0},{"$f":"SUM(C16)","v":0},null,0,"ZERO","ZERO","ZERO","ZERO",{"$f":"SUM(C16)","v":0},{"$f":"SUM(C16)*70","v":0},"ZERO","ZERO","ZERO",null,null,null,null,null,null,null,null,null,"ZERO","ZERO"]
["ROYAL BURGER WITH FRIES (Chicken)",4000,0,0,null,0,{"$f":"SUM(C17)*2","v":0},"ZERO","ZERO","ZERO",{"$f":"SUM(C17)","v":0},"ZERO",{"$f":"SUM(C17)*2","v":0},{"$f":"SUM(C17)*2","v":0},"ZERO",{"$f":"SUM(C17)","v":0},0,"ZERO","ZERO","ZERO","ZERO","ZERO",{"$f":"SUM(C17)*140","v":0},{"$f":"SUM(C17)*2","v":0},"ZERO","ZERO",null,null,null,null,null,null,null,null,null,"ZERO","ZERO"]
["ROYAL BURGER WITH FRIES (BEEF)",4000,0,0,null,0,"ZERO","ZERO","ZERO","ZERO",{"$f":"SUM(C18)","v":0},"ZERO",{"$f":"SUM(C18)*2","v":0},{"$f":"SUM(C18)*2","v":0},"ZERO",{"$f":"SUM(C18)","v":0},0,"ZERO","ZERO","ZERO","ZERO",{"$f":"SUM(C18)*2","v":0},{"$f":"SUM(C18)*140","v":0},{"$f":"SUM(C18)*2","v":0},"ZERO","ZERO",null,null,null,null,null,null,null,null,null,"ZERO","ZERO"]
["CRISPY CHICKEN BURGER",1700,0,0,null,0,{"$f":"SUM(C19)","v":0},"ZERO","ZERO","ZERO","ZERO","ZERO","ZERO","ZERO",{"$f":"SUM(C19)","v":0},"ZERO",{"$f":"SUM(C19)*1","v":0},"ZERO","ZERO","ZERO","ZERO","ZERO",{"$f":"SUM(C19)*70","v":0},"ZERO","ZERO","ZERO",null,null,null,null,null,null,null,null,null,"ZERO","ZERO"]
["SUYA BURGER BOX",5500,0,0,null,0,{"$f":"SUM(C20)*2","v":0},"ZERO","ZERO",{"$f":"SUM(C20)*4","v":0},{"$f":"SUM(C20)","v":0},{"$f":"SUM(C20)*4","v":0},"ZERO","ZERO",{"$f":"SUM(C20)","v":0},{"$f":"SUM(C20)","v":0},{"$f":"SUM(C20)","v":0},"ZERO","ZERO",null,{"$f":"SUM(C20)","v":0},"ZERO",0,{"$f":"SUM(C20)*2","v":0},{"$f":"SUM(C20)","v":0},"ZERO",{"$f":"SUM(C20)","v":0},null,null,null,null,null,null,null,null,"ZERO","ZERO"]
["CRISPY CHICKEN BURGER PLUS CHEESE",2100,0,0,null,0,{"$f":"SUM(C21)","v":0},"ZERO","ZERO","ZERO","ZERO","ZERO",{"$f":"SUM(C21)","v":0},"ZERO",{"$f":"SUM(C21)","v":0},"ZERO",0,"ZERO","ZERO","ZERO","ZERO","ZERO",0,"ZERO","ZERO","ZERO",null,null,null,null,null,null,null,null,null,"ZERO","ZERO"]
["SINGLE BEEF CHEESE BURGER ",2100,0,0,null,0,"ZERO","ZERO","ZERO","ZERO","ZERO","ZERO",{"$f":"SUM(C22)","v":0},"ZERO",{"$f":"SUM(C22)","v":0},"ZERO",0,"ZERO","ZERO","ZERO","ZERO",{"$f":"SUM(C22)","v":0},0,"ZERO","ZERO","ZERO",null,null,null,null,null,null,null,null,null,"ZERO","ZERO"]
["DOUBLE DECKER BEEF CHEESE BURGER",2800,0,0,null,0,"ZERO","ZERO","ZERO","ZERO","ZERO","ZERO",{"$f":"SUM(C23)*2","v":0},"ZERO","ZERO",{"$f":"SUM(C23)","v":0},0,"ZERO","ZERO","ZERO","ZERO",{"$f":"SUM(C23)*2","v":0},0,"ZERO","ZERO","ZERO",null,null,null,null,null,null,null,null,null,"ZERO","ZERO"]
["CHICKEN SUYA BURGER ",2200,0,0,null,0,{"$f":"SUM(C24)*2","v":0},"ZERO","ZERO","ZERO","ZERO","ZERO","ZERO","ZERO",{"$f":"SUM(C24)*1","v":0},"ZERO",0,"ZERO","ZERO","ZERO","ZERO","ZERO",0,"ZERO","ZERO","ZERO",null,null,null,null,null,null,null,null,null,"ZERO","ZERO"]
["CHICKEN SHAWARMA",1800,0,0,null,null,"ZERO",{"$f":"SUM(C25)","v":0},{"$f":"SUM(C25)","v":0},{"$f":"SUM(C25)*2","v":0},"ZERO","ZERO","ZERO","ZERO","ZERO","ZERO",0,{"$f":"SUM(C25)","v":0},"ZERO","ZERO","ZERO","ZERO",0,"ZERO","ZERO","ZERO",null,null,null,null,null,null,null,null,null,{"$f":"SUM(AD25)","v":0},{"$f":"SUM(AE25)","v":0}]
["BARBECUE BEEF SHAWARMA",2000,0,0,null,null,"ZERO",{"$f":"SUM(C26)","v":0},"ZERO",{"$f":"SUM(C26)*2","v":0},"ZERO","ZERO","ZERO","ZERO","ZERO","ZERO",0,0,"ZERO","ZERO","ZERO","ZERO",0,"ZERO","ZERO","ZERO",null,null,null,null,null,null,null,null,null,{"$f":"SUM(C26)","v":0},"ZERO"]
["BEEF SUYA SHAWARMA",2200,0,0,null,null,"ZERO",{"$f":"SUM(C27)","v":0},"ZERO",{"$f":"SUM(C27)*2","v":0},"ZERO","ZERO","ZERO","ZERO","ZERO","ZERO",0,0,"ZERO","ZERO","ZERO","ZERO",0,"ZERO","ZERO","ZERO",null,null,null,null,null,null,null,null,null,{"$f":"SUM(AD27)","v":0},{"$f":"SUM(C27)","v":0}]
["BEEF SUYA BURGER ",2200,0,0,null,{"$f":"SUM(C28)","v":0},"ZERO",null,"ZERO","ZERO","ZERO","ZERO","ZERO","ZERO",{"$f":"SUM(C28)","v":0},"ZERO",0,0,"ZERO","ZERO","ZERO","ZERO",0,"ZERO","ZERO","ZERO",null,null,null,null,null,null,null,null,null,{"$f":"SUM(AD28)","v":0},{"$f":"SUM(C28)","v":0}]
["CHICKEN SUYA SHAWARMA",2200,0,0,null,"ZERO",{"$f":"SUM(C29)*2","v":0},{"$f":"SUM(C29)","v":0},null,{"$f":"SUM(C29)*2","v":0},"ZERO","ZERO","ZERO","ZERO","ZERO","ZERO",0,0,"ZERO","ZERO","ZERO","ZERO",0,"ZERO","ZERO","ZERO"]
["CHESSY SHAWARMA",2500,0,0,null,"ZERO","ZERO",{"$f":"SUM(C30)","v":0},{"$f":"SUM(C30)","v":0},{"$f":"SUM(C30)*2","v":0},null,"ZERO",{"$f":"SUM(C30)*2","v":0},"ZERO","ZERO","ZERO",0,0,"ZERO","ZERO","ZERO","ZERO",{"$f":"SUM(C30)*140","v":0},"ZERO","ZERO","ZERO",null,null,null,null,null,null,null,null,null,{"$f":"SUM(AD30)","v":0},{"$f":"SUM(AE30)","v":0}]
["2 CHICKEN AND CHIPS",2300,0,0,null,"ZERO","ZERO","ZERO","ZERO","ZERO",{"$f":"SUM(C31)","v":0},{"$f":"SUM(C31)*2","v":0},"ZERO","ZERO","ZERO",{"$f":"SUM(C31)","v":0},"ZERO",0,"ZERO","ZERO","ZERO","ZERO","ZERO",{"$f":"SUM(C31)","v":0},"ZERO","ZERO",null,null,null,null,null,null,null,null,null,"ZERO","ZERO"]
["4 CHICKEN AND CHIPS",3500,0,0,null,"ZERO","ZERO","ZERO","ZERO","ZERO",{"$f":"SUM(C32)","v":0},{"$f":"SUM(C32)*4","v":0},"ZERO","ZERO","ZERO",{"$f":"SUM(C32)","v":0},"ZERO",0,"ZERO","ZERO","ZERO","ZERO","ZERO",{"$f":"SUM(C32)*2","v":0},"ZERO","ZERO","zero","zero","zero",null,null,null,null,null,null,"ZERO","ZERO"]
["SPICY CHICKEN ONLY",650,0,null,null,"ZERO","ZERO","ZERO","ZERO","ZERO","ZERO",{"$f":"SUM(C33)","v":0},"ZERO","ZERO","ZERO","ZERO","ZERO","ZERO","ZERO","ZERO","ZERO","ZERO","ZERO","ZERO",{"$f":"SUM(C33)","v":0},"ZERO",null,null,null,null,null,null,null,null,null,"ZERO","ZERO"]
["CRISPY CHICKEN ONLY",650,0,{"$f":"SUM(B34*C34)","v":0},null,"ZERO","ZERO","ZERO","ZERO","ZERO","ZERO",{"$f":"SUM(C34)","v":0},"ZERO","ZERO","ZERO","ZERO","ZERO","ZERO","ZERO","ZERO","ZERO","ZERO","ZERO","ZERO",{"$f":"SUM(C34)","v":0},"ZERO",null,null,null,null,null,null,null,null,null,"ZERO","ZERO"]
["POTATO FRIES",700,0,0,null,"ZERO","ZERO","ZERO","ZERO","ZERO",null,"ZERO","ZERO","ZERO","ZERO","ZERO","ZERO","ZERO","ZERO","ZERO","ZERO","ZERO","ZERO","ZERO","ZERO","ZERO",null,null,null,null,null,null,null,null,null,"ZERO","ZERO"]
["FRENCH FRIES ONLY",1000,0,0,null,"ZERO","ZERO","ZERO","ZERO","ZERO",{"$f":"SUM(C36)","v":0},"ZERO","ZERO","ZERO","ZERO","ZERO","ZERO","ZERO","ZERO","ZERO","ZERO","ZERO","ZERO","ZERO",{"$f":"SUM(C36)","v":0},"ZERO",null,null,null,null,null,null,null,null,null,"ZERO","ZERO"]
["SUGERCANNE JUICE",750,0,0,null,"ZERO","ZERO","ZERO","ZERO","ZERO","ZERO","ZERO","ZERO","ZERO","ZERO","ZERO","ZERO","ZERO","ZERO",{"$f":"SUM(C37)","v":0},"ZERO","ZERO","ZERO","ZERO","ZERO","ZERO",null,null,null,null,null,null,null,null,null,"ZERO","ZERO"]
["35 CL SOFT DRINK",200,0,0,null,"ZERO","ZERO","ZERO","ZERO","ZERO","ZERO","ZERO","ZERO","ZERO","ZERO","ZERO","ZERO","ZERO","ZERO","ZERO",{"$f":"SUM(C38)","v":0},"ZERO","ZERO","ZERO","ZERO","ZERO",null,null,null,null,null,null,null,null,null,"ZERO","ZERO"]
["PARFAIT",null,0,0,null,"ZERO","ZERO","ZERO","ZERO","ZERO","ZERO","ZERO","ZERO","ZERO","ZERO","ZERO","ZERO",{"$f":"SUM(C39)","v":0},{"$f":"SUM(C39)","v":0},"ZERO","ZERO","ZERO","ZERO","ZERO","ZERO","ZERO",null,null,null,null,null,null,null,null,null,"ZERO","ZERO"]
["MARINATED WINGS",500,0,0,null,"ZERO","ZERO","ZERO","ZERO","ZERO","ZERO",{"$f":"SUM(C40)","v":0},"ZERO","ZERO","ZERO","ZERO","ZERO","ZERO","ZERO","ZERO","ZERO","ZERO","ZERO","ZERO","ZERO","ZERO",null,null,null,null,null,null,null,null,null,"ZERO","ZERO"]
["CHEESE ",400,0,0,null,"ZERO","ZERO","ZERO","ZERO","ZERO","ZERO","ZERO",{"$f":"SUM(C41)","v":0},"ZERO","ZERO","ZERO","ZERO","ZERO","ZERO","ZERO","ZERO","ZERO","ZERO","ZERO","ZERO","ZERO",null,null,null,null,null,null,null,null,null,"ZERO","ZERO"]
["SAUSAGE",200,0,0,null,null,null,null,null,null,"ZERO"]
["BACON",400,0,0,null,"ZERO","ZERO","ZERO","ZERO","ZERO","ZERO","ZERO","ZERO",{"$f":"SUM(C43)","v":0},"ZERO","ZERO","ZERO","ZERO","ZERO","ZERO","ZERO","ZERO","ZERO","ZERO","ZERO","ZERO",null,null,null,null,null,null,null,null,null,"ZERO","ZERO"]
["FRIENDY BURGER MEAL (WITH SOFT DRINK)",10200,0,0,null,{"$f":"SUM(C44)*2","v":0},{"$f":"SUM(C44)*2","v":0},{"$f":"SUM(C44)*2","v":0},{"$f":"SUM(C44)*2","v":0},{"$f":"SUM(C44)*2","v":0},{"$f":"SUM(C44)*2","v":0},{"$f":"SUM(C44)*2*2","v":0},"ZERO","ZERO",{"$f":"SUM(C44)*1*2","v":0},{"$f":"SUM(C44)*2","v":0},{"$f":"SUM(C44)*2*2","v":0},{"$f":"SUM(C44)*2","v":0},null,"ZERO",{"$f":"SUM(C44)*2","v":0},null,{"$f":"SUM(C44)*140*2","v":0},{"$f":"SUM(C44)*2","v":0},{"$f":"SUM(C44)*2","v":0},"ZERO",null,null,null,null,null,null,null,null,null,{"$f":"SUM(AD44)*2","v":0},{"$f":"SUM(AE44)*2","v":0}]
["FRIENDY BURGER MEAL (WITH SUGARCANE JUICE)",10600,0,0,null,{"$f":"SUM(C45)*2","v":0},{"$f":"SUM(C45)*2","v":0},{"$f":"SUM(C45)*2","v":0},{"$f":"SUM(C45)*2","v":0},{"$f":"SUM(C45)*2","v":0},{"$f":"SUM(C45)*2","v":0},{"$f":"SUM(C45)*2*2","v":0},"ZERO","ZERO",{"$f":"SUM(C45)*1*2","v":0},{"$f":"SUM(C45)*2","v":0},{"$f":"SUM(C45)*2*2","v":0},{"$f":"SUM(C45)*2","v":0},null,{"$f":"SUM(C45)*2","v":0},"ZERO",null,{"$f":"SUM(C45)*140*2","v":0},{"$f":"SUM(C45)*2","v":0},{"$f":"SUM(C45)*2","v":0},"ZERO",null,null,null,null,null,null,null,null,null,{"$f":"SUM(AD45)*2","v":0},{"$f":"SUM(AE45)*2","v":0}]
["SHAWARMA  SUB",1800,0,0,null,null,"ZERO","ZERO",{"$f":"SUM(C46)","v":0},{"$f":"SUM(C46)*2","v":0},"ZERO","ZERO","ZERO","ZERO",{"$f":"SUM(C46)*1","v":0},"ZERO",{"$f":"SUM(C46)","v":0},"ZERO","ZERO","ZERO","ZERO","ZERO",{"$f":"SUM(C46)*70","v":0},"ZERO","ZERO","ZERO",null,null,null,{"$f":"SUM(C46)","v":0},null,null,null,null,null,{"$f":"SUM(AD46)","v":0},{"$f":"SUM(AE46)","v":0}]
["DELISH PACK 1",5300,0,0,null,{"$f":"SUM(C47)","v":0},{"$f":"SUM(C47)","v":0},"ZERO",{"$f":"SUM(C47)","v":0},{"$f":"SUM(C47)*2","v":0},"ZERO",{"$f":"SUM(C47)*4","v":0},"ZERO","ZERO",{"$f":"SUM(C47)*1","v":0},{"$f":"SUM(C47)*1","v":0},{"$f":"SUM(C47)*2","v":0},{"$f":"SUM(C47)","v":0},"ZERO","ZERO","ZERO","ZERO",{"$f":"SUM(C47)*70","v":0},"ZERO","ZERO","ZERO",null,null,null,{"$f":"SUM(C47)","v":0},{"$f":"SUM(C47)*1","v":0},null,null,null,null,{"$f":"SUM(AD47)","v":0},{"$f":"SUM(AE47)","v":0}]
["FAMILY BURGER MEAL (WITH SOFT DRINK)",19800,0,0,null,{"$f":"SUM(C48)*4","v":0},{"$f":"SUM(C48)*4","v":0},{"$f":"SUM(C48)*4","v":0},{"$f":"SUM(C48)*4","v":0},{"$f":"SUM(C48)*4","v":0},{"$f":"SUM(C48)*4","v":0},{"$f":"SUM(C48)*2*4","v":0},"ZERO","ZERO",{"$f":"SUM(C48)*1*4","v":0},{"$f":"SUM(C48)*4","v":0},{"$f":"SUM(C48)*2*4","v":0},{"$f":"SUM(C48)*4","v":0},null,"ZERO",{"$f":"SUM(C48)*4","v":0},null,{"$f":"SUM(C48)*140*4","v":0},{"$f":"SUM(C48)*4","v":0},{"$f":"SUM(C48)*4","v":0},"ZERO",null,null,null,null,null,null,null,null,null,{"$f":"SUM(AD48)*4","v":0},{"$f":"SUM(AE48)*4","v":0}]
["FAMILY BURGER MEAL (WITH SUGARCANE JUICE)",20800,0,0,null,{"$f":"SUM(C49)*4","v":0},{"$f":"SUM(C49)*4","v":0},{"$f":"SUM(C49)*4","v":0},{"$f":"SUM(C49)*4","v":0},{"$f":"SUM(C49)*4","v":0},{"$f":"SUM(C49)*4","v":0},{"$f":"SUM(C49)*2*4","v":0},"ZERO","ZERO",{"$f":"SUM(C49)*1*4","v":0},{"$f":"SUM(C49)*4","v":0},{"$f":"SUM(C49)*2*4","v":0},{"$f":"SUM(C49)*4","v":0},null,{"$f":"SUM(C49)*4","v":0},"ZERO",null,{"$f":"SUM(C49)*140*4","v":0},{"$f":"SUM(C49)*4","v":0},{"$f":"SUM(C49)*4","v":0},"ZERO",null,null,null,null,null,null,null,null,null,{"$f":"SUM(AD49)*4","v":0},{"$f":"SUM(AE49)*4","v":0}]
["CAN COKE/FANTA ONLY",null,0,0,null,"ZERO","ZERO","ZERO","ZERO","ZERO","ZERO","ZERO","ZERO","ZERO","ZERO","ZERO","ZERO","ZERO","ZERO","ZERO","ZERO","ZERO","ZERO","ZERO","ZERO","ZERO",null,null,null,null,{"$f":"SUM(C50)","v":0},null,null,null,null,"ZERO","ZERO"]
["SUPA KOMMANDO ONLY",250,0,0,null,"ZERO","ZERO","ZERO","ZERO","ZERO","ZERO","ZERO","ZERO","ZERO","ZERO","ZERO","ZERO","ZERO","ZERO","ZERO","ZERO","ZERO","ZERO","ZERO","ZERO","ZERO",null,null,{"$f":"SUM(C51)","v":0},null,"ZERO","ZERO",null,null,null,"ZERO","ZERO"]
["10X Chicken Nuggets ",2400,0,0,null,null,null,null,null,null,"ZERO",null,null,null,null,{"$f":"SUM(C52)","v":0},null,{"$f":"SUM(C52)","v":0},null,null,null,null,null,{"$f":"SUM(C52)","v":0},null,null,null,null,null,null,{"$f":"SUM(C52)","v":0},{"$f":"SUM(C52)*10","v":0}]
["20X Chicken Nuggets ",4800,0,0,null,null,null,null,null,null,"ZERO ",null,null,null,null,{"$f":"SUM(C53)","v":0},null,{"$f":"SUM(C53)","v":0},null,null,null,null,null,{"$f":"SUM(C53)","v":0},null,null,null,null,null,null,{"$f":"SUM(C53)","v":0},{"$f":"SUM(C53)*20","v":0}]
["10 CHICKEN NUGGETS & FRIES BOX",3300,0,0,null,null,null,null,null,null,{"$f":"SUM(C54)","v":0},null,null,null,null,{"$f":"SUM(C54)","v":0},null,{"$f":"SUM(C54)","v":0},null,null,null,null,null,{"$f":"SUM(C54)","v":0},null,null,null,null,null,null,{"$f":"SUM(C54)","v":0},{"$f":"SUM(C54)*10","v":0}]
["20 CHICKEN NUGGETS & FRIES BOX",6600,0,0,null,null,null,null,null,null,{"$f":"SUM(C55)","v":0},null,null,null,null,{"$f":"SUM(C55)","v":0},null,{"$f":"SUM(C55)","v":0},null,null,null,null,null,{"$f":"SUM(C55)","v":0},null,null,null,null,null,null,{"$f":"SUM(C55)","v":0},{"$f":"SUM(C55)*20","v":0}]
["PRAWN BURGER ",3000,0,0,null,{"$f":"SUM(C56)","v":0},"ZERO","ZERO","ZERO","ZERO","ZERO","ZERO",{"$f":"SUM(C56)","v":0},"ZERO",{"$f":"SUM(C56)","v":0},"ZERO",{"$f":"SUM(C56)","v":0},"ZERO","ZERO","ZERO","ZERO","ZERO",{"$f":"SUM(C56)*70","v":0},"ZERO","ZERO","ZERO",null,null,null,null,null,null,{"$f":"SUM(C56)*2","v":0},null,null,"ZERO","ZERO"]
[" FUNMMY NUGGETS  BOX",5300,0,0,null,{"$f":"SUM(C57)","v":0},{"$f":"SUM(C57)","v":0},null,null,null,{"$f":"SUM(C57)","v":0},null,{"$f":"SUM(C57)","v":0},null,{"$f":"SUM(C57)","v":0},{"$f":"SUM(C57)","v":0},null,{"$f":"SUM(C57)","v":0},null,null,null,null,null,{"$f":"SUM(C57)","v":0},null,null,null,null,null,null,{"$f":"SUM(C57)","v":0},{"$f":"SUM(C57)*10","v":0}]
["FARM PRIDE 50 CL",500,0,0,null,"ZERO","ZERO","ZERO","ZERO","ZERO","ZERO","ZERO","ZERO","ZERO","ZERO","ZERO","ZERO","ZERO","ZERO","ZERO","ZERO","ZERO","ZERO","ZERO","ZERO","ZERO",null,null,null,null,null,null,null,{"$f":"SUM(C58)","v":0},null,"ZERO","ZERO"]
["FARM PRIDE 1 LITRE",800,0,0,null,"ZERO","ZERO","ZERO","ZERO","ZERO","ZERO","ZERO","ZERO","ZERO","ZERO","ZERO","ZERO","ZERO","ZERO","ZERO","ZERO","ZERO","ZERO","ZERO","ZERO","ZERO",null,null,null,null,null,null,null,"ZERO",{"$f":"SUM(C59)","v":0},"ZERO","ZERO"]
["GRILLED CHICKEN BURGER",1700,0,{"$f":"SUM(B60*C60)","v":0},null,{"$f":"SUM(C60)","v":0},{"$f":"SUM(C60)","v":0},"ZERO","ZERO","ZERO","ZERO","ZERO","ZERO","ZERO",{"$f":"SUM(C60)","v":0},"ZERO",{"$f":"SUM(C60)*1","v":0},"ZERO","ZERO","ZERO","ZERO","ZERO",{"$f":"SUM(C60)*70","v":0},"ZERO","ZERO","ZERO",null,null,null,null,null,null,null,null,null,"ZERO","ZERO"]
["GRILLED CHICKEN BURGER + JUICE",2200,0,{"$f":"SUM(B61*C61)","v":0},null,{"$f":"SUM(C61)","v":0},{"$f":"SUM(C61)","v":0},"ZERO","ZERO","ZERO","ZERO","ZERO","ZERO","ZERO",{"$f":"SUM(C61)","v":0},"ZERO",{"$f":"SUM(C61)*1","v":0},"ZERO","ZERO","ZERO","ZERO","ZERO",{"$f":"SUM(C61)*70","v":0},"ZERO","ZERO","ZERO",null,null,null,null,null,null,null,{"$f":"SUM(C61)","v":0},null,"ZERO","ZERO"]
["GRILLED BURGER MEAL 1 & 3",4000,0,{"$f":"SUM(B62*C62)","v":0},null,{"$f":"SUM(C62)","v":0},{"$f":"SUM(C62)","v":0},"ZERO","ZERO","ZERO",{"$f":"SUM(C62)","v":0},{"$f":"SUM(C62)*2","v":0},"ZERO","ZERO","ZERO",{"$f":"SUM(C62)","v":0},{"$f":"SUM(C62)","v":0},{"$f":"SUM(C62)","v":0},"ZERO","ZERO","ZERO","ZERO",{"$f":"SUM(C62)*70","v":0},{"$f":"SUM(C62)","v":0},"ZERO","ZERO",null,null,null,null,null,null,null,{"$f":"SUM(C62)","v":0},null,"ZERO","ZERO"]
["GRILLED BURGER MEAL 2",3700,0,{"$f":"SUM(B63*C63)","v":0},null,{"$f":"SUM(C63)","v":0},{"$f":"SUM(C63)","v":0},"ZERO","ZERO","ZERO",{"$f":"SUM(C63)","v":0},{"$f":"SUM(C63)*2","v":0},"ZERO","ZERO","ZERO",{"$f":"SUM(C63)","v":0},{"$f":"SUM(C63)","v":0},{"$f":"SUM(C63)","v":0},"ZERO","ZERO",{"$f":"SUM(C63)","v":0},"ZERO",{"$f":"SUM(C63)*70","v":0},{"$f":"SUM(C63)","v":0},"ZERO","ZERO",null,null,null,null,null,null,null,"ZERO",null,"ZERO","ZERO"]
["MASTERPIECE BURGER ",5000,0,{"$f":"SUM(B64*C64)","v":0},null,{"$f":"SUM(C64)","v":0},"ZERO","ZERO","ZERO","ZERO","ZERO","ZERO",{"$f":"SUM(C64)","v":0},"ZERO","ZERO",{"$f":"SUM(C64)","v":0},{"$f":"SUM(C64)","v":0},"ZERO","ZERO","ZERO",{"$f":"SUM(C64)","v":0},{"$f":"SUM(C64)","v":0},{"$f":"SUM(C64)*70","v":0},"ZERO","ZERO","ZERO",null,null,null,null,null,null,null,null,null,"ZERO",{"$f":"SUM(C64)","v":0}]
["SUYA BURGER BOX 2 (WITH BEEF SUYA BURGER)",6000,0,0,null,0,"ZERO ","ZERO","ZERO",0,0,0,"ZERO","ZERO",0,0,0,"ZERO","ZERO",null,0,"ZERO",0,0,0,"ZERO",0,null,null,null,null,null,null,null,null,"ZERO",0]
["OPENING STOCK",null,null,null,null,{"$f":"SUM('Production DAY 10'!C2)","v":0},{"$f":"SUM('Production DAY 10'!C3)","v":0},{"$f":"SUM('Production DAY 10'!C4)","v":0},{"$f":"SUM('Production DAY 10'!C5)","v":0},{"$f":"SUM('Production DAY 10'!C6)","v":0},{"$f":"SUM('Production DAY 10'!C7)","v":0},{"$f":"SUM('Production DAY 10'!C8)","v":0},{"$f":"SUM('Production DAY 10'!C9)","v":0},{"$f":"SUM('Production DAY 10'!C10)","v":0},{"$f":"SUM('Production DAY 10'!C11)","v":0},{"$f":"SUM('Production DAY 10'!C12)","v":0},{"$f":"SUM('Production DAY 10'!C13)","v":0},{"$f":"SUM('Production DAY 10'!C14)","v":0},{"$f":"SUM('Production DAY 10'!C15)","v":0},{"$f":"SUM('Production DAY 10'!C16)","v":0},{"$f":"SUM('Production DAY 10'!C17)","v":0},{"$f":"SUM('Production DAY 10'!C18)","v":0},{"$f":"SUM('Production DAY 10'!C19)","v":0},{"$f":"SUM('Production DAY 10'!C20)","v":0},{"$f":"SUM('Production DAY 10'!C21)","v":0},{"$f":"SUM('Production DAY 10'!C22)","v":0},{"$f":"SUM('Production DAY 10'!C23)","v":0},{"$f":"SUM('Production DAY 10'!C24)","v":0},{"$f":"SUM('Production DAY 10'!C25)","v":0},{"$f":"SUM('Production DAY 10'!C26)","v":0},{"$f":"SUM('Production DAY 10'!C27)","v":0},{"$f":"SUM('Production DAY 10'!C28)","v":0},{"$f":"SUM('Production DAY 10'!C29)","v":0},{"$f":"SUM('Production DAY 10'!C30)","v":0},{"$f":"SUM('Production DAY 10'!C31)","v":0},{"$f":"SUM('Production DAY 10'!C32)","v":0},{"$f":"SUM('Production DAY 10'!C33)","v":0},{"$f":"SUM('Production DAY 10'!C34)","v":0},{"$f":"SUM('Production DAY 10'!C35)","v":0},{"$f":"SUM('Production DAY 10'!C36)","v":0},{"$f":"SUM('Production DAY 10'!C37)","v":0},{"$f":"SUM('Production DAY 10'!C38)","v":0},{"$f":"SUM('Production DAY 10'!C39)","v":0},{"$f":"SUM('Production DAY 10'!C40)","v":0},{"$f":"SUM('Production DAY 10'!C41)","v":0},{"$f":"SUM('Production DAY 10'!C42)","v":0},{"$f":"SUM('Production DAY 10'!C43)","v":0}]
["RECEIVED",null,null,null,null,{"$f":"SUM('Production DAY 10'!D2)","v":0},{"$f":"SUM('Production DAY 10'!D3)","v":0},{"$f":"SUM('Production DAY 10'!D4)","v":0},{"$f":"SUM('Production DAY 10'!D5)","v":0},{"$f":"SUM('Production DAY 10'!D6)","v":0},{"$f":"SUM('Production DAY 10'!D7)","v":0},{"$f":"SUM('Production DAY 10'!D8)","v":0},{"$f":"SUM('Production DAY 10'!D9)","v":0},{"$f":"SUM('Production DAY 10'!D10)","v":0},{"$f":"SUM('Production DAY 10'!D11)","v":0},{"$f":"SUM('Production DAY 10'!D12)","v":0},{"$f":"SUM('Production DAY 10'!D13)","v":0},{"$f":"SUM('Production DAY 10'!D14)","v":0},{"$f":"SUM('Production DAY 10'!D15)","v":0},{"$f":"SUM('Production DAY 10'!D16)","v":0},{"$f":"SUM('Production DAY 10'!D17)","v":0},{"$f":"SUM('Production DAY 10'!D18)","v":0},{"$f":"SUM('Production DAY 10'!D19)","v":0},{"$f":"SUM('Production DAY 10'!D20)","v":0},{"$f":"SUM('Production DAY 10'!D21)","v":0},{"$f":"SUM('Production DAY 10'!D22)","v":0},{"$f":"SUM('Production DAY 10'!D23)","v":0},{"$f":"SUM('Production DAY 10'!D24)","v":0},{"$f":"SUM('Production DAY 10'!D25)","v":0},{"$f":"SUM('Production DAY 10'!D26)","v":0},{"$f":"SUM('Production DAY 10'!D27)","v":0},{"$f":"SUM('Production DAY 10'!D28)","v":0},{"$f":"SUM('Production DAY 10'!D29)","v":0},{"$f":"SUM('Production DAY 10'!D30)","v":0},{"$f":"SUM('Production DAY 10'!D31)","v":0},{"$f":"SUM('Production DAY 10'!D32)","v":0},{"$f":"SUM('Production DAY 10'!D33)","v":0},{"$f":"SUM('Production DAY 10'!D34)","v":0},{"$f":"SUM('Production DAY 10'!D35)","v":0},{"$f":"SUM('Production DAY 10'!D36)","v":0},{"$f":"SUM('Production DAY 10'!D37)","v":0},{"$f":"SUM('Production DAY 10'!D38)","v":0},{"$f":"SUM('Production DAY 10'!D39)","v":0},{"$f":"SUM('Production DAY 10'!D40)","v":0},{"$f":"SUM('Production DAY 10'!D41)","v":0},{"$f":"SUM('Production DAY 10'!D42)","v":0},{"$f":"SUM('Production DAY 10'!D43)","v":0}]
["TOTAL STOCK",null,null,null,null,{"$f":"SUM(F66:F67)","v":0},{"$f":"SUM(G66:G67)","v":0},{"$f":"SUM(H66:H67)","v":0},{"$f":"SUM(I66:I67)","v":0},0,0,0,0,0,0,{"$f":"SUM(P66:P67)","v":0},0,0,0,0,0,0,0,0,0,0,0,0,0,0,0,0,0,0,0,0,0,0,0,0,0,0,0,0,0,0,0]
["USED",null,null,{"$f":"SUM(D3:D65)","v":0},null,{"$f":"SUM(F3:F65)","v":0},0,0,0,0,0,0,0,0,0,0,0,0,0,0,0,0,0,0,0,0,0,0,0,0,0,0,0,0,0,0,0,{"$f":"SUM(AL3:AL64)","v":0},0,0,0,0,0,0,0,0,0]
["CLOSING STOCK",null,null,null,null,{"$f":"SUM(F68-F69)","v":0},0,0,0,0,0,0,0,0,0,0,0,0,0,0,0,0,0,0,0,0,0,0,0,0,0,0,0,{"$f":"SUM(AH66-AH69)","v":0},{"$f":"SUM(AI68-AI69)","v":0},0,0,0,0,0,0,0,0,0,0,0,0]

{"sheet":"Production DAY 11","index":20,"n_rows":44,"n_cols":8,"rows_kept":44,"cut":false,"hidden":false,"merged":[]}
["Nos#","ITEMS"," < OPENING STOCK","RECEIVED","USED >","SALES CLOSING STOCK >","PHYSICAL STOCK COUNT","COMMENTS"]
[1,"Burger Bread",{"$f":"SUM('Production DAY 10'!G2)","v":0},null,{"$f":"SUM('DAY 11'!F69)","v":0},{"$f":"SUM('DAY 11'!F70)","v":0},0,{"$f":"IF(G2=F2,TRUE,FALSE)","v":true}]
[2,"Chicken Patty",{"$f":"SUM('Production DAY 10'!G3)","v":0},null,{"$f":"SUM('DAY 11'!G69)","v":0},{"$f":"SUM('DAY 11'!G70)","v":0},0,true]
[3,"Shawarma Bread",{"$f":"SUM('Production DAY 10'!G4)","v":0},null,{"$f":"SUM('DAY 11'!H69)","v":0},{"$f":"SUM('DAY 11'!H70)","v":0},0,true]
[4,"Chicken Portion or Shawarma portion",{"$f":"SUM('Production DAY 10'!G5)","v":0},null,{"$f":"SUM('DAY 11'!I69)","v":0},{"$f":"SUM('DAY 11'!I70)","v":0},0,true]
[5,"Sausage",{"$f":"SUM('Production DAY 10'!G6)","v":0},null,{"$f":"SUM('DAY 11'!J69)","v":0},{"$f":"SUM('DAY 11'!J70)","v":0},0,true]
[6,"Portion of Fries",{"$f":"SUM('Production DAY 10'!G7)","v":0},null,{"$f":"SUM('DAY 11'!K69)","v":0},{"$f":"SUM('DAY 11'!K70)","v":0},0,true]
[7,"Pieces of Chicken",{"$f":"SUM('Production DAY 10'!G8)","v":0},null,{"$f":"SUM('DAY 11'!L69)","v":0},{"$f":"SUM('DAY 11'!L70)","v":0},0,true]
[8,"Cheese",{"$f":"SUM('Production DAY 10'!G9)","v":0},null,{"$f":"SUM('DAY 11'!M69)","v":0},{"$f":"SUM('DAY 11'!M70)","v":0},0,true]
[9,"Bacon",{"$f":"SUM('Production DAY 10'!G10)","v":0},null,{"$f":"SUM('DAY 11'!N69)","v":0},{"$f":"SUM('DAY 11'!N70)","v":0},0,true]
[10,"A Paper Bag",{"$f":"SUM('Production DAY 10'!G11)","v":0},null,{"$f":"SUM('DAY 11'!O69)","v":0},{"$f":"SUM('DAY 11'!O70)","v":0},0,true]
[11,"Achicken Box",{"$f":"SUM('Production DAY 10'!G12)","v":0},null,{"$f":"SUM('DAY 11'!P69)","v":0},{"$f":"SUM('DAY 11'!P70)","v":0},0,true]
[12,"Paper Wrap",{"$f":"SUM('Production DAY 10'!G13)","v":0},null,{"$f":"SUM('DAY 11'!Q69)","v":0},{"$f":"SUM('DAY 11'!Q70)","v":0},0,true]
[13,"A Branded Nylon",{"$f":"SUM('Production DAY 10'!G14)","v":0},null,{"$f":"SUM('DAY 11'!R69)","v":0},{"$f":"SUM('DAY 11'!R70)","v":0},0,true]
[14,"Parfait",{"$f":"SUM('Production DAY 10'!G15)","v":0},null,{"$f":"SUM('DAY 11'!S69)","v":0},{"$f":"SUM('DAY 11'!S70)","v":0},0,true]
[15,"A Bottle of SUGAR Juice",{"$f":"SUM('Production DAY 10'!G16)","v":0},null,{"$f":"SUM('DAY 11'!T69)","v":0},{"$f":"SUM('DAY 11'!T70)","v":0},0,true]
[16,"35 CL Soft Drink",{"$f":"SUM('Production DAY 10'!G17)","v":0},null,{"$f":"SUM('DAY 11'!U69)","v":0},{"$f":"SUM('DAY 11'!U70)","v":0},0,true]
[17,"Beef Patty",{"$f":"SUM('Production DAY 10'!G18)","v":0},null,{"$f":"SUM('DAY 11'!V69)","v":0},{"$f":"SUM('DAY 11'!V70)","v":0},0,true]
[18,"Cream in GRAMS",{"$f":"SUM('Production DAY 10'!G19)","v":0},null,{"$f":"SUM('DAY 11'!W69)","v":0},{"$f":"SUM('DAY 11'!W70)","v":0},0,true]
[19,"KETCHUP",{"$f":"SUM('Production DAY 10'!G20)","v":0},null,{"$f":"SUM('DAY 11'!X69)","v":0},{"$f":"SUM('DAY 11'!X70)","v":0},0,true]
[20,"plain Nylon",{"$f":"SUM('Production DAY 10'!G21)","v":0},null,{"$f":"SUM('DAY 11'!Y69)","v":0},{"$f":"SUM('DAY 11'!Y70)","v":0},0,true]
[21,"Barbeque Sauce",{"$f":"SUM('Production DAY 10'!G22)","v":0},null,{"$f":"SUM('DAY 11'!Z69)","v":0},{"$f":"SUM('DAY 11'!Z70)","v":0},0,true]
[22,"Meal Box",{"$f":"SUM('Production DAY 10'!G23)","v":0},null,{"$f":"SUM('DAY 11'!AA69)","v":0},{"$f":"SUM('DAY 11'!AA70)","v":0},0,true]
[23,"COCONUT BREAD",{"$f":"SUM('Production DAY 10'!G24)","v":0},null,{"$f":"SUM('DAY 11'!AB69)","v":0},{"$f":"SUM('DAY 11'!AB70)","v":0},0,true]
[24,"SUPA KOMMANDO",{"$f":"SUM('Production DAY 10'!G25)","v":0},null,{"$f":"SUM('DAY 11'!AC69)","v":0},{"$f":"SUM('DAY 11'!AC70)","v":0},0,true]
[25,"SHAWARMA SUB",{"$f":"SUM('Production DAY 10'!G26)","v":0},null,{"$f":"SUM('DAY 11'!AD69)","v":0},{"$f":"SUM('DAY 11'!AD70)","v":0},0,true]
[26,"CAN COKE / FANTA",{"$f":"SUM('Production DAY 10'!G27)","v":0},null,{"$f":"SUM('DAY 11'!AE69)","v":0},{"$f":"SUM('DAY 11'!AE70)","v":0},0,true]
[27,"NUGGETS ",{"$f":"SUM('Production DAY 10'!G28)","v":0},null,{"$f":"SUM('DAY 11'!AF69)","v":0},{"$f":"SUM('DAY 11'!AF70)","v":0},0,true]
[28,"PRAWN",{"$f":"SUM('Production DAY 10'!G29)","v":0},null,{"$f":"SUM('DAY 11'!AG69)","v":0},{"$f":"SUM('DAY 11'!AG70)","v":0},0,true]
[29,"FARM PRIDE",{"$f":"SUM('Production DAY 10'!G30)","v":0},null,{"$f":"SUM('DAY 11'!AH69)","v":0},{"$f":"SUM('DAY 11'!AH70)","v":0},0,true]
[30,"50CL OR PULPY",{"$f":"SUM('Production DAY 10'!G31)","v":0},null,{"$f":"SUM('DAY 11'!AI69)","v":0},{"$f":"SUM('DAY 11'!AI70)","v":0},0,true]
[31,"FARM PRIDE 1 LT",{"$f":"SUM('Production DAY 10'!G32)","v":0},null,{"$f":"SUM('DAY 11'!AJ69)","v":0},{"$f":"SUM('DAY 11'!AJ70)","v":0},0,true]
[32,"BEEF PORTION FOR SHAWARMA",{"$f":"SUM('Production DAY 10'!G33)","v":0},null,{"$f":"SUM('DAY 11'!AK69)","v":0},{"$f":"SUM('DAY 11'!AK70)","v":0},0,true]
[33,"BEEF SUYA STICK",{"$f":"SUM('Production DAY 10'!G34)","v":0},null,{"$f":"SUM('DAY 11'!AL69)","v":0},{"$f":"SUM('DAY 11'!AL70)","v":0},0,true]
[34,"EMPTY 1",{"$f":"SUM('Production DAY 10'!G35)","v":0},null,{"$f":"SUM('DAY 11'!AM69)","v":0},{"$f":"SUM('DAY 11'!AM70)","v":0},0,true]
[35,"EMPTY 2",{"$f":"SUM('Production DAY 10'!G36)","v":0},null,{"$f":"SUM('DAY 11'!AN69)","v":0},{"$f":"SUM('DAY 11'!AN70)","v":0},0,true]
[36,"EMPTY 3",{"$f":"SUM('Production DAY 10'!G37)","v":0},null,{"$f":"SUM('DAY 11'!AO69)","v":0},{"$f":"SUM('DAY 11'!AO70)","v":0},0,true]
[37,"EMPTY 4",{"$f":"SUM('Production DAY 10'!G38)","v":0},null,{"$f":"SUM('DAY 11'!AP69)","v":0},{"$f":"SUM('DAY 11'!AP70)","v":0},0,true]
[38,"EMPTY 5",{"$f":"SUM('Production DAY 10'!G39)","v":0},null,{"$f":"SUM('DAY 11'!AQ69)","v":0},{"$f":"SUM('DAY 11'!AQ70)","v":0},0,true]
[39,"EMPTY 6",{"$f":"SUM('Production DAY 10'!G40)","v":0},null,{"$f":"SUM('DAY 11'!AR69)","v":0},{"$f":"SUM('DAY 11'!AR70)","v":0},0,true]
[40,"EMPTY 7",{"$f":"SUM('Production DAY 10'!G41)","v":0},null,{"$f":"SUM('DAY 11'!AS69)","v":0},{"$f":"SUM('DAY 11'!AS70)","v":0},0,true]
[41,"EMPTY 8",{"$f":"SUM('Production DAY 10'!G42)","v":0},null,{"$f":"SUM('DAY 11'!AT69)","v":0},{"$f":"SUM('DAY 11'!AT70)","v":0},0,true]
[42,"EMPTY 9",{"$f":"SUM('Production DAY 10'!G43)","v":0},null,{"$f":"SUM('DAY 11'!AU69)","v":0},{"$f":"SUM('DAY 11'!AU70)","v":0},0,true]
[43,"EMPTY 10",{"$f":"SUM('Production DAY 10'!G44)","v":0},null,{"$f":"SUM('DAY 11'!AV69)","v":0},{"$f":"SUM('DAY 11'!AV70)","v":0},0,true]

{"sheet":"DAY 11","index":21,"n_rows":70,"n_cols":47,"rows_kept":70,"cut":false,"hidden":false,"merged":[[0,7,0,28]]}
["FEBRUARY 12th, 2022",null,null,{"$f":"SUM(D3:D50)","v":0},null,null,null,"BURGER PALACE INVENTORY RECORDS"]
["ITEM","AMOUNT","QUANTITY","TOTAL",null,"Burger Bread","Chicken Patty","Shawarma Bread","Chicken Portion or Shawarma portion","Sausage","Portion of Fries","Pieces of Chicken","Cheese","Bacon","A Paper Bag","Achicken Box","Paper Wrap","A Branded Nylon","Parfait","A Bottle of SUGAR Juice","35 CL Soft Drink","Beef Patty","Cream in GRAMS","KETCHUP","plain Nylon","Barbeque Sauce","Meal Box","COCONUT BREAD ","SUPA KOMMANDO ","SHAWARMA SUB","CAN COKE / FANTA","NUGGETS","PRAWN","FARM PRIDE 50CL OR PULPY","FARM PRIDE 1 LT","BEEF PORTION FOR SHAWARMA ","BEEF SUYA STICK","EMPTY 1","EMPTY 2","EMPTY 3","EMPTY 4","EMPTY 5","EMPTY 6","EMPTY 7","EMPTY 8","EMPTY 9","EMPTY 10"]
["DELUXE BURGER MEAL (WITH SOFT DRINK)",5400,0,{"$f":"SUM(B3*C3)","v":0},null,{"$f":"SUM(C3)","v":0},{"$f":"SUM(C3)","v":0},{"$f":"SUM(C3)","v":0},{"$f":"SUM(C3)","v":0},{"$f":"SUM(C3)","v":0},{"$f":"SUM(C3)","v":0},{"$f":"SUM(C3)*2","v":0},"ZERO","ZERO",{"$f":"SUM(C3)*1","v":0},{"$f":"SUM(C3)","v":0},{"$f":"SUM(C3)*2","v":0},{"$f":"SUM(C3)","v":0},null,"ZERO",{"$f":"SUM(C3)","v":0},null,{"$f":"SUM(C3)*140","v":0},{"$f":"SUM(C3)","v":0},{"$f":"SUM(C3)","v":0},"ZERO",null,null,null,null,null,null,null,null,null,{"$f":"SUM(AD3)","v":0},0]
["DELUXE BURGER MEAL (WITH SUGARCANE JUICE)",5600,0,{"$f":"SUM(B4*C4)","v":0},null,{"$f":"SUM(C4)","v":0},{"$f":"SUM(C4)","v":0},{"$f":"SUM(C4)","v":0},{"$f":"SUM(C4)","v":0},{"$f":"SUM(C4)","v":0},0,{"$f":"SUM(C4)*2","v":0},"ZERO","ZERO",{"$f":"SUM(C4)*1","v":0},0,{"$f":"SUM(C4)*2","v":0},0,null,{"$f":"SUM(C4)","v":0},"ZERO",null,{"$f":"SUM(C4)*140","v":0},{"$f":"SUM(C4)","v":0},0,"ZERO",null,null,null,null,null,null,null,null,null,0,0]
["DELUXE MEAL EXTRA (WITH Soft Drink)",null,0,{"$f":"SUM(B5*C5)","v":0},null,{"$f":"SUM(C5)","v":0},{"$f":"SUM(C5)","v":0},{"$f":"SUM(C5)","v":0},{"$f":"SUM(C5)","v":0},{"$f":"SUM(C5)","v":0},0,{"$f":"SUM(C5)*2","v":0},"ZERO","ZERO",{"$f":"SUM(C5)","v":0},0,{"$f":"SUM(C5)*2","v":0},0,{"$f":"SUM(C5)","v":0},"ZERO",{"$f":"SUM(C5)","v":0},null,{"$f":"SUM(C5)*140","v":0},{"$f":"SUM(C5)","v":0},0,"ZERO",null,null,null,null,null,null,null,null,null,0,0]
["DELUXE BURGER MEAL Extra (With Sugarcane juice",null,0,{"$f":"SUM(B6*C6)","v":0},null,{"$f":"SUM(C6)","v":0},{"$f":"SUM(C6)","v":0},{"$f":"SUM(C6)","v":0},{"$f":"SUM(C6)","v":0},{"$f":"SUM(C6)","v":0},0,{"$f":"SUM(C6)*2","v":0},"ZERO","ZERO",{"$f":"SUM(C6)","v":0},0,{"$f":"SUM(C6)*2","v":0},0,{"$f":"SUM(C6)","v":0},{"$f":"SUM(C6)","v":0},"ZERO",null,{"$f":"SUM(C6)*140","v":0},{"$f":"SUM(C6)","v":0},0,"ZERO",null,null,null,null,null,null,null,null,null,0,0]
["PREMIUM BURGER Meal ",5900,0,{"$f":"SUM(B7*C7)","v":0},null,{"$f":"SUM(C7)","v":0},{"$f":"SUM(C7)","v":0},"ZERO","ZERO","ZERO",0,{"$f":"SUM(C7)*5","v":0},"ZERO","ZERO",{"$f":"SUM(C7)","v":0},0,{"$f":"SUM(C7)*1.25","v":0},0,"ZERO","ZERO",{"$f":"SUM(C7)","v":0},"ZERO",{"$f":"SUM(C7)*70","v":0},{"$f":"SUM(C7)*2","v":0},0,{"$f":"SUM(C7)","v":0},null,null,null,null,null,null,null,null,null,"ZERO","ZERO"]
["CRISPY CHICKEN BOX",4300,0,null,null,"ZERO","ZERO","ZERO","ZERO","ZERO",0,{"$f":"SUM(C8)*5","v":0},"ZERO","ZERO","ZERO",0,{"$f":"SUM(C8)*0.25","v":0},0,"ZERO","ZERO",{"$f":"SUM(C8)","v":0},"ZERO","ZERO",{"$f":"SUM(C8)*2","v":0},0,{"$f":"SUM(C8)","v":0},null,null,null,null,null,null,null,null,null,"ZERO","ZERO"]
["ROYAL BURGER MEAL (CHICKEN  PATTY)",null,0,{"$f":"SUM(B9*C9)","v":0},null,{"$f":"SUM(C9)","v":0},{"$f":"SUM(C9)*2","v":0},"ZERO","ZERO","ZERO",0,"ZERO",{"$f":"SUM(C9)*2","v":0},{"$f":"SUM(C9)*2","v":0},"ZERO",0,{"$f":"SUM(C9)","v":0},0,{"$f":"SUM(C9)","v":0},"ZERO","ZERO","ZERO",{"$f":"SUM(C9)*140","v":0},{"$f":"SUM(C9)*2","v":0},0,{"$f":"SUM(C9)","v":0},null,null,null,null,null,null,null,null,null,"ZERO","ZERO"]
["ROYAL BURGER MEAL (BEEF  PATTY)",null,0,{"$f":"SUM(B10*C10)","v":0},null,{"$f":"SUM(C10)","v":0},"ZERO","ZERO","ZERO","ZERO",0,"ZERO",{"$f":"SUM(C10)*2","v":0},{"$f":"SUM(C10)*2","v":0},"ZERO",0,0,0,{"$f":"SUM(C10)","v":0},"ZERO","ZERO",{"$f":"SUM(C10)*2","v":0},{"$f":"SUM(C10)*140","v":0},{"$f":"SUM(C10)*2","v":0},0,{"$f":"SUM(C10)","v":0},null,null,null,null,null,null,null,null,null,"ZERO","ZERO"]
["ROYAL BURGER ONLY (CHICKEN PATTY)",3300,0,{"$f":"SUM(B11*C11:C25,A1,A1,A1,A1,A1)","v":0},null,{"$f":"SUM(C11)","v":0},{"$f":"SUM(C11)*2","v":0},"ZERO","ZERO","ZERO","ZERO","ZERO",{"$f":"SUM(C11)*2","v":0},{"$f":"SUM(C11)*2","v":0},"ZERO",0,0,0,"ZERO","ZERO","ZERO","ZERO",{"$f":"SUM(C11)*140","v":0},{"$f":"SUM(C11)","v":0},"ZERO","ZERO",null,null,null,null,null,null,null,null,null,"ZERO","ZERO"]
["ROYAL BURGER ONLY (BEEF PATTY)",3300,0,{"$f":"SUM(B12*C12)","v":0},null,{"$f":"SUM(C12)","v":0},null,"ZERO","ZERO","ZERO","ZERO","ZERO",{"$f":"SUM(C12)*2","v":0},{"$f":"SUM(C12)*2","v":0},"ZERO",0,0,0,"ZERO","ZERO","ZERO",{"$f":"SUM(C12)*2","v":0},{"$f":"SUM(C12)*140","v":0},{"$f":"SUM(C12)","v":0},"ZERO","ZERO",null,null,null,null,null,null,null,null,null,"ZERO","ZERO"]
["MAYOR'S COCONUT BURGER ",2800,0,0,null,0,{"$f":"SUM(C13)","v":0},"ZERO","ZERO","ZERO","ZERO","ZERO",{"$f":"SUM(C13)","v":0},"ZERO","ZERO",0,0,0,"ZERO","ZERO","ZERO",{"$f":"SUM(C13)","v":0},{"$f":"SUM(C13)*140","v":0},"ZERO","ZERO","ZERO",null,{"$f":"SUM(C13)","v":0},{"$f":"SUM(C13)","v":0},null,null,null,null,null,null,"ZERO","ZERO"]
["DOUBLE DECKER CRISPY CHK. CHEESE BURGER",2500,0,0,null,{"$f":"SUM(C14)","v":0},{"$f":"SUM(C14)*2","v":0},"ZERO","ZERO","ZERO","ZERO","ZERO",{"$f":"SUM(C14)","v":0},"ZERO","ZERO",0,0,"ZERO","ZERO","ZERO","ZERO","ZERO",{"$f":"SUM(C14)*70","v":0},"ZERO","ZERO","ZERO",null,null,null,null,null,null,null,null,null,"ZERO","ZERO"]
["SINGLE BEEF BURGER",1700,0,0,null,0,"ZERO","ZERO","ZERO","ZERO","ZERO","ZERO",null,"ZERO",{"$f":"SUM(C15)","v":0},null,0,"ZERO","ZERO","ZERO","ZERO",{"$f":"SUM(C15)","v":0},{"$f":"SUM(C15)*70","v":0},"ZERO","ZERO","ZERO",null,null,null,null,null,null,null,null,null,"ZERO","ZERO"]
["YANKEE BURGER",2400,0,0,null,0,"ZERO","ZERO","ZERO","ZERO","ZERO","ZERO",null,{"$f":"SUM(C16)*2","v":0},{"$f":"SUM(C16)","v":0},null,0,"ZERO","ZERO","ZERO","ZERO",{"$f":"SUM(C16)","v":0},{"$f":"SUM(C16)*70","v":0},"ZERO","ZERO","ZERO",null,null,null,null,null,null,null,null,null,"ZERO","ZERO"]
["ROYAL BURGER WITH FRIES (Chicken)",4000,0,0,null,0,{"$f":"SUM(C17)*2","v":0},"ZERO","ZERO","ZERO",{"$f":"SUM(C17)","v":0},"ZERO",{"$f":"SUM(C17)*2","v":0},{"$f":"SUM(C17)*2","v":0},"ZERO",{"$f":"SUM(C17)","v":0},0,"ZERO","ZERO","ZERO","ZERO","ZERO",{"$f":"SUM(C17)*140","v":0},{"$f":"SUM(C17)*2","v":0},"ZERO","ZERO",null,null,null,null,null,null,null,null,null,"ZERO","ZERO"]
["ROYAL BURGER WITH FRIES (BEEF)",4000,0,0,null,0,"ZERO","ZERO","ZERO","ZERO",{"$f":"SUM(C18)","v":0},"ZERO",{"$f":"SUM(C18)*2","v":0},{"$f":"SUM(C18)*2","v":0},"ZERO",{"$f":"SUM(C18)","v":0},0,"ZERO","ZERO","ZERO","ZERO",{"$f":"SUM(C18)*2","v":0},{"$f":"SUM(C18)*140","v":0},{"$f":"SUM(C18)*2","v":0},"ZERO","ZERO",null,null,null,null,null,null,null,null,null,"ZERO","ZERO"]
["CRISPY CHICKEN BURGER",1700,0,0,null,0,{"$f":"SUM(C19)","v":0},"ZERO","ZERO","ZERO","ZERO","ZERO","ZERO","ZERO",{"$f":"SUM(C19)","v":0},"ZERO",{"$f":"SUM(C19)*1","v":0},"ZERO","ZERO","ZERO","ZERO","ZERO",{"$f":"SUM(C19)*70","v":0},"ZERO","ZERO","ZERO",null,null,null,null,null,null,null,null,null,"ZERO","ZERO"]
["SUYA BURGER BOX",5500,0,0,null,0,{"$f":"SUM(C20)*2","v":0},"ZERO","ZERO",{"$f":"SUM(C20)*4","v":0},{"$f":"SUM(C20)","v":0},{"$f":"SUM(C20)*4","v":0},"ZERO","ZERO",{"$f":"SUM(C20)","v":0},{"$f":"SUM(C20)","v":0},{"$f":"SUM(C20)","v":0},"ZERO","ZERO",null,{"$f":"SUM(C20)","v":0},"ZERO",0,{"$f":"SUM(C20)*2","v":0},{"$f":"SUM(C20)","v":0},"ZERO",{"$f":"SUM(C20)","v":0},null,null,null,null,null,null,null,null,"ZERO","ZERO"]
["CRISPY CHICKEN BURGER PLUS CHEESE",2100,0,0,null,0,{"$f":"SUM(C21)","v":0},"ZERO","ZERO","ZERO","ZERO","ZERO",{"$f":"SUM(C21)","v":0},"ZERO",{"$f":"SUM(C21)","v":0},"ZERO",0,"ZERO","ZERO","ZERO","ZERO","ZERO",0,"ZERO","ZERO","ZERO",null,null,null,null,null,null,null,null,null,"ZERO","ZERO"]
["SINGLE BEEF CHEESE BURGER ",2100,0,0,null,0,"ZERO","ZERO","ZERO","ZERO","ZERO","ZERO",{"$f":"SUM(C22)","v":0},"ZERO",{"$f":"SUM(C22)","v":0},"ZERO",0,"ZERO","ZERO","ZERO","ZERO",{"$f":"SUM(C22)","v":0},0,"ZERO","ZERO","ZERO",null,null,null,null,null,null,null,null,null,"ZERO","ZERO"]
["DOUBLE DECKER BEEF CHEESE BURGER",2800,0,0,null,0,"ZERO","ZERO","ZERO","ZERO","ZERO","ZERO",{"$f":"SUM(C23)*2","v":0},"ZERO","ZERO",{"$f":"SUM(C23)","v":0},0,"ZERO","ZERO","ZERO","ZERO",{"$f":"SUM(C23)*2","v":0},0,"ZERO","ZERO","ZERO",null,null,null,null,null,null,null,null,null,"ZERO","ZERO"]
["CHICKEN SUYA BURGER ",2200,0,0,null,0,{"$f":"SUM(C24)*2","v":0},"ZERO","ZERO","ZERO","ZERO","ZERO","ZERO","ZERO",{"$f":"SUM(C24)*1","v":0},"ZERO",0,"ZERO","ZERO","ZERO","ZERO","ZERO",0,"ZERO","ZERO","ZERO",null,null,null,null,null,null,null,null,null,"ZERO","ZERO"]
["CHICKEN SHAWARMA",1800,0,0,null,null,"ZERO",{"$f":"SUM(C25)","v":0},{"$f":"SUM(C25)","v":0},{"$f":"SUM(C25)*2","v":0},"ZERO","ZERO","ZERO","ZERO","ZERO","ZERO",0,{"$f":"SUM(C25)","v":0},"ZERO","ZERO","ZERO","ZERO",0,"ZERO","ZERO","ZERO",null,null,null,null,null,null,null,null,null,{"$f":"SUM(AD25)","v":0},{"$f":"SUM(AE25)","v":0}]
["BARBECUE BEEF SHAWARMA",2000,0,0,null,null,"ZERO",{"$f":"SUM(C26)","v":0},"ZERO",{"$f":"SUM(C26)*2","v":0},"ZERO","ZERO","ZERO","ZERO","ZERO","ZERO",0,0,"ZERO","ZERO","ZERO","ZERO",0,"ZERO","ZERO","ZERO",null,null,null,null,null,null,null,null,null,{"$f":"SUM(C26)","v":0},"ZERO"]
["BEEF SUYA SHAWARMA",2200,0,0,null,null,"ZERO",{"$f":"SUM(C27)","v":0},"ZERO",{"$f":"SUM(C27)*2","v":0},"ZERO","ZERO","ZERO","ZERO","ZERO","ZERO",0,0,"ZERO","ZERO","ZERO","ZERO",0,"ZERO","ZERO","ZERO",null,null,null,null,null,null,null,null,null,{"$f":"SUM(AD27)","v":0},{"$f":"SUM(C27)","v":0}]
["BEEF SUYA BURGER ",2200,0,0,null,{"$f":"SUM(C28)","v":0},"ZERO",null,"ZERO","ZERO","ZERO","ZERO","ZERO","ZERO",{"$f":"SUM(C28)","v":0},"ZERO",0,0,"ZERO","ZERO","ZERO","ZERO",0,"ZERO","ZERO","ZERO",null,null,null,null,null,null,null,null,null,{"$f":"SUM(AD28)","v":0},{"$f":"SUM(C28)","v":0}]
["CHICKEN SUYA SHAWARMA",2200,0,0,null,"ZERO",{"$f":"SUM(C29)*2","v":0},{"$f":"SUM(C29)","v":0},null,{"$f":"SUM(C29)*2","v":0},"ZERO","ZERO","ZERO","ZERO","ZERO","ZERO",0,0,"ZERO","ZERO","ZERO","ZERO",0,"ZERO","ZERO","ZERO"]
["CHESSY SHAWARMA",2500,0,0,null,"ZERO","ZERO",{"$f":"SUM(C30)","v":0},{"$f":"SUM(C30)","v":0},{"$f":"SUM(C30)*2","v":0},null,"ZERO",{"$f":"SUM(C30)*2","v":0},"ZERO","ZERO","ZERO",0,0,"ZERO","ZERO","ZERO","ZERO",{"$f":"SUM(C30)*140","v":0},"ZERO","ZERO","ZERO",null,null,null,null,null,null,null,null,null,{"$f":"SUM(AD30)","v":0},{"$f":"SUM(AE30)","v":0}]
["2 CHICKEN AND CHIPS",2300,0,0,null,"ZERO","ZERO","ZERO","ZERO","ZERO",{"$f":"SUM(C31)","v":0},{"$f":"SUM(C31)*2","v":0},"ZERO","ZERO","ZERO",{"$f":"SUM(C31)","v":0},"ZERO",0,"ZERO","ZERO","ZERO","ZERO","ZERO",{"$f":"SUM(C31)","v":0},"ZERO","ZERO",null,null,null,null,null,null,null,null,null,"ZERO","ZERO"]
["4 CHICKEN AND CHIPS",3500,0,0,null,"ZERO","ZERO","ZERO","ZERO","ZERO",{"$f":"SUM(C32)","v":0},{"$f":"SUM(C32)*4","v":0},"ZERO","ZERO","ZERO",{"$f":"SUM(C32)","v":0},"ZERO",0,"ZERO","ZERO","ZERO","ZERO","ZERO",{"$f":"SUM(C32)*2","v":0},"ZERO","ZERO","zero","zero","zero",null,null,null,null,null,null,"ZERO","ZERO"]
["SPICY CHICKEN ONLY",650,0,null,null,"ZERO","ZERO","ZERO","ZERO","ZERO","ZERO",{"$f":"SUM(C33)","v":0},"ZERO","ZERO","ZERO","ZERO","ZERO","ZERO","ZERO","ZERO","ZERO","ZERO","ZERO","ZERO",{"$f":"SUM(C33)","v":0},"ZERO",null,null,null,null,null,null,null,null,null,"ZERO","ZERO"]
["CRISPY CHICKEN ONLY",650,0,{"$f":"SUM(B34*C34)","v":0},null,"ZERO","ZERO","ZERO","ZERO","ZERO","ZERO",{"$f":"SUM(C34)","v":0},"ZERO","ZERO","ZERO","ZERO","ZERO","ZERO","ZERO","ZERO","ZERO","ZERO","ZERO","ZERO",{"$f":"SUM(C34)","v":0},"ZERO",null,null,null,null,null,null,null,null,null,"ZERO","ZERO"]
["POTATO FRIES",700,0,0,null,"ZERO","ZERO","ZERO","ZERO","ZERO",null,"ZERO","ZERO","ZERO","ZERO","ZERO","ZERO","ZERO","ZERO","ZERO","ZERO","ZERO","ZERO","ZERO","ZERO","ZERO",null,null,null,null,null,null,null,null,null,"ZERO","ZERO"]
["FRENCH FRIES ONLY",1000,0,0,null,"ZERO","ZERO","ZERO","ZERO","ZERO",{"$f":"SUM(C36)","v":0},"ZERO","ZERO","ZERO","ZERO","ZERO","ZERO","ZERO","ZERO","ZERO","ZERO","ZERO","ZERO","ZERO",{"$f":"SUM(C36)","v":0},"ZERO",null,null,null,null,null,null,null,null,null,"ZERO","ZERO"]
["SUGERCANNE JUICE",750,0,0,null,"ZERO","ZERO","ZERO","ZERO","ZERO","ZERO","ZERO","ZERO","ZERO","ZERO","ZERO","ZERO","ZERO","ZERO",{"$f":"SUM(C37)","v":0},"ZERO","ZERO","ZERO","ZERO","ZERO","ZERO",null,null,null,null,null,null,null,null,null,"ZERO","ZERO"]
["35 CL SOFT DRINK",200,0,0,null,"ZERO","ZERO","ZERO","ZERO","ZERO","ZERO","ZERO","ZERO","ZERO","ZERO","ZERO","ZERO","ZERO","ZERO","ZERO",{"$f":"SUM(C38)","v":0},"ZERO","ZERO","ZERO","ZERO","ZERO",null,null,null,null,null,null,null,null,null,"ZERO","ZERO"]
["PARFAIT",null,0,0,null,"ZERO","ZERO","ZERO","ZERO","ZERO","ZERO","ZERO","ZERO","ZERO","ZERO","ZERO","ZERO",{"$f":"SUM(C39)","v":0},{"$f":"SUM(C39)","v":0},"ZERO","ZERO","ZERO","ZERO","ZERO","ZERO","ZERO",null,null,null,null,null,null,null,null,null,"ZERO","ZERO"]
["MARINATED WINGS",500,0,0,null,"ZERO","ZERO","ZERO","ZERO","ZERO","ZERO",{"$f":"SUM(C40)","v":0},"ZERO","ZERO","ZERO","ZERO","ZERO","ZERO","ZERO","ZERO","ZERO","ZERO","ZERO","ZERO","ZERO","ZERO",null,null,null,null,null,null,null,null,null,"ZERO","ZERO"]
["CHEESE ",400,0,0,null,"ZERO","ZERO","ZERO","ZERO","ZERO","ZERO","ZERO",{"$f":"SUM(C41)","v":0},"ZERO","ZERO","ZERO","ZERO","ZERO","ZERO","ZERO","ZERO","ZERO","ZERO","ZERO","ZERO","ZERO",null,null,null,null,null,null,null,null,null,"ZERO","ZERO"]
["SAUSAGE",200,0,0,null,null,null,null,null,null,"ZERO"]
["BACON",400,0,0,null,"ZERO","ZERO","ZERO","ZERO","ZERO","ZERO","ZERO","ZERO",{"$f":"SUM(C43)","v":0},"ZERO","ZERO","ZERO","ZERO","ZERO","ZERO","ZERO","ZERO","ZERO","ZERO","ZERO","ZERO",null,null,null,null,null,null,null,null,null,"ZERO","ZERO"]
["FRIENDY BURGER MEAL (WITH SOFT DRINK)",10200,0,0,null,{"$f":"SUM(C44)*2","v":0},{"$f":"SUM(C44)*2","v":0},{"$f":"SUM(C44)*2","v":0},{"$f":"SUM(C44)*2","v":0},{"$f":"SUM(C44)*2","v":0},{"$f":"SUM(C44)*2","v":0},{"$f":"SUM(C44)*2*2","v":0},"ZERO","ZERO",{"$f":"SUM(C44)*1*2","v":0},{"$f":"SUM(C44)*2","v":0},{"$f":"SUM(C44)*2*2","v":0},{"$f":"SUM(C44)*2","v":0},null,"ZERO",{"$f":"SUM(C44)*2","v":0},null,{"$f":"SUM(C44)*140*2","v":0},{"$f":"SUM(C44)*2","v":0},{"$f":"SUM(C44)*2","v":0},"ZERO",null,null,null,null,null,null,null,null,null,{"$f":"SUM(AD44)*2","v":0},{"$f":"SUM(AE44)*2","v":0}]
["FRIENDY BURGER MEAL (WITH SUGARCANE JUICE)",10600,0,0,null,{"$f":"SUM(C45)*2","v":0},{"$f":"SUM(C45)*2","v":0},{"$f":"SUM(C45)*2","v":0},{"$f":"SUM(C45)*2","v":0},{"$f":"SUM(C45)*2","v":0},{"$f":"SUM(C45)*2","v":0},{"$f":"SUM(C45)*2*2","v":0},"ZERO","ZERO",{"$f":"SUM(C45)*1*2","v":0},{"$f":"SUM(C45)*2","v":0},{"$f":"SUM(C45)*2*2","v":0},{"$f":"SUM(C45)*2","v":0},null,{"$f":"SUM(C45)*2","v":0},"ZERO",null,{"$f":"SUM(C45)*140*2","v":0},{"$f":"SUM(C45)*2","v":0},{"$f":"SUM(C45)*2","v":0},"ZERO",null,null,null,null,null,null,null,null,null,{"$f":"SUM(AD45)*2","v":0},{"$f":"SUM(AE45)*2","v":0}]
["SHAWARMA  SUB",1800,0,0,null,null,"ZERO","ZERO",{"$f":"SUM(C46)","v":0},{"$f":"SUM(C46)*2","v":0},"ZERO","ZERO","ZERO","ZERO",{"$f":"SUM(C46)*1","v":0},"ZERO",{"$f":"SUM(C46)","v":0},"ZERO","ZERO","ZERO","ZERO","ZERO",{"$f":"SUM(C46)*70","v":0},"ZERO","ZERO","ZERO",null,null,null,{"$f":"SUM(C46)","v":0},null,null,null,null,null,{"$f":"SUM(AD46)","v":0},{"$f":"SUM(AE46)","v":0}]
["DELISH PACK 1",5300,0,0,null,{"$f":"SUM(C47)","v":0},{"$f":"SUM(C47)","v":0},"ZERO",{"$f":"SUM(C47)","v":0},{"$f":"SUM(C47)*2","v":0},"ZERO",{"$f":"SUM(C47)*4","v":0},"ZERO","ZERO",{"$f":"SUM(C47)*1","v":0},{"$f":"SUM(C47)*1","v":0},{"$f":"SUM(C47)*2","v":0},{"$f":"SUM(C47)","v":0},"ZERO","ZERO","ZERO","ZERO",{"$f":"SUM(C47)*70","v":0},"ZERO","ZERO","ZERO",null,null,null,{"$f":"SUM(C47)","v":0},{"$f":"SUM(C47)*1","v":0},null,null,null,null,{"$f":"SUM(AD47)","v":0},{"$f":"SUM(AE47)","v":0}]
["FAMILY BURGER MEAL (WITH SOFT DRINK)",19800,0,0,null,{"$f":"SUM(C48)*4","v":0},{"$f":"SUM(C48)*4","v":0},{"$f":"SUM(C48)*4","v":0},{"$f":"SUM(C48)*4","v":0},{"$f":"SUM(C48)*4","v":0},{"$f":"SUM(C48)*4","v":0},{"$f":"SUM(C48)*2*4","v":0},"ZERO","ZERO",{"$f":"SUM(C48)*1*4","v":0},{"$f":"SUM(C48)*4","v":0},{"$f":"SUM(C48)*2*4","v":0},{"$f":"SUM(C48)*4","v":0},null,"ZERO",{"$f":"SUM(C48)*4","v":0},null,{"$f":"SUM(C48)*140*4","v":0},{"$f":"SUM(C48)*4","v":0},{"$f":"SUM(C48)*4","v":0},"ZERO",null,null,null,null,null,null,null,null,null,{"$f":"SUM(AD48)*4","v":0},{"$f":"SUM(AE48)*4","v":0}]
["FAMILY BURGER MEAL (WITH SUGARCANE JUICE)",20800,0,0,null,{"$f":"SUM(C49)*4","v":0},{"$f":"SUM(C49)*4","v":0},{"$f":"SUM(C49)*4","v":0},{"$f":"SUM(C49)*4","v":0},{"$f":"SUM(C49)*4","v":0},{"$f":"SUM(C49)*4","v":0},{"$f":"SUM(C49)*2*4","v":0},"ZERO","ZERO",{"$f":"SUM(C49)*1*4","v":0},{"$f":"SUM(C49)*4","v":0},{"$f":"SUM(C49)*2*4","v":0},{"$f":"SUM(C49)*4","v":0},null,{"$f":"SUM(C49)*4","v":0},"ZERO",null,{"$f":"SUM(C49)*140*4","v":0},{"$f":"SUM(C49)*4","v":0},{"$f":"SUM(C49)*4","v":0},"ZERO",null,null,null,null,null,null,null,null,null,{"$f":"SUM(AD49)*4","v":0},{"$f":"SUM(AE49)*4","v":0}]
["CAN COKE/FANTA ONLY",null,0,0,null,"ZERO","ZERO","ZERO","ZERO","ZERO","ZERO","ZERO","ZERO","ZERO","ZERO","ZERO","ZERO","ZERO","ZERO","ZERO","ZERO","ZERO","ZERO","ZERO","ZERO","ZERO",null,null,null,null,{"$f":"SUM(C50)","v":0},null,null,null,null,"ZERO","ZERO"]
["SUPA KOMMANDO ONLY",250,0,0,null,"ZERO","ZERO","ZERO","ZERO","ZERO","ZERO","ZERO","ZERO","ZERO","ZERO","ZERO","ZERO","ZERO","ZERO","ZERO","ZERO","ZERO","ZERO","ZERO","ZERO","ZERO",null,null,{"$f":"SUM(C51)","v":0},null,"ZERO","ZERO",null,null,null,"ZERO","ZERO"]
["10X Chicken Nuggets ",2400,0,0,null,null,null,null,null,null,"ZERO",null,null,null,null,{"$f":"SUM(C52)","v":0},null,{"$f":"SUM(C52)","v":0},null,null,null,null,null,{"$f":"SUM(C52)","v":0},null,null,null,null,null,null,{"$f":"SUM(C52)","v":0},{"$f":"SUM(C52)*10","v":0}]
["20X Chicken Nuggets ",4800,0,0,null,null,null,null,null,null,"ZERO ",null,null,null,null,{"$f":"SUM(C53)","v":0},null,{"$f":"SUM(C53)","v":0},null,null,null,null,null,{"$f":"SUM(C53)","v":0},null,null,null,null,null,null,{"$f":"SUM(C53)","v":0},{"$f":"SUM(C53)*20","v":0}]
["10 CHICKEN NUGGETS & FRIES BOX",3300,0,0,null,null,null,null,null,null,{"$f":"SUM(C54)","v":0},null,null,null,null,{"$f":"SUM(C54)","v":0},null,{"$f":"SUM(C54)","v":0},null,null,null,null,null,{"$f":"SUM(C54)","v":0},null,null,null,null,null,null,{"$f":"SUM(C54)","v":0},{"$f":"SUM(C54)*10","v":0}]
["20 CHICKEN NUGGETS & FRIES BOX",6600,0,0,null,null,null,null,null,null,{"$f":"SUM(C55)","v":0},null,null,null,null,{"$f":"SUM(C55)","v":0},null,{"$f":"SUM(C55)","v":0},null,null,null,null,null,{"$f":"SUM(C55)","v":0},null,null,null,null,null,null,{"$f":"SUM(C55)","v":0},{"$f":"SUM(C55)*20","v":0}]
["PRAWN BURGER ",3000,0,0,null,{"$f":"SUM(C56)","v":0},"ZERO","ZERO","ZERO","ZERO","ZERO","ZERO",{"$f":"SUM(C56)","v":0},"ZERO",{"$f":"SUM(C56)","v":0},"ZERO",{"$f":"SUM(C56)","v":0},"ZERO","ZERO","ZERO","ZERO","ZERO",{"$f":"SUM(C56)*70","v":0},"ZERO","ZERO","ZERO",null,null,null,null,null,null,{"$f":"SUM(C56)*2","v":0},null,null,"ZERO","ZERO"]
[" FUNMMY NUGGETS  BOX",5300,0,0,null,{"$f":"SUM(C57)","v":0},{"$f":"SUM(C57)","v":0},null,null,null,{"$f":"SUM(C57)","v":0},null,{"$f":"SUM(C57)","v":0},null,{"$f":"SUM(C57)","v":0},{"$f":"SUM(C57)","v":0},null,{"$f":"SUM(C57)","v":0},null,null,null,null,null,{"$f":"SUM(C57)","v":0},null,null,null,null,null,null,{"$f":"SUM(C57)","v":0},{"$f":"SUM(C57)*10","v":0}]
["FARM PRIDE 50 CL",500,0,0,null,"ZERO","ZERO","ZERO","ZERO","ZERO","ZERO","ZERO","ZERO","ZERO","ZERO","ZERO","ZERO","ZERO","ZERO","ZERO","ZERO","ZERO","ZERO","ZERO","ZERO","ZERO",null,null,null,null,null,null,null,{"$f":"SUM(C58)","v":0},null,"ZERO","ZERO"]
["FARM PRIDE 1 LITRE",800,0,0,null,"ZERO","ZERO","ZERO","ZERO","ZERO","ZERO","ZERO","ZERO","ZERO","ZERO","ZERO","ZERO","ZERO","ZERO","ZERO","ZERO","ZERO","ZERO","ZERO","ZERO","ZERO",null,null,null,null,null,null,null,"ZERO",{"$f":"SUM(C59)","v":0},"ZERO","ZERO"]
["GRILLED CHICKEN BURGER",1700,0,{"$f":"SUM(B60*C60)","v":0},null,{"$f":"SUM(C60)","v":0},{"$f":"SUM(C60)","v":0},"ZERO","ZERO","ZERO","ZERO","ZERO","ZERO","ZERO",{"$f":"SUM(C60)","v":0},"ZERO",{"$f":"SUM(C60)*1","v":0},"ZERO","ZERO","ZERO","ZERO","ZERO",{"$f":"SUM(C60)*70","v":0},"ZERO","ZERO","ZERO",null,null,null,null,null,null,null,null,null,"ZERO","ZERO"]
["GRILLED CHICKEN BURGER + JUICE",2200,0,{"$f":"SUM(B61*C61)","v":0},null,{"$f":"SUM(C61)","v":0},{"$f":"SUM(C61)","v":0},"ZERO","ZERO","ZERO","ZERO","ZERO","ZERO","ZERO",{"$f":"SUM(C61)","v":0},"ZERO",{"$f":"SUM(C61)*1","v":0},"ZERO","ZERO","ZERO","ZERO","ZERO",{"$f":"SUM(C61)*70","v":0},"ZERO","ZERO","ZERO",null,null,null,null,null,null,null,{"$f":"SUM(C61)","v":0},null,"ZERO","ZERO"]
["GRILLED BURGER MEAL 1 & 3",4000,0,{"$f":"SUM(B62*C62)","v":0},null,{"$f":"SUM(C62)","v":0},{"$f":"SUM(C62)","v":0},"ZERO","ZERO","ZERO",{"$f":"SUM(C62)","v":0},{"$f":"SUM(C62)*2","v":0},"ZERO","ZERO","ZERO",{"$f":"SUM(C62)","v":0},{"$f":"SUM(C62)","v":0},{"$f":"SUM(C62)","v":0},"ZERO","ZERO","ZERO","ZERO",{"$f":"SUM(C62)*70","v":0},{"$f":"SUM(C62)","v":0},"ZERO","ZERO",null,null,null,null,null,null,null,{"$f":"SUM(C62)","v":0},null,"ZERO","ZERO"]
["GRILLED BURGER MEAL 2",3700,0,{"$f":"SUM(B63*C63)","v":0},null,{"$f":"SUM(C63)","v":0},{"$f":"SUM(C63)","v":0},"ZERO","ZERO","ZERO",{"$f":"SUM(C63)","v":0},{"$f":"SUM(C63)*2","v":0},"ZERO","ZERO","ZERO",{"$f":"SUM(C63)","v":0},{"$f":"SUM(C63)","v":0},{"$f":"SUM(C63)","v":0},"ZERO","ZERO",{"$f":"SUM(C63)","v":0},"ZERO",{"$f":"SUM(C63)*70","v":0},{"$f":"SUM(C63)","v":0},"ZERO","ZERO",null,null,null,null,null,null,null,"ZERO",null,"ZERO","ZERO"]
["MASTERPIECE BURGER ",5000,0,{"$f":"SUM(B64*C64)","v":0},null,{"$f":"SUM(C64)","v":0},"ZERO","ZERO","ZERO","ZERO","ZERO","ZERO",{"$f":"SUM(C64)","v":0},"ZERO","ZERO",{"$f":"SUM(C64)","v":0},{"$f":"SUM(C64)","v":0},"ZERO","ZERO","ZERO",{"$f":"SUM(C64)","v":0},{"$f":"SUM(C64)","v":0},{"$f":"SUM(C64)*70","v":0},"ZERO","ZERO","ZERO",null,null,null,null,null,null,null,null,null,"ZERO",{"$f":"SUM(C64)","v":0}]
["SUYA BURGER BOX 2 (WITH BEEF SUYA BURGER)",6000,0,0,null,0,"ZERO ","ZERO","ZERO",0,0,0,"ZERO","ZERO",0,0,0,"ZERO","ZERO",null,0,"ZERO",0,0,0,"ZERO",0,null,null,null,null,null,null,null,null,"ZERO",0]
["OPENING STOCK",null,null,null,null,{"$f":"SUM('Production DAY 11'!C2)","v":0},{"$f":"SUM('Production DAY 11'!C3)","v":0},{"$f":"SUM('Production DAY 11'!C4)","v":0},{"$f":"SUM('Production DAY 11'!C5)","v":0},{"$f":"SUM('Production DAY 11'!C6)","v":0},{"$f":"SUM('Production DAY 11'!C7)","v":0},{"$f":"SUM('Production DAY 11'!C8)","v":0},{"$f":"SUM('Production DAY 11'!C9)","v":0},{"$f":"SUM('Production DAY 11'!C10)","v":0},{"$f":"SUM('Production DAY 11'!C11)","v":0},{"$f":"SUM('Production DAY 11'!C12)","v":0},{"$f":"SUM('Production DAY 11'!C13)","v":0},{"$f":"SUM('Production DAY 11'!C14)","v":0},{"$f":"SUM('Production DAY 11'!C15)","v":0},{"$f":"SUM('Production DAY 11'!C16)","v":0},{"$f":"SUM('Production DAY 11'!C17)","v":0},{"$f":"SUM('Production DAY 11'!C18)","v":0},{"$f":"SUM('Production DAY 11'!C19)","v":0},{"$f":"SUM('Production DAY 11'!C20)","v":0},{"$f":"SUM('Production DAY 11'!C21)","v":0},{"$f":"SUM('Production DAY 11'!C22)","v":0},{"$f":"SUM('Production DAY 11'!C23)","v":0},{"$f":"SUM('Production DAY 11'!C24)","v":0},{"$f":"SUM('Production DAY 11'!C25)","v":0},{"$f":"SUM('Production DAY 11'!C26)","v":0},{"$f":"SUM('Production DAY 11'!C27)","v":0},{"$f":"SUM('Production DAY 11'!C28)","v":0},{"$f":"SUM('Production DAY 11'!C29)","v":0},{"$f":"SUM('Production DAY 11'!C30)","v":0},{"$f":"SUM('Production DAY 11'!C31)","v":0},{"$f":"SUM('Production DAY 11'!C32)","v":0},{"$f":"SUM('Production DAY 11'!C33)","v":0},{"$f":"SUM('Production DAY 11'!C34)","v":0},{"$f":"SUM('Production DAY 11'!C35)","v":0},{"$f":"SUM('Production DAY 11'!C36)","v":0},{"$f":"SUM('Production DAY 11'!C37)","v":0},{"$f":"SUM('Production DAY 11'!C38)","v":0},{"$f":"SUM('Production DAY 11'!C39)","v":0},{"$f":"SUM('Production DAY 11'!C40)","v":0},{"$f":"SUM('Production DAY 11'!C41)","v":0},{"$f":"SUM('Production DAY 11'!C42)","v":0},{"$f":"SUM('Production DAY 11'!C43)","v":0}]
["RECEIVED",null,null,null,null,{"$f":"SUM('Production DAY 11'!D2)","v":0},{"$f":"SUM('Production DAY 11'!D3)","v":0},{"$f":"SUM('Production DAY 11'!D4)","v":0},{"$f":"SUM('Production DAY 11'!D5)","v":0},{"$f":"SUM('Production DAY 11'!D6)","v":0},{"$f":"SUM('Production DAY 11'!D7)","v":0},{"$f":"SUM('Production DAY 11'!D8)","v":0},{"$f":"SUM('Production DAY 11'!D9)","v":0},{"$f":"SUM('Production DAY 11'!D10)","v":0},{"$f":"SUM('Production DAY 11'!D11)","v":0},{"$f":"SUM('Production DAY 11'!D12)","v":0},{"$f":"SUM('Production DAY 11'!D13)","v":0},{"$f":"SUM('Production DAY 11'!D14)","v":0},{"$f":"SUM('Production DAY 11'!D15)","v":0},{"$f":"SUM('Production DAY 11'!D16)","v":0},{"$f":"SUM('Production DAY 11'!D17)","v":0},{"$f":"SUM('Production DAY 11'!D18)","v":0},{"$f":"SUM('Production DAY 11'!D19)","v":0},{"$f":"SUM('Production DAY 11'!D20)","v":0},{"$f":"SUM('Production DAY 11'!D21)","v":0},{"$f":"SUM('Production DAY 11'!D22)","v":0},{"$f":"SUM('Production DAY 11'!D23)","v":0},{"$f":"SUM('Production DAY 11'!D24)","v":0},{"$f":"SUM('Production DAY 11'!D25)","v":0},{"$f":"SUM('Production DAY 11'!D26)","v":0},{"$f":"SUM('Production DAY 11'!D27)","v":0},{"$f":"SUM('Production DAY 11'!D28)","v":0},{"$f":"SUM('Production DAY 11'!D29)","v":0},{"$f":"SUM('Production DAY 11'!D30)","v":0},{"$f":"SUM('Production DAY 11'!D31)","v":0},{"$f":"SUM('Production DAY 11'!D32)","v":0},{"$f":"SUM('Production DAY 11'!D33)","v":0},{"$f":"SUM('Production DAY 11'!D34)","v":0},{"$f":"SUM('Production DAY 11'!D35)","v":0},{"$f":"SUM('Production DAY 11'!D36)","v":0},{"$f":"SUM('Production DAY 11'!D37)","v":0},{"$f":"SUM('Production DAY 11'!D38)","v":0},{"$f":"SUM('Production DAY 11'!D39)","v":0},{"$f":"SUM('Production DAY 11'!D40)","v":0},{"$f":"SUM('Production DAY 11'!D41)","v":0},{"$f":"SUM('Production DAY 11'!D42)","v":0},{"$f":"SUM('Production DAY 11'!D43)","v":0}]
["TOTAL STOCK",null,null,null,null,{"$f":"SUM(F66:F67)","v":0},{"$f":"SUM(G66:G67)","v":0},{"$f":"SUM(H66:H67)","v":0},{"$f":"SUM(I66:I67)","v":0},0,0,0,0,0,0,{"$f":"SUM(P66:P67)","v":0},0,0,0,0,0,0,0,0,0,0,0,0,0,0,0,0,0,0,0,0,0,0,0,0,0,0,0,0,0,0,0]
["USED",null,null,{"$f":"SUM(D3:D65)","v":0},null,{"$f":"SUM(F3:F65)","v":0},0,0,0,0,0,0,0,0,0,0,0,0,0,0,0,0,0,0,0,0,0,0,0,0,0,0,0,0,0,0,0,{"$f":"SUM(AL3:AL64)","v":0},0,0,0,0,0,0,0,0,0]
["CLOSING STOCK",null,null,null,null,{"$f":"SUM(F68-F69)","v":0},0,0,0,0,0,0,0,0,0,0,0,0,0,0,0,0,0,0,0,0,0,0,0,0,0,0,0,{"$f":"SUM(AH66-AH69)","v":0},{"$f":"SUM(AI68-AI69)","v":0},0,0,0,0,0,0,0,0,0,0,0,0]

{"sheet":"Production DAY 12","index":22,"n_rows":44,"n_cols":8,"rows_kept":44,"cut":false,"hidden":false,"merged":[]}
["Nos#","ITEMS"," < OPENING STOCK","RECEIVED","USED >","SALES CLOSING STOCK >","PHYSICAL STOCK COUNT","COMMENTS"]
[1,"Burger Bread",{"$f":"SUM('Production DAY 11'!G2)","v":0},null,{"$f":"SUM('DAY 12'!F69)","v":0},{"$f":"SUM('DAY 12'!F70)","v":0},0,{"$f":"IF(G2=F2,TRUE,FALSE)","v":true}]
[2,"Chicken Patty",{"$f":"SUM('Production DAY 11'!G3)","v":0},null,{"$f":"SUM('DAY 12'!G69)","v":0},{"$f":"SUM('DAY 12'!G70)","v":0},0,true]
[3,"Shawarma Bread",{"$f":"SUM('Production DAY 11'!G4)","v":0},null,{"$f":"SUM('DAY 12'!H69)","v":0},{"$f":"SUM('DAY 12'!H70)","v":0},0,true]
[4,"Chicken Portion or Shawarma portion",{"$f":"SUM('Production DAY 11'!G5)","v":0},null,{"$f":"SUM('DAY 12'!I69)","v":0},{"$f":"SUM('DAY 12'!I70)","v":0},0,true]
[5,"Sausage",{"$f":"SUM('Production DAY 11'!G6)","v":0},null,{"$f":"SUM('DAY 12'!J69)","v":0},{"$f":"SUM('DAY 12'!J70)","v":0},0,true]
[6,"Portion of Fries",{"$f":"SUM('Production DAY 11'!G7)","v":0},null,{"$f":"SUM('DAY 12'!K69)","v":0},{"$f":"SUM('DAY 12'!K70)","v":0},0,true]
[7,"Pieces of Chicken",{"$f":"SUM('Production DAY 11'!G8)","v":0},null,{"$f":"SUM('DAY 12'!L69)","v":0},{"$f":"SUM('DAY 12'!L70)","v":0},0,true]
[8,"Cheese",{"$f":"SUM('Production DAY 11'!G9)","v":0},null,{"$f":"SUM('DAY 12'!M69)","v":0},{"$f":"SUM('DAY 12'!M70)","v":0},0,true]
[9,"Bacon",{"$f":"SUM('Production DAY 11'!G10)","v":0},null,{"$f":"SUM('DAY 12'!N69)","v":0},{"$f":"SUM('DAY 12'!N70)","v":0},0,true]
[10,"A Paper Bag",{"$f":"SUM('Production DAY 11'!G11)","v":0},null,{"$f":"SUM('DAY 12'!O69)","v":0},{"$f":"SUM('DAY 12'!O70)","v":0},0,true]
[11,"Achicken Box",{"$f":"SUM('Production DAY 11'!G12)","v":0},null,{"$f":"SUM('DAY 12'!P69)","v":0},{"$f":"SUM('DAY 12'!P70)","v":0},0,true]
[12,"Paper Wrap",{"$f":"SUM('Production DAY 11'!G13)","v":0},null,{"$f":"SUM('DAY 12'!Q69)","v":0},{"$f":"SUM('DAY 12'!Q70)","v":0},0,true]
[13,"A Branded Nylon",{"$f":"SUM('Production DAY 11'!G14)","v":0},null,{"$f":"SUM('DAY 12'!R69)","v":0},{"$f":"SUM('DAY 12'!R70)","v":0},0,true]
[14,"Parfait",{"$f":"SUM('Production DAY 11'!G15)","v":0},null,{"$f":"SUM('DAY 12'!S69)","v":0},{"$f":"SUM('DAY 12'!S70)","v":0},0,true]
[15,"A Bottle of SUGAR Juice",{"$f":"SUM('Production DAY 11'!G16)","v":0},null,{"$f":"SUM('DAY 12'!T69)","v":0},{"$f":"SUM('DAY 12'!T70)","v":0},0,true]
[16,"35 CL Soft Drink",{"$f":"SUM('Production DAY 11'!G17)","v":0},null,{"$f":"SUM('DAY 12'!U69)","v":0},{"$f":"SUM('DAY 12'!U70)","v":0},0,true]
[17,"Beef Patty",{"$f":"SUM('Production DAY 11'!G18)","v":0},null,{"$f":"SUM('DAY 12'!V69)","v":0},{"$f":"SUM('DAY 12'!V70)","v":0},0,true]
[18,"Cream in GRAMS",{"$f":"SUM('Production DAY 11'!G19)","v":0},null,{"$f":"SUM('DAY 12'!W69)","v":0},{"$f":"SUM('DAY 12'!W70)","v":0},0,true]
[19,"KETCHUP",{"$f":"SUM('Production DAY 11'!G20)","v":0},null,{"$f":"SUM('DAY 12'!X69)","v":0},{"$f":"SUM('DAY 12'!X70)","v":0},0,true]
[20,"plain Nylon",{"$f":"SUM('Production DAY 11'!G21)","v":0},null,{"$f":"SUM('DAY 12'!Y69)","v":0},{"$f":"SUM('DAY 12'!Y70)","v":0},0,true]
[21,"Barbeque Sauce",{"$f":"SUM('Production DAY 11'!G22)","v":0},null,{"$f":"SUM('DAY 12'!Z69)","v":0},{"$f":"SUM('DAY 12'!Z70)","v":0},0,true]
[22,"Meal Box",{"$f":"SUM('Production DAY 11'!G23)","v":0},null,{"$f":"SUM('DAY 12'!AA69)","v":0},{"$f":"SUM('DAY 12'!AA70)","v":0},0,true]
[23,"COCONUT BREAD",{"$f":"SUM('Production DAY 11'!G24)","v":0},null,{"$f":"SUM('DAY 12'!AB69)","v":0},{"$f":"SUM('DAY 12'!AB70)","v":0},0,true]
[24,"SUPA KOMMANDO",{"$f":"SUM('Production DAY 11'!G25)","v":0},null,{"$f":"SUM('DAY 12'!AC69)","v":0},{"$f":"SUM('DAY 12'!AC70)","v":0},0,true]
[25,"SHAWARMA SUB",{"$f":"SUM('Production DAY 11'!G26)","v":0},null,{"$f":"SUM('DAY 12'!AD69)","v":0},{"$f":"SUM('DAY 12'!AD70)","v":0},0,true]
[26,"CAN COKE / FANTA",{"$f":"SUM('Production DAY 11'!G27)","v":0},null,{"$f":"SUM('DAY 12'!AE69)","v":0},{"$f":"SUM('DAY 12'!AE70)","v":0},0,true]
[27,"NUGGETS ",{"$f":"SUM('Production DAY 11'!G28)","v":0},null,{"$f":"SUM('DAY 12'!AF69)","v":0},{"$f":"SUM('DAY 12'!AF70)","v":0},0,true]
[28,"PRAWN",{"$f":"SUM('Production DAY 11'!G29)","v":0},null,{"$f":"SUM('DAY 12'!AG69)","v":0},{"$f":"SUM('DAY 12'!AG70)","v":0},0,true]
[29,"FARM PRIDE",{"$f":"SUM('Production DAY 11'!G30)","v":0},null,{"$f":"SUM('DAY 12'!AH69)","v":0},{"$f":"SUM('DAY 12'!AH70)","v":0},0,true]
[30,"50CL OR PULPY",{"$f":"SUM('Production DAY 11'!G31)","v":0},null,{"$f":"SUM('DAY 12'!AI69)","v":0},{"$f":"SUM('DAY 12'!AI70)","v":0},0,true]
[31,"FARM PRIDE 1 LT",{"$f":"SUM('Production DAY 11'!G32)","v":0},null,{"$f":"SUM('DAY 12'!AJ69)","v":0},{"$f":"SUM('DAY 12'!AJ70)","v":0},0,true]
[32,"BEEF PORTION FOR SHAWARMA",{"$f":"SUM('Production DAY 11'!G33)","v":0},null,{"$f":"SUM('DAY 12'!AK69)","v":0},{"$f":"SUM('DAY 12'!AK70)","v":0},0,true]
[33,"BEEF SUYA STICK",{"$f":"SUM('Production DAY 11'!G34)","v":0},null,{"$f":"SUM('DAY 12'!AL69)","v":0},{"$f":"SUM('DAY 12'!AL70)","v":0},0,true]
[34,"EMPTY 1",{"$f":"SUM('Production DAY 11'!G35)","v":0},null,{"$f":"SUM('DAY 12'!AM69)","v":0},{"$f":"SUM('DAY 12'!AM70)","v":0},0,true]
[35,"EMPTY 2",{"$f":"SUM('Production DAY 11'!G36)","v":0},null,{"$f":"SUM('DAY 12'!AN69)","v":0},{"$f":"SUM('DAY 12'!AN70)","v":0},0,true]
[36,"EMPTY 3",{"$f":"SUM('Production DAY 11'!G37)","v":0},null,{"$f":"SUM('DAY 12'!AO69)","v":0},{"$f":"SUM('DAY 12'!AO70)","v":0},0,true]
[37,"EMPTY 4",{"$f":"SUM('Production DAY 11'!G38)","v":0},null,{"$f":"SUM('DAY 12'!AP69)","v":0},{"$f":"SUM('DAY 12'!AP70)","v":0},0,true]
[38,"EMPTY 5",{"$f":"SUM('Production DAY 11'!G39)","v":0},null,{"$f":"SUM('DAY 12'!AQ69)","v":0},{"$f":"SUM('DAY 12'!AQ70)","v":0},0,true]
[39,"EMPTY 6",{"$f":"SUM('Production DAY 11'!G40)","v":0},null,{"$f":"SUM('DAY 12'!AR69)","v":0},{"$f":"SUM('DAY 12'!AR70)","v":0},0,true]
[40,"EMPTY 7",{"$f":"SUM('Production DAY 11'!G41)","v":0},null,{"$f":"SUM('DAY 12'!AS69)","v":0},{"$f":"SUM('DAY 12'!AS70)","v":0},0,true]
[41,"EMPTY 8",{"$f":"SUM('Production DAY 11'!G42)","v":0},null,{"$f":"SUM('DAY 12'!AT69)","v":0},{"$f":"SUM('DAY 12'!AT70)","v":0},0,true]
[42,"EMPTY 9",{"$f":"SUM('Production DAY 11'!G43)","v":0},null,{"$f":"SUM('DAY 12'!AU69)","v":0},{"$f":"SUM('DAY 12'!AU70)","v":0},0,true]
[43,"EMPTY 10",{"$f":"SUM('Production DAY 11'!G44)","v":0},null,{"$f":"SUM('DAY 12'!AV69)","v":0},{"$f":"SUM('DAY 12'!AV70)","v":0},0,true]

{"sheet":"DAY 12","index":23,"n_rows":70,"n_cols":47,"rows_kept":70,"cut":false,"hidden":false,"merged":[[0,7,0,28]]}
["FEBRUARY 12th, 2022",null,null,{"$f":"SUM(D3:D50)","v":0},null,null,null,"BURGER PALACE INVENTORY RECORDS"]
["ITEM","AMOUNT","QUANTITY","TOTAL",null,"Burger Bread","Chicken Patty","Shawarma Bread","Chicken Portion or Shawarma portion","Sausage","Portion of Fries","Pieces of Chicken","Cheese","Bacon","A Paper Bag","Achicken Box","Paper Wrap","A Branded Nylon","Parfait","A Bottle of SUGAR Juice","35 CL Soft Drink","Beef Patty","Cream in GRAMS","KETCHUP","plain Nylon","Barbeque Sauce","Meal Box","COCONUT BREAD ","SUPA KOMMANDO ","SHAWARMA SUB","CAN COKE / FANTA","NUGGETS","PRAWN","FARM PRIDE 50CL OR PULPY","FARM PRIDE 1 LT","BEEF PORTION FOR SHAWARMA ","BEEF SUYA STICK","EMPTY 1","EMPTY 2","EMPTY 3","EMPTY 4","EMPTY 5","EMPTY 6","EMPTY 7","EMPTY 8","EMPTY 9","EMPTY 10"]
["DELUXE BURGER MEAL (WITH SOFT DRINK)",5400,0,{"$f":"SUM(B3*C3)","v":0},null,{"$f":"SUM(C3)","v":0},{"$f":"SUM(C3)","v":0},{"$f":"SUM(C3)","v":0},{"$f":"SUM(C3)","v":0},{"$f":"SUM(C3)","v":0},{"$f":"SUM(C3)","v":0},{"$f":"SUM(C3)*2","v":0},"ZERO","ZERO",{"$f":"SUM(C3)*1","v":0},{"$f":"SUM(C3)","v":0},{"$f":"SUM(C3)*2","v":0},{"$f":"SUM(C3)","v":0},null,"ZERO",{"$f":"SUM(C3)","v":0},null,{"$f":"SUM(C3)*140","v":0},{"$f":"SUM(C3)","v":0},{"$f":"SUM(C3)","v":0},"ZERO",null,null,null,null,null,null,null,null,null,{"$f":"SUM(AD3)","v":0},0]
["DELUXE BURGER MEAL (WITH SUGARCANE JUICE)",5600,0,{"$f":"SUM(B4*C4)","v":0},null,{"$f":"SUM(C4)","v":0},{"$f":"SUM(C4)","v":0},{"$f":"SUM(C4)","v":0},{"$f":"SUM(C4)","v":0},{"$f":"SUM(C4)","v":0},0,{"$f":"SUM(C4)*2","v":0},"ZERO","ZERO",{"$f":"SUM(C4)*1","v":0},0,{"$f":"SUM(C4)*2","v":0},0,null,{"$f":"SUM(C4)","v":0},"ZERO",null,{"$f":"SUM(C4)*140","v":0},{"$f":"SUM(C4)","v":0},0,"ZERO",null,null,null,null,null,null,null,null,null,0,0]
["DELUXE MEAL EXTRA (WITH Soft Drink)",null,0,{"$f":"SUM(B5*C5)","v":0},null,{"$f":"SUM(C5)","v":0},{"$f":"SUM(C5)","v":0},{"$f":"SUM(C5)","v":0},{"$f":"SUM(C5)","v":0},{"$f":"SUM(C5)","v":0},0,{"$f":"SUM(C5)*2","v":0},"ZERO","ZERO",{"$f":"SUM(C5)","v":0},0,{"$f":"SUM(C5)*2","v":0},0,{"$f":"SUM(C5)","v":0},"ZERO",{"$f":"SUM(C5)","v":0},null,{"$f":"SUM(C5)*140","v":0},{"$f":"SUM(C5)","v":0},0,"ZERO",null,null,null,null,null,null,null,null,null,0,0]
["DELUXE BURGER MEAL Extra (With Sugarcane juice",null,0,{"$f":"SUM(B6*C6)","v":0},null,{"$f":"SUM(C6)","v":0},{"$f":"SUM(C6)","v":0},{"$f":"SUM(C6)","v":0},{"$f":"SUM(C6)","v":0},{"$f":"SUM(C6)","v":0},0,{"$f":"SUM(C6)*2","v":0},"ZERO","ZERO",{"$f":"SUM(C6)","v":0},0,{"$f":"SUM(C6)*2","v":0},0,{"$f":"SUM(C6)","v":0},{"$f":"SUM(C6)","v":0},"ZERO",null,{"$f":"SUM(C6)*140","v":0},{"$f":"SUM(C6)","v":0},0,"ZERO",null,null,null,null,null,null,null,null,null,0,0]
["PREMIUM BURGER Meal ",5900,0,{"$f":"SUM(B7*C7)","v":0},null,{"$f":"SUM(C7)","v":0},{"$f":"SUM(C7)","v":0},"ZERO","ZERO","ZERO",0,{"$f":"SUM(C7)*5","v":0},"ZERO","ZERO",{"$f":"SUM(C7)","v":0},0,{"$f":"SUM(C7)*1.25","v":0},0,"ZERO","ZERO",{"$f":"SUM(C7)","v":0},"ZERO",{"$f":"SUM(C7)*70","v":0},{"$f":"SUM(C7)*2","v":0},0,{"$f":"SUM(C7)","v":0},null,null,null,null,null,null,null,null,null,"ZERO","ZERO"]
["CRISPY CHICKEN BOX",4300,0,null,null,"ZERO","ZERO","ZERO","ZERO","ZERO",0,{"$f":"SUM(C8)*5","v":0},"ZERO","ZERO","ZERO",0,{"$f":"SUM(C8)*0.25","v":0},0,"ZERO","ZERO",{"$f":"SUM(C8)","v":0},"ZERO","ZERO",{"$f":"SUM(C8)*2","v":0},0,{"$f":"SUM(C8)","v":0},null,null,null,null,null,null,null,null,null,"ZERO","ZERO"]
["ROYAL BURGER MEAL (CHICKEN  PATTY)",null,0,{"$f":"SUM(B9*C9)","v":0},null,{"$f":"SUM(C9)","v":0},{"$f":"SUM(C9)*2","v":0},"ZERO","ZERO","ZERO",0,"ZERO",{"$f":"SUM(C9)*2","v":0},{"$f":"SUM(C9)*2","v":0},"ZERO",0,{"$f":"SUM(C9)","v":0},0,{"$f":"SUM(C9)","v":0},"ZERO","ZERO","ZERO",{"$f":"SUM(C9)*140","v":0},{"$f":"SUM(C9)*2","v":0},0,{"$f":"SUM(C9)","v":0},null,null,null,null,null,null,null,null,null,"ZERO","ZERO"]
["ROYAL BURGER MEAL (BEEF  PATTY)",null,0,{"$f":"SUM(B10*C10)","v":0},null,{"$f":"SUM(C10)","v":0},"ZERO","ZERO","ZERO","ZERO",0,"ZERO",{"$f":"SUM(C10)*2","v":0},{"$f":"SUM(C10)*2","v":0},"ZERO",0,0,0,{"$f":"SUM(C10)","v":0},"ZERO","ZERO",{"$f":"SUM(C10)*2","v":0},{"$f":"SUM(C10)*140","v":0},{"$f":"SUM(C10)*2","v":0},0,{"$f":"SUM(C10)","v":0},null,null,null,null,null,null,null,null,null,"ZERO","ZERO"]
["ROYAL BURGER ONLY (CHICKEN PATTY)",3300,0,{"$f":"SUM(B11*C11:C25,A1,A1,A1,A1,A1)","v":0},null,{"$f":"SUM(C11)","v":0},{"$f":"SUM(C11)*2","v":0},"ZERO","ZERO","ZERO","ZERO","ZERO",{"$f":"SUM(C11)*2","v":0},{"$f":"SUM(C11)*2","v":0},"ZERO",0,0,0,"ZERO","ZERO","ZERO","ZERO",{"$f":"SUM(C11)*140","v":0},{"$f":"SUM(C11)","v":0},"ZERO","ZERO",null,null,null,null,null,null,null,null,null,"ZERO","ZERO"]
["ROYAL BURGER ONLY (BEEF PATTY)",3300,0,{"$f":"SUM(B12*C12)","v":0},null,{"$f":"SUM(C12)","v":0},null,"ZERO","ZERO","ZERO","ZERO","ZERO",{"$f":"SUM(C12)*2","v":0},{"$f":"SUM(C12)*2","v":0},"ZERO",0,0,0,"ZERO","ZERO","ZERO",{"$f":"SUM(C12)*2","v":0},{"$f":"SUM(C12)*140","v":0},{"$f":"SUM(C12)","v":0},"ZERO","ZERO",null,null,null,null,null,null,null,null,null,"ZERO","ZERO"]
["MAYOR'S COCONUT BURGER ",2800,0,0,null,0,{"$f":"SUM(C13)","v":0},"ZERO","ZERO","ZERO","ZERO","ZERO",{"$f":"SUM(C13)","v":0},"ZERO","ZERO",0,0,0,"ZERO","ZERO","ZERO",{"$f":"SUM(C13)","v":0},{"$f":"SUM(C13)*140","v":0},"ZERO","ZERO","ZERO",null,{"$f":"SUM(C13)","v":0},{"$f":"SUM(C13)","v":0},null,null,null,null,null,null,"ZERO","ZERO"]
["DOUBLE DECKER CRISPY CHK. CHEESE BURGER",2500,0,0,null,{"$f":"SUM(C14)","v":0},{"$f":"SUM(C14)*2","v":0},"ZERO","ZERO","ZERO","ZERO","ZERO",{"$f":"SUM(C14)","v":0},"ZERO","ZERO",0,0,"ZERO","ZERO","ZERO","ZERO","ZERO",{"$f":"SUM(C14)*70","v":0},"ZERO","ZERO","ZERO",null,null,null,null,null,null,null,null,null,"ZERO","ZERO"]
["SINGLE BEEF BURGER",1700,0,0,null,0,"ZERO","ZERO","ZERO","ZERO","ZERO","ZERO",null,"ZERO",{"$f":"SUM(C15)","v":0},null,0,"ZERO","ZERO","ZERO","ZERO",{"$f":"SUM(C15)","v":0},{"$f":"SUM(C15)*70","v":0},"ZERO","ZERO","ZERO",null,null,null,null,null,null,null,null,null,"ZERO","ZERO"]
["YANKEE BURGER",2400,0,0,null,0,"ZERO","ZERO","ZERO","ZERO","ZERO","ZERO",null,{"$f":"SUM(C16)*2","v":0},{"$f":"SUM(C16)","v":0},null,0,"ZERO","ZERO","ZERO","ZERO",{"$f":"SUM(C16)","v":0},{"$f":"SUM(C16)*70","v":0},"ZERO","ZERO","ZERO",null,null,null,null,null,null,null,null,null,"ZERO","ZERO"]
["ROYAL BURGER WITH FRIES (Chicken)",4000,0,0,null,0,{"$f":"SUM(C17)*2","v":0},"ZERO","ZERO","ZERO",{"$f":"SUM(C17)","v":0},"ZERO",{"$f":"SUM(C17)*2","v":0},{"$f":"SUM(C17)*2","v":0},"ZERO",{"$f":"SUM(C17)","v":0},0,"ZERO","ZERO","ZERO","ZERO","ZERO",{"$f":"SUM(C17)*140","v":0},{"$f":"SUM(C17)*2","v":0},"ZERO","ZERO",null,null,null,null,null,null,null,null,null,"ZERO","ZERO"]
["ROYAL BURGER WITH FRIES (BEEF)",4000,0,0,null,0,"ZERO","ZERO","ZERO","ZERO",{"$f":"SUM(C18)","v":0},"ZERO",{"$f":"SUM(C18)*2","v":0},{"$f":"SUM(C18)*2","v":0},"ZERO",{"$f":"SUM(C18)","v":0},0,"ZERO","ZERO","ZERO","ZERO",{"$f":"SUM(C18)*2","v":0},{"$f":"SUM(C18)*140","v":0},{"$f":"SUM(C18)*2","v":0},"ZERO","ZERO",null,null,null,null,null,null,null,null,null,"ZERO","ZERO"]
["CRISPY CHICKEN BURGER",1700,0,0,null,0,{"$f":"SUM(C19)","v":0},"ZERO","ZERO","ZERO","ZERO","ZERO","ZERO","ZERO",{"$f":"SUM(C19)","v":0},"ZERO",{"$f":"SUM(C19)*1","v":0},"ZERO","ZERO","ZERO","ZERO","ZERO",{"$f":"SUM(C19)*70","v":0},"ZERO","ZERO","ZERO",null,null,null,null,null,null,null,null,null,"ZERO","ZERO"]
["SUYA BURGER BOX",5500,0,0,null,0,{"$f":"SUM(C20)*2","v":0},"ZERO","ZERO",{"$f":"SUM(C20)*4","v":0},{"$f":"SUM(C20)","v":0},{"$f":"SUM(C20)*4","v":0},"ZERO","ZERO",{"$f":"SUM(C20)","v":0},{"$f":"SUM(C20)","v":0},{"$f":"SUM(C20)","v":0},"ZERO","ZERO",null,{"$f":"SUM(C20)","v":0},"ZERO",0,{"$f":"SUM(C20)*2","v":0},{"$f":"SUM(C20)","v":0},"ZERO",{"$f":"SUM(C20)","v":0},null,null,null,null,null,null,null,null,"ZERO","ZERO"]
["CRISPY CHICKEN BURGER PLUS CHEESE",2100,0,0,null,0,{"$f":"SUM(C21)","v":0},"ZERO","ZERO","ZERO","ZERO","ZERO",{"$f":"SUM(C21)","v":0},"ZERO",{"$f":"SUM(C21)","v":0},"ZERO",0,"ZERO","ZERO","ZERO","ZERO","ZERO",0,"ZERO","ZERO","ZERO",null,null,null,null,null,null,null,null,null,"ZERO","ZERO"]
["SINGLE BEEF CHEESE BURGER ",2100,0,0,null,0,"ZERO","ZERO","ZERO","ZERO","ZERO","ZERO",{"$f":"SUM(C22)","v":0},"ZERO",{"$f":"SUM(C22)","v":0},"ZERO",0,"ZERO","ZERO","ZERO","ZERO",{"$f":"SUM(C22)","v":0},0,"ZERO","ZERO","ZERO",null,null,null,null,null,null,null,null,null,"ZERO","ZERO"]
["DOUBLE DECKER BEEF CHEESE BURGER",2800,0,0,null,0,"ZERO","ZERO","ZERO","ZERO","ZERO","ZERO",{"$f":"SUM(C23)*2","v":0},"ZERO","ZERO",{"$f":"SUM(C23)","v":0},0,"ZERO","ZERO","ZERO","ZERO",{"$f":"SUM(C23)*2","v":0},0,"ZERO","ZERO","ZERO",null,null,null,null,null,null,null,null,null,"ZERO","ZERO"]
["CHICKEN SUYA BURGER ",2200,0,0,null,0,{"$f":"SUM(C24)*2","v":0},"ZERO","ZERO","ZERO","ZERO","ZERO","ZERO","ZERO",{"$f":"SUM(C24)*1","v":0},"ZERO",0,"ZERO","ZERO","ZERO","ZERO","ZERO",0,"ZERO","ZERO","ZERO",null,null,null,null,null,null,null,null,null,"ZERO","ZERO"]
["CHICKEN SHAWARMA",1800,0,0,null,null,"ZERO",{"$f":"SUM(C25)","v":0},{"$f":"SUM(C25)","v":0},{"$f":"SUM(C25)*2","v":0},"ZERO","ZERO","ZERO","ZERO","ZERO","ZERO",0,{"$f":"SUM(C25)","v":0},"ZERO","ZERO","ZERO","ZERO",0,"ZERO","ZERO","ZERO",null,null,null,null,null,null,null,null,null,{"$f":"SUM(AD25)","v":0},{"$f":"SUM(AE25)","v":0}]
["BARBECUE BEEF SHAWARMA",2000,0,0,null,null,"ZERO",{"$f":"SUM(C26)","v":0},"ZERO",{"$f":"SUM(C26)*2","v":0},"ZERO","ZERO","ZERO","ZERO","ZERO","ZERO",0,0,"ZERO","ZERO","ZERO","ZERO",0,"ZERO","ZERO","ZERO",null,null,null,null,null,null,null,null,null,{"$f":"SUM(C26)","v":0},"ZERO"]
["BEEF SUYA SHAWARMA",2200,0,0,null,null,"ZERO",{"$f":"SUM(C27)","v":0},"ZERO",{"$f":"SUM(C27)*2","v":0},"ZERO","ZERO","ZERO","ZERO","ZERO","ZERO",0,0,"ZERO","ZERO","ZERO","ZERO",0,"ZERO","ZERO","ZERO",null,null,null,null,null,null,null,null,null,{"$f":"SUM(AD27)","v":0},{"$f":"SUM(C27)","v":0}]
["BEEF SUYA BURGER ",2200,0,0,null,{"$f":"SUM(C28)","v":0},"ZERO",null,"ZERO","ZERO","ZERO","ZERO","ZERO","ZERO",{"$f":"SUM(C28)","v":0},"ZERO",0,0,"ZERO","ZERO","ZERO","ZERO",0,"ZERO","ZERO","ZERO",null,null,null,null,null,null,null,null,null,{"$f":"SUM(AD28)","v":0},{"$f":"SUM(C28)","v":0}]
["CHICKEN SUYA SHAWARMA",2200,0,0,null,"ZERO",{"$f":"SUM(C29)*2","v":0},{"$f":"SUM(C29)","v":0},null,{"$f":"SUM(C29)*2","v":0},"ZERO","ZERO","ZERO","ZERO","ZERO","ZERO",0,0,"ZERO","ZERO","ZERO","ZERO",0,"ZERO","ZERO","ZERO"]
["CHESSY SHAWARMA",2500,0,0,null,"ZERO","ZERO",{"$f":"SUM(C30)","v":0},{"$f":"SUM(C30)","v":0},{"$f":"SUM(C30)*2","v":0},null,"ZERO",{"$f":"SUM(C30)*2","v":0},"ZERO","ZERO","ZERO",0,0,"ZERO","ZERO","ZERO","ZERO",{"$f":"SUM(C30)*140","v":0},"ZERO","ZERO","ZERO",null,null,null,null,null,null,null,null,null,{"$f":"SUM(AD30)","v":0},{"$f":"SUM(AE30)","v":0}]
["2 CHICKEN AND CHIPS",2300,0,0,null,"ZERO","ZERO","ZERO","ZERO","ZERO",{"$f":"SUM(C31)","v":0},{"$f":"SUM(C31)*2","v":0},"ZERO","ZERO","ZERO",{"$f":"SUM(C31)","v":0},"ZERO",0,"ZERO","ZERO","ZERO","ZERO","ZERO",{"$f":"SUM(C31)","v":0},"ZERO","ZERO",null,null,null,null,null,null,null,null,null,"ZERO","ZERO"]
["4 CHICKEN AND CHIPS",3500,0,0,null,"ZERO","ZERO","ZERO","ZERO","ZERO",{"$f":"SUM(C32)","v":0},{"$f":"SUM(C32)*4","v":0},"ZERO","ZERO","ZERO",{"$f":"SUM(C32)","v":0},"ZERO",0,"ZERO","ZERO","ZERO","ZERO","ZERO",{"$f":"SUM(C32)*2","v":0},"ZERO","ZERO","zero","zero","zero",null,null,null,null,null,null,"ZERO","ZERO"]
["SPICY CHICKEN ONLY",650,0,null,null,"ZERO","ZERO","ZERO","ZERO","ZERO","ZERO",{"$f":"SUM(C33)","v":0},"ZERO","ZERO","ZERO","ZERO","ZERO","ZERO","ZERO","ZERO","ZERO","ZERO","ZERO","ZERO",{"$f":"SUM(C33)","v":0},"ZERO",null,null,null,null,null,null,null,null,null,"ZERO","ZERO"]
["CRISPY CHICKEN ONLY",650,0,{"$f":"SUM(B34*C34)","v":0},null,"ZERO","ZERO","ZERO","ZERO","ZERO","ZERO",{"$f":"SUM(C34)","v":0},"ZERO","ZERO","ZERO","ZERO","ZERO","ZERO","ZERO","ZERO","ZERO","ZERO","ZERO","ZERO",{"$f":"SUM(C34)","v":0},"ZERO",null,null,null,null,null,null,null,null,null,"ZERO","ZERO"]
["POTATO FRIES",700,0,0,null,"ZERO","ZERO","ZERO","ZERO","ZERO",null,"ZERO","ZERO","ZERO","ZERO","ZERO","ZERO","ZERO","ZERO","ZERO","ZERO","ZERO","ZERO","ZERO","ZERO","ZERO",null,null,null,null,null,null,null,null,null,"ZERO","ZERO"]
["FRENCH FRIES ONLY",1000,0,0,null,"ZERO","ZERO","ZERO","ZERO","ZERO",{"$f":"SUM(C36)","v":0},"ZERO","ZERO","ZERO","ZERO","ZERO","ZERO","ZERO","ZERO","ZERO","ZERO","ZERO","ZERO","ZERO",{"$f":"SUM(C36)","v":0},"ZERO",null,null,null,null,null,null,null,null,null,"ZERO","ZERO"]
["SUGERCANNE JUICE",750,0,0,null,"ZERO","ZERO","ZERO","ZERO","ZERO","ZERO","ZERO","ZERO","ZERO","ZERO","ZERO","ZERO","ZERO","ZERO",{"$f":"SUM(C37)","v":0},"ZERO","ZERO","ZERO","ZERO","ZERO","ZERO",null,null,null,null,null,null,null,null,null,"ZERO","ZERO"]
["35 CL SOFT DRINK",200,0,0,null,"ZERO","ZERO","ZERO","ZERO","ZERO","ZERO","ZERO","ZERO","ZERO","ZERO","ZERO","ZERO","ZERO","ZERO","ZERO",{"$f":"SUM(C38)","v":0},"ZERO","ZERO","ZERO","ZERO","ZERO",null,null,null,null,null,null,null,null,null,"ZERO","ZERO"]
["PARFAIT",null,0,0,null,"ZERO","ZERO","ZERO","ZERO","ZERO","ZERO","ZERO","ZERO","ZERO","ZERO","ZERO","ZERO",{"$f":"SUM(C39)","v":0},{"$f":"SUM(C39)","v":0},"ZERO","ZERO","ZERO","ZERO","ZERO","ZERO","ZERO",null,null,null,null,null,null,null,null,null,"ZERO","ZERO"]
["MARINATED WINGS",500,0,0,null,"ZERO","ZERO","ZERO","ZERO","ZERO","ZERO",{"$f":"SUM(C40)","v":0},"ZERO","ZERO","ZERO","ZERO","ZERO","ZERO","ZERO","ZERO","ZERO","ZERO","ZERO","ZERO","ZERO","ZERO",null,null,null,null,null,null,null,null,null,"ZERO","ZERO"]
["CHEESE ",400,0,0,null,"ZERO","ZERO","ZERO","ZERO","ZERO","ZERO","ZERO",{"$f":"SUM(C41)","v":0},"ZERO","ZERO","ZERO","ZERO","ZERO","ZERO","ZERO","ZERO","ZERO","ZERO","ZERO","ZERO","ZERO",null,null,null,null,null,null,null,null,null,"ZERO","ZERO"]
["SAUSAGE",200,0,0,null,null,null,null,null,null,"ZERO"]
["BACON",400,0,0,null,"ZERO","ZERO","ZERO","ZERO","ZERO","ZERO","ZERO","ZERO",{"$f":"SUM(C43)","v":0},"ZERO","ZERO","ZERO","ZERO","ZERO","ZERO","ZERO","ZERO","ZERO","ZERO","ZERO","ZERO",null,null,null,null,null,null,null,null,null,"ZERO","ZERO"]
["FRIENDY BURGER MEAL (WITH SOFT DRINK)",10200,0,0,null,{"$f":"SUM(C44)*2","v":0},{"$f":"SUM(C44)*2","v":0},{"$f":"SUM(C44)*2","v":0},{"$f":"SUM(C44)*2","v":0},{"$f":"SUM(C44)*2","v":0},{"$f":"SUM(C44)*2","v":0},{"$f":"SUM(C44)*2*2","v":0},"ZERO","ZERO",{"$f":"SUM(C44)*1*2","v":0},{"$f":"SUM(C44)*2","v":0},{"$f":"SUM(C44)*2*2","v":0},{"$f":"SUM(C44)*2","v":0},null,"ZERO",{"$f":"SUM(C44)*2","v":0},null,{"$f":"SUM(C44)*140*2","v":0},{"$f":"SUM(C44)*2","v":0},{"$f":"SUM(C44)*2","v":0},"ZERO",null,null,null,null,null,null,null,null,null,{"$f":"SUM(AD44)*2","v":0},{"$f":"SUM(AE44)*2","v":0}]
["FRIENDY BURGER MEAL (WITH SUGARCANE JUICE)",10600,0,0,null,{"$f":"SUM(C45)*2","v":0},{"$f":"SUM(C45)*2","v":0},{"$f":"SUM(C45)*2","v":0},{"$f":"SUM(C45)*2","v":0},{"$f":"SUM(C45)*2","v":0},{"$f":"SUM(C45)*2","v":0},{"$f":"SUM(C45)*2*2","v":0},"ZERO","ZERO",{"$f":"SUM(C45)*1*2","v":0},{"$f":"SUM(C45)*2","v":0},{"$f":"SUM(C45)*2*2","v":0},{"$f":"SUM(C45)*2","v":0},null,{"$f":"SUM(C45)*2","v":0},"ZERO",null,{"$f":"SUM(C45)*140*2","v":0},{"$f":"SUM(C45)*2","v":0},{"$f":"SUM(C45)*2","v":0},"ZERO",null,null,null,null,null,null,null,null,null,{"$f":"SUM(AD45)*2","v":0},{"$f":"SUM(AE45)*2","v":0}]
["SHAWARMA  SUB",1800,0,0,null,null,"ZERO","ZERO",{"$f":"SUM(C46)","v":0},{"$f":"SUM(C46)*2","v":0},"ZERO","ZERO","ZERO","ZERO",{"$f":"SUM(C46)*1","v":0},"ZERO",{"$f":"SUM(C46)","v":0},"ZERO","ZERO","ZERO","ZERO","ZERO",{"$f":"SUM(C46)*70","v":0},"ZERO","ZERO","ZERO",null,null,null,{"$f":"SUM(C46)","v":0},null,null,null,null,null,{"$f":"SUM(AD46)","v":0},{"$f":"SUM(AE46)","v":0}]
["DELISH PACK 1",5300,0,0,null,{"$f":"SUM(C47)","v":0},{"$f":"SUM(C47)","v":0},"ZERO",{"$f":"SUM(C47)","v":0},{"$f":"SUM(C47)*2","v":0},"ZERO",{"$f":"SUM(C47)*4","v":0},"ZERO","ZERO",{"$f":"SUM(C47)*1","v":0},{"$f":"SUM(C47)*1","v":0},{"$f":"SUM(C47)*2","v":0},{"$f":"SUM(C47)","v":0},"ZERO","ZERO","ZERO","ZERO",{"$f":"SUM(C47)*70","v":0},"ZERO","ZERO","ZERO",null,null,null,{"$f":"SUM(C47)","v":0},{"$f":"SUM(C47)*1","v":0},null,null,null,null,{"$f":"SUM(AD47)","v":0},{"$f":"SUM(AE47)","v":0}]
["FAMILY BURGER MEAL (WITH SOFT DRINK)",19800,0,0,null,{"$f":"SUM(C48)*4","v":0},{"$f":"SUM(C48)*4","v":0},{"$f":"SUM(C48)*4","v":0},{"$f":"SUM(C48)*4","v":0},{"$f":"SUM(C48)*4","v":0},{"$f":"SUM(C48)*4","v":0},{"$f":"SUM(C48)*2*4","v":0},"ZERO","ZERO",{"$f":"SUM(C48)*1*4","v":0},{"$f":"SUM(C48)*4","v":0},{"$f":"SUM(C48)*2*4","v":0},{"$f":"SUM(C48)*4","v":0},null,"ZERO",{"$f":"SUM(C48)*4","v":0},null,{"$f":"SUM(C48)*140*4","v":0},{"$f":"SUM(C48)*4","v":0},{"$f":"SUM(C48)*4","v":0},"ZERO",null,null,null,null,null,null,null,null,null,{"$f":"SUM(AD48)*4","v":0},{"$f":"SUM(AE48)*4","v":0}]
["FAMILY BURGER MEAL (WITH SUGARCANE JUICE)",20800,0,0,null,{"$f":"SUM(C49)*4","v":0},{"$f":"SUM(C49)*4","v":0},{"$f":"SUM(C49)*4","v":0},{"$f":"SUM(C49)*4","v":0},{"$f":"SUM(C49)*4","v":0},{"$f":"SUM(C49)*4","v":0},{"$f":"SUM(C49)*2*4","v":0},"ZERO","ZERO",{"$f":"SUM(C49)*1*4","v":0},{"$f":"SUM(C49)*4","v":0},{"$f":"SUM(C49)*2*4","v":0},{"$f":"SUM(C49)*4","v":0},null,{"$f":"SUM(C49)*4","v":0},"ZERO",null,{"$f":"SUM(C49)*140*4","v":0},{"$f":"SUM(C49)*4","v":0},{"$f":"SUM(C49)*4","v":0},"ZERO",null,null,null,null,null,null,null,null,null,{"$f":"SUM(AD49)*4","v":0},{"$f":"SUM(AE49)*4","v":0}]
["CAN COKE/FANTA ONLY",null,0,0,null,"ZERO","ZERO","ZERO","ZERO","ZERO","ZERO","ZERO","ZERO","ZERO","ZERO","ZERO","ZERO","ZERO","ZERO","ZERO","ZERO","ZERO","ZERO","ZERO","ZERO","ZERO",null,null,null,null,{"$f":"SUM(C50)","v":0},null,null,null,null,"ZERO","ZERO"]
["SUPA KOMMANDO ONLY",250,0,0,null,"ZERO","ZERO","ZERO","ZERO","ZERO","ZERO","ZERO","ZERO","ZERO","ZERO","ZERO","ZERO","ZERO","ZERO","ZERO","ZERO","ZERO","ZERO","ZERO","ZERO","ZERO",null,null,{"$f":"SUM(C51)","v":0},null,"ZERO","ZERO",null,null,null,"ZERO","ZERO"]
["10X Chicken Nuggets ",2400,0,0,null,null,null,null,null,null,"ZERO",null,null,null,null,{"$f":"SUM(C52)","v":0},null,{"$f":"SUM(C52)","v":0},null,null,null,null,null,{"$f":"SUM(C52)","v":0},null,null,null,null,null,null,{"$f":"SUM(C52)","v":0},{"$f":"SUM(C52)*10","v":0}]
["20X Chicken Nuggets ",4800,0,0,null,null,null,null,null,null,"ZERO ",null,null,null,null,{"$f":"SUM(C53)","v":0},null,{"$f":"SUM(C53)","v":0},null,null,null,null,null,{"$f":"SUM(C53)","v":0},null,null,null,null,null,null,{"$f":"SUM(C53)","v":0},{"$f":"SUM(C53)*20","v":0}]
["10 CHICKEN NUGGETS & FRIES BOX",3300,0,0,null,null,null,null,null,null,{"$f":"SUM(C54)","v":0},null,null,null,null,{"$f":"SUM(C54)","v":0},null,{"$f":"SUM(C54)","v":0},null,null,null,null,null,{"$f":"SUM(C54)","v":0},null,null,null,null,null,null,{"$f":"SUM(C54)","v":0},{"$f":"SUM(C54)*10","v":0}]
["20 CHICKEN NUGGETS & FRIES BOX",6600,0,0,null,null,null,null,null,null,{"$f":"SUM(C55)","v":0},null,null,null,null,{"$f":"SUM(C55)","v":0},null,{"$f":"SUM(C55)","v":0},null,null,null,null,null,{"$f":"SUM(C55)","v":0},null,null,null,null,null,null,{"$f":"SUM(C55)","v":0},{"$f":"SUM(C55)*20","v":0}]
["PRAWN BURGER ",3000,0,0,null,{"$f":"SUM(C56)","v":0},"ZERO","ZERO","ZERO","ZERO","ZERO","ZERO",{"$f":"SUM(C56)","v":0},"ZERO",{"$f":"SUM(C56)","v":0},"ZERO",{"$f":"SUM(C56)","v":0},"ZERO","ZERO","ZERO","ZERO","ZERO",{"$f":"SUM(C56)*70","v":0},"ZERO","ZERO","ZERO",null,null,null,null,null,null,{"$f":"SUM(C56)*2","v":0},null,null,"ZERO","ZERO"]
[" FUNMMY NUGGETS  BOX",5300,0,0,null,{"$f":"SUM(C57)","v":0},{"$f":"SUM(C57)","v":0},null,null,null,{"$f":"SUM(C57)","v":0},null,{"$f":"SUM(C57)","v":0},null,{"$f":"SUM(C57)","v":0},{"$f":"SUM(C57)","v":0},null,{"$f":"SUM(C57)","v":0},null,null,null,null,null,{"$f":"SUM(C57)","v":0},null,null,null,null,null,null,{"$f":"SUM(C57)","v":0},{"$f":"SUM(C57)*10","v":0}]
["FARM PRIDE 50 CL",500,0,0,null,"ZERO","ZERO","ZERO","ZERO","ZERO","ZERO","ZERO","ZERO","ZERO","ZERO","ZERO","ZERO","ZERO","ZERO","ZERO","ZERO","ZERO","ZERO","ZERO","ZERO","ZERO",null,null,null,null,null,null,null,{"$f":"SUM(C58)","v":0},null,"ZERO","ZERO"]
["FARM PRIDE 1 LITRE",800,0,0,null,"ZERO","ZERO","ZERO","ZERO","ZERO","ZERO","ZERO","ZERO","ZERO","ZERO","ZERO","ZERO","ZERO","ZERO","ZERO","ZERO","ZERO","ZERO","ZERO","ZERO","ZERO",null,null,null,null,null,null,null,"ZERO",{"$f":"SUM(C59)","v":0},"ZERO","ZERO"]
["GRILLED CHICKEN BURGER",1700,0,{"$f":"SUM(B60*C60)","v":0},null,{"$f":"SUM(C60)","v":0},{"$f":"SUM(C60)","v":0},"ZERO","ZERO","ZERO","ZERO","ZERO","ZERO","ZERO",{"$f":"SUM(C60)","v":0},"ZERO",{"$f":"SUM(C60)*1","v":0},"ZERO","ZERO","ZERO","ZERO","ZERO",{"$f":"SUM(C60)*70","v":0},"ZERO","ZERO","ZERO",null,null,null,null,null,null,null,null,null,"ZERO","ZERO"]
["GRILLED CHICKEN BURGER + JUICE",2200,0,{"$f":"SUM(B61*C61)","v":0},null,{"$f":"SUM(C61)","v":0},{"$f":"SUM(C61)","v":0},"ZERO","ZERO","ZERO","ZERO","ZERO","ZERO","ZERO",{"$f":"SUM(C61)","v":0},"ZERO",{"$f":"SUM(C61)*1","v":0},"ZERO","ZERO","ZERO","ZERO","ZERO",{"$f":"SUM(C61)*70","v":0},"ZERO","ZERO","ZERO",null,null,null,null,null,null,null,{"$f":"SUM(C61)","v":0},null,"ZERO","ZERO"]
["GRILLED BURGER MEAL 1 & 3",4000,0,{"$f":"SUM(B62*C62)","v":0},null,{"$f":"SUM(C62)","v":0},{"$f":"SUM(C62)","v":0},"ZERO","ZERO","ZERO",{"$f":"SUM(C62)","v":0},{"$f":"SUM(C62)*2","v":0},"ZERO","ZERO","ZERO",{"$f":"SUM(C62)","v":0},{"$f":"SUM(C62)","v":0},{"$f":"SUM(C62)","v":0},"ZERO","ZERO","ZERO","ZERO",{"$f":"SUM(C62)*70","v":0},{"$f":"SUM(C62)","v":0},"ZERO","ZERO",null,null,null,null,null,null,null,{"$f":"SUM(C62)","v":0},null,"ZERO","ZERO"]
["GRILLED BURGER MEAL 2",3700,0,{"$f":"SUM(B63*C63)","v":0},null,{"$f":"SUM(C63)","v":0},{"$f":"SUM(C63)","v":0},"ZERO","ZERO","ZERO",{"$f":"SUM(C63)","v":0},{"$f":"SUM(C63)*2","v":0},"ZERO","ZERO","ZERO",{"$f":"SUM(C63)","v":0},{"$f":"SUM(C63)","v":0},{"$f":"SUM(C63)","v":0},"ZERO","ZERO",{"$f":"SUM(C63)","v":0},"ZERO",{"$f":"SUM(C63)*70","v":0},{"$f":"SUM(C63)","v":0},"ZERO","ZERO",null,null,null,null,null,null,null,"ZERO",null,"ZERO","ZERO"]
["MASTERPIECE BURGER ",5000,0,{"$f":"SUM(B64*C64)","v":0},null,{"$f":"SUM(C64)","v":0},"ZERO","ZERO","ZERO","ZERO","ZERO","ZERO",{"$f":"SUM(C64)","v":0},"ZERO","ZERO",{"$f":"SUM(C64)","v":0},{"$f":"SUM(C64)","v":0},"ZERO","ZERO","ZERO",{"$f":"SUM(C64)","v":0},{"$f":"SUM(C64)","v":0},{"$f":"SUM(C64)*70","v":0},"ZERO","ZERO","ZERO",null,null,null,null,null,null,null,null,null,"ZERO",{"$f":"SUM(C64)","v":0}]
["SUYA BURGER BOX 2 (WITH BEEF SUYA BURGER)",6000,0,0,null,0,"ZERO ","ZERO","ZERO",0,0,0,"ZERO","ZERO",0,0,0,"ZERO","ZERO",null,0,"ZERO",0,0,0,"ZERO",0,null,null,null,null,null,null,null,null,"ZERO",0]
["OPENING STOCK",null,null,null,null,{"$f":"SUM('Production DAY 12'!C2)","v":0},{"$f":"SUM('Production DAY 12'!C3)","v":0},{"$f":"SUM('Production DAY 12'!C4)","v":0},{"$f":"SUM('Production DAY 12'!C5)","v":0},{"$f":"SUM('Production DAY 12'!C6)","v":0},{"$f":"SUM('Production DAY 12'!C7)","v":0},{"$f":"SUM('Production DAY 12'!C8)","v":0},{"$f":"SUM('Production DAY 12'!C9)","v":0},{"$f":"SUM('Production DAY 12'!C10)","v":0},{"$f":"SUM('Production DAY 12'!C11)","v":0},{"$f":"SUM('Production DAY 12'!C12)","v":0},{"$f":"SUM('Production DAY 12'!C13)","v":0},{"$f":"SUM('Production DAY 12'!C14)","v":0},{"$f":"SUM('Production DAY 12'!C15)","v":0},{"$f":"SUM('Production DAY 12'!C16)","v":0},{"$f":"SUM('Production DAY 12'!C17)","v":0},{"$f":"SUM('Production DAY 12'!C18)","v":0},{"$f":"SUM('Production DAY 12'!C19)","v":0},{"$f":"SUM('Production DAY 12'!C20)","v":0},{"$f":"SUM('Production DAY 12'!C21)","v":0},{"$f":"SUM('Production DAY 12'!C22)","v":0},{"$f":"SUM('Production DAY 12'!C23)","v":0},{"$f":"SUM('Production DAY 12'!C24)","v":0},{"$f":"SUM('Production DAY 12'!C25)","v":0},{"$f":"SUM('Production DAY 12'!C26)","v":0},{"$f":"SUM('Production DAY 12'!C27)","v":0},{"$f":"SUM('Production DAY 12'!C28)","v":0},{"$f":"SUM('Production DAY 12'!C29)","v":0},{"$f":"SUM('Production DAY 12'!C30)","v":0},{"$f":"SUM('Production DAY 12'!C31)","v":0},{"$f":"SUM('Production DAY 12'!C32)","v":0},{"$f":"SUM('Production DAY 12'!C33)","v":0},{"$f":"SUM('Production DAY 12'!C34)","v":0},{"$f":"SUM('Production DAY 12'!C35)","v":0},{"$f":"SUM('Production DAY 12'!C36)","v":0},{"$f":"SUM('Production DAY 12'!C37)","v":0},{"$f":"SUM('Production DAY 12'!C38)","v":0},{"$f":"SUM('Production DAY 12'!C39)","v":0},{"$f":"SUM('Production DAY 12'!C40)","v":0},{"$f":"SUM('Production DAY 12'!C41)","v":0},{"$f":"SUM('Production DAY 12'!C42)","v":0},{"$f":"SUM('Production DAY 12'!C43)","v":0}]
["RECEIVED",null,null,null,null,{"$f":"SUM('Production DAY 12'!D2)","v":0},{"$f":"SUM('Production DAY 12'!D3)","v":0},{"$f":"SUM('Production DAY 12'!D4)","v":0},{"$f":"SUM('Production DAY 12'!D5)","v":0},{"$f":"SUM('Production DAY 12'!D6)","v":0},{"$f":"SUM('Production DAY 12'!D7)","v":0},{"$f":"SUM('Production DAY 12'!D8)","v":0},{"$f":"SUM('Production DAY 12'!D9)","v":0},{"$f":"SUM('Production DAY 12'!D10)","v":0},{"$f":"SUM('Production DAY 12'!D11)","v":0},{"$f":"SUM('Production DAY 12'!D12)","v":0},{"$f":"SUM('Production DAY 12'!D13)","v":0},{"$f":"SUM('Production DAY 12'!D14)","v":0},{"$f":"SUM('Production DAY 12'!D15)","v":0},{"$f":"SUM('Production DAY 12'!D16)","v":0},{"$f":"SUM('Production DAY 12'!D17)","v":0},{"$f":"SUM('Production DAY 12'!D18)","v":0},{"$f":"SUM('Production DAY 12'!D19)","v":0},{"$f":"SUM('Production DAY 12'!D20)","v":0},{"$f":"SUM('Production DAY 12'!D21)","v":0},{"$f":"SUM('Production DAY 12'!D22)","v":0},{"$f":"SUM('Production DAY 12'!D23)","v":0},{"$f":"SUM('Production DAY 12'!D24)","v":0},{"$f":"SUM('Production DAY 12'!D25)","v":0},{"$f":"SUM('Production DAY 12'!D26)","v":0},{"$f":"SUM('Production DAY 12'!D27)","v":0},{"$f":"SUM('Production DAY 12'!D28)","v":0},{"$f":"SUM('Production DAY 12'!D29)","v":0},{"$f":"SUM('Production DAY 12'!D30)","v":0},{"$f":"SUM('Production DAY 12'!D31)","v":0},{"$f":"SUM('Production DAY 12'!D32)","v":0},{"$f":"SUM('Production DAY 12'!D33)","v":0},{"$f":"SUM('Production DAY 12'!D34)","v":0},{"$f":"SUM('Production DAY 12'!D35)","v":0},{"$f":"SUM('Production DAY 12'!D36)","v":0},{"$f":"SUM('Production DAY 12'!D37)","v":0},{"$f":"SUM('Production DAY 12'!D38)","v":0},{"$f":"SUM('Production DAY 12'!D39)","v":0},{"$f":"SUM('Production DAY 12'!D40)","v":0},{"$f":"SUM('Production DAY 12'!D41)","v":0},{"$f":"SUM('Production DAY 12'!D42)","v":0},{"$f":"SUM('Production DAY 12'!D43)","v":0}]
["TOTAL STOCK",null,null,null,null,{"$f":"SUM(F66:F67)","v":0},{"$f":"SUM(G66:G67)","v":0},{"$f":"SUM(H66:H67)","v":0},{"$f":"SUM(I66:I67)","v":0},0,0,0,0,0,0,{"$f":"SUM(P66:P67)","v":0},0,0,0,0,0,0,0,0,0,0,0,0,0,0,0,0,0,0,0,0,0,0,0,0,0,0,0,0,0,0,0]
["USED",null,null,{"$f":"SUM(D3:D65)","v":0},null,{"$f":"SUM(F3:F65)","v":0},0,0,0,0,0,0,0,0,0,0,0,0,0,0,0,0,0,0,0,0,0,0,0,0,0,0,0,0,0,0,0,{"$f":"SUM(AL3:AL64)","v":0},0,0,0,0,0,0,0,0,0]
["CLOSING STOCK",null,null,null,null,{"$f":"SUM(F68-F69)","v":0},0,0,0,0,0,0,0,0,0,0,0,0,0,0,0,0,0,0,0,0,0,0,0,0,0,0,0,{"$f":"SUM(AH66-AH69)","v":0},{"$f":"SUM(AI68-AI69)","v":0},0,0,0,0,0,0,0,0,0,0,0,0]

{"sheet":"Production DAY 13","index":24,"n_rows":44,"n_cols":8,"rows_kept":44,"cut":false,"hidden":false,"merged":[]}
["Nos#","ITEMS"," < OPENING STOCK","RECEIVED","USED >","SALES CLOSING STOCK >","PHYSICAL STOCK COUNT","COMMENTS"]
[1,"Burger Bread",{"$f":"SUM('Production DAY 12'!G2)","v":0},null,{"$f":"SUM('DAY 13'!F69)","v":0},{"$f":"SUM('DAY 13'!F70)","v":0},0,{"$f":"IF(G2=F2,TRUE,FALSE)","v":true}]
[2,"Chicken Patty",{"$f":"SUM('Production DAY 12'!G3)","v":0},null,{"$f":"SUM('DAY 13'!G69)","v":0},{"$f":"SUM('DAY 13'!G70)","v":0},0,true]
[3,"Shawarma Bread",{"$f":"SUM('Production DAY 12'!G4)","v":0},null,{"$f":"SUM('DAY 13'!H69)","v":0},{"$f":"SUM('DAY 13'!H70)","v":0},0,true]
[4,"Chicken Portion or Shawarma portion",{"$f":"SUM('Production DAY 12'!G5)","v":0},null,{"$f":"SUM('DAY 13'!I69)","v":0},{"$f":"SUM('DAY 13'!I70)","v":0},0,true]
[5,"Sausage",{"$f":"SUM('Production DAY 12'!G6)","v":0},null,{"$f":"SUM('DAY 13'!J69)","v":0},{"$f":"SUM('DAY 13'!J70)","v":0},0,true]
[6,"Portion of Fries",{"$f":"SUM('Production DAY 12'!G7)","v":0},null,{"$f":"SUM('DAY 13'!K69)","v":0},{"$f":"SUM('DAY 13'!K70)","v":0},0,true]
[7,"Pieces of Chicken",{"$f":"SUM('Production DAY 12'!G8)","v":0},null,{"$f":"SUM('DAY 13'!L69)","v":0},{"$f":"SUM('DAY 13'!L70)","v":0},0,true]
[8,"Cheese",{"$f":"SUM('Production DAY 12'!G9)","v":0},null,{"$f":"SUM('DAY 13'!M69)","v":0},{"$f":"SUM('DAY 13'!M70)","v":0},0,true]
[9,"Bacon",{"$f":"SUM('Production DAY 12'!G10)","v":0},null,{"$f":"SUM('DAY 13'!N69)","v":0},{"$f":"SUM('DAY 13'!N70)","v":0},0,true]
[10,"A Paper Bag",{"$f":"SUM('Production DAY 12'!G11)","v":0},null,{"$f":"SUM('DAY 13'!O69)","v":0},{"$f":"SUM('DAY 13'!O70)","v":0},0,true]
[11,"Achicken Box",{"$f":"SUM('Production DAY 12'!G12)","v":0},null,{"$f":"SUM('DAY 13'!P69)","v":0},{"$f":"SUM('DAY 13'!P70)","v":0},0,true]
[12,"Paper Wrap",{"$f":"SUM('Production DAY 12'!G13)","v":0},null,{"$f":"SUM('DAY 13'!Q69)","v":0},{"$f":"SUM('DAY 13'!Q70)","v":0},0,true]
[13,"A Branded Nylon",{"$f":"SUM('Production DAY 12'!G14)","v":0},null,{"$f":"SUM('DAY 13'!R69)","v":0},{"$f":"SUM('DAY 13'!R70)","v":0},0,true]
[14,"Parfait",{"$f":"SUM('Production DAY 12'!G15)","v":0},null,{"$f":"SUM('DAY 13'!S69)","v":0},{"$f":"SUM('DAY 13'!S70)","v":0},0,true]
[15,"A Bottle of SUGAR Juice",{"$f":"SUM('Production DAY 12'!G16)","v":0},null,{"$f":"SUM('DAY 13'!T69)","v":0},{"$f":"SUM('DAY 13'!T70)","v":0},0,true]
[16,"35 CL Soft Drink",{"$f":"SUM('Production DAY 12'!G17)","v":0},null,{"$f":"SUM('DAY 13'!U69)","v":0},{"$f":"SUM('DAY 13'!U70)","v":0},0,true]
[17,"Beef Patty",{"$f":"SUM('Production DAY 12'!G18)","v":0},null,{"$f":"SUM('DAY 13'!V69)","v":0},{"$f":"SUM('DAY 13'!V70)","v":0},0,true]
[18,"Cream in GRAMS",{"$f":"SUM('Production DAY 12'!G19)","v":0},null,{"$f":"SUM('DAY 13'!W69)","v":0},{"$f":"SUM('DAY 13'!W70)","v":0},0,true]
[19,"KETCHUP",{"$f":"SUM('Production DAY 12'!G20)","v":0},null,{"$f":"SUM('DAY 13'!X69)","v":0},{"$f":"SUM('DAY 13'!X70)","v":0},0,true]
[20,"plain Nylon",{"$f":"SUM('Production DAY 12'!G21)","v":0},null,{"$f":"SUM('DAY 13'!Y69)","v":0},{"$f":"SUM('DAY 13'!Y70)","v":0},0,true]
[21,"Barbeque Sauce",{"$f":"SUM('Production DAY 12'!G22)","v":0},null,{"$f":"SUM('DAY 13'!Z69)","v":0},{"$f":"SUM('DAY 13'!Z70)","v":0},0,true]
[22,"Meal Box",{"$f":"SUM('Production DAY 12'!G23)","v":0},null,{"$f":"SUM('DAY 13'!AA69)","v":0},{"$f":"SUM('DAY 13'!AA70)","v":0},0,true]
[23,"COCONUT BREAD",{"$f":"SUM('Production DAY 12'!G24)","v":0},null,{"$f":"SUM('DAY 13'!AB69)","v":0},{"$f":"SUM('DAY 13'!AB70)","v":0},0,true]
[24,"SUPA KOMMANDO",{"$f":"SUM('Production DAY 12'!G25)","v":0},null,{"$f":"SUM('DAY 13'!AC69)","v":0},{"$f":"SUM('DAY 13'!AC70)","v":0},0,true]
[25,"SHAWARMA SUB",{"$f":"SUM('Production DAY 12'!G26)","v":0},null,{"$f":"SUM('DAY 13'!AD69)","v":0},{"$f":"SUM('DAY 13'!AD70)","v":0},0,true]
[26,"CAN COKE / FANTA",{"$f":"SUM('Production DAY 12'!G27)","v":0},null,{"$f":"SUM('DAY 13'!AE69)","v":0},{"$f":"SUM('DAY 13'!AE70)","v":0},0,true]
[27,"NUGGETS ",{"$f":"SUM('Production DAY 12'!G28)","v":0},null,{"$f":"SUM('DAY 13'!AF69)","v":0},{"$f":"SUM('DAY 13'!AF70)","v":0},0,true]
[28,"PRAWN",{"$f":"SUM('Production DAY 12'!G29)","v":0},null,{"$f":"SUM('DAY 13'!AG69)","v":0},{"$f":"SUM('DAY 13'!AG70)","v":0},0,true]
[29,"FARM PRIDE",{"$f":"SUM('Production DAY 12'!G30)","v":0},null,{"$f":"SUM('DAY 13'!AH69)","v":0},{"$f":"SUM('DAY 13'!AH70)","v":0},0,true]
[30,"50CL OR PULPY",{"$f":"SUM('Production DAY 12'!G31)","v":0},null,{"$f":"SUM('DAY 13'!AI69)","v":0},{"$f":"SUM('DAY 13'!AI70)","v":0},0,true]
[31,"FARM PRIDE 1 LT",{"$f":"SUM('Production DAY 12'!G32)","v":0},null,{"$f":"SUM('DAY 13'!AJ69)","v":0},{"$f":"SUM('DAY 13'!AJ70)","v":0},0,true]
[32,"BEEF PORTION FOR SHAWARMA",{"$f":"SUM('Production DAY 12'!G33)","v":0},null,{"$f":"SUM('DAY 13'!AK69)","v":0},{"$f":"SUM('DAY 13'!AK70)","v":0},0,true]
[33,"BEEF SUYA STICK",{"$f":"SUM('Production DAY 12'!G34)","v":0},null,{"$f":"SUM('DAY 13'!AL69)","v":0},{"$f":"SUM('DAY 13'!AL70)","v":0},0,true]
[34,"EMPTY 1",{"$f":"SUM('Production DAY 12'!G35)","v":0},null,{"$f":"SUM('DAY 13'!AM69)","v":0},{"$f":"SUM('DAY 13'!AM70)","v":0},0,true]
[35,"EMPTY 2",{"$f":"SUM('Production DAY 12'!G36)","v":0},null,{"$f":"SUM('DAY 13'!AN69)","v":0},{"$f":"SUM('DAY 13'!AN70)","v":0},0,true]
[36,"EMPTY 3",{"$f":"SUM('Production DAY 12'!G37)","v":0},null,{"$f":"SUM('DAY 13'!AO69)","v":0},{"$f":"SUM('DAY 13'!AO70)","v":0},0,true]
[37,"EMPTY 4",{"$f":"SUM('Production DAY 12'!G38)","v":0},null,{"$f":"SUM('DAY 13'!AP69)","v":0},{"$f":"SUM('DAY 13'!AP70)","v":0},0,true]
[38,"EMPTY 5",{"$f":"SUM('Production DAY 12'!G39)","v":0},null,{"$f":"SUM('DAY 13'!AQ69)","v":0},{"$f":"SUM('DAY 13'!AQ70)","v":0},0,true]
[39,"EMPTY 6",{"$f":"SUM('Production DAY 12'!G40)","v":0},null,{"$f":"SUM('DAY 13'!AR69)","v":0},{"$f":"SUM('DAY 13'!AR70)","v":0},0,true]
[40,"EMPTY 7",{"$f":"SUM('Production DAY 12'!G41)","v":0},null,{"$f":"SUM('DAY 13'!AS69)","v":0},{"$f":"SUM('DAY 13'!AS70)","v":0},0,true]
[41,"EMPTY 8",{"$f":"SUM('Production DAY 12'!G42)","v":0},null,{"$f":"SUM('DAY 13'!AT69)","v":0},{"$f":"SUM('DAY 13'!AT70)","v":0},0,true]
[42,"EMPTY 9",{"$f":"SUM('Production DAY 12'!G43)","v":0},null,{"$f":"SUM('DAY 13'!AU69)","v":0},{"$f":"SUM('DAY 13'!AU70)","v":0},0,true]
[43,"EMPTY 10",{"$f":"SUM('Production DAY 12'!G44)","v":0},null,{"$f":"SUM('DAY 13'!AV69)","v":0},{"$f":"SUM('DAY 13'!AV70)","v":0},0,true]

{"sheet":"DAY 13","index":25,"n_rows":70,"n_cols":47,"rows_kept":70,"cut":false,"hidden":false,"merged":[[0,7,0,28]]}
["FEBRUARY 12th, 2022",null,null,{"$f":"SUM(D3:D50)","v":0},null,null,null,"BURGER PALACE INVENTORY RECORDS"]
["ITEM","AMOUNT","QUANTITY","TOTAL",null,"Burger Bread","Chicken Patty","Shawarma Bread","Chicken Portion or Shawarma portion","Sausage","Portion of Fries","Pieces of Chicken","Cheese","Bacon","A Paper Bag","Achicken Box","Paper Wrap","A Branded Nylon","Parfait","A Bottle of SUGAR Juice","35 CL Soft Drink","Beef Patty","Cream in GRAMS","KETCHUP","plain Nylon","Barbeque Sauce","Meal Box","COCONUT BREAD ","SUPA KOMMANDO ","SHAWARMA SUB","CAN COKE / FANTA","NUGGETS","PRAWN","FARM PRIDE 50CL OR PULPY","FARM PRIDE 1 LT","BEEF PORTION FOR SHAWARMA ","BEEF SUYA STICK","EMPTY 1","EMPTY 2","EMPTY 3","EMPTY 4","EMPTY 5","EMPTY 6","EMPTY 7","EMPTY 8","EMPTY 9","EMPTY 10"]
["DELUXE BURGER MEAL (WITH SOFT DRINK)",5400,0,{"$f":"SUM(B3*C3)","v":0},null,{"$f":"SUM(C3)","v":0},{"$f":"SUM(C3)","v":0},{"$f":"SUM(C3)","v":0},{"$f":"SUM(C3)","v":0},{"$f":"SUM(C3)","v":0},{"$f":"SUM(C3)","v":0},{"$f":"SUM(C3)*2","v":0},"ZERO","ZERO",{"$f":"SUM(C3)*1","v":0},{"$f":"SUM(C3)","v":0},{"$f":"SUM(C3)*2","v":0},{"$f":"SUM(C3)","v":0},null,"ZERO",{"$f":"SUM(C3)","v":0},null,{"$f":"SUM(C3)*140","v":0},{"$f":"SUM(C3)","v":0},{"$f":"SUM(C3)","v":0},"ZERO",null,null,null,null,null,null,null,null,null,{"$f":"SUM(AD3)","v":0},0]
["DELUXE BURGER MEAL (WITH SUGARCANE JUICE)",5600,0,{"$f":"SUM(B4*C4)","v":0},null,{"$f":"SUM(C4)","v":0},{"$f":"SUM(C4)","v":0},{"$f":"SUM(C4)","v":0},{"$f":"SUM(C4)","v":0},{"$f":"SUM(C4)","v":0},0,{"$f":"SUM(C4)*2","v":0},"ZERO","ZERO",{"$f":"SUM(C4)*1","v":0},0,{"$f":"SUM(C4)*2","v":0},0,null,{"$f":"SUM(C4)","v":0},"ZERO",null,{"$f":"SUM(C4)*140","v":0},{"$f":"SUM(C4)","v":0},0,"ZERO",null,null,null,null,null,null,null,null,null,0,0]
["DELUXE MEAL EXTRA (WITH Soft Drink)",null,0,{"$f":"SUM(B5*C5)","v":0},null,{"$f":"SUM(C5)","v":0},{"$f":"SUM(C5)","v":0},{"$f":"SUM(C5)","v":0},{"$f":"SUM(C5)","v":0},{"$f":"SUM(C5)","v":0},0,{"$f":"SUM(C5)*2","v":0},"ZERO","ZERO",{"$f":"SUM(C5)","v":0},0,{"$f":"SUM(C5)*2","v":0},0,{"$f":"SUM(C5)","v":0},"ZERO",{"$f":"SUM(C5)","v":0},null,{"$f":"SUM(C5)*140","v":0},{"$f":"SUM(C5)","v":0},0,"ZERO",null,null,null,null,null,null,null,null,null,0,0]
["DELUXE BURGER MEAL Extra (With Sugarcane juice",null,0,{"$f":"SUM(B6*C6)","v":0},null,{"$f":"SUM(C6)","v":0},{"$f":"SUM(C6)","v":0},{"$f":"SUM(C6)","v":0},{"$f":"SUM(C6)","v":0},{"$f":"SUM(C6)","v":0},0,{"$f":"SUM(C6)*2","v":0},"ZERO","ZERO",{"$f":"SUM(C6)","v":0},0,{"$f":"SUM(C6)*2","v":0},0,{"$f":"SUM(C6)","v":0},{"$f":"SUM(C6)","v":0},"ZERO",null,{"$f":"SUM(C6)*140","v":0},{"$f":"SUM(C6)","v":0},0,"ZERO",null,null,null,null,null,null,null,null,null,0,0]
["PREMIUM BURGER Meal ",5900,0,{"$f":"SUM(B7*C7)","v":0},null,{"$f":"SUM(C7)","v":0},{"$f":"SUM(C7)","v":0},"ZERO","ZERO","ZERO",0,{"$f":"SUM(C7)*5","v":0},"ZERO","ZERO",{"$f":"SUM(C7)","v":0},0,{"$f":"SUM(C7)*1.25","v":0},0,"ZERO","ZERO",{"$f":"SUM(C7)","v":0},"ZERO",{"$f":"SUM(C7)*70","v":0},{"$f":"SUM(C7)*2","v":0},0,{"$f":"SUM(C7)","v":0},null,null,null,null,null,null,null,null,null,"ZERO","ZERO"]
["CRISPY CHICKEN BOX",4300,0,null,null,"ZERO","ZERO","ZERO","ZERO","ZERO",0,{"$f":"SUM(C8)*5","v":0},"ZERO","ZERO","ZERO",0,{"$f":"SUM(C8)*0.25","v":0},0,"ZERO","ZERO",{"$f":"SUM(C8)","v":0},"ZERO","ZERO",{"$f":"SUM(C8)*2","v":0},0,{"$f":"SUM(C8)","v":0},null,null,null,null,null,null,null,null,null,"ZERO","ZERO"]
["ROYAL BURGER MEAL (CHICKEN  PATTY)",null,0,{"$f":"SUM(B9*C9)","v":0},null,{"$f":"SUM(C9)","v":0},{"$f":"SUM(C9)*2","v":0},"ZERO","ZERO","ZERO",0,"ZERO",{"$f":"SUM(C9)*2","v":0},{"$f":"SUM(C9)*2","v":0},"ZERO",0,{"$f":"SUM(C9)","v":0},0,{"$f":"SUM(C9)","v":0},"ZERO","ZERO","ZERO",{"$f":"SUM(C9)*140","v":0},{"$f":"SUM(C9)*2","v":0},0,{"$f":"SUM(C9)","v":0},null,null,null,null,null,null,null,null,null,"ZERO","ZERO"]
["ROYAL BURGER MEAL (BEEF  PATTY)",null,0,{"$f":"SUM(B10*C10)","v":0},null,{"$f":"SUM(C10)","v":0},"ZERO","ZERO","ZERO","ZERO",0,"ZERO",{"$f":"SUM(C10)*2","v":0},{"$f":"SUM(C10)*2","v":0},"ZERO",0,0,0,{"$f":"SUM(C10)","v":0},"ZERO","ZERO",{"$f":"SUM(C10)*2","v":0},{"$f":"SUM(C10)*140","v":0},{"$f":"SUM(C10)*2","v":0},0,{"$f":"SUM(C10)","v":0},null,null,null,null,null,null,null,null,null,"ZERO","ZERO"]
["ROYAL BURGER ONLY (CHICKEN PATTY)",3300,0,{"$f":"SUM(B11*C11:C25,A1,A1,A1,A1,A1)","v":0},null,{"$f":"SUM(C11)","v":0},{"$f":"SUM(C11)*2","v":0},"ZERO","ZERO","ZERO","ZERO","ZERO",{"$f":"SUM(C11)*2","v":0},{"$f":"SUM(C11)*2","v":0},"ZERO",0,0,0,"ZERO","ZERO","ZERO","ZERO",{"$f":"SUM(C11)*140","v":0},{"$f":"SUM(C11)","v":0},"ZERO","ZERO",null,null,null,null,null,null,null,null,null,"ZERO","ZERO"]
["ROYAL BURGER ONLY (BEEF PATTY)",3300,0,{"$f":"SUM(B12*C12)","v":0},null,{"$f":"SUM(C12)","v":0},null,"ZERO","ZERO","ZERO","ZERO","ZERO",{"$f":"SUM(C12)*2","v":0},{"$f":"SUM(C12)*2","v":0},"ZERO",0,0,0,"ZERO","ZERO","ZERO",{"$f":"SUM(C12)*2","v":0},{"$f":"SUM(C12)*140","v":0},{"$f":"SUM(C12)","v":0},"ZERO","ZERO",null,null,null,null,null,null,null,null,null,"ZERO","ZERO"]
["MAYOR'S COCONUT BURGER ",2800,0,0,null,0,{"$f":"SUM(C13)","v":0},"ZERO","ZERO","ZERO","ZERO","ZERO",{"$f":"SUM(C13)","v":0},"ZERO","ZERO",0,0,0,"ZERO","ZERO","ZERO",{"$f":"SUM(C13)","v":0},{"$f":"SUM(C13)*140","v":0},"ZERO","ZERO","ZERO",null,{"$f":"SUM(C13)","v":0},{"$f":"SUM(C13)","v":0},null,null,null,null,null,null,"ZERO","ZERO"]
["DOUBLE DECKER CRISPY CHK. CHEESE BURGER",2500,0,0,null,{"$f":"SUM(C14)","v":0},{"$f":"SUM(C14)*2","v":0},"ZERO","ZERO","ZERO","ZERO","ZERO",{"$f":"SUM(C14)","v":0},"ZERO","ZERO",0,0,"ZERO","ZERO","ZERO","ZERO","ZERO",{"$f":"SUM(C14)*70","v":0},"ZERO","ZERO","ZERO",null,null,null,null,null,null,null,null,null,"ZERO","ZERO"]
["SINGLE BEEF BURGER",1700,0,0,null,0,"ZERO","ZERO","ZERO","ZERO","ZERO","ZERO",null,"ZERO",{"$f":"SUM(C15)","v":0},null,0,"ZERO","ZERO","ZERO","ZERO",{"$f":"SUM(C15)","v":0},{"$f":"SUM(C15)*70","v":0},"ZERO","ZERO","ZERO",null,null,null,null,null,null,null,null,null,"ZERO","ZERO"]
["YANKEE BURGER",2400,0,0,null,0,"ZERO","ZERO","ZERO","ZERO","ZERO","ZERO",null,{"$f":"SUM(C16)*2","v":0},{"$f":"SUM(C16)","v":0},null,0,"ZERO","ZERO","ZERO","ZERO",{"$f":"SUM(C16)","v":0},{"$f":"SUM(C16)*70","v":0},"ZERO","ZERO","ZERO",null,null,null,null,null,null,null,null,null,"ZERO","ZERO"]
["ROYAL BURGER WITH FRIES (Chicken)",4000,0,0,null,0,{"$f":"SUM(C17)*2","v":0},"ZERO","ZERO","ZERO",{"$f":"SUM(C17)","v":0},"ZERO",{"$f":"SUM(C17)*2","v":0},{"$f":"SUM(C17)*2","v":0},"ZERO",{"$f":"SUM(C17)","v":0},0,"ZERO","ZERO","ZERO","ZERO","ZERO",{"$f":"SUM(C17)*140","v":0},{"$f":"SUM(C17)*2","v":0},"ZERO","ZERO",null,null,null,null,null,null,null,null,null,"ZERO","ZERO"]
["ROYAL BURGER WITH FRIES (BEEF)",4000,0,0,null,0,"ZERO","ZERO","ZERO","ZERO",{"$f":"SUM(C18)","v":0},"ZERO",{"$f":"SUM(C18)*2","v":0},{"$f":"SUM(C18)*2","v":0},"ZERO",{"$f":"SUM(C18)","v":0},0,"ZERO","ZERO","ZERO","ZERO",{"$f":"SUM(C18)*2","v":0},{"$f":"SUM(C18)*140","v":0},{"$f":"SUM(C18)*2","v":0},"ZERO","ZERO",null,null,null,null,null,null,null,null,null,"ZERO","ZERO"]
["CRISPY CHICKEN BURGER",1700,0,0,null,0,{"$f":"SUM(C19)","v":0},"ZERO","ZERO","ZERO","ZERO","ZERO","ZERO","ZERO",{"$f":"SUM(C19)","v":0},"ZERO",{"$f":"SUM(C19)*1","v":0},"ZERO","ZERO","ZERO","ZERO","ZERO",{"$f":"SUM(C19)*70","v":0},"ZERO","ZERO","ZERO",null,null,null,null,null,null,null,null,null,"ZERO","ZERO"]
["SUYA BURGER BOX",5500,0,0,null,0,{"$f":"SUM(C20)*2","v":0},"ZERO","ZERO",{"$f":"SUM(C20)*4","v":0},{"$f":"SUM(C20)","v":0},{"$f":"SUM(C20)*4","v":0},"ZERO","ZERO",{"$f":"SUM(C20)","v":0},{"$f":"SUM(C20)","v":0},{"$f":"SUM(C20)","v":0},"ZERO","ZERO",null,{"$f":"SUM(C20)","v":0},"ZERO",0,{"$f":"SUM(C20)*2","v":0},{"$f":"SUM(C20)","v":0},"ZERO",{"$f":"SUM(C20)","v":0},null,null,null,null,null,null,null,null,"ZERO","ZERO"]
["CRISPY CHICKEN BURGER PLUS CHEESE",2100,0,0,null,0,{"$f":"SUM(C21)","v":0},"ZERO","ZERO","ZERO","ZERO","ZERO",{"$f":"SUM(C21)","v":0},"ZERO",{"$f":"SUM(C21)","v":0},"ZERO",0,"ZERO","ZERO","ZERO","ZERO","ZERO",0,"ZERO","ZERO","ZERO",null,null,null,null,null,null,null,null,null,"ZERO","ZERO"]
["SINGLE BEEF CHEESE BURGER ",2100,0,0,null,0,"ZERO","ZERO","ZERO","ZERO","ZERO","ZERO",{"$f":"SUM(C22)","v":0},"ZERO",{"$f":"SUM(C22)","v":0},"ZERO",0,"ZERO","ZERO","ZERO","ZERO",{"$f":"SUM(C22)","v":0},0,"ZERO","ZERO","ZERO",null,null,null,null,null,null,null,null,null,"ZERO","ZERO"]
["DOUBLE DECKER BEEF CHEESE BURGER",2800,0,0,null,0,"ZERO","ZERO","ZERO","ZERO","ZERO","ZERO",{"$f":"SUM(C23)*2","v":0},"ZERO","ZERO",{"$f":"SUM(C23)","v":0},0,"ZERO","ZERO","ZERO","ZERO",{"$f":"SUM(C23)*2","v":0},0,"ZERO","ZERO","ZERO",null,null,null,null,null,null,null,null,null,"ZERO","ZERO"]
["CHICKEN SUYA BURGER ",2200,0,0,null,0,{"$f":"SUM(C24)*2","v":0},"ZERO","ZERO","ZERO","ZERO","ZERO","ZERO","ZERO",{"$f":"SUM(C24)*1","v":0},"ZERO",0,"ZERO","ZERO","ZERO","ZERO","ZERO",0,"ZERO","ZERO","ZERO",null,null,null,null,null,null,null,null,null,"ZERO","ZERO"]
["CHICKEN SHAWARMA",1800,0,0,null,null,"ZERO",{"$f":"SUM(C25)","v":0},{"$f":"SUM(C25)","v":0},{"$f":"SUM(C25)*2","v":0},"ZERO","ZERO","ZERO","ZERO","ZERO","ZERO",0,{"$f":"SUM(C25)","v":0},"ZERO","ZERO","ZERO","ZERO",0,"ZERO","ZERO","ZERO",null,null,null,null,null,null,null,null,null,{"$f":"SUM(AD25)","v":0},{"$f":"SUM(AE25)","v":0}]
["BARBECUE BEEF SHAWARMA",2000,0,0,null,null,"ZERO",{"$f":"SUM(C26)","v":0},"ZERO",{"$f":"SUM(C26)*2","v":0},"ZERO","ZERO","ZERO","ZERO","ZERO","ZERO",0,0,"ZERO","ZERO","ZERO","ZERO",0,"ZERO","ZERO","ZERO",null,null,null,null,null,null,null,null,null,{"$f":"SUM(C26)","v":0},"ZERO"]
["BEEF SUYA SHAWARMA",2200,0,0,null,null,"ZERO",{"$f":"SUM(C27)","v":0},"ZERO",{"$f":"SUM(C27)*2","v":0},"ZERO","ZERO","ZERO","ZERO","ZERO","ZERO",0,0,"ZERO","ZERO","ZERO","ZERO",0,"ZERO","ZERO","ZERO",null,null,null,null,null,null,null,null,null,{"$f":"SUM(AD27)","v":0},{"$f":"SUM(C27)","v":0}]
["BEEF SUYA BURGER ",2200,0,0,null,{"$f":"SUM(C28)","v":0},"ZERO",null,"ZERO","ZERO","ZERO","ZERO","ZERO","ZERO",{"$f":"SUM(C28)","v":0},"ZERO",0,0,"ZERO","ZERO","ZERO","ZERO",0,"ZERO","ZERO","ZERO",null,null,null,null,null,null,null,null,null,{"$f":"SUM(AD28)","v":0},{"$f":"SUM(C28)","v":0}]
["CHICKEN SUYA SHAWARMA",2200,0,0,null,"ZERO",{"$f":"SUM(C29)*2","v":0},{"$f":"SUM(C29)","v":0},null,{"$f":"SUM(C29)*2","v":0},"ZERO","ZERO","ZERO","ZERO","ZERO","ZERO",0,0,"ZERO","ZERO","ZERO","ZERO",0,"ZERO","ZERO","ZERO"]
["CHESSY SHAWARMA",2500,0,0,null,"ZERO","ZERO",{"$f":"SUM(C30)","v":0},{"$f":"SUM(C30)","v":0},{"$f":"SUM(C30)*2","v":0},null,"ZERO",{"$f":"SUM(C30)*2","v":0},"ZERO","ZERO","ZERO",0,0,"ZERO","ZERO","ZERO","ZERO",{"$f":"SUM(C30)*140","v":0},"ZERO","ZERO","ZERO",null,null,null,null,null,null,null,null,null,{"$f":"SUM(AD30)","v":0},{"$f":"SUM(AE30)","v":0}]
["2 CHICKEN AND CHIPS",2300,0,0,null,"ZERO","ZERO","ZERO","ZERO","ZERO",{"$f":"SUM(C31)","v":0},{"$f":"SUM(C31)*2","v":0},"ZERO","ZERO","ZERO",{"$f":"SUM(C31)","v":0},"ZERO",0,"ZERO","ZERO","ZERO","ZERO","ZERO",{"$f":"SUM(C31)","v":0},"ZERO","ZERO",null,null,null,null,null,null,null,null,null,"ZERO","ZERO"]
["4 CHICKEN AND CHIPS",3500,0,0,null,"ZERO","ZERO","ZERO","ZERO","ZERO",{"$f":"SUM(C32)","v":0},{"$f":"SUM(C32)*4","v":0},"ZERO","ZERO","ZERO",{"$f":"SUM(C32)","v":0},"ZERO",0,"ZERO","ZERO","ZERO","ZERO","ZERO",{"$f":"SUM(C32)*2","v":0},"ZERO","ZERO","zero","zero","zero",null,null,null,null,null,null,"ZERO","ZERO"]
["SPICY CHICKEN ONLY",650,0,null,null,"ZERO","ZERO","ZERO","ZERO","ZERO","ZERO",{"$f":"SUM(C33)","v":0},"ZERO","ZERO","ZERO","ZERO","ZERO","ZERO","ZERO","ZERO","ZERO","ZERO","ZERO","ZERO",{"$f":"SUM(C33)","v":0},"ZERO",null,null,null,null,null,null,null,null,null,"ZERO","ZERO"]
["CRISPY CHICKEN ONLY",650,0,{"$f":"SUM(B34*C34)","v":0},null,"ZERO","ZERO","ZERO","ZERO","ZERO","ZERO",{"$f":"SUM(C34)","v":0},"ZERO","ZERO","ZERO","ZERO","ZERO","ZERO","ZERO","ZERO","ZERO","ZERO","ZERO","ZERO",{"$f":"SUM(C34)","v":0},"ZERO",null,null,null,null,null,null,null,null,null,"ZERO","ZERO"]
["POTATO FRIES",700,0,0,null,"ZERO","ZERO","ZERO","ZERO","ZERO",null,"ZERO","ZERO","ZERO","ZERO","ZERO","ZERO","ZERO","ZERO","ZERO","ZERO","ZERO","ZERO","ZERO","ZERO","ZERO",null,null,null,null,null,null,null,null,null,"ZERO","ZERO"]
["FRENCH FRIES ONLY",1000,0,0,null,"ZERO","ZERO","ZERO","ZERO","ZERO",{"$f":"SUM(C36)","v":0},"ZERO","ZERO","ZERO","ZERO","ZERO","ZERO","ZERO","ZERO","ZERO","ZERO","ZERO","ZERO","ZERO",{"$f":"SUM(C36)","v":0},"ZERO",null,null,null,null,null,null,null,null,null,"ZERO","ZERO"]
["SUGERCANNE JUICE",750,0,0,null,"ZERO","ZERO","ZERO","ZERO","ZERO","ZERO","ZERO","ZERO","ZERO","ZERO","ZERO","ZERO","ZERO","ZERO",{"$f":"SUM(C37)","v":0},"ZERO","ZERO","ZERO","ZERO","ZERO","ZERO",null,null,null,null,null,null,null,null,null,"ZERO","ZERO"]
["35 CL SOFT DRINK",200,0,0,null,"ZERO","ZERO","ZERO","ZERO","ZERO","ZERO","ZERO","ZERO","ZERO","ZERO","ZERO","ZERO","ZERO","ZERO","ZERO",{"$f":"SUM(C38)","v":0},"ZERO","ZERO","ZERO","ZERO","ZERO",null,null,null,null,null,null,null,null,null,"ZERO","ZERO"]
["PARFAIT",null,0,0,null,"ZERO","ZERO","ZERO","ZERO","ZERO","ZERO","ZERO","ZERO","ZERO","ZERO","ZERO","ZERO",{"$f":"SUM(C39)","v":0},{"$f":"SUM(C39)","v":0},"ZERO","ZERO","ZERO","ZERO","ZERO","ZERO","ZERO",null,null,null,null,null,null,null,null,null,"ZERO","ZERO"]
["MARINATED WINGS",500,0,0,null,"ZERO","ZERO","ZERO","ZERO","ZERO","ZERO",{"$f":"SUM(C40)","v":0},"ZERO","ZERO","ZERO","ZERO","ZERO","ZERO","ZERO","ZERO","ZERO","ZERO","ZERO","ZERO","ZERO","ZERO",null,null,null,null,null,null,null,null,null,"ZERO","ZERO"]
["CHEESE ",400,0,0,null,"ZERO","ZERO","ZERO","ZERO","ZERO","ZERO","ZERO",{"$f":"SUM(C41)","v":0},"ZERO","ZERO","ZERO","ZERO","ZERO","ZERO","ZERO","ZERO","ZERO","ZERO","ZERO","ZERO","ZERO",null,null,null,null,null,null,null,null,null,"ZERO","ZERO"]
["SAUSAGE",200,0,0,null,null,null,null,null,null,"ZERO"]
["BACON",400,0,0,null,"ZERO","ZERO","ZERO","ZERO","ZERO","ZERO","ZERO","ZERO",{"$f":"SUM(C43)","v":0},"ZERO","ZERO","ZERO","ZERO","ZERO","ZERO","ZERO","ZERO","ZERO","ZERO","ZERO","ZERO",null,null,null,null,null,null,null,null,null,"ZERO","ZERO"]
["FRIENDY BURGER MEAL (WITH SOFT DRINK)",10200,0,0,null,{"$f":"SUM(C44)*2","v":0},{"$f":"SUM(C44)*2","v":0},{"$f":"SUM(C44)*2","v":0},{"$f":"SUM(C44)*2","v":0},{"$f":"SUM(C44)*2","v":0},{"$f":"SUM(C44)*2","v":0},{"$f":"SUM(C44)*2*2","v":0},"ZERO","ZERO",{"$f":"SUM(C44)*1*2","v":0},{"$f":"SUM(C44)*2","v":0},{"$f":"SUM(C44)*2*2","v":0},{"$f":"SUM(C44)*2","v":0},null,"ZERO",{"$f":"SUM(C44)*2","v":0},null,{"$f":"SUM(C44)*140*2","v":0},{"$f":"SUM(C44)*2","v":0},{"$f":"SUM(C44)*2","v":0},"ZERO",null,null,null,null,null,null,null,null,null,{"$f":"SUM(AD44)*2","v":0},{"$f":"SUM(AE44)*2","v":0}]
["FRIENDY BURGER MEAL (WITH SUGARCANE JUICE)",10600,0,0,null,{"$f":"SUM(C45)*2","v":0},{"$f":"SUM(C45)*2","v":0},{"$f":"SUM(C45)*2","v":0},{"$f":"SUM(C45)*2","v":0},{"$f":"SUM(C45)*2","v":0},{"$f":"SUM(C45)*2","v":0},{"$f":"SUM(C45)*2*2","v":0},"ZERO","ZERO",{"$f":"SUM(C45)*1*2","v":0},{"$f":"SUM(C45)*2","v":0},{"$f":"SUM(C45)*2*2","v":0},{"$f":"SUM(C45)*2","v":0},null,{"$f":"SUM(C45)*2","v":0},"ZERO",null,{"$f":"SUM(C45)*140*2","v":0},{"$f":"SUM(C45)*2","v":0},{"$f":"SUM(C45)*2","v":0},"ZERO",null,null,null,null,null,null,null,null,null,{"$f":"SUM(AD45)*2","v":0},{"$f":"SUM(AE45)*2","v":0}]
["SHAWARMA  SUB",1800,0,0,null,null,"ZERO","ZERO",{"$f":"SUM(C46)","v":0},{"$f":"SUM(C46)*2","v":0},"ZERO","ZERO","ZERO","ZERO",{"$f":"SUM(C46)*1","v":0},"ZERO",{"$f":"SUM(C46)","v":0},"ZERO","ZERO","ZERO","ZERO","ZERO",{"$f":"SUM(C46)*70","v":0},"ZERO","ZERO","ZERO",null,null,null,{"$f":"SUM(C46)","v":0},null,null,null,null,null,{"$f":"SUM(AD46)","v":0},{"$f":"SUM(AE46)","v":0}]
["DELISH PACK 1",5300,0,0,null,{"$f":"SUM(C47)","v":0},{"$f":"SUM(C47)","v":0},"ZERO",{"$f":"SUM(C47)","v":0},{"$f":"SUM(C47)*2","v":0},"ZERO",{"$f":"SUM(C47)*4","v":0},"ZERO","ZERO",{"$f":"SUM(C47)*1","v":0},{"$f":"SUM(C47)*1","v":0},{"$f":"SUM(C47)*2","v":0},{"$f":"SUM(C47)","v":0},"ZERO","ZERO","ZERO","ZERO",{"$f":"SUM(C47)*70","v":0},"ZERO","ZERO","ZERO",null,null,null,{"$f":"SUM(C47)","v":0},{"$f":"SUM(C47)*1","v":0},null,null,null,null,{"$f":"SUM(AD47)","v":0},{"$f":"SUM(AE47)","v":0}]
["FAMILY BURGER MEAL (WITH SOFT DRINK)",19800,0,0,null,{"$f":"SUM(C48)*4","v":0},{"$f":"SUM(C48)*4","v":0},{"$f":"SUM(C48)*4","v":0},{"$f":"SUM(C48)*4","v":0},{"$f":"SUM(C48)*4","v":0},{"$f":"SUM(C48)*4","v":0},{"$f":"SUM(C48)*2*4","v":0},"ZERO","ZERO",{"$f":"SUM(C48)*1*4","v":0},{"$f":"SUM(C48)*4","v":0},{"$f":"SUM(C48)*2*4","v":0},{"$f":"SUM(C48)*4","v":0},null,"ZERO",{"$f":"SUM(C48)*4","v":0},null,{"$f":"SUM(C48)*140*4","v":0},{"$f":"SUM(C48)*4","v":0},{"$f":"SUM(C48)*4","v":0},"ZERO",null,null,null,null,null,null,null,null,null,{"$f":"SUM(AD48)*4","v":0},{"$f":"SUM(AE48)*4","v":0}]
["FAMILY BURGER MEAL (WITH SUGARCANE JUICE)",20800,0,0,null,{"$f":"SUM(C49)*4","v":0},{"$f":"SUM(C49)*4","v":0},{"$f":"SUM(C49)*4","v":0},{"$f":"SUM(C49)*4","v":0},{"$f":"SUM(C49)*4","v":0},{"$f":"SUM(C49)*4","v":0},{"$f":"SUM(C49)*2*4","v":0},"ZERO","ZERO",{"$f":"SUM(C49)*1*4","v":0},{"$f":"SUM(C49)*4","v":0},{"$f":"SUM(C49)*2*4","v":0},{"$f":"SUM(C49)*4","v":0},null,{"$f":"SUM(C49)*4","v":0},"ZERO",null,{"$f":"SUM(C49)*140*4","v":0},{"$f":"SUM(C49)*4","v":0},{"$f":"SUM(C49)*4","v":0},"ZERO",null,null,null,null,null,null,null,null,null,{"$f":"SUM(AD49)*4","v":0},{"$f":"SUM(AE49)*4","v":0}]
["CAN COKE/FANTA ONLY",null,0,0,null,"ZERO","ZERO","ZERO","ZERO","ZERO","ZERO","ZERO","ZERO","ZERO","ZERO","ZERO","ZERO","ZERO","ZERO","ZERO","ZERO","ZERO","ZERO","ZERO","ZERO","ZERO",null,null,null,null,{"$f":"SUM(C50)","v":0},null,null,null,null,"ZERO","ZERO"]
["SUPA KOMMANDO ONLY",250,0,0,null,"ZERO","ZERO","ZERO","ZERO","ZERO","ZERO","ZERO","ZERO","ZERO","ZERO","ZERO","ZERO","ZERO","ZERO","ZERO","ZERO","ZERO","ZERO","ZERO","ZERO","ZERO",null,null,{"$f":"SUM(C51)","v":0},null,"ZERO","ZERO",null,null,null,"ZERO","ZERO"]
["10X Chicken Nuggets ",2400,0,0,null,null,null,null,null,null,"ZERO",null,null,null,null,{"$f":"SUM(C52)","v":0},null,{"$f":"SUM(C52)","v":0},null,null,null,null,null,{"$f":"SUM(C52)","v":0},null,null,null,null,null,null,{"$f":"SUM(C52)","v":0},{"$f":"SUM(C52)*10","v":0}]
["20X Chicken Nuggets ",4800,0,0,null,null,null,null,null,null,"ZERO ",null,null,null,null,{"$f":"SUM(C53)","v":0},null,{"$f":"SUM(C53)","v":0},null,null,null,null,null,{"$f":"SUM(C53)","v":0},null,null,null,null,null,null,{"$f":"SUM(C53)","v":0},{"$f":"SUM(C53)*20","v":0}]
["10 CHICKEN NUGGETS & FRIES BOX",3300,0,0,null,null,null,null,null,null,{"$f":"SUM(C54)","v":0},null,null,null,null,{"$f":"SUM(C54)","v":0},null,{"$f":"SUM(C54)","v":0},null,null,null,null,null,{"$f":"SUM(C54)","v":0},null,null,null,null,null,null,{"$f":"SUM(C54)","v":0},{"$f":"SUM(C54)*10","v":0}]
["20 CHICKEN NUGGETS & FRIES BOX",6600,0,0,null,null,null,null,null,null,{"$f":"SUM(C55)","v":0},null,null,null,null,{"$f":"SUM(C55)","v":0},null,{"$f":"SUM(C55)","v":0},null,null,null,null,null,{"$f":"SUM(C55)","v":0},null,null,null,null,null,null,{"$f":"SUM(C55)","v":0},{"$f":"SUM(C55)*20","v":0}]
["PRAWN BURGER ",3000,0,0,null,{"$f":"SUM(C56)","v":0},"ZERO","ZERO","ZERO","ZERO","ZERO","ZERO",{"$f":"SUM(C56)","v":0},"ZERO",{"$f":"SUM(C56)","v":0},"ZERO",{"$f":"SUM(C56)","v":0},"ZERO","ZERO","ZERO","ZERO","ZERO",{"$f":"SUM(C56)*70","v":0},"ZERO","ZERO","ZERO",null,null,null,null,null,null,{"$f":"SUM(C56)*2","v":0},null,null,"ZERO","ZERO"]
[" FUNMMY NUGGETS  BOX",5300,0,0,null,{"$f":"SUM(C57)","v":0},{"$f":"SUM(C57)","v":0},null,null,null,{"$f":"SUM(C57)","v":0},null,{"$f":"SUM(C57)","v":0},null,{"$f":"SUM(C57)","v":0},{"$f":"SUM(C57)","v":0},null,{"$f":"SUM(C57)","v":0},null,null,null,null,null,{"$f":"SUM(C57)","v":0},null,null,null,null,null,null,{"$f":"SUM(C57)","v":0},{"$f":"SUM(C57)*10","v":0}]
["FARM PRIDE 50 CL",500,0,0,null,"ZERO","ZERO","ZERO","ZERO","ZERO","ZERO","ZERO","ZERO","ZERO","ZERO","ZERO","ZERO","ZERO","ZERO","ZERO","ZERO","ZERO","ZERO","ZERO","ZERO","ZERO",null,null,null,null,null,null,null,{"$f":"SUM(C58)","v":0},null,"ZERO","ZERO"]
["FARM PRIDE 1 LITRE",800,0,0,null,"ZERO","ZERO","ZERO","ZERO","ZERO","ZERO","ZERO","ZERO","ZERO","ZERO","ZERO","ZERO","ZERO","ZERO","ZERO","ZERO","ZERO","ZERO","ZERO","ZERO","ZERO",null,null,null,null,null,null,null,"ZERO",{"$f":"SUM(C59)","v":0},"ZERO","ZERO"]
["GRILLED CHICKEN BURGER",1700,0,{"$f":"SUM(B60*C60)","v":0},null,{"$f":"SUM(C60)","v":0},{"$f":"SUM(C60)","v":0},"ZERO","ZERO","ZERO","ZERO","ZERO","ZERO","ZERO",{"$f":"SUM(C60)","v":0},"ZERO",{"$f":"SUM(C60)*1","v":0},"ZERO","ZERO","ZERO","ZERO","ZERO",{"$f":"SUM(C60)*70","v":0},"ZERO","ZERO","ZERO",null,null,null,null,null,null,null,null,null,"ZERO","ZERO"]
["GRILLED CHICKEN BURGER + JUICE",2200,0,{"$f":"SUM(B61*C61)","v":0},null,{"$f":"SUM(C61)","v":0},{"$f":"SUM(C61)","v":0},"ZERO","ZERO","ZERO","ZERO","ZERO","ZERO","ZERO",{"$f":"SUM(C61)","v":0},"ZERO",{"$f":"SUM(C61)*1","v":0},"ZERO","ZERO","ZERO","ZERO","ZERO",{"$f":"SUM(C61)*70","v":0},"ZERO","ZERO","ZERO",null,null,null,null,null,null,null,{"$f":"SUM(C61)","v":0},null,"ZERO","ZERO"]
["GRILLED BURGER MEAL 1 & 3",4000,0,{"$f":"SUM(B62*C62)","v":0},null,{"$f":"SUM(C62)","v":0},{"$f":"SUM(C62)","v":0},"ZERO","ZERO","ZERO",{"$f":"SUM(C62)","v":0},{"$f":"SUM(C62)*2","v":0},"ZERO","ZERO","ZERO",{"$f":"SUM(C62)","v":0},{"$f":"SUM(C62)","v":0},{"$f":"SUM(C62)","v":0},"ZERO","ZERO","ZERO","ZERO",{"$f":"SUM(C62)*70","v":0},{"$f":"SUM(C62)","v":0},"ZERO","ZERO",null,null,null,null,null,null,null,{"$f":"SUM(C62)","v":0},null,"ZERO","ZERO"]
["GRILLED BURGER MEAL 2",3700,0,{"$f":"SUM(B63*C63)","v":0},null,{"$f":"SUM(C63)","v":0},{"$f":"SUM(C63)","v":0},"ZERO","ZERO","ZERO",{"$f":"SUM(C63)","v":0},{"$f":"SUM(C63)*2","v":0},"ZERO","ZERO","ZERO",{"$f":"SUM(C63)","v":0},{"$f":"SUM(C63)","v":0},{"$f":"SUM(C63)","v":0},"ZERO","ZERO",{"$f":"SUM(C63)","v":0},"ZERO",{"$f":"SUM(C63)*70","v":0},{"$f":"SUM(C63)","v":0},"ZERO","ZERO",null,null,null,null,null,null,null,"ZERO",null,"ZERO","ZERO"]
["MASTERPIECE BURGER ",5000,0,{"$f":"SUM(B64*C64)","v":0},null,{"$f":"SUM(C64)","v":0},"ZERO","ZERO","ZERO","ZERO","ZERO","ZERO",{"$f":"SUM(C64)","v":0},"ZERO","ZERO",{"$f":"SUM(C64)","v":0},{"$f":"SUM(C64)","v":0},"ZERO","ZERO","ZERO",{"$f":"SUM(C64)","v":0},{"$f":"SUM(C64)","v":0},{"$f":"SUM(C64)*70","v":0},"ZERO","ZERO","ZERO",null,null,null,null,null,null,null,null,null,"ZERO",{"$f":"SUM(C64)","v":0}]
["SUYA BURGER BOX 2 (WITH BEEF SUYA BURGER)",6000,0,0,null,0,"ZERO ","ZERO","ZERO",0,0,0,"ZERO","ZERO",0,0,0,"ZERO","ZERO",null,0,"ZERO",0,0,0,"ZERO",0,null,null,null,null,null,null,null,null,"ZERO",0]
["OPENING STOCK",null,null,null,null,{"$f":"SUM('Production DAY 13'!C2)","v":0},{"$f":"SUM('Production DAY 13'!C3)","v":0},{"$f":"SUM('Production DAY 13'!C4)","v":0},{"$f":"SUM('Production DAY 13'!C5)","v":0},{"$f":"SUM('Production DAY 13'!C6)","v":0},{"$f":"SUM('Production DAY 13'!C7)","v":0},{"$f":"SUM('Production DAY 13'!C8)","v":0},{"$f":"SUM('Production DAY 13'!C9)","v":0},{"$f":"SUM('Production DAY 13'!C10)","v":0},{"$f":"SUM('Production DAY 13'!C11)","v":0},{"$f":"SUM('Production DAY 13'!C12)","v":0},{"$f":"SUM('Production DAY 13'!C13)","v":0},{"$f":"SUM('Production DAY 13'!C14)","v":0},{"$f":"SUM('Production DAY 13'!C15)","v":0},{"$f":"SUM('Production DAY 13'!C16)","v":0},{"$f":"SUM('Production DAY 13'!C17)","v":0},{"$f":"SUM('Production DAY 13'!C18)","v":0},{"$f":"SUM('Production DAY 13'!C19)","v":0},{"$f":"SUM('Production DAY 13'!C20)","v":0},{"$f":"SUM('Production DAY 13'!C21)","v":0},{"$f":"SUM('Production DAY 13'!C22)","v":0},{"$f":"SUM('Production DAY 13'!C23)","v":0},{"$f":"SUM('Production DAY 13'!C24)","v":0},{"$f":"SUM('Production DAY 13'!C25)","v":0},{"$f":"SUM('Production DAY 13'!C26)","v":0},{"$f":"SUM('Production DAY 13'!C27)","v":0},{"$f":"SUM('Production DAY 13'!C28)","v":0},{"$f":"SUM('Production DAY 13'!C29)","v":0},{"$f":"SUM('Production DAY 13'!C30)","v":0},{"$f":"SUM('Production DAY 13'!C31)","v":0},{"$f":"SUM('Production DAY 13'!C32)","v":0},{"$f":"SUM('Production DAY 13'!C33)","v":0},{"$f":"SUM('Production DAY 13'!C34)","v":0},{"$f":"SUM('Production DAY 13'!C35)","v":0},{"$f":"SUM('Production DAY 13'!C36)","v":0},{"$f":"SUM('Production DAY 13'!C37)","v":0},{"$f":"SUM('Production DAY 13'!C38)","v":0},{"$f":"SUM('Production DAY 13'!C39)","v":0},{"$f":"SUM('Production DAY 13'!C40)","v":0},{"$f":"SUM('Production DAY 13'!C41)","v":0},{"$f":"SUM('Production DAY 13'!C42)","v":0},{"$f":"SUM('Production DAY 13'!C43)","v":0}]
["RECEIVED",null,null,null,null,{"$f":"SUM('Production DAY 13'!D2)","v":0},{"$f":"SUM('Production DAY 13'!D3)","v":0},{"$f":"SUM('Production DAY 13'!D4)","v":0},{"$f":"SUM('Production DAY 13'!D5)","v":0},{"$f":"SUM('Production DAY 13'!D6)","v":0},{"$f":"SUM('Production DAY 13'!D7)","v":0},{"$f":"SUM('Production DAY 13'!D8)","v":0},{"$f":"SUM('Production DAY 13'!D9)","v":0},{"$f":"SUM('Production DAY 13'!D10)","v":0},{"$f":"SUM('Production DAY 13'!D11)","v":0},{"$f":"SUM('Production DAY 13'!D12)","v":0},{"$f":"SUM('Production DAY 13'!D13)","v":0},{"$f":"SUM('Production DAY 13'!D14)","v":0},{"$f":"SUM('Production DAY 13'!D15)","v":0},{"$f":"SUM('Production DAY 13'!D16)","v":0},{"$f":"SUM('Production DAY 13'!D17)","v":0},{"$f":"SUM('Production DAY 13'!D18)","v":0},{"$f":"SUM('Production DAY 13'!D19)","v":0},{"$f":"SUM('Production DAY 13'!D20)","v":0},{"$f":"SUM('Production DAY 13'!D21)","v":0},{"$f":"SUM('Production DAY 13'!D22)","v":0},{"$f":"SUM('Production DAY 13'!D23)","v":0},{"$f":"SUM('Production DAY 13'!D24)","v":0},{"$f":"SUM('Production DAY 13'!D25)","v":0},{"$f":"SUM('Production DAY 13'!D26)","v":0},{"$f":"SUM('Production DAY 13'!D27)","v":0},{"$f":"SUM('Production DAY 13'!D28)","v":0},{"$f":"SUM('Production DAY 13'!D29)","v":0},{"$f":"SUM('Production DAY 13'!D30)","v":0},{"$f":"SUM('Production DAY 13'!D31)","v":0},{"$f":"SUM('Production DAY 13'!D32)","v":0},{"$f":"SUM('Production DAY 13'!D33)","v":0},{"$f":"SUM('Production DAY 13'!D34)","v":0},{"$f":"SUM('Production DAY 13'!D35)","v":0},{"$f":"SUM('Production DAY 13'!D36)","v":0},{"$f":"SUM('Production DAY 13'!D37)","v":0},{"$f":"SUM('Production DAY 13'!D38)","v":0},{"$f":"SUM('Production DAY 13'!D39)","v":0},{"$f":"SUM('Production DAY 13'!D40)","v":0},{"$f":"SUM('Production DAY 13'!D41)","v":0},{"$f":"SUM('Production DAY 13'!D42)","v":0},{"$f":"SUM('Production DAY 13'!D43)","v":0}]
["TOTAL STOCK",null,null,null,null,{"$f":"SUM(F66:F67)","v":0},{"$f":"SUM(G66:G67)","v":0},{"$f":"SUM(H66:H67)","v":0},{"$f":"SUM(I66:I67)","v":0},0,0,0,0,0,0,{"$f":"SUM(P66:P67)","v":0},0,0,0,0,0,0,0,0,0,0,0,0,0,0,0,0,0,0,0,0,0,0,0,0,0,0,0,0,0,0,0]
["USED",null,null,{"$f":"SUM(D3:D65)","v":0},null,{"$f":"SUM(F3:F65)","v":0},0,0,0,0,0,0,0,0,0,0,0,0,0,0,0,0,0,0,0,0,0,0,0,0,0,0,0,0,0,0,0,{"$f":"SUM(AL3:AL64)","v":0},0,0,0,0,0,0,0,0,0]
["CLOSING STOCK",null,null,null,null,{"$f":"SUM(F68-F69)","v":0},0,0,0,0,0,0,0,0,0,0,0,0,0,0,0,0,0,0,0,0,0,0,0,0,0,0,0,{"$f":"SUM(AH66-AH69)","v":0},{"$f":"SUM(AI68-AI69)","v":0},0,0,0,0,0,0,0,0,0,0,0,0]

{"sheet":"Production DAY 14","index":26,"n_rows":44,"n_cols":8,"rows_kept":44,"cut":false,"hidden":false,"merged":[]}
["Nos#","ITEMS"," < OPENING STOCK","RECEIVED","USED >","SALES CLOSING STOCK >","PHYSICAL STOCK COUNT","COMMENTS"]
[1,"Burger Bread",{"$f":"SUM('Production DAY 13'!G2)","v":0},null,{"$f":"SUM('DAY 14'!F69)","v":0},{"$f":"SUM('DAY 14'!F70)","v":0},0,{"$f":"IF(G2=F2,TRUE,FALSE)","v":true}]
[2,"Chicken Patty",{"$f":"SUM('Production DAY 13'!G3)","v":0},null,{"$f":"SUM('DAY 14'!G69)","v":0},{"$f":"SUM('DAY 14'!G70)","v":0},0,true]
[3,"Shawarma Bread",{"$f":"SUM('Production DAY 13'!G4)","v":0},null,{"$f":"SUM('DAY 14'!H69)","v":0},{"$f":"SUM('DAY 14'!H70)","v":0},0,true]
[4,"Chicken Portion or Shawarma portion",{"$f":"SUM('Production DAY 13'!G5)","v":0},null,{"$f":"SUM('DAY 14'!I69)","v":0},{"$f":"SUM('DAY 14'!I70)","v":0},0,true]
[5,"Sausage",{"$f":"SUM('Production DAY 13'!G6)","v":0},null,{"$f":"SUM('DAY 14'!J69)","v":0},{"$f":"SUM('DAY 14'!J70)","v":0},0,true]
[6,"Portion of Fries",{"$f":"SUM('Production DAY 13'!G7)","v":0},null,{"$f":"SUM('DAY 14'!K69)","v":0},{"$f":"SUM('DAY 14'!K70)","v":0},0,true]
[7,"Pieces of Chicken",{"$f":"SUM('Production DAY 13'!G8)","v":0},null,{"$f":"SUM('DAY 14'!L69)","v":0},{"$f":"SUM('DAY 14'!L70)","v":0},0,true]
[8,"Cheese",{"$f":"SUM('Production DAY 13'!G9)","v":0},null,{"$f":"SUM('DAY 14'!M69)","v":0},{"$f":"SUM('DAY 14'!M70)","v":0},0,true]
[9,"Bacon",{"$f":"SUM('Production DAY 13'!G10)","v":0},null,{"$f":"SUM('DAY 14'!N69)","v":0},{"$f":"SUM('DAY 14'!N70)","v":0},0,true]
[10,"A Paper Bag",{"$f":"SUM('Production DAY 13'!G11)","v":0},null,{"$f":"SUM('DAY 14'!O69)","v":0},{"$f":"SUM('DAY 14'!O70)","v":0},0,true]
[11,"Achicken Box",{"$f":"SUM('Production DAY 13'!G12)","v":0},null,{"$f":"SUM('DAY 14'!P69)","v":0},{"$f":"SUM('DAY 14'!P70)","v":0},0,true]
[12,"Paper Wrap",{"$f":"SUM('Production DAY 13'!G13)","v":0},null,{"$f":"SUM('DAY 14'!Q69)","v":0},{"$f":"SUM('DAY 14'!Q70)","v":0},0,true]
[13,"A Branded Nylon",{"$f":"SUM('Production DAY 13'!G14)","v":0},null,{"$f":"SUM('DAY 14'!R69)","v":0},{"$f":"SUM('DAY 14'!R70)","v":0},0,true]
[14,"Parfait",{"$f":"SUM('Production DAY 13'!G15)","v":0},null,{"$f":"SUM('DAY 14'!S69)","v":0},{"$f":"SUM('DAY 14'!S70)","v":0},0,true]
[15,"A Bottle of SUGAR Juice",{"$f":"SUM('Production DAY 13'!G16)","v":0},null,{"$f":"SUM('DAY 14'!T69)","v":0},{"$f":"SUM('DAY 14'!T70)","v":0},0,true]
[16,"35 CL Soft Drink",{"$f":"SUM('Production DAY 13'!G17)","v":0},null,{"$f":"SUM('DAY 14'!U69)","v":0},{"$f":"SUM('DAY 14'!U70)","v":0},0,true]
[17,"Beef Patty",{"$f":"SUM('Production DAY 13'!G18)","v":0},null,{"$f":"SUM('DAY 14'!V69)","v":0},{"$f":"SUM('DAY 14'!V70)","v":0},0,true]
[18,"Cream in GRAMS",{"$f":"SUM('Production DAY 13'!G19)","v":0},null,{"$f":"SUM('DAY 14'!W69)","v":0},{"$f":"SUM('DAY 14'!W70)","v":0},0,true]
[19,"KETCHUP",{"$f":"SUM('Production DAY 13'!G20)","v":0},null,{"$f":"SUM('DAY 14'!X69)","v":0},{"$f":"SUM('DAY 14'!X70)","v":0},0,true]
[20,"plain Nylon",{"$f":"SUM('Production DAY 13'!G21)","v":0},null,{"$f":"SUM('DAY 14'!Y69)","v":0},{"$f":"SUM('DAY 14'!Y70)","v":0},0,true]
[21,"Barbeque Sauce",{"$f":"SUM('Production DAY 13'!G22)","v":0},null,{"$f":"SUM('DAY 14'!Z69)","v":0},{"$f":"SUM('DAY 14'!Z70)","v":0},0,true]
[22,"Meal Box",{"$f":"SUM('Production DAY 13'!G23)","v":0},null,{"$f":"SUM('DAY 14'!AA69)","v":0},{"$f":"SUM('DAY 14'!AA70)","v":0},0,true]
[23,"COCONUT BREAD",{"$f":"SUM('Production DAY 13'!G24)","v":0},null,{"$f":"SUM('DAY 14'!AB69)","v":0},{"$f":"SUM('DAY 14'!AB70)","v":0},0,true]
[24,"SUPA KOMMANDO",{"$f":"SUM('Production DAY 13'!G25)","v":0},null,{"$f":"SUM('DAY 14'!AC69)","v":0},{"$f":"SUM('DAY 14'!AC70)","v":0},0,true]
[25,"SHAWARMA SUB",{"$f":"SUM('Production DAY 13'!G26)","v":0},null,{"$f":"SUM('DAY 14'!AD69)","v":0},{"$f":"SUM('DAY 14'!AD70)","v":0},0,true]
[26,"CAN COKE / FANTA",{"$f":"SUM('Production DAY 13'!G27)","v":0},null,{"$f":"SUM('DAY 14'!AE69)","v":0},{"$f":"SUM('DAY 14'!AE70)","v":0},0,true]
[27,"NUGGETS ",{"$f":"SUM('Production DAY 13'!G28)","v":0},null,{"$f":"SUM('DAY 14'!AF69)","v":0},{"$f":"SUM('DAY 14'!AF70)","v":0},0,true]
[28,"PRAWN",{"$f":"SUM('Production DAY 13'!G29)","v":0},null,{"$f":"SUM('DAY 14'!AG69)","v":0},{"$f":"SUM('DAY 14'!AG70)","v":0},0,true]
[29,"FARM PRIDE",{"$f":"SUM('Production DAY 13'!G30)","v":0},null,{"$f":"SUM('DAY 14'!AH69)","v":0},{"$f":"SUM('DAY 14'!AH70)","v":0},0,true]
[30,"50CL OR PULPY",{"$f":"SUM('Production DAY 13'!G31)","v":0},null,{"$f":"SUM('DAY 14'!AI69)","v":0},{"$f":"SUM('DAY 14'!AI70)","v":0},0,true]
[31,"FARM PRIDE 1 LT",{"$f":"SUM('Production DAY 13'!G32)","v":0},null,{"$f":"SUM('DAY 14'!AJ69)","v":0},{"$f":"SUM('DAY 14'!AJ70)","v":0},0,true]
[32,"BEEF PORTION FOR SHAWARMA",{"$f":"SUM('Production DAY 13'!G33)","v":0},null,{"$f":"SUM('DAY 14'!AK69)","v":0},{"$f":"SUM('DAY 14'!AK70)","v":0},0,true]
[33,"BEEF SUYA STICK",{"$f":"SUM('Production DAY 13'!G34)","v":0},null,{"$f":"SUM('DAY 14'!AL69)","v":0},{"$f":"SUM('DAY 14'!AL70)","v":0},0,true]
[34,"EMPTY 1",{"$f":"SUM('Production DAY 13'!G35)","v":0},null,{"$f":"SUM('DAY 14'!AM69)","v":0},{"$f":"SUM('DAY 14'!AM70)","v":0},0,true]
[35,"EMPTY 2",{"$f":"SUM('Production DAY 13'!G36)","v":0},null,{"$f":"SUM('DAY 14'!AN69)","v":0},{"$f":"SUM('DAY 14'!AN70)","v":0},0,true]
[36,"EMPTY 3",{"$f":"SUM('Production DAY 13'!G37)","v":0},null,{"$f":"SUM('DAY 14'!AO69)","v":0},{"$f":"SUM('DAY 14'!AO70)","v":0},0,true]
[37,"EMPTY 4",{"$f":"SUM('Production DAY 13'!G38)","v":0},null,{"$f":"SUM('DAY 14'!AP69)","v":0},{"$f":"SUM('DAY 14'!AP70)","v":0},0,true]
[38,"EMPTY 5",{"$f":"SUM('Production DAY 13'!G39)","v":0},null,{"$f":"SUM('DAY 14'!AQ69)","v":0},{"$f":"SUM('DAY 14'!AQ70)","v":0},0,true]
[39,"EMPTY 6",{"$f":"SUM('Production DAY 13'!G40)","v":0},null,{"$f":"SUM('DAY 14'!AR69)","v":0},{"$f":"SUM('DAY 14'!AR70)","v":0},0,true]
[40,"EMPTY 7",{"$f":"SUM('Production DAY 13'!G41)","v":0},null,{"$f":"SUM('DAY 14'!AS69)","v":0},{"$f":"SUM('DAY 14'!AS70)","v":0},0,true]
[41,"EMPTY 8",{"$f":"SUM('Production DAY 13'!G42)","v":0},null,{"$f":"SUM('DAY 14'!AT69)","v":0},{"$f":"SUM('DAY 14'!AT70)","v":0},0,true]
[42,"EMPTY 9",{"$f":"SUM('Production DAY 13'!G43)","v":0},null,{"$f":"SUM('DAY 14'!AU69)","v":0},{"$f":"SUM('DAY 14'!AU70)","v":0},0,true]
[43,"EMPTY 10",{"$f":"SUM('Production DAY 13'!G44)","v":0},null,{"$f":"SUM('DAY 14'!AV69)","v":0},{"$f":"SUM('DAY 14'!AV70)","v":0},0,true]

{"sheet":"DAY 14","index":27,"n_rows":70,"n_cols":47,"rows_kept":70,"cut":false,"hidden":false,"merged":[[0,7,0,28]]}
["FEBRUARY 12th, 2022",null,null,{"$f":"SUM(D3:D50)","v":0},null,null,null,"BURGER PALACE INVENTORY RECORDS"]
["ITEM","AMOUNT","QUANTITY","TOTAL",null,"Burger Bread","Chicken Patty","Shawarma Bread","Chicken Portion or Shawarma portion","Sausage","Portion of Fries","Pieces of Chicken","Cheese","Bacon","A Paper Bag","Achicken Box","Paper Wrap","A Branded Nylon","Parfait","A Bottle of SUGAR Juice","35 CL Soft Drink","Beef Patty","Cream in GRAMS","KETCHUP","plain Nylon","Barbeque Sauce","Meal Box","COCONUT BREAD ","SUPA KOMMANDO ","SHAWARMA SUB","CAN COKE / FANTA","NUGGETS","PRAWN","FARM PRIDE 50CL OR PULPY","FARM PRIDE 1 LT","BEEF PORTION FOR SHAWARMA ","BEEF SUYA STICK","EMPTY 1","EMPTY 2","EMPTY 3","EMPTY 4","EMPTY 5","EMPTY 6","EMPTY 7","EMPTY 8","EMPTY 9","EMPTY 10"]
["DELUXE BURGER MEAL (WITH SOFT DRINK)",5400,0,{"$f":"SUM(B3*C3)","v":0},null,{"$f":"SUM(C3)","v":0},{"$f":"SUM(C3)","v":0},{"$f":"SUM(C3)","v":0},{"$f":"SUM(C3)","v":0},{"$f":"SUM(C3)","v":0},{"$f":"SUM(C3)","v":0},{"$f":"SUM(C3)*2","v":0},"ZERO","ZERO",{"$f":"SUM(C3)*1","v":0},{"$f":"SUM(C3)","v":0},{"$f":"SUM(C3)*2","v":0},{"$f":"SUM(C3)","v":0},null,"ZERO",{"$f":"SUM(C3)","v":0},null,{"$f":"SUM(C3)*140","v":0},{"$f":"SUM(C3)","v":0},{"$f":"SUM(C3)","v":0},"ZERO",null,null,null,null,null,null,null,null,null,{"$f":"SUM(AD3)","v":0},0]
["DELUXE BURGER MEAL (WITH SUGARCANE JUICE)",5600,0,{"$f":"SUM(B4*C4)","v":0},null,{"$f":"SUM(C4)","v":0},{"$f":"SUM(C4)","v":0},{"$f":"SUM(C4)","v":0},{"$f":"SUM(C4)","v":0},{"$f":"SUM(C4)","v":0},0,{"$f":"SUM(C4)*2","v":0},"ZERO","ZERO",{"$f":"SUM(C4)*1","v":0},0,{"$f":"SUM(C4)*2","v":0},0,null,{"$f":"SUM(C4)","v":0},"ZERO",null,{"$f":"SUM(C4)*140","v":0},{"$f":"SUM(C4)","v":0},0,"ZERO",null,null,null,null,null,null,null,null,null,0,0]
["DELUXE MEAL EXTRA (WITH Soft Drink)",null,0,{"$f":"SUM(B5*C5)","v":0},null,{"$f":"SUM(C5)","v":0},{"$f":"SUM(C5)","v":0},{"$f":"SUM(C5)","v":0},{"$f":"SUM(C5)","v":0},{"$f":"SUM(C5)","v":0},0,{"$f":"SUM(C5)*2","v":0},"ZERO","ZERO",{"$f":"SUM(C5)","v":0},0,{"$f":"SUM(C5)*2","v":0},0,{"$f":"SUM(C5)","v":0},"ZERO",{"$f":"SUM(C5)","v":0},null,{"$f":"SUM(C5)*140","v":0},{"$f":"SUM(C5)","v":0},0,"ZERO",null,null,null,null,null,null,null,null,null,0,0]
["DELUXE BURGER MEAL Extra (With Sugarcane juice",null,0,{"$f":"SUM(B6*C6)","v":0},null,{"$f":"SUM(C6)","v":0},{"$f":"SUM(C6)","v":0},{"$f":"SUM(C6)","v":0},{"$f":"SUM(C6)","v":0},{"$f":"SUM(C6)","v":0},0,{"$f":"SUM(C6)*2","v":0},"ZERO","ZERO",{"$f":"SUM(C6)","v":0},0,{"$f":"SUM(C6)*2","v":0},0,{"$f":"SUM(C6)","v":0},{"$f":"SUM(C6)","v":0},"ZERO",null,{"$f":"SUM(C6)*140","v":0},{"$f":"SUM(C6)","v":0},0,"ZERO",null,null,null,null,null,null,null,null,null,0,0]
["PREMIUM BURGER Meal ",5900,0,{"$f":"SUM(B7*C7)","v":0},null,{"$f":"SUM(C7)","v":0},{"$f":"SUM(C7)","v":0},"ZERO","ZERO","ZERO",0,{"$f":"SUM(C7)*5","v":0},"ZERO","ZERO",{"$f":"SUM(C7)","v":0},0,{"$f":"SUM(C7)*1.25","v":0},0,"ZERO","ZERO",{"$f":"SUM(C7)","v":0},"ZERO",{"$f":"SUM(C7)*70","v":0},{"$f":"SUM(C7)*2","v":0},0,{"$f":"SUM(C7)","v":0},null,null,null,null,null,null,null,null,null,"ZERO","ZERO"]
["CRISPY CHICKEN BOX",4300,0,null,null,"ZERO","ZERO","ZERO","ZERO","ZERO",0,{"$f":"SUM(C8)*5","v":0},"ZERO","ZERO","ZERO",0,{"$f":"SUM(C8)*0.25","v":0},0,"ZERO","ZERO",{"$f":"SUM(C8)","v":0},"ZERO","ZERO",{"$f":"SUM(C8)*2","v":0},0,{"$f":"SUM(C8)","v":0},null,null,null,null,null,null,null,null,null,"ZERO","ZERO"]
["ROYAL BURGER MEAL (CHICKEN  PATTY)",null,0,{"$f":"SUM(B9*C9)","v":0},null,{"$f":"SUM(C9)","v":0},{"$f":"SUM(C9)*2","v":0},"ZERO","ZERO","ZERO",0,"ZERO",{"$f":"SUM(C9)*2","v":0},{"$f":"SUM(C9)*2","v":0},"ZERO",0,{"$f":"SUM(C9)","v":0},0,{"$f":"SUM(C9)","v":0},"ZERO","ZERO","ZERO",{"$f":"SUM(C9)*140","v":0},{"$f":"SUM(C9)*2","v":0},0,{"$f":"SUM(C9)","v":0},null,null,null,null,null,null,null,null,null,"ZERO","ZERO"]
["ROYAL BURGER MEAL (BEEF  PATTY)",null,0,{"$f":"SUM(B10*C10)","v":0},null,{"$f":"SUM(C10)","v":0},"ZERO","ZERO","ZERO","ZERO",0,"ZERO",{"$f":"SUM(C10)*2","v":0},{"$f":"SUM(C10)*2","v":0},"ZERO",0,0,0,{"$f":"SUM(C10)","v":0},"ZERO","ZERO",{"$f":"SUM(C10)*2","v":0},{"$f":"SUM(C10)*140","v":0},{"$f":"SUM(C10)*2","v":0},0,{"$f":"SUM(C10)","v":0},null,null,null,null,null,null,null,null,null,"ZERO","ZERO"]
["ROYAL BURGER ONLY (CHICKEN PATTY)",3300,0,{"$f":"SUM(B11*C11:C25,A1,A1,A1,A1,A1)","v":0},null,{"$f":"SUM(C11)","v":0},{"$f":"SUM(C11)*2","v":0},"ZERO","ZERO","ZERO","ZERO","ZERO",{"$f":"SUM(C11)*2","v":0},{"$f":"SUM(C11)*2","v":0},"ZERO",0,0,0,"ZERO","ZERO","ZERO","ZERO",{"$f":"SUM(C11)*140","v":0},{"$f":"SUM(C11)","v":0},"ZERO","ZERO",null,null,null,null,null,null,null,null,null,"ZERO","ZERO"]
["ROYAL BURGER ONLY (BEEF PATTY)",3300,0,{"$f":"SUM(B12*C12)","v":0},null,{"$f":"SUM(C12)","v":0},null,"ZERO","ZERO","ZERO","ZERO","ZERO",{"$f":"SUM(C12)*2","v":0},{"$f":"SUM(C12)*2","v":0},"ZERO",0,0,0,"ZERO","ZERO","ZERO",{"$f":"SUM(C12)*2","v":0},{"$f":"SUM(C12)*140","v":0},{"$f":"SUM(C12)","v":0},"ZERO","ZERO",null,null,null,null,null,null,null,null,null,"ZERO","ZERO"]
["MAYOR'S COCONUT BURGER ",2800,0,0,null,0,{"$f":"SUM(C13)","v":0},"ZERO","ZERO","ZERO","ZERO","ZERO",{"$f":"SUM(C13)","v":0},"ZERO","ZERO",0,0,0,"ZERO","ZERO","ZERO",{"$f":"SUM(C13)","v":0},{"$f":"SUM(C13)*140","v":0},"ZERO","ZERO","ZERO",null,{"$f":"SUM(C13)","v":0},{"$f":"SUM(C13)","v":0},null,null,null,null,null,null,"ZERO","ZERO"]
["DOUBLE DECKER CRISPY CHK. CHEESE BURGER",2500,0,0,null,{"$f":"SUM(C14)","v":0},{"$f":"SUM(C14)*2","v":0},"ZERO","ZERO","ZERO","ZERO","ZERO",{"$f":"SUM(C14)","v":0},"ZERO","ZERO",0,0,"ZERO","ZERO","ZERO","ZERO","ZERO",{"$f":"SUM(C14)*70","v":0},"ZERO","ZERO","ZERO",null,null,null,null,null,null,null,null,null,"ZERO","ZERO"]
["SINGLE BEEF BURGER",1700,0,0,null,0,"ZERO","ZERO","ZERO","ZERO","ZERO","ZERO",null,"ZERO",{"$f":"SUM(C15)","v":0},null,0,"ZERO","ZERO","ZERO","ZERO",{"$f":"SUM(C15)","v":0},{"$f":"SUM(C15)*70","v":0},"ZERO","ZERO","ZERO",null,null,null,null,null,null,null,null,null,"ZERO","ZERO"]
["YANKEE BURGER",2400,0,0,null,0,"ZERO","ZERO","ZERO","ZERO","ZERO","ZERO",null,{"$f":"SUM(C16)*2","v":0},{"$f":"SUM(C16)","v":0},null,0,"ZERO","ZERO","ZERO","ZERO",{"$f":"SUM(C16)","v":0},{"$f":"SUM(C16)*70","v":0},"ZERO","ZERO","ZERO",null,null,null,null,null,null,null,null,null,"ZERO","ZERO"]
["ROYAL BURGER WITH FRIES (Chicken)",4000,0,0,null,0,{"$f":"SUM(C17)*2","v":0},"ZERO","ZERO","ZERO",{"$f":"SUM(C17)","v":0},"ZERO",{"$f":"SUM(C17)*2","v":0},{"$f":"SUM(C17)*2","v":0},"ZERO",{"$f":"SUM(C17)","v":0},0,"ZERO","ZERO","ZERO","ZERO","ZERO",{"$f":"SUM(C17)*140","v":0},{"$f":"SUM(C17)*2","v":0},"ZERO","ZERO",null,null,null,null,null,null,null,null,null,"ZERO","ZERO"]
["ROYAL BURGER WITH FRIES (BEEF)",4000,0,0,null,0,"ZERO","ZERO","ZERO","ZERO",{"$f":"SUM(C18)","v":0},"ZERO",{"$f":"SUM(C18)*2","v":0},{"$f":"SUM(C18)*2","v":0},"ZERO",{"$f":"SUM(C18)","v":0},0,"ZERO","ZERO","ZERO","ZERO",{"$f":"SUM(C18)*2","v":0},{"$f":"SUM(C18)*140","v":0},{"$f":"SUM(C18)*2","v":0},"ZERO","ZERO",null,null,null,null,null,null,null,null,null,"ZERO","ZERO"]
["CRISPY CHICKEN BURGER",1700,0,0,null,0,{"$f":"SUM(C19)","v":0},"ZERO","ZERO","ZERO","ZERO","ZERO","ZERO","ZERO",{"$f":"SUM(C19)","v":0},"ZERO",{"$f":"SUM(C19)*1","v":0},"ZERO","ZERO","ZERO","ZERO","ZERO",{"$f":"SUM(C19)*70","v":0},"ZERO","ZERO","ZERO",null,null,null,null,null,null,null,null,null,"ZERO","ZERO"]
["SUYA BURGER BOX",5500,0,0,null,0,{"$f":"SUM(C20)*2","v":0},"ZERO","ZERO",{"$f":"SUM(C20)*4","v":0},{"$f":"SUM(C20)","v":0},{"$f":"SUM(C20)*4","v":0},"ZERO","ZERO",{"$f":"SUM(C20)","v":0},{"$f":"SUM(C20)","v":0},{"$f":"SUM(C20)","v":0},"ZERO","ZERO",null,{"$f":"SUM(C20)","v":0},"ZERO",0,{"$f":"SUM(C20)*2","v":0},{"$f":"SUM(C20)","v":0},"ZERO",{"$f":"SUM(C20)","v":0},null,null,null,null,null,null,null,null,"ZERO","ZERO"]
["CRISPY CHICKEN BURGER PLUS CHEESE",2100,0,0,null,0,{"$f":"SUM(C21)","v":0},"ZERO","ZERO","ZERO","ZERO","ZERO",{"$f":"SUM(C21)","v":0},"ZERO",{"$f":"SUM(C21)","v":0},"ZERO",0,"ZERO","ZERO","ZERO","ZERO","ZERO",0,"ZERO","ZERO","ZERO",null,null,null,null,null,null,null,null,null,"ZERO","ZERO"]
["SINGLE BEEF CHEESE BURGER ",2100,0,0,null,0,"ZERO","ZERO","ZERO","ZERO","ZERO","ZERO",{"$f":"SUM(C22)","v":0},"ZERO",{"$f":"SUM(C22)","v":0},"ZERO",0,"ZERO","ZERO","ZERO","ZERO",{"$f":"SUM(C22)","v":0},0,"ZERO","ZERO","ZERO",null,null,null,null,null,null,null,null,null,"ZERO","ZERO"]
["DOUBLE DECKER BEEF CHEESE BURGER",2800,0,0,null,0,"ZERO","ZERO","ZERO","ZERO","ZERO","ZERO",{"$f":"SUM(C23)*2","v":0},"ZERO","ZERO",{"$f":"SUM(C23)","v":0},0,"ZERO","ZERO","ZERO","ZERO",{"$f":"SUM(C23)*2","v":0},0,"ZERO","ZERO","ZERO",null,null,null,null,null,null,null,null,null,"ZERO","ZERO"]
["CHICKEN SUYA BURGER ",2200,0,0,null,0,{"$f":"SUM(C24)*2","v":0},"ZERO","ZERO","ZERO","ZERO","ZERO","ZERO","ZERO",{"$f":"SUM(C24)*1","v":0},"ZERO",0,"ZERO","ZERO","ZERO","ZERO","ZERO",0,"ZERO","ZERO","ZERO",null,null,null,null,null,null,null,null,null,"ZERO","ZERO"]
["CHICKEN SHAWARMA",1800,0,0,null,null,"ZERO",{"$f":"SUM(C25)","v":0},{"$f":"SUM(C25)","v":0},{"$f":"SUM(C25)*2","v":0},"ZERO","ZERO","ZERO","ZERO","ZERO","ZERO",0,{"$f":"SUM(C25)","v":0},"ZERO","ZERO","ZERO","ZERO",0,"ZERO","ZERO","ZERO",null,null,null,null,null,null,null,null,null,{"$f":"SUM(AD25)","v":0},{"$f":"SUM(AE25)","v":0}]
["BARBECUE BEEF SHAWARMA",2000,0,0,null,null,"ZERO",{"$f":"SUM(C26)","v":0},"ZERO",{"$f":"SUM(C26)*2","v":0},"ZERO","ZERO","ZERO","ZERO","ZERO","ZERO",0,0,"ZERO","ZERO","ZERO","ZERO",0,"ZERO","ZERO","ZERO",null,null,null,null,null,null,null,null,null,{"$f":"SUM(C26)","v":0},"ZERO"]
["BEEF SUYA SHAWARMA",2200,0,0,null,null,"ZERO",{"$f":"SUM(C27)","v":0},"ZERO",{"$f":"SUM(C27)*2","v":0},"ZERO","ZERO","ZERO","ZERO","ZERO","ZERO",0,0,"ZERO","ZERO","ZERO","ZERO",0,"ZERO","ZERO","ZERO",null,null,null,null,null,null,null,null,null,{"$f":"SUM(AD27)","v":0},{"$f":"SUM(C27)","v":0}]
["BEEF SUYA BURGER ",2200,0,0,null,{"$f":"SUM(C28)","v":0},"ZERO",null,"ZERO","ZERO","ZERO","ZERO","ZERO","ZERO",{"$f":"SUM(C28)","v":0},"ZERO",0,0,"ZERO","ZERO","ZERO","ZERO",0,"ZERO","ZERO","ZERO",null,null,null,null,null,null,null,null,null,{"$f":"SUM(AD28)","v":0},{"$f":"SUM(C28)","v":0}]
["CHICKEN SUYA SHAWARMA",2200,0,0,null,"ZERO",{"$f":"SUM(C29)*2","v":0},{"$f":"SUM(C29)","v":0},null,{"$f":"SUM(C29)*2","v":0},"ZERO","ZERO","ZERO","ZERO","ZERO","ZERO",0,0,"ZERO","ZERO","ZERO","ZERO",0,"ZERO","ZERO","ZERO"]
["CHESSY SHAWARMA",2500,0,0,null,"ZERO","ZERO",{"$f":"SUM(C30)","v":0},{"$f":"SUM(C30)","v":0},{"$f":"SUM(C30)*2","v":0},null,"ZERO",{"$f":"SUM(C30)*2","v":0},"ZERO","ZERO","ZERO",0,0,"ZERO","ZERO","ZERO","ZERO",{"$f":"SUM(C30)*140","v":0},"ZERO","ZERO","ZERO",null,null,null,null,null,null,null,null,null,{"$f":"SUM(AD30)","v":0},{"$f":"SUM(AE30)","v":0}]
["2 CHICKEN AND CHIPS",2300,0,0,null,"ZERO","ZERO","ZERO","ZERO","ZERO",{"$f":"SUM(C31)","v":0},{"$f":"SUM(C31)*2","v":0},"ZERO","ZERO","ZERO",{"$f":"SUM(C31)","v":0},"ZERO",0,"ZERO","ZERO","ZERO","ZERO","ZERO",{"$f":"SUM(C31)","v":0},"ZERO","ZERO",null,null,null,null,null,null,null,null,null,"ZERO","ZERO"]
["4 CHICKEN AND CHIPS",3500,0,0,null,"ZERO","ZERO","ZERO","ZERO","ZERO",{"$f":"SUM(C32)","v":0},{"$f":"SUM(C32)*4","v":0},"ZERO","ZERO","ZERO",{"$f":"SUM(C32)","v":0},"ZERO",0,"ZERO","ZERO","ZERO","ZERO","ZERO",{"$f":"SUM(C32)*2","v":0},"ZERO","ZERO","zero","zero","zero",null,null,null,null,null,null,"ZERO","ZERO"]
["SPICY CHICKEN ONLY",650,0,null,null,"ZERO","ZERO","ZERO","ZERO","ZERO","ZERO",{"$f":"SUM(C33)","v":0},"ZERO","ZERO","ZERO","ZERO","ZERO","ZERO","ZERO","ZERO","ZERO","ZERO","ZERO","ZERO",{"$f":"SUM(C33)","v":0},"ZERO",null,null,null,null,null,null,null,null,null,"ZERO","ZERO"]
["CRISPY CHICKEN ONLY",650,0,{"$f":"SUM(B34*C34)","v":0},null,"ZERO","ZERO","ZERO","ZERO","ZERO","ZERO",{"$f":"SUM(C34)","v":0},"ZERO","ZERO","ZERO","ZERO","ZERO","ZERO","ZERO","ZERO","ZERO","ZERO","ZERO","ZERO",{"$f":"SUM(C34)","v":0},"ZERO",null,null,null,null,null,null,null,null,null,"ZERO","ZERO"]
["POTATO FRIES",700,0,0,null,"ZERO","ZERO","ZERO","ZERO","ZERO",null,"ZERO","ZERO","ZERO","ZERO","ZERO","ZERO","ZERO","ZERO","ZERO","ZERO","ZERO","ZERO","ZERO","ZERO","ZERO",null,null,null,null,null,null,null,null,null,"ZERO","ZERO"]
["FRENCH FRIES ONLY",1000,0,0,null,"ZERO","ZERO","ZERO","ZERO","ZERO",{"$f":"SUM(C36)","v":0},"ZERO","ZERO","ZERO","ZERO","ZERO","ZERO","ZERO","ZERO","ZERO","ZERO","ZERO","ZERO","ZERO",{"$f":"SUM(C36)","v":0},"ZERO",null,null,null,null,null,null,null,null,null,"ZERO","ZERO"]
["SUGERCANNE JUICE",750,0,0,null,"ZERO","ZERO","ZERO","ZERO","ZERO","ZERO","ZERO","ZERO","ZERO","ZERO","ZERO","ZERO","ZERO","ZERO",{"$f":"SUM(C37)","v":0},"ZERO","ZERO","ZERO","ZERO","ZERO","ZERO",null,null,null,null,null,null,null,null,null,"ZERO","ZERO"]
["35 CL SOFT DRINK",200,0,0,null,"ZERO","ZERO","ZERO","ZERO","ZERO","ZERO","ZERO","ZERO","ZERO","ZERO","ZERO","ZERO","ZERO","ZERO","ZERO",{"$f":"SUM(C38)","v":0},"ZERO","ZERO","ZERO","ZERO","ZERO",null,null,null,null,null,null,null,null,null,"ZERO","ZERO"]
["PARFAIT",null,0,0,null,"ZERO","ZERO","ZERO","ZERO","ZERO","ZERO","ZERO","ZERO","ZERO","ZERO","ZERO","ZERO",{"$f":"SUM(C39)","v":0},{"$f":"SUM(C39)","v":0},"ZERO","ZERO","ZERO","ZERO","ZERO","ZERO","ZERO",null,null,null,null,null,null,null,null,null,"ZERO","ZERO"]
["MARINATED WINGS",500,0,0,null,"ZERO","ZERO","ZERO","ZERO","ZERO","ZERO",{"$f":"SUM(C40)","v":0},"ZERO","ZERO","ZERO","ZERO","ZERO","ZERO","ZERO","ZERO","ZERO","ZERO","ZERO","ZERO","ZERO","ZERO",null,null,null,null,null,null,null,null,null,"ZERO","ZERO"]
["CHEESE ",400,0,0,null,"ZERO","ZERO","ZERO","ZERO","ZERO","ZERO","ZERO",{"$f":"SUM(C41)","v":0},"ZERO","ZERO","ZERO","ZERO","ZERO","ZERO","ZERO","ZERO","ZERO","ZERO","ZERO","ZERO","ZERO",null,null,null,null,null,null,null,null,null,"ZERO","ZERO"]
["SAUSAGE",200,0,0,null,null,null,null,null,null,"ZERO"]
["BACON",400,0,0,null,"ZERO","ZERO","ZERO","ZERO","ZERO","ZERO","ZERO","ZERO",{"$f":"SUM(C43)","v":0},"ZERO","ZERO","ZERO","ZERO","ZERO","ZERO","ZERO","ZERO","ZERO","ZERO","ZERO","ZERO",null,null,null,null,null,null,null,null,null,"ZERO","ZERO"]
["FRIENDY BURGER MEAL (WITH SOFT DRINK)",10200,0,0,null,{"$f":"SUM(C44)*2","v":0},{"$f":"SUM(C44)*2","v":0},{"$f":"SUM(C44)*2","v":0},{"$f":"SUM(C44)*2","v":0},{"$f":"SUM(C44)*2","v":0},{"$f":"SUM(C44)*2","v":0},{"$f":"SUM(C44)*2*2","v":0},"ZERO","ZERO",{"$f":"SUM(C44)*1*2","v":0},{"$f":"SUM(C44)*2","v":0},{"$f":"SUM(C44)*2*2","v":0},{"$f":"SUM(C44)*2","v":0},null,"ZERO",{"$f":"SUM(C44)*2","v":0},null,{"$f":"SUM(C44)*140*2","v":0},{"$f":"SUM(C44)*2","v":0},{"$f":"SUM(C44)*2","v":0},"ZERO",null,null,null,null,null,null,null,null,null,{"$f":"SUM(AD44)*2","v":0},{"$f":"SUM(AE44)*2","v":0}]
["FRIENDY BURGER MEAL (WITH SUGARCANE JUICE)",10600,0,0,null,{"$f":"SUM(C45)*2","v":0},{"$f":"SUM(C45)*2","v":0},{"$f":"SUM(C45)*2","v":0},{"$f":"SUM(C45)*2","v":0},{"$f":"SUM(C45)*2","v":0},{"$f":"SUM(C45)*2","v":0},{"$f":"SUM(C45)*2*2","v":0},"ZERO","ZERO",{"$f":"SUM(C45)*1*2","v":0},{"$f":"SUM(C45)*2","v":0},{"$f":"SUM(C45)*2*2","v":0},{"$f":"SUM(C45)*2","v":0},null,{"$f":"SUM(C45)*2","v":0},"ZERO",null,{"$f":"SUM(C45)*140*2","v":0},{"$f":"SUM(C45)*2","v":0},{"$f":"SUM(C45)*2","v":0},"ZERO",null,null,null,null,null,null,null,null,null,{"$f":"SUM(AD45)*2","v":0},{"$f":"SUM(AE45)*2","v":0}]
["SHAWARMA  SUB",1800,0,0,null,null,"ZERO","ZERO",{"$f":"SUM(C46)","v":0},{"$f":"SUM(C46)*2","v":0},"ZERO","ZERO","ZERO","ZERO",{"$f":"SUM(C46)*1","v":0},"ZERO",{"$f":"SUM(C46)","v":0},"ZERO","ZERO","ZERO","ZERO","ZERO",{"$f":"SUM(C46)*70","v":0},"ZERO","ZERO","ZERO",null,null,null,{"$f":"SUM(C46)","v":0},null,null,null,null,null,{"$f":"SUM(AD46)","v":0},{"$f":"SUM(AE46)","v":0}]
["DELISH PACK 1",5300,0,0,null,{"$f":"SUM(C47)","v":0},{"$f":"SUM(C47)","v":0},"ZERO",{"$f":"SUM(C47)","v":0},{"$f":"SUM(C47)*2","v":0},"ZERO",{"$f":"SUM(C47)*4","v":0},"ZERO","ZERO",{"$f":"SUM(C47)*1","v":0},{"$f":"SUM(C47)*1","v":0},{"$f":"SUM(C47)*2","v":0},{"$f":"SUM(C47)","v":0},"ZERO","ZERO","ZERO","ZERO",{"$f":"SUM(C47)*70","v":0},"ZERO","ZERO","ZERO",null,null,null,{"$f":"SUM(C47)","v":0},{"$f":"SUM(C47)*1","v":0},null,null,null,null,{"$f":"SUM(AD47)","v":0},{"$f":"SUM(AE47)","v":0}]
["FAMILY BURGER MEAL (WITH SOFT DRINK)",19800,0,0,null,{"$f":"SUM(C48)*4","v":0},{"$f":"SUM(C48)*4","v":0},{"$f":"SUM(C48)*4","v":0},{"$f":"SUM(C48)*4","v":0},{"$f":"SUM(C48)*4","v":0},{"$f":"SUM(C48)*4","v":0},{"$f":"SUM(C48)*2*4","v":0},"ZERO","ZERO",{"$f":"SUM(C48)*1*4","v":0},{"$f":"SUM(C48)*4","v":0},{"$f":"SUM(C48)*2*4","v":0},{"$f":"SUM(C48)*4","v":0},null,"ZERO",{"$f":"SUM(C48)*4","v":0},null,{"$f":"SUM(C48)*140*4","v":0},{"$f":"SUM(C48)*4","v":0},{"$f":"SUM(C48)*4","v":0},"ZERO",null,null,null,null,null,null,null,null,null,{"$f":"SUM(AD48)*4","v":0},{"$f":"SUM(AE48)*4","v":0}]
["FAMILY BURGER MEAL (WITH SUGARCANE JUICE)",20800,0,0,null,{"$f":"SUM(C49)*4","v":0},{"$f":"SUM(C49)*4","v":0},{"$f":"SUM(C49)*4","v":0},{"$f":"SUM(C49)*4","v":0},{"$f":"SUM(C49)*4","v":0},{"$f":"SUM(C49)*4","v":0},{"$f":"SUM(C49)*2*4","v":0},"ZERO","ZERO",{"$f":"SUM(C49)*1*4","v":0},{"$f":"SUM(C49)*4","v":0},{"$f":"SUM(C49)*2*4","v":0},{"$f":"SUM(C49)*4","v":0},null,{"$f":"SUM(C49)*4","v":0},"ZERO",null,{"$f":"SUM(C49)*140*4","v":0},{"$f":"SUM(C49)*4","v":0},{"$f":"SUM(C49)*4","v":0},"ZERO",null,null,null,null,null,null,null,null,null,{"$f":"SUM(AD49)*4","v":0},{"$f":"SUM(AE49)*4","v":0}]
["CAN COKE/FANTA ONLY",null,0,0,null,"ZERO","ZERO","ZERO","ZERO","ZERO","ZERO","ZERO","ZERO","ZERO","ZERO","ZERO","ZERO","ZERO","ZERO","ZERO","ZERO","ZERO","ZERO","ZERO","ZERO","ZERO",null,null,null,null,{"$f":"SUM(C50)","v":0},null,null,null,null,"ZERO","ZERO"]
["SUPA KOMMANDO ONLY",250,0,0,null,"ZERO","ZERO","ZERO","ZERO","ZERO","ZERO","ZERO","ZERO","ZERO","ZERO","ZERO","ZERO","ZERO","ZERO","ZERO","ZERO","ZERO","ZERO","ZERO","ZERO","ZERO",null,null,{"$f":"SUM(C51)","v":0},null,"ZERO","ZERO",null,null,null,"ZERO","ZERO"]
["10X Chicken Nuggets ",2400,0,0,null,null,null,null,null,null,"ZERO",null,null,null,null,{"$f":"SUM(C52)","v":0},null,{"$f":"SUM(C52)","v":0},null,null,null,null,null,{"$f":"SUM(C52)","v":0},null,null,null,null,null,null,{"$f":"SUM(C52)","v":0},{"$f":"SUM(C52)*10","v":0}]
["20X Chicken Nuggets ",4800,0,0,null,null,null,null,null,null,"ZERO ",null,null,null,null,{"$f":"SUM(C53)","v":0},null,{"$f":"SUM(C53)","v":0},null,null,null,null,null,{"$f":"SUM(C53)","v":0},null,null,null,null,null,null,{"$f":"SUM(C53)","v":0},{"$f":"SUM(C53)*20","v":0}]
["10 CHICKEN NUGGETS & FRIES BOX",3300,0,0,null,null,null,null,null,null,{"$f":"SUM(C54)","v":0},null,null,null,null,{"$f":"SUM(C54)","v":0},null,{"$f":"SUM(C54)","v":0},null,null,null,null,null,{"$f":"SUM(C54)","v":0},null,null,null,null,null,null,{"$f":"SUM(C54)","v":0},{"$f":"SUM(C54)*10","v":0}]
["20 CHICKEN NUGGETS & FRIES BOX",6600,0,0,null,null,null,null,null,null,{"$f":"SUM(C55)","v":0},null,null,null,null,{"$f":"SUM(C55)","v":0},null,{"$f":"SUM(C55)","v":0},null,null,null,null,null,{"$f":"SUM(C55)","v":0},null,null,null,null,null,null,{"$f":"SUM(C55)","v":0},{"$f":"SUM(C55)*20","v":0}]
["PRAWN BURGER ",3000,0,0,null,{"$f":"SUM(C56)","v":0},"ZERO","ZERO","ZERO","ZERO","ZERO","ZERO",{"$f":"SUM(C56)","v":0},"ZERO",{"$f":"SUM(C56)","v":0},"ZERO",{"$f":"SUM(C56)","v":0},"ZERO","ZERO","ZERO","ZERO","ZERO",{"$f":"SUM(C56)*70","v":0},"ZERO","ZERO","ZERO",null,null,null,null,null,null,{"$f":"SUM(C56)*2","v":0},null,null,"ZERO","ZERO"]
[" FUNMMY NUGGETS  BOX",5300,0,0,null,{"$f":"SUM(C57)","v":0},{"$f":"SUM(C57)","v":0},null,null,null,{"$f":"SUM(C57)","v":0},null,{"$f":"SUM(C57)","v":0},null,{"$f":"SUM(C57)","v":0},{"$f":"SUM(C57)","v":0},null,{"$f":"SUM(C57)","v":0},null,null,null,null,null,{"$f":"SUM(C57)","v":0},null,null,null,null,null,null,{"$f":"SUM(C57)","v":0},{"$f":"SUM(C57)*10","v":0}]
["FARM PRIDE 50 CL",500,0,0,null,"ZERO","ZERO","ZERO","ZERO","ZERO","ZERO","ZERO","ZERO","ZERO","ZERO","ZERO","ZERO","ZERO","ZERO","ZERO","ZERO","ZERO","ZERO","ZERO","ZERO","ZERO",null,null,null,null,null,null,null,{"$f":"SUM(C58)","v":0},null,"ZERO","ZERO"]
["FARM PRIDE 1 LITRE",800,0,0,null,"ZERO","ZERO","ZERO","ZERO","ZERO","ZERO","ZERO","ZERO","ZERO","ZERO","ZERO","ZERO","ZERO","ZERO","ZERO","ZERO","ZERO","ZERO","ZERO","ZERO","ZERO",null,null,null,null,null,null,null,"ZERO",{"$f":"SUM(C59)","v":0},"ZERO","ZERO"]
["GRILLED CHICKEN BURGER",1700,0,{"$f":"SUM(B60*C60)","v":0},null,{"$f":"SUM(C60)","v":0},{"$f":"SUM(C60)","v":0},"ZERO","ZERO","ZERO","ZERO","ZERO","ZERO","ZERO",{"$f":"SUM(C60)","v":0},"ZERO",{"$f":"SUM(C60)*1","v":0},"ZERO","ZERO","ZERO","ZERO","ZERO",{"$f":"SUM(C60)*70","v":0},"ZERO","ZERO","ZERO",null,null,null,null,null,null,null,null,null,"ZERO","ZERO"]
["GRILLED CHICKEN BURGER + JUICE",2200,0,{"$f":"SUM(B61*C61)","v":0},null,{"$f":"SUM(C61)","v":0},{"$f":"SUM(C61)","v":0},"ZERO","ZERO","ZERO","ZERO","ZERO","ZERO","ZERO",{"$f":"SUM(C61)","v":0},"ZERO",{"$f":"SUM(C61)*1","v":0},"ZERO","ZERO","ZERO","ZERO","ZERO",{"$f":"SUM(C61)*70","v":0},"ZERO","ZERO","ZERO",null,null,null,null,null,null,null,{"$f":"SUM(C61)","v":0},null,"ZERO","ZERO"]
["GRILLED BURGER MEAL 1 & 3",4000,0,{"$f":"SUM(B62*C62)","v":0},null,{"$f":"SUM(C62)","v":0},{"$f":"SUM(C62)","v":0},"ZERO","ZERO","ZERO",{"$f":"SUM(C62)","v":0},{"$f":"SUM(C62)*2","v":0},"ZERO","ZERO","ZERO",{"$f":"SUM(C62)","v":0},{"$f":"SUM(C62)","v":0},{"$f":"SUM(C62)","v":0},"ZERO","ZERO","ZERO","ZERO",{"$f":"SUM(C62)*70","v":0},{"$f":"SUM(C62)","v":0},"ZERO","ZERO",null,null,null,null,null,null,null,{"$f":"SUM(C62)","v":0},null,"ZERO","ZERO"]
["GRILLED BURGER MEAL 2",3700,0,{"$f":"SUM(B63*C63)","v":0},null,{"$f":"SUM(C63)","v":0},{"$f":"SUM(C63)","v":0},"ZERO","ZERO","ZERO",{"$f":"SUM(C63)","v":0},{"$f":"SUM(C63)*2","v":0},"ZERO","ZERO","ZERO",{"$f":"SUM(C63)","v":0},{"$f":"SUM(C63)","v":0},{"$f":"SUM(C63)","v":0},"ZERO","ZERO",{"$f":"SUM(C63)","v":0},"ZERO",{"$f":"SUM(C63)*70","v":0},{"$f":"SUM(C63)","v":0},"ZERO","ZERO",null,null,null,null,null,null,null,"ZERO",null,"ZERO","ZERO"]
["MASTERPIECE BURGER ",5000,0,{"$f":"SUM(B64*C64)","v":0},null,{"$f":"SUM(C64)","v":0},"ZERO","ZERO","ZERO","ZERO","ZERO","ZERO",{"$f":"SUM(C64)","v":0},"ZERO","ZERO",{"$f":"SUM(C64)","v":0},{"$f":"SUM(C64)","v":0},"ZERO","ZERO","ZERO",{"$f":"SUM(C64)","v":0},{"$f":"SUM(C64)","v":0},{"$f":"SUM(C64)*70","v":0},"ZERO","ZERO","ZERO",null,null,null,null,null,null,null,null,null,"ZERO",{"$f":"SUM(C64)","v":0}]
["SUYA BURGER BOX 2 (WITH BEEF SUYA BURGER)",6000,0,0,null,0,"ZERO ","ZERO","ZERO",0,0,0,"ZERO","ZERO",0,0,0,"ZERO","ZERO",null,0,"ZERO",0,0,0,"ZERO",0,null,null,null,null,null,null,null,null,"ZERO",0]
["OPENING STOCK",null,null,null,null,{"$f":"SUM('Production DAY 14'!C2)","v":0},{"$f":"SUM('Production DAY 14'!C3)","v":0},{"$f":"SUM('Production DAY 14'!C4)","v":0},{"$f":"SUM('Production DAY 14'!C5)","v":0},{"$f":"SUM('Production DAY 14'!C6)","v":0},{"$f":"SUM('Production DAY 14'!C7)","v":0},{"$f":"SUM('Production DAY 14'!C8)","v":0},{"$f":"SUM('Production DAY 14'!C9)","v":0},{"$f":"SUM('Production DAY 14'!C10)","v":0},{"$f":"SUM('Production DAY 14'!C11)","v":0},{"$f":"SUM('Production DAY 14'!C12)","v":0},{"$f":"SUM('Production DAY 14'!C13)","v":0},{"$f":"SUM('Production DAY 14'!C14)","v":0},{"$f":"SUM('Production DAY 14'!C15)","v":0},{"$f":"SUM('Production DAY 14'!C16)","v":0},{"$f":"SUM('Production DAY 14'!C17)","v":0},{"$f":"SUM('Production DAY 14'!C18)","v":0},{"$f":"SUM('Production DAY 14'!C19)","v":0},{"$f":"SUM('Production DAY 14'!C20)","v":0},{"$f":"SUM('Production DAY 14'!C21)","v":0},{"$f":"SUM('Production DAY 14'!C22)","v":0},{"$f":"SUM('Production DAY 14'!C23)","v":0},{"$f":"SUM('Production DAY 14'!C24)","v":0},{"$f":"SUM('Production DAY 14'!C25)","v":0},{"$f":"SUM('Production DAY 14'!C26)","v":0},{"$f":"SUM('Production DAY 14'!C27)","v":0},{"$f":"SUM('Production DAY 14'!C28)","v":0},{"$f":"SUM('Production DAY 14'!C29)","v":0},{"$f":"SUM('Production DAY 14'!C30)","v":0},{"$f":"SUM('Production DAY 14'!C31)","v":0},{"$f":"SUM('Production DAY 14'!C32)","v":0},{"$f":"SUM('Production DAY 14'!C33)","v":0},{"$f":"SUM('Production DAY 14'!C34)","v":0},{"$f":"SUM('Production DAY 14'!C35)","v":0},{"$f":"SUM('Production DAY 14'!C36)","v":0},{"$f":"SUM('Production DAY 14'!C37)","v":0},{"$f":"SUM('Production DAY 14'!C38)","v":0},{"$f":"SUM('Production DAY 14'!C39)","v":0},{"$f":"SUM('Production DAY 14'!C40)","v":0},{"$f":"SUM('Production DAY 14'!C41)","v":0},{"$f":"SUM('Production DAY 14'!C42)","v":0},{"$f":"SUM('Production DAY 14'!C43)","v":0}]
["RECEIVED",null,null,null,null,{"$f":"SUM('Production DAY 14'!D2)","v":0},{"$f":"SUM('Production DAY 14'!D3)","v":0},{"$f":"SUM('Production DAY 14'!D4)","v":0},{"$f":"SUM('Production DAY 14'!D5)","v":0},{"$f":"SUM('Production DAY 14'!D6)","v":0},{"$f":"SUM('Production DAY 14'!D7)","v":0},{"$f":"SUM('Production DAY 14'!D8)","v":0},{"$f":"SUM('Production DAY 14'!D9)","v":0},{"$f":"SUM('Production DAY 14'!D10)","v":0},{"$f":"SUM('Production DAY 14'!D11)","v":0},{"$f":"SUM('Production DAY 14'!D12)","v":0},{"$f":"SUM('Production DAY 14'!D13)","v":0},{"$f":"SUM('Production DAY 14'!D14)","v":0},{"$f":"SUM('Production DAY 14'!D15)","v":0},{"$f":"SUM('Production DAY 14'!D16)","v":0},{"$f":"SUM('Production DAY 14'!D17)","v":0},{"$f":"SUM('Production DAY 14'!D18)","v":0},{"$f":"SUM('Production DAY 14'!D19)","v":0},{"$f":"SUM('Production DAY 14'!D20)","v":0},{"$f":"SUM('Production DAY 14'!D21)","v":0},{"$f":"SUM('Production DAY 14'!D22)","v":0},{"$f":"SUM('Production DAY 14'!D23)","v":0},{"$f":"SUM('Production DAY 14'!D24)","v":0},{"$f":"SUM('Production DAY 14'!D25)","v":0},{"$f":"SUM('Production DAY 14'!D26)","v":0},{"$f":"SUM('Production DAY 14'!D27)","v":0},{"$f":"SUM('Production DAY 14'!D28)","v":0},{"$f":"SUM('Production DAY 14'!D29)","v":0},{"$f":"SUM('Production DAY 14'!D30)","v":0},{"$f":"SUM('Production DAY 14'!D31)","v":0},{"$f":"SUM('Production DAY 14'!D32)","v":0},{"$f":"SUM('Production DAY 14'!D33)","v":0},{"$f":"SUM('Production DAY 14'!D34)","v":0},{"$f":"SUM('Production DAY 14'!D35)","v":0},{"$f":"SUM('Production DAY 14'!D36)","v":0},{"$f":"SUM('Production DAY 14'!D37)","v":0},{"$f":"SUM('Production DAY 14'!D38)","v":0},{"$f":"SUM('Production DAY 14'!D39)","v":0},{"$f":"SUM('Production DAY 14'!D40)","v":0},{"$f":"SUM('Production DAY 14'!D41)","v":0},{"$f":"SUM('Production DAY 14'!D42)","v":0},{"$f":"SUM('Production DAY 14'!D43)","v":0}]
["TOTAL STOCK",null,null,null,null,{"$f":"SUM(F66:F67)","v":0},{"$f":"SUM(G66:G67)","v":0},{"$f":"SUM(H66:H67)","v":0},{"$f":"SUM(I66:I67)","v":0},0,0,0,0,0,0,{"$f":"SUM(P66:P67)","v":0},0,0,0,0,0,0,0,0,0,0,0,0,0,0,0,0,0,0,0,0,0,0,0,0,0,0,0,0,0,0,0]
["USED",null,null,{"$f":"SUM(D3:D65)","v":0},null,{"$f":"SUM(F3:F65)","v":0},0,0,0,0,0,0,0,0,0,0,0,0,0,0,0,0,0,0,0,0,0,0,0,0,0,0,0,0,0,0,0,{"$f":"SUM(AL3:AL64)","v":0},0,0,0,0,0,0,0,0,0]
["CLOSING STOCK",null,null,null,null,{"$f":"SUM(F68-F69)","v":0},0,0,0,0,0,0,0,0,0,0,0,0,0,0,0,0,0,0,0,0,0,0,0,0,0,0,0,{"$f":"SUM(AH66-AH69)","v":0},{"$f":"SUM(AI68-AI69)","v":0},0,0,0,0,0,0,0,0,0,0,0,0]

{"sheet":"Production DAY 15","index":28,"n_rows":44,"n_cols":8,"rows_kept":44,"cut":false,"hidden":false,"merged":[]}
["Nos#","ITEMS"," < OPENING STOCK","RECEIVED","USED >","SALES CLOSING STOCK >","PHYSICAL STOCK COUNT","COMMENTS"]
[1,"Burger Bread",{"$f":"SUM('Production DAY 14'!G2)","v":0},null,{"$f":"SUM('DAY 15'!F69)","v":0},{"$f":"SUM('DAY 15'!F70)","v":0},0,{"$f":"IF(G2=F2,TRUE,FALSE)","v":true}]
[2,"Chicken Patty",{"$f":"SUM('Production DAY 14'!G3)","v":0},null,{"$f":"SUM('DAY 15'!G69)","v":0},{"$f":"SUM('DAY 15'!G70)","v":0},0,true]
[3,"Shawarma Bread",{"$f":"SUM('Production DAY 14'!G4)","v":0},null,{"$f":"SUM('DAY 15'!H69)","v":0},{"$f":"SUM('DAY 15'!H70)","v":0},0,true]
[4,"Chicken Portion or Shawarma portion",{"$f":"SUM('Production DAY 14'!G5)","v":0},null,{"$f":"SUM('DAY 15'!I69)","v":0},{"$f":"SUM('DAY 15'!I70)","v":0},0,true]
[5,"Sausage",{"$f":"SUM('Production DAY 14'!G6)","v":0},null,{"$f":"SUM('DAY 15'!J69)","v":0},{"$f":"SUM('DAY 15'!J70)","v":0},0,true]
[6,"Portion of Fries",{"$f":"SUM('Production DAY 14'!G7)","v":0},null,{"$f":"SUM('DAY 15'!K69)","v":0},{"$f":"SUM('DAY 15'!K70)","v":0},0,true]
[7,"Pieces of Chicken",{"$f":"SUM('Production DAY 14'!G8)","v":0},null,{"$f":"SUM('DAY 15'!L69)","v":0},{"$f":"SUM('DAY 15'!L70)","v":0},0,true]
[8,"Cheese",{"$f":"SUM('Production DAY 14'!G9)","v":0},null,{"$f":"SUM('DAY 15'!M69)","v":0},{"$f":"SUM('DAY 15'!M70)","v":0},0,true]
[9,"Bacon",{"$f":"SUM('Production DAY 14'!G10)","v":0},null,{"$f":"SUM('DAY 15'!N69)","v":0},{"$f":"SUM('DAY 15'!N70)","v":0},0,true]
[10,"A Paper Bag",{"$f":"SUM('Production DAY 14'!G11)","v":0},null,{"$f":"SUM('DAY 15'!O69)","v":0},{"$f":"SUM('DAY 15'!O70)","v":0},0,true]
[11,"Achicken Box",{"$f":"SUM('Production DAY 14'!G12)","v":0},null,{"$f":"SUM('DAY 15'!P69)","v":0},{"$f":"SUM('DAY 15'!P70)","v":0},0,true]
[12,"Paper Wrap",{"$f":"SUM('Production DAY 14'!G13)","v":0},null,{"$f":"SUM('DAY 15'!Q69)","v":0},{"$f":"SUM('DAY 15'!Q70)","v":0},0,true]
[13,"A Branded Nylon",{"$f":"SUM('Production DAY 14'!G14)","v":0},null,{"$f":"SUM('DAY 15'!R69)","v":0},{"$f":"SUM('DAY 15'!R70)","v":0},0,true]
[14,"Parfait",{"$f":"SUM('Production DAY 14'!G15)","v":0},null,{"$f":"SUM('DAY 15'!S69)","v":0},{"$f":"SUM('DAY 15'!S70)","v":0},0,true]
[15,"A Bottle of SUGAR Juice",{"$f":"SUM('Production DAY 14'!G16)","v":0},null,{"$f":"SUM('DAY 15'!T69)","v":0},{"$f":"SUM('DAY 15'!T70)","v":0},0,true]
[16,"35 CL Soft Drink",{"$f":"SUM('Production DAY 14'!G17)","v":0},null,{"$f":"SUM('DAY 15'!U69)","v":0},{"$f":"SUM('DAY 15'!U70)","v":0},0,true]
[17,"Beef Patty",{"$f":"SUM('Production DAY 14'!G18)","v":0},null,{"$f":"SUM('DAY 15'!V69)","v":0},{"$f":"SUM('DAY 15'!V70)","v":0},0,true]
[18,"Cream in GRAMS",{"$f":"SUM('Production DAY 14'!G19)","v":0},null,{"$f":"SUM('DAY 15'!W69)","v":0},{"$f":"SUM('DAY 15'!W70)","v":0},0,true]
[19,"KETCHUP",{"$f":"SUM('Production DAY 14'!G20)","v":0},null,{"$f":"SUM('DAY 15'!X69)","v":0},{"$f":"SUM('DAY 15'!X70)","v":0},0,true]
[20,"plain Nylon",{"$f":"SUM('Production DAY 14'!G21)","v":0},null,{"$f":"SUM('DAY 15'!Y69)","v":0},{"$f":"SUM('DAY 15'!Y70)","v":0},0,true]
[21,"Barbeque Sauce",{"$f":"SUM('Production DAY 14'!G22)","v":0},null,{"$f":"SUM('DAY 15'!Z69)","v":0},{"$f":"SUM('DAY 15'!Z70)","v":0},0,true]
[22,"Meal Box",{"$f":"SUM('Production DAY 14'!G23)","v":0},null,{"$f":"SUM('DAY 15'!AA69)","v":0},{"$f":"SUM('DAY 15'!AA70)","v":0},0,true]
[23,"COCONUT BREAD",{"$f":"SUM('Production DAY 14'!G24)","v":0},null,{"$f":"SUM('DAY 15'!AB69)","v":0},{"$f":"SUM('DAY 15'!AB70)","v":0},0,true]
[24,"SUPA KOMMANDO",{"$f":"SUM('Production DAY 14'!G25)","v":0},null,{"$f":"SUM('DAY 15'!AC69)","v":0},{"$f":"SUM('DAY 15'!AC70)","v":0},0,true]
[25,"SHAWARMA SUB",{"$f":"SUM('Production DAY 14'!G26)","v":0},null,{"$f":"SUM('DAY 15'!AD69)","v":0},{"$f":"SUM('DAY 15'!AD70)","v":0},0,true]
[26,"CAN COKE / FANTA",{"$f":"SUM('Production DAY 14'!G27)","v":0},null,{"$f":"SUM('DAY 15'!AE69)","v":0},{"$f":"SUM('DAY 15'!AE70)","v":0},0,true]
[27,"NUGGETS ",{"$f":"SUM('Production DAY 14'!G28)","v":0},null,{"$f":"SUM('DAY 15'!AF69)","v":0},{"$f":"SUM('DAY 15'!AF70)","v":0},0,true]
[28,"PRAWN",{"$f":"SUM('Production DAY 14'!G29)","v":0},null,{"$f":"SUM('DAY 15'!AG69)","v":0},{"$f":"SUM('DAY 15'!AG70)","v":0},0,true]
[29,"FARM PRIDE",{"$f":"SUM('Production DAY 14'!G30)","v":0},null,{"$f":"SUM('DAY 15'!AH69)","v":0},{"$f":"SUM('DAY 15'!AH70)","v":0},0,true]
[30,"50CL OR PULPY",{"$f":"SUM('Production DAY 14'!G31)","v":0},null,{"$f":"SUM('DAY 15'!AI69)","v":0},{"$f":"SUM('DAY 15'!AI70)","v":0},0,true]
[31,"FARM PRIDE 1 LT",{"$f":"SUM('Production DAY 14'!G32)","v":0},null,{"$f":"SUM('DAY 15'!AJ69)","v":0},{"$f":"SUM('DAY 15'!AJ70)","v":0},0,true]
[32,"BEEF PORTION FOR SHAWARMA",{"$f":"SUM('Production DAY 14'!G33)","v":0},null,{"$f":"SUM('DAY 15'!AK69)","v":0},{"$f":"SUM('DAY 15'!AK70)","v":0},0,true]
[33,"BEEF SUYA STICK",{"$f":"SUM('Production DAY 14'!G34)","v":0},null,{"$f":"SUM('DAY 15'!AL69)","v":0},{"$f":"SUM('DAY 15'!AL70)","v":0},0,true]
[34,"EMPTY 1",{"$f":"SUM('Production DAY 14'!G35)","v":0},null,{"$f":"SUM('DAY 15'!AM69)","v":0},{"$f":"SUM('DAY 15'!AM70)","v":0},0,true]
[35,"EMPTY 2",{"$f":"SUM('Production DAY 14'!G36)","v":0},null,{"$f":"SUM('DAY 15'!AN69)","v":0},{"$f":"SUM('DAY 15'!AN70)","v":0},0,true]
[36,"EMPTY 3",{"$f":"SUM('Production DAY 14'!G37)","v":0},null,{"$f":"SUM('DAY 15'!AO69)","v":0},{"$f":"SUM('DAY 15'!AO70)","v":0},0,true]
[37,"EMPTY 4",{"$f":"SUM('Production DAY 14'!G38)","v":0},null,{"$f":"SUM('DAY 15'!AP69)","v":0},{"$f":"SUM('DAY 15'!AP70)","v":0},0,true]
[38,"EMPTY 5",{"$f":"SUM('Production DAY 14'!G39)","v":0},null,{"$f":"SUM('DAY 15'!AQ69)","v":0},{"$f":"SUM('DAY 15'!AQ70)","v":0},0,true]
[39,"EMPTY 6",{"$f":"SUM('Production DAY 14'!G40)","v":0},null,{"$f":"SUM('DAY 15'!AR69)","v":0},{"$f":"SUM('DAY 15'!AR70)","v":0},0,true]
[40,"EMPTY 7",{"$f":"SUM('Production DAY 14'!G41)","v":0},null,{"$f":"SUM('DAY 15'!AS69)","v":0},{"$f":"SUM('DAY 15'!AS70)","v":0},0,true]
[41,"EMPTY 8",{"$f":"SUM('Production DAY 14'!G42)","v":0},null,{"$f":"SUM('DAY 15'!AT69)","v":0},{"$f":"SUM('DAY 15'!AT70)","v":0},0,true]
[42,"EMPTY 9",{"$f":"SUM('Production DAY 14'!G43)","v":0},null,{"$f":"SUM('DAY 15'!AU69)","v":0},{"$f":"SUM('DAY 15'!AU70)","v":0},0,true]
[43,"EMPTY 10",{"$f":"SUM('Production DAY 14'!G44)","v":0},null,{"$f":"SUM('DAY 15'!AV69)","v":0},{"$f":"SUM('DAY 15'!AV70)","v":0},0,true]

{"sheet":"DAY 15","index":29,"n_rows":70,"n_cols":47,"rows_kept":70,"cut":false,"hidden":false,"merged":[[0,7,0,28]]}
["FEBRUARY 12th, 2022",null,null,{"$f":"SUM(D3:D50)","v":0},null,null,null,"BURGER PALACE INVENTORY RECORDS"]
["ITEM","AMOUNT","QUANTITY","TOTAL",null,"Burger Bread","Chicken Patty","Shawarma Bread","Chicken Portion or Shawarma portion","Sausage","Portion of Fries","Pieces of Chicken","Cheese","Bacon","A Paper Bag","Achicken Box","Paper Wrap","A Branded Nylon","Parfait","A Bottle of SUGAR Juice","35 CL Soft Drink","Beef Patty","Cream in GRAMS","KETCHUP","plain Nylon","Barbeque Sauce","Meal Box","COCONUT BREAD ","SUPA KOMMANDO ","SHAWARMA SUB","CAN COKE / FANTA","NUGGETS","PRAWN","FARM PRIDE 50CL OR PULPY","FARM PRIDE 1 LT","BEEF PORTION FOR SHAWARMA ","BEEF SUYA STICK","EMPTY 1","EMPTY 2","EMPTY 3","EMPTY 4","EMPTY 5","EMPTY 6","EMPTY 7","EMPTY 8","EMPTY 9","EMPTY 10"]
["DELUXE BURGER MEAL (WITH SOFT DRINK)",5400,0,{"$f":"SUM(B3*C3)","v":0},null,{"$f":"SUM(C3)","v":0},{"$f":"SUM(C3)","v":0},{"$f":"SUM(C3)","v":0},{"$f":"SUM(C3)","v":0},{"$f":"SUM(C3)","v":0},{"$f":"SUM(C3)","v":0},{"$f":"SUM(C3)*2","v":0},"ZERO","ZERO",{"$f":"SUM(C3)*1","v":0},{"$f":"SUM(C3)","v":0},{"$f":"SUM(C3)*2","v":0},{"$f":"SUM(C3)","v":0},null,"ZERO",{"$f":"SUM(C3)","v":0},null,{"$f":"SUM(C3)*140","v":0},{"$f":"SUM(C3)","v":0},{"$f":"SUM(C3)","v":0},"ZERO",null,null,null,null,null,null,null,null,null,{"$f":"SUM(AD3)","v":0},0]
["DELUXE BURGER MEAL (WITH SUGARCANE JUICE)",5600,0,{"$f":"SUM(B4*C4)","v":0},null,{"$f":"SUM(C4)","v":0},{"$f":"SUM(C4)","v":0},{"$f":"SUM(C4)","v":0},{"$f":"SUM(C4)","v":0},{"$f":"SUM(C4)","v":0},0,{"$f":"SUM(C4)*2","v":0},"ZERO","ZERO",{"$f":"SUM(C4)*1","v":0},0,{"$f":"SUM(C4)*2","v":0},0,null,{"$f":"SUM(C4)","v":0},"ZERO",null,{"$f":"SUM(C4)*140","v":0},{"$f":"SUM(C4)","v":0},0,"ZERO",null,null,null,null,null,null,null,null,null,0,0]
["DELUXE MEAL EXTRA (WITH Soft Drink)",null,0,{"$f":"SUM(B5*C5)","v":0},null,{"$f":"SUM(C5)","v":0},{"$f":"SUM(C5)","v":0},{"$f":"SUM(C5)","v":0},{"$f":"SUM(C5)","v":0},{"$f":"SUM(C5)","v":0},0,{"$f":"SUM(C5)*2","v":0},"ZERO","ZERO",{"$f":"SUM(C5)","v":0},0,{"$f":"SUM(C5)*2","v":0},0,{"$f":"SUM(C5)","v":0},"ZERO",{"$f":"SUM(C5)","v":0},null,{"$f":"SUM(C5)*140","v":0},{"$f":"SUM(C5)","v":0},0,"ZERO",null,null,null,null,null,null,null,null,null,0,0]
["DELUXE BURGER MEAL Extra (With Sugarcane juice",null,0,{"$f":"SUM(B6*C6)","v":0},null,{"$f":"SUM(C6)","v":0},{"$f":"SUM(C6)","v":0},{"$f":"SUM(C6)","v":0},{"$f":"SUM(C6)","v":0},{"$f":"SUM(C6)","v":0},0,{"$f":"SUM(C6)*2","v":0},"ZERO","ZERO",{"$f":"SUM(C6)","v":0},0,{"$f":"SUM(C6)*2","v":0},0,{"$f":"SUM(C6)","v":0},{"$f":"SUM(C6)","v":0},"ZERO",null,{"$f":"SUM(C6)*140","v":0},{"$f":"SUM(C6)","v":0},0,"ZERO",null,null,null,null,null,null,null,null,null,0,0]
["PREMIUM BURGER Meal ",5900,0,{"$f":"SUM(B7*C7)","v":0},null,{"$f":"SUM(C7)","v":0},{"$f":"SUM(C7)","v":0},"ZERO","ZERO","ZERO",0,{"$f":"SUM(C7)*5","v":0},"ZERO","ZERO",{"$f":"SUM(C7)","v":0},0,{"$f":"SUM(C7)*1.25","v":0},0,"ZERO","ZERO",{"$f":"SUM(C7)","v":0},"ZERO",{"$f":"SUM(C7)*70","v":0},{"$f":"SUM(C7)*2","v":0},0,{"$f":"SUM(C7)","v":0},null,null,null,null,null,null,null,null,null,"ZERO","ZERO"]
["CRISPY CHICKEN BOX",4300,0,null,null,"ZERO","ZERO","ZERO","ZERO","ZERO",0,{"$f":"SUM(C8)*5","v":0},"ZERO","ZERO","ZERO",0,{"$f":"SUM(C8)*0.25","v":0},0,"ZERO","ZERO",{"$f":"SUM(C8)","v":0},"ZERO","ZERO",{"$f":"SUM(C8)*2","v":0},0,{"$f":"SUM(C8)","v":0},null,null,null,null,null,null,null,null,null,"ZERO","ZERO"]
["ROYAL BURGER MEAL (CHICKEN  PATTY)",null,0,{"$f":"SUM(B9*C9)","v":0},null,{"$f":"SUM(C9)","v":0},{"$f":"SUM(C9)*2","v":0},"ZERO","ZERO","ZERO",0,"ZERO",{"$f":"SUM(C9)*2","v":0},{"$f":"SUM(C9)*2","v":0},"ZERO",0,{"$f":"SUM(C9)","v":0},0,{"$f":"SUM(C9)","v":0},"ZERO","ZERO","ZERO",{"$f":"SUM(C9)*140","v":0},{"$f":"SUM(C9)*2","v":0},0,{"$f":"SUM(C9)","v":0},null,null,null,null,null,null,null,null,null,"ZERO","ZERO"]
["ROYAL BURGER MEAL (BEEF  PATTY)",null,0,{"$f":"SUM(B10*C10)","v":0},null,{"$f":"SUM(C10)","v":0},"ZERO","ZERO","ZERO","ZERO",0,"ZERO",{"$f":"SUM(C10)*2","v":0},{"$f":"SUM(C10)*2","v":0},"ZERO",0,0,0,{"$f":"SUM(C10)","v":0},"ZERO","ZERO",{"$f":"SUM(C10)*2","v":0},{"$f":"SUM(C10)*140","v":0},{"$f":"SUM(C10)*2","v":0},0,{"$f":"SUM(C10)","v":0},null,null,null,null,null,null,null,null,null,"ZERO","ZERO"]
["ROYAL BURGER ONLY (CHICKEN PATTY)",3300,0,{"$f":"SUM(B11*C11:C25,A1,A1,A1,A1,A1)","v":0},null,{"$f":"SUM(C11)","v":0},{"$f":"SUM(C11)*2","v":0},"ZERO","ZERO","ZERO","ZERO","ZERO",{"$f":"SUM(C11)*2","v":0},{"$f":"SUM(C11)*2","v":0},"ZERO",0,0,0,"ZERO","ZERO","ZERO","ZERO",{"$f":"SUM(C11)*140","v":0},{"$f":"SUM(C11)","v":0},"ZERO","ZERO",null,null,null,null,null,null,null,null,null,"ZERO","ZERO"]
["ROYAL BURGER ONLY (BEEF PATTY)",3300,0,{"$f":"SUM(B12*C12)","v":0},null,{"$f":"SUM(C12)","v":0},null,"ZERO","ZERO","ZERO","ZERO","ZERO",{"$f":"SUM(C12)*2","v":0},{"$f":"SUM(C12)*2","v":0},"ZERO",0,0,0,"ZERO","ZERO","ZERO",{"$f":"SUM(C12)*2","v":0},{"$f":"SUM(C12)*140","v":0},{"$f":"SUM(C12)","v":0},"ZERO","ZERO",null,null,null,null,null,null,null,null,null,"ZERO","ZERO"]
["MAYOR'S COCONUT BURGER ",2800,0,0,null,0,{"$f":"SUM(C13)","v":0},"ZERO","ZERO","ZERO","ZERO","ZERO",{"$f":"SUM(C13)","v":0},"ZERO","ZERO",0,0,0,"ZERO","ZERO","ZERO",{"$f":"SUM(C13)","v":0},{"$f":"SUM(C13)*140","v":0},"ZERO","ZERO","ZERO",null,{"$f":"SUM(C13)","v":0},{"$f":"SUM(C13)","v":0},null,null,null,null,null,null,"ZERO","ZERO"]
["DOUBLE DECKER CRISPY CHK. CHEESE BURGER",2500,0,0,null,{"$f":"SUM(C14)","v":0},{"$f":"SUM(C14)*2","v":0},"ZERO","ZERO","ZERO","ZERO","ZERO",{"$f":"SUM(C14)","v":0},"ZERO","ZERO",0,0,"ZERO","ZERO","ZERO","ZERO","ZERO",{"$f":"SUM(C14)*70","v":0},"ZERO","ZERO","ZERO",null,null,null,null,null,null,null,null,null,"ZERO","ZERO"]
["SINGLE BEEF BURGER",1700,0,0,null,0,"ZERO","ZERO","ZERO","ZERO","ZERO","ZERO",null,"ZERO",{"$f":"SUM(C15)","v":0},null,0,"ZERO","ZERO","ZERO","ZERO",{"$f":"SUM(C15)","v":0},{"$f":"SUM(C15)*70","v":0},"ZERO","ZERO","ZERO",null,null,null,null,null,null,null,null,null,"ZERO","ZERO"]
["YANKEE BURGER",2400,0,0,null,0,"ZERO","ZERO","ZERO","ZERO","ZERO","ZERO",null,{"$f":"SUM(C16)*2","v":0},{"$f":"SUM(C16)","v":0},null,0,"ZERO","ZERO","ZERO","ZERO",{"$f":"SUM(C16)","v":0},{"$f":"SUM(C16)*70","v":0},"ZERO","ZERO","ZERO",null,null,null,null,null,null,null,null,null,"ZERO","ZERO"]
["ROYAL BURGER WITH FRIES (Chicken)",4000,0,0,null,0,{"$f":"SUM(C17)*2","v":0},"ZERO","ZERO","ZERO",{"$f":"SUM(C17)","v":0},"ZERO",{"$f":"SUM(C17)*2","v":0},{"$f":"SUM(C17)*2","v":0},"ZERO",{"$f":"SUM(C17)","v":0},0,"ZERO","ZERO","ZERO","ZERO","ZERO",{"$f":"SUM(C17)*140","v":0},{"$f":"SUM(C17)*2","v":0},"ZERO","ZERO",null,null,null,null,null,null,null,null,null,"ZERO","ZERO"]
["ROYAL BURGER WITH FRIES (BEEF)",4000,0,0,null,0,"ZERO","ZERO","ZERO","ZERO",{"$f":"SUM(C18)","v":0},"ZERO",{"$f":"SUM(C18)*2","v":0},{"$f":"SUM(C18)*2","v":0},"ZERO",{"$f":"SUM(C18)","v":0},0,"ZERO","ZERO","ZERO","ZERO",{"$f":"SUM(C18)*2","v":0},{"$f":"SUM(C18)*140","v":0},{"$f":"SUM(C18)*2","v":0},"ZERO","ZERO",null,null,null,null,null,null,null,null,null,"ZERO","ZERO"]
["CRISPY CHICKEN BURGER",1700,0,0,null,0,{"$f":"SUM(C19)","v":0},"ZERO","ZERO","ZERO","ZERO","ZERO","ZERO","ZERO",{"$f":"SUM(C19)","v":0},"ZERO",{"$f":"SUM(C19)*1","v":0},"ZERO","ZERO","ZERO","ZERO","ZERO",{"$f":"SUM(C19)*70","v":0},"ZERO","ZERO","ZERO",null,null,null,null,null,null,null,null,null,"ZERO","ZERO"]
["SUYA BURGER BOX",5500,0,0,null,0,{"$f":"SUM(C20)*2","v":0},"ZERO","ZERO",{"$f":"SUM(C20)*4","v":0},{"$f":"SUM(C20)","v":0},{"$f":"SUM(C20)*4","v":0},"ZERO","ZERO",{"$f":"SUM(C20)","v":0},{"$f":"SUM(C20)","v":0},{"$f":"SUM(C20)","v":0},"ZERO","ZERO",null,{"$f":"SUM(C20)","v":0},"ZERO",0,{"$f":"SUM(C20)*2","v":0},{"$f":"SUM(C20)","v":0},"ZERO",{"$f":"SUM(C20)","v":0},null,null,null,null,null,null,null,null,"ZERO","ZERO"]
["CRISPY CHICKEN BURGER PLUS CHEESE",2100,0,0,null,0,{"$f":"SUM(C21)","v":0},"ZERO","ZERO","ZERO","ZERO","ZERO",{"$f":"SUM(C21)","v":0},"ZERO",{"$f":"SUM(C21)","v":0},"ZERO",0,"ZERO","ZERO","ZERO","ZERO","ZERO",0,"ZERO","ZERO","ZERO",null,null,null,null,null,null,null,null,null,"ZERO","ZERO"]
["SINGLE BEEF CHEESE BURGER ",2100,0,0,null,0,"ZERO","ZERO","ZERO","ZERO","ZERO","ZERO",{"$f":"SUM(C22)","v":0},"ZERO",{"$f":"SUM(C22)","v":0},"ZERO",0,"ZERO","ZERO","ZERO","ZERO",{"$f":"SUM(C22)","v":0},0,"ZERO","ZERO","ZERO",null,null,null,null,null,null,null,null,null,"ZERO","ZERO"]
["DOUBLE DECKER BEEF CHEESE BURGER",2800,0,0,null,0,"ZERO","ZERO","ZERO","ZERO","ZERO","ZERO",{"$f":"SUM(C23)*2","v":0},"ZERO","ZERO",{"$f":"SUM(C23)","v":0},0,"ZERO","ZERO","ZERO","ZERO",{"$f":"SUM(C23)*2","v":0},0,"ZERO","ZERO","ZERO",null,null,null,null,null,null,null,null,null,"ZERO","ZERO"]
["CHICKEN SUYA BURGER ",2200,0,0,null,0,{"$f":"SUM(C24)*2","v":0},"ZERO","ZERO","ZERO","ZERO","ZERO","ZERO","ZERO",{"$f":"SUM(C24)*1","v":0},"ZERO",0,"ZERO","ZERO","ZERO","ZERO","ZERO",0,"ZERO","ZERO","ZERO",null,null,null,null,null,null,null,null,null,"ZERO","ZERO"]
["CHICKEN SHAWARMA",1800,0,0,null,null,"ZERO",{"$f":"SUM(C25)","v":0},{"$f":"SUM(C25)","v":0},{"$f":"SUM(C25)*2","v":0},"ZERO","ZERO","ZERO","ZERO","ZERO","ZERO",0,{"$f":"SUM(C25)","v":0},"ZERO","ZERO","ZERO","ZERO",0,"ZERO","ZERO","ZERO",null,null,null,null,null,null,null,null,null,{"$f":"SUM(AD25)","v":0},{"$f":"SUM(AE25)","v":0}]
["BARBECUE BEEF SHAWARMA",2000,0,0,null,null,"ZERO",{"$f":"SUM(C26)","v":0},"ZERO",{"$f":"SUM(C26)*2","v":0},"ZERO","ZERO","ZERO","ZERO","ZERO","ZERO",0,0,"ZERO","ZERO","ZERO","ZERO",0,"ZERO","ZERO","ZERO",null,null,null,null,null,null,null,null,null,{"$f":"SUM(C26)","v":0},"ZERO"]
["BEEF SUYA SHAWARMA",2200,0,0,null,null,"ZERO",{"$f":"SUM(C27)","v":0},"ZERO",{"$f":"SUM(C27)*2","v":0},"ZERO","ZERO","ZERO","ZERO","ZERO","ZERO",0,0,"ZERO","ZERO","ZERO","ZERO",0,"ZERO","ZERO","ZERO",null,null,null,null,null,null,null,null,null,{"$f":"SUM(AD27)","v":0},{"$f":"SUM(C27)","v":0}]
["BEEF SUYA BURGER ",2200,0,0,null,{"$f":"SUM(C28)","v":0},"ZERO",null,"ZERO","ZERO","ZERO","ZERO","ZERO","ZERO",{"$f":"SUM(C28)","v":0},"ZERO",0,0,"ZERO","ZERO","ZERO","ZERO",0,"ZERO","ZERO","ZERO",null,null,null,null,null,null,null,null,null,{"$f":"SUM(AD28)","v":0},{"$f":"SUM(C28)","v":0}]
["CHICKEN SUYA SHAWARMA",2200,0,0,null,"ZERO",{"$f":"SUM(C29)*2","v":0},{"$f":"SUM(C29)","v":0},null,{"$f":"SUM(C29)*2","v":0},"ZERO","ZERO","ZERO","ZERO","ZERO","ZERO",0,0,"ZERO","ZERO","ZERO","ZERO",0,"ZERO","ZERO","ZERO"]
["CHESSY SHAWARMA",2500,0,0,null,"ZERO","ZERO",{"$f":"SUM(C30)","v":0},{"$f":"SUM(C30)","v":0},{"$f":"SUM(C30)*2","v":0},null,"ZERO",{"$f":"SUM(C30)*2","v":0},"ZERO","ZERO","ZERO",0,0,"ZERO","ZERO","ZERO","ZERO",{"$f":"SUM(C30)*140","v":0},"ZERO","ZERO","ZERO",null,null,null,null,null,null,null,null,null,{"$f":"SUM(AD30)","v":0},{"$f":"SUM(AE30)","v":0}]
["2 CHICKEN AND CHIPS",2300,0,0,null,"ZERO","ZERO","ZERO","ZERO","ZERO",{"$f":"SUM(C31)","v":0},{"$f":"SUM(C31)*2","v":0},"ZERO","ZERO","ZERO",{"$f":"SUM(C31)","v":0},"ZERO",0,"ZERO","ZERO","ZERO","ZERO","ZERO",{"$f":"SUM(C31)","v":0},"ZERO","ZERO",null,null,null,null,null,null,null,null,null,"ZERO","ZERO"]
["4 CHICKEN AND CHIPS",3500,0,0,null,"ZERO","ZERO","ZERO","ZERO","ZERO",{"$f":"SUM(C32)","v":0},{"$f":"SUM(C32)*4","v":0},"ZERO","ZERO","ZERO",{"$f":"SUM(C32)","v":0},"ZERO",0,"ZERO","ZERO","ZERO","ZERO","ZERO",{"$f":"SUM(C32)*2","v":0},"ZERO","ZERO","zero","zero","zero",null,null,null,null,null,null,"ZERO","ZERO"]
["SPICY CHICKEN ONLY",650,0,null,null,"ZERO","ZERO","ZERO","ZERO","ZERO","ZERO",{"$f":"SUM(C33)","v":0},"ZERO","ZERO","ZERO","ZERO","ZERO","ZERO","ZERO","ZERO","ZERO","ZERO","ZERO","ZERO",{"$f":"SUM(C33)","v":0},"ZERO",null,null,null,null,null,null,null,null,null,"ZERO","ZERO"]
["CRISPY CHICKEN ONLY",650,0,{"$f":"SUM(B34*C34)","v":0},null,"ZERO","ZERO","ZERO","ZERO","ZERO","ZERO",{"$f":"SUM(C34)","v":0},"ZERO","ZERO","ZERO","ZERO","ZERO","ZERO","ZERO","ZERO","ZERO","ZERO","ZERO","ZERO",{"$f":"SUM(C34)","v":0},"ZERO",null,null,null,null,null,null,null,null,null,"ZERO","ZERO"]
["POTATO FRIES",700,0,0,null,"ZERO","ZERO","ZERO","ZERO","ZERO",null,"ZERO","ZERO","ZERO","ZERO","ZERO","ZERO","ZERO","ZERO","ZERO","ZERO","ZERO","ZERO","ZERO","ZERO","ZERO",null,null,null,null,null,null,null,null,null,"ZERO","ZERO"]
["FRENCH FRIES ONLY",1000,0,0,null,"ZERO","ZERO","ZERO","ZERO","ZERO",{"$f":"SUM(C36)","v":0},"ZERO","ZERO","ZERO","ZERO","ZERO","ZERO","ZERO","ZERO","ZERO","ZERO","ZERO","ZERO","ZERO",{"$f":"SUM(C36)","v":0},"ZERO",null,null,null,null,null,null,null,null,null,"ZERO","ZERO"]
["SUGERCANNE JUICE",750,0,0,null,"ZERO","ZERO","ZERO","ZERO","ZERO","ZERO","ZERO","ZERO","ZERO","ZERO","ZERO","ZERO","ZERO","ZERO",{"$f":"SUM(C37)","v":0},"ZERO","ZERO","ZERO","ZERO","ZERO","ZERO",null,null,null,null,null,null,null,null,null,"ZERO","ZERO"]
["35 CL SOFT DRINK",200,0,0,null,"ZERO","ZERO","ZERO","ZERO","ZERO","ZERO","ZERO","ZERO","ZERO","ZERO","ZERO","ZERO","ZERO","ZERO","ZERO",{"$f":"SUM(C38)","v":0},"ZERO","ZERO","ZERO","ZERO","ZERO",null,null,null,null,null,null,null,null,null,"ZERO","ZERO"]
["PARFAIT",null,0,0,null,"ZERO","ZERO","ZERO","ZERO","ZERO","ZERO","ZERO","ZERO","ZERO","ZERO","ZERO","ZERO",{"$f":"SUM(C39)","v":0},{"$f":"SUM(C39)","v":0},"ZERO","ZERO","ZERO","ZERO","ZERO","ZERO","ZERO",null,null,null,null,null,null,null,null,null,"ZERO","ZERO"]
["MARINATED WINGS",500,0,0,null,"ZERO","ZERO","ZERO","ZERO","ZERO","ZERO",{"$f":"SUM(C40)","v":0},"ZERO","ZERO","ZERO","ZERO","ZERO","ZERO","ZERO","ZERO","ZERO","ZERO","ZERO","ZERO","ZERO","ZERO",null,null,null,null,null,null,null,null,null,"ZERO","ZERO"]
["CHEESE ",400,0,0,null,"ZERO","ZERO","ZERO","ZERO","ZERO","ZERO","ZERO",{"$f":"SUM(C41)","v":0},"ZERO","ZERO","ZERO","ZERO","ZERO","ZERO","ZERO","ZERO","ZERO","ZERO","ZERO","ZERO","ZERO",null,null,null,null,null,null,null,null,null,"ZERO","ZERO"]
["SAUSAGE",200,0,0,null,null,null,null,null,null,"ZERO"]
["BACON",400,0,0,null,"ZERO","ZERO","ZERO","ZERO","ZERO","ZERO","ZERO","ZERO",{"$f":"SUM(C43)","v":0},"ZERO","ZERO","ZERO","ZERO","ZERO","ZERO","ZERO","ZERO","ZERO","ZERO","ZERO","ZERO",null,null,null,null,null,null,null,null,null,"ZERO","ZERO"]
["FRIENDY BURGER MEAL (WITH SOFT DRINK)",10200,0,0,null,{"$f":"SUM(C44)*2","v":0},{"$f":"SUM(C44)*2","v":0},{"$f":"SUM(C44)*2","v":0},{"$f":"SUM(C44)*2","v":0},{"$f":"SUM(C44)*2","v":0},{"$f":"SUM(C44)*2","v":0},{"$f":"SUM(C44)*2*2","v":0},"ZERO","ZERO",{"$f":"SUM(C44)*1*2","v":0},{"$f":"SUM(C44)*2","v":0},{"$f":"SUM(C44)*2*2","v":0},{"$f":"SUM(C44)*2","v":0},null,"ZERO",{"$f":"SUM(C44)*2","v":0},null,{"$f":"SUM(C44)*140*2","v":0},{"$f":"SUM(C44)*2","v":0},{"$f":"SUM(C44)*2","v":0},"ZERO",null,null,null,null,null,null,null,null,null,{"$f":"SUM(AD44)*2","v":0},{"$f":"SUM(AE44)*2","v":0}]
["FRIENDY BURGER MEAL (WITH SUGARCANE JUICE)",10600,0,0,null,{"$f":"SUM(C45)*2","v":0},{"$f":"SUM(C45)*2","v":0},{"$f":"SUM(C45)*2","v":0},{"$f":"SUM(C45)*2","v":0},{"$f":"SUM(C45)*2","v":0},{"$f":"SUM(C45)*2","v":0},{"$f":"SUM(C45)*2*2","v":0},"ZERO","ZERO",{"$f":"SUM(C45)*1*2","v":0},{"$f":"SUM(C45)*2","v":0},{"$f":"SUM(C45)*2*2","v":0},{"$f":"SUM(C45)*2","v":0},null,{"$f":"SUM(C45)*2","v":0},"ZERO",null,{"$f":"SUM(C45)*140*2","v":0},{"$f":"SUM(C45)*2","v":0},{"$f":"SUM(C45)*2","v":0},"ZERO",null,null,null,null,null,null,null,null,null,{"$f":"SUM(AD45)*2","v":0},{"$f":"SUM(AE45)*2","v":0}]
["SHAWARMA  SUB",1800,0,0,null,null,"ZERO","ZERO",{"$f":"SUM(C46)","v":0},{"$f":"SUM(C46)*2","v":0},"ZERO","ZERO","ZERO","ZERO",{"$f":"SUM(C46)*1","v":0},"ZERO",{"$f":"SUM(C46)","v":0},"ZERO","ZERO","ZERO","ZERO","ZERO",{"$f":"SUM(C46)*70","v":0},"ZERO","ZERO","ZERO",null,null,null,{"$f":"SUM(C46)","v":0},null,null,null,null,null,{"$f":"SUM(AD46)","v":0},{"$f":"SUM(AE46)","v":0}]
["DELISH PACK 1",5300,0,0,null,{"$f":"SUM(C47)","v":0},{"$f":"SUM(C47)","v":0},"ZERO",{"$f":"SUM(C47)","v":0},{"$f":"SUM(C47)*2","v":0},"ZERO",{"$f":"SUM(C47)*4","v":0},"ZERO","ZERO",{"$f":"SUM(C47)*1","v":0},{"$f":"SUM(C47)*1","v":0},{"$f":"SUM(C47)*2","v":0},{"$f":"SUM(C47)","v":0},"ZERO","ZERO","ZERO","ZERO",{"$f":"SUM(C47)*70","v":0},"ZERO","ZERO","ZERO",null,null,null,{"$f":"SUM(C47)","v":0},{"$f":"SUM(C47)*1","v":0},null,null,null,null,{"$f":"SUM(AD47)","v":0},{"$f":"SUM(AE47)","v":0}]
["FAMILY BURGER MEAL (WITH SOFT DRINK)",19800,0,0,null,{"$f":"SUM(C48)*4","v":0},{"$f":"SUM(C48)*4","v":0},{"$f":"SUM(C48)*4","v":0},{"$f":"SUM(C48)*4","v":0},{"$f":"SUM(C48)*4","v":0},{"$f":"SUM(C48)*4","v":0},{"$f":"SUM(C48)*2*4","v":0},"ZERO","ZERO",{"$f":"SUM(C48)*1*4","v":0},{"$f":"SUM(C48)*4","v":0},{"$f":"SUM(C48)*2*4","v":0},{"$f":"SUM(C48)*4","v":0},null,"ZERO",{"$f":"SUM(C48)*4","v":0},null,{"$f":"SUM(C48)*140*4","v":0},{"$f":"SUM(C48)*4","v":0},{"$f":"SUM(C48)*4","v":0},"ZERO",null,null,null,null,null,null,null,null,null,{"$f":"SUM(AD48)*4","v":0},{"$f":"SUM(AE48)*4","v":0}]
["FAMILY BURGER MEAL (WITH SUGARCANE JUICE)",20800,0,0,null,{"$f":"SUM(C49)*4","v":0},{"$f":"SUM(C49)*4","v":0},{"$f":"SUM(C49)*4","v":0},{"$f":"SUM(C49)*4","v":0},{"$f":"SUM(C49)*4","v":0},{"$f":"SUM(C49)*4","v":0},{"$f":"SUM(C49)*2*4","v":0},"ZERO","ZERO",{"$f":"SUM(C49)*1*4","v":0},{"$f":"SUM(C49)*4","v":0},{"$f":"SUM(C49)*2*4","v":0},{"$f":"SUM(C49)*4","v":0},null,{"$f":"SUM(C49)*4","v":0},"ZERO",null,{"$f":"SUM(C49)*140*4","v":0},{"$f":"SUM(C49)*4","v":0},{"$f":"SUM(C49)*4","v":0},"ZERO",null,null,null,null,null,null,null,null,null,{"$f":"SUM(AD49)*4","v":0},{"$f":"SUM(AE49)*4","v":0}]
["CAN COKE/FANTA ONLY",null,0,0,null,"ZERO","ZERO","ZERO","ZERO","ZERO","ZERO","ZERO","ZERO","ZERO","ZERO","ZERO","ZERO","ZERO","ZERO","ZERO","ZERO","ZERO","ZERO","ZERO","ZERO","ZERO",null,null,null,null,{"$f":"SUM(C50)","v":0},null,null,null,null,"ZERO","ZERO"]
["SUPA KOMMANDO ONLY",250,0,0,null,"ZERO","ZERO","ZERO","ZERO","ZERO","ZERO","ZERO","ZERO","ZERO","ZERO","ZERO","ZERO","ZERO","ZERO","ZERO","ZERO","ZERO","ZERO","ZERO","ZERO","ZERO",null,null,{"$f":"SUM(C51)","v":0},null,"ZERO","ZERO",null,null,null,"ZERO","ZERO"]
["10X Chicken Nuggets ",2400,0,0,null,null,null,null,null,null,"ZERO",null,null,null,null,{"$f":"SUM(C52)","v":0},null,{"$f":"SUM(C52)","v":0},null,null,null,null,null,{"$f":"SUM(C52)","v":0},null,null,null,null,null,null,{"$f":"SUM(C52)","v":0},{"$f":"SUM(C52)*10","v":0}]
["20X Chicken Nuggets ",4800,0,0,null,null,null,null,null,null,"ZERO ",null,null,null,null,{"$f":"SUM(C53)","v":0},null,{"$f":"SUM(C53)","v":0},null,null,null,null,null,{"$f":"SUM(C53)","v":0},null,null,null,null,null,null,{"$f":"SUM(C53)","v":0},{"$f":"SUM(C53)*20","v":0}]
["10 CHICKEN NUGGETS & FRIES BOX",3300,0,0,null,null,null,null,null,null,{"$f":"SUM(C54)","v":0},null,null,null,null,{"$f":"SUM(C54)","v":0},null,{"$f":"SUM(C54)","v":0},null,null,null,null,null,{"$f":"SUM(C54)","v":0},null,null,null,null,null,null,{"$f":"SUM(C54)","v":0},{"$f":"SUM(C54)*10","v":0}]
["20 CHICKEN NUGGETS & FRIES BOX",6600,0,0,null,null,null,null,null,null,{"$f":"SUM(C55)","v":0},null,null,null,null,{"$f":"SUM(C55)","v":0},null,{"$f":"SUM(C55)","v":0},null,null,null,null,null,{"$f":"SUM(C55)","v":0},null,null,null,null,null,null,{"$f":"SUM(C55)","v":0},{"$f":"SUM(C55)*20","v":0}]
["PRAWN BURGER ",3000,0,0,null,{"$f":"SUM(C56)","v":0},"ZERO","ZERO","ZERO","ZERO","ZERO","ZERO",{"$f":"SUM(C56)","v":0},"ZERO",{"$f":"SUM(C56)","v":0},"ZERO",{"$f":"SUM(C56)","v":0},"ZERO","ZERO","ZERO","ZERO","ZERO",{"$f":"SUM(C56)*70","v":0},"ZERO","ZERO","ZERO",null,null,null,null,null,null,{"$f":"SUM(C56)*2","v":0},null,null,"ZERO","ZERO"]
[" FUNMMY NUGGETS  BOX",5300,0,0,null,{"$f":"SUM(C57)","v":0},{"$f":"SUM(C57)","v":0},null,null,null,{"$f":"SUM(C57)","v":0},null,{"$f":"SUM(C57)","v":0},null,{"$f":"SUM(C57)","v":0},{"$f":"SUM(C57)","v":0},null,{"$f":"SUM(C57)","v":0},null,null,null,null,null,{"$f":"SUM(C57)","v":0},null,null,null,null,null,null,{"$f":"SUM(C57)","v":0},{"$f":"SUM(C57)*10","v":0}]
["FARM PRIDE 50 CL",500,0,0,null,"ZERO","ZERO","ZERO","ZERO","ZERO","ZERO","ZERO","ZERO","ZERO","ZERO","ZERO","ZERO","ZERO","ZERO","ZERO","ZERO","ZERO","ZERO","ZERO","ZERO","ZERO",null,null,null,null,null,null,null,{"$f":"SUM(C58)","v":0},null,"ZERO","ZERO"]
["FARM PRIDE 1 LITRE",800,0,0,null,"ZERO","ZERO","ZERO","ZERO","ZERO","ZERO","ZERO","ZERO","ZERO","ZERO","ZERO","ZERO","ZERO","ZERO","ZERO","ZERO","ZERO","ZERO","ZERO","ZERO","ZERO",null,null,null,null,null,null,null,"ZERO",{"$f":"SUM(C59)","v":0},"ZERO","ZERO"]
["GRILLED CHICKEN BURGER",1700,0,{"$f":"SUM(B60*C60)","v":0},null,{"$f":"SUM(C60)","v":0},{"$f":"SUM(C60)","v":0},"ZERO","ZERO","ZERO","ZERO","ZERO","ZERO","ZERO",{"$f":"SUM(C60)","v":0},"ZERO",{"$f":"SUM(C60)*1","v":0},"ZERO","ZERO","ZERO","ZERO","ZERO",{"$f":"SUM(C60)*70","v":0},"ZERO","ZERO","ZERO",null,null,null,null,null,null,null,null,null,"ZERO","ZERO"]
["GRILLED CHICKEN BURGER + JUICE",2200,0,{"$f":"SUM(B61*C61)","v":0},null,{"$f":"SUM(C61)","v":0},{"$f":"SUM(C61)","v":0},"ZERO","ZERO","ZERO","ZERO","ZERO","ZERO","ZERO",{"$f":"SUM(C61)","v":0},"ZERO",{"$f":"SUM(C61)*1","v":0},"ZERO","ZERO","ZERO","ZERO","ZERO",{"$f":"SUM(C61)*70","v":0},"ZERO","ZERO","ZERO",null,null,null,null,null,null,null,{"$f":"SUM(C61)","v":0},null,"ZERO","ZERO"]
["GRILLED BURGER MEAL 1 & 3",4000,0,{"$f":"SUM(B62*C62)","v":0},null,{"$f":"SUM(C62)","v":0},{"$f":"SUM(C62)","v":0},"ZERO","ZERO","ZERO",{"$f":"SUM(C62)","v":0},{"$f":"SUM(C62)*2","v":0},"ZERO","ZERO","ZERO",{"$f":"SUM(C62)","v":0},{"$f":"SUM(C62)","v":0},{"$f":"SUM(C62)","v":0},"ZERO","ZERO","ZERO","ZERO",{"$f":"SUM(C62)*70","v":0},{"$f":"SUM(C62)","v":0},"ZERO","ZERO",null,null,null,null,null,null,null,{"$f":"SUM(C62)","v":0},null,"ZERO","ZERO"]
["GRILLED BURGER MEAL 2",3700,0,{"$f":"SUM(B63*C63)","v":0},null,{"$f":"SUM(C63)","v":0},{"$f":"SUM(C63)","v":0},"ZERO","ZERO","ZERO",{"$f":"SUM(C63)","v":0},{"$f":"SUM(C63)*2","v":0},"ZERO","ZERO","ZERO",{"$f":"SUM(C63)","v":0},{"$f":"SUM(C63)","v":0},{"$f":"SUM(C63)","v":0},"ZERO","ZERO",{"$f":"SUM(C63)","v":0},"ZERO",{"$f":"SUM(C63)*70","v":0},{"$f":"SUM(C63)","v":0},"ZERO","ZERO",null,null,null,null,null,null,null,"ZERO",null,"ZERO","ZERO"]
["MASTERPIECE BURGER ",5000,0,{"$f":"SUM(B64*C64)","v":0},null,{"$f":"SUM(C64)","v":0},"ZERO","ZERO","ZERO","ZERO","ZERO","ZERO",{"$f":"SUM(C64)","v":0},"ZERO","ZERO",{"$f":"SUM(C64)","v":0},{"$f":"SUM(C64)","v":0},"ZERO","ZERO","ZERO",{"$f":"SUM(C64)","v":0},{"$f":"SUM(C64)","v":0},{"$f":"SUM(C64)*70","v":0},"ZERO","ZERO","ZERO",null,null,null,null,null,null,null,null,null,"ZERO",{"$f":"SUM(C64)","v":0}]
["SUYA BURGER BOX 2 (WITH BEEF SUYA BURGER)",6000,0,0,null,0,"ZERO ","ZERO","ZERO",0,0,0,"ZERO","ZERO",0,0,0,"ZERO","ZERO",null,0,"ZERO",0,0,0,"ZERO",0,null,null,null,null,null,null,null,null,"ZERO",0]
["OPENING STOCK",null,null,null,null,{"$f":"SUM('Production DAY 15'!C2)","v":0},{"$f":"SUM('Production DAY 15'!C3)","v":0},{"$f":"SUM('Production DAY 15'!C4)","v":0},{"$f":"SUM('Production DAY 15'!C5)","v":0},{"$f":"SUM('Production DAY 15'!C6)","v":0},{"$f":"SUM('Production DAY 15'!C7)","v":0},{"$f":"SUM('Production DAY 15'!C8)","v":0},{"$f":"SUM('Production DAY 15'!C9)","v":0},{"$f":"SUM('Production DAY 15'!C10)","v":0},{"$f":"SUM('Production DAY 15'!C11)","v":0},{"$f":"SUM('Production DAY 15'!C12)","v":0},{"$f":"SUM('Production DAY 15'!C13)","v":0},{"$f":"SUM('Production DAY 15'!C14)","v":0},{"$f":"SUM('Production DAY 15'!C15)","v":0},{"$f":"SUM('Production DAY 15'!C16)","v":0},{"$f":"SUM('Production DAY 15'!C17)","v":0},{"$f":"SUM('Production DAY 15'!C18)","v":0},{"$f":"SUM('Production DAY 15'!C19)","v":0},{"$f":"SUM('Production DAY 15'!C20)","v":0},{"$f":"SUM('Production DAY 15'!C21)","v":0},{"$f":"SUM('Production DAY 15'!C22)","v":0},{"$f":"SUM('Production DAY 15'!C23)","v":0},{"$f":"SUM('Production DAY 15'!C24)","v":0},{"$f":"SUM('Production DAY 15'!C25)","v":0},{"$f":"SUM('Production DAY 15'!C26)","v":0},{"$f":"SUM('Production DAY 15'!C27)","v":0},{"$f":"SUM('Production DAY 15'!C28)","v":0},{"$f":"SUM('Production DAY 15'!C29)","v":0},{"$f":"SUM('Production DAY 15'!C30)","v":0},{"$f":"SUM('Production DAY 15'!C31)","v":0},{"$f":"SUM('Production DAY 15'!C32)","v":0},{"$f":"SUM('Production DAY 15'!C33)","v":0},{"$f":"SUM('Production DAY 15'!C34)","v":0},{"$f":"SUM('Production DAY 15'!C35)","v":0},{"$f":"SUM('Production DAY 15'!C36)","v":0},{"$f":"SUM('Production DAY 15'!C37)","v":0},{"$f":"SUM('Production DAY 15'!C38)","v":0},{"$f":"SUM('Production DAY 15'!C39)","v":0},{"$f":"SUM('Production DAY 15'!C40)","v":0},{"$f":"SUM('Production DAY 15'!C41)","v":0},{"$f":"SUM('Production DAY 15'!C42)","v":0},{"$f":"SUM('Production DAY 15'!C43)","v":0}]
["RECEIVED",null,null,null,null,{"$f":"SUM('Production DAY 15'!D2)","v":0},{"$f":"SUM('Production DAY 15'!D3)","v":0},{"$f":"SUM('Production DAY 15'!D4)","v":0},{"$f":"SUM('Production DAY 15'!D5)","v":0},{"$f":"SUM('Production DAY 15'!D6)","v":0},{"$f":"SUM('Production DAY 15'!D7)","v":0},{"$f":"SUM('Production DAY 15'!D8)","v":0},{"$f":"SUM('Production DAY 15'!D9)","v":0},{"$f":"SUM('Production DAY 15'!D10)","v":0},{"$f":"SUM('Production DAY 15'!D11)","v":0},{"$f":"SUM('Production DAY 15'!D12)","v":0},{"$f":"SUM('Production DAY 15'!D13)","v":0},{"$f":"SUM('Production DAY 15'!D14)","v":0},{"$f":"SUM('Production DAY 15'!D15)","v":0},{"$f":"SUM('Production DAY 15'!D16)","v":0},{"$f":"SUM('Production DAY 15'!D17)","v":0},{"$f":"SUM('Production DAY 15'!D18)","v":0},{"$f":"SUM('Production DAY 15'!D19)","v":0},{"$f":"SUM('Production DAY 15'!D20)","v":0},{"$f":"SUM('Production DAY 15'!D21)","v":0},{"$f":"SUM('Production DAY 15'!D22)","v":0},{"$f":"SUM('Production DAY 15'!D23)","v":0},{"$f":"SUM('Production DAY 15'!D24)","v":0},{"$f":"SUM('Production DAY 15'!D25)","v":0},{"$f":"SUM('Production DAY 15'!D26)","v":0},{"$f":"SUM('Production DAY 15'!D27)","v":0},{"$f":"SUM('Production DAY 15'!D28)","v":0},{"$f":"SUM('Production DAY 15'!D29)","v":0},{"$f":"SUM('Production DAY 15'!D30)","v":0},{"$f":"SUM('Production DAY 15'!D31)","v":0},{"$f":"SUM('Production DAY 15'!D32)","v":0},{"$f":"SUM('Production DAY 15'!D33)","v":0},{"$f":"SUM('Production DAY 15'!D34)","v":0},{"$f":"SUM('Production DAY 15'!D35)","v":0},{"$f":"SUM('Production DAY 15'!D36)","v":0},{"$f":"SUM('Production DAY 15'!D37)","v":0},{"$f":"SUM('Production DAY 15'!D38)","v":0},{"$f":"SUM('Production DAY 15'!D39)","v":0},{"$f":"SUM('Production DAY 15'!D40)","v":0},{"$f":"SUM('Production DAY 15'!D41)","v":0},{"$f":"SUM('Production DAY 15'!D42)","v":0},{"$f":"SUM('Production DAY 15'!D43)","v":0}]
["TOTAL STOCK",null,null,null,null,{"$f":"SUM(F66:F67)","v":0},{"$f":"SUM(G66:G67)","v":0},{"$f":"SUM(H66:H67)","v":0},{"$f":"SUM(I66:I67)","v":0},0,0,0,0,0,0,{"$f":"SUM(P66:P67)","v":0},0,0,0,0,0,0,0,0,0,0,0,0,0,0,0,0,0,0,0,0,0,0,0,0,0,0,0,0,0,0,0]
["USED",null,null,{"$f":"SUM(D3:D65)","v":0},null,{"$f":"SUM(F3:F65)","v":0},0,0,0,0,0,0,0,0,0,0,0,0,0,0,0,0,0,0,0,0,0,0,0,0,0,0,0,0,0,0,0,{"$f":"SUM(AL3:AL64)","v":0},0,0,0,0,0,0,0,0,0]
["CLOSING STOCK",null,null,null,null,{"$f":"SUM(F68-F69)","v":0},0,0,0,0,0,0,0,0,0,0,0,0,0,0,0,0,0,0,0,0,0,0,0,0,0,0,0,{"$f":"SUM(AH66-AH69)","v":0},{"$f":"SUM(AI68-AI69)","v":0},0,0,0,0,0,0,0,0,0,0,0,0]

{"sheet":"Production DAY 16","index":30,"n_rows":44,"n_cols":8,"rows_kept":44,"cut":false,"hidden":false,"merged":[]}
["Nos#","ITEMS"," < OPENING STOCK","RECEIVED","USED >","SALES CLOSING STOCK >","PHYSICAL STOCK COUNT","COMMENTS"]
[1,"Burger Bread",{"$f":"SUM('Production DAY 15'!G2)","v":0},null,{"$f":"SUM('DAY 16'!F69)","v":0},{"$f":"SUM('DAY 16'!F70)","v":0},0,{"$f":"IF(G2=F2,TRUE,FALSE)","v":true}]
[2,"Chicken Patty",{"$f":"SUM('Production DAY 15'!G3)","v":0},null,{"$f":"SUM('DAY 16'!G69)","v":0},{"$f":"SUM('DAY 16'!G70)","v":0},0,true]
[3,"Shawarma Bread",{"$f":"SUM('Production DAY 15'!G4)","v":0},null,{"$f":"SUM('DAY 16'!H69)","v":0},{"$f":"SUM('DAY 16'!H70)","v":0},0,true]
[4,"Chicken Portion or Shawarma portion",{"$f":"SUM('Production DAY 15'!G5)","v":0},null,{"$f":"SUM('DAY 16'!I69)","v":0},{"$f":"SUM('DAY 16'!I70)","v":0},0,true]
[5,"Sausage",{"$f":"SUM('Production DAY 15'!G6)","v":0},null,{"$f":"SUM('DAY 16'!J69)","v":0},{"$f":"SUM('DAY 16'!J70)","v":0},0,true]
[6,"Portion of Fries",{"$f":"SUM('Production DAY 15'!G7)","v":0},null,{"$f":"SUM('DAY 16'!K69)","v":0},{"$f":"SUM('DAY 16'!K70)","v":0},0,true]
[7,"Pieces of Chicken",{"$f":"SUM('Production DAY 15'!G8)","v":0},null,{"$f":"SUM('DAY 16'!L69)","v":0},{"$f":"SUM('DAY 16'!L70)","v":0},0,true]
[8,"Cheese",{"$f":"SUM('Production DAY 15'!G9)","v":0},null,{"$f":"SUM('DAY 16'!M69)","v":0},{"$f":"SUM('DAY 16'!M70)","v":0},0,true]
[9,"Bacon",{"$f":"SUM('Production DAY 15'!G10)","v":0},null,{"$f":"SUM('DAY 16'!N69)","v":0},{"$f":"SUM('DAY 16'!N70)","v":0},0,true]
[10,"A Paper Bag",{"$f":"SUM('Production DAY 15'!G11)","v":0},null,{"$f":"SUM('DAY 16'!O69)","v":0},{"$f":"SUM('DAY 16'!O70)","v":0},0,true]
[11,"Achicken Box",{"$f":"SUM('Production DAY 15'!G12)","v":0},null,{"$f":"SUM('DAY 16'!P69)","v":0},{"$f":"SUM('DAY 16'!P70)","v":0},0,true]
[12,"Paper Wrap",{"$f":"SUM('Production DAY 15'!G13)","v":0},null,{"$f":"SUM('DAY 16'!Q69)","v":0},{"$f":"SUM('DAY 16'!Q70)","v":0},0,true]
[13,"A Branded Nylon",{"$f":"SUM('Production DAY 15'!G14)","v":0},null,{"$f":"SUM('DAY 16'!R69)","v":0},{"$f":"SUM('DAY 16'!R70)","v":0},0,true]
[14,"Parfait",{"$f":"SUM('Production DAY 15'!G15)","v":0},null,{"$f":"SUM('DAY 16'!S69)","v":0},{"$f":"SUM('DAY 16'!S70)","v":0},0,true]
[15,"A Bottle of SUGAR Juice",{"$f":"SUM('Production DAY 15'!G16)","v":0},null,{"$f":"SUM('DAY 16'!T69)","v":0},{"$f":"SUM('DAY 16'!T70)","v":0},0,true]
[16,"35 CL Soft Drink",{"$f":"SUM('Production DAY 15'!G17)","v":0},null,{"$f":"SUM('DAY 16'!U69)","v":0},{"$f":"SUM('DAY 16'!U70)","v":0},0,true]
[17,"Beef Patty",{"$f":"SUM('Production DAY 15'!G18)","v":0},null,{"$f":"SUM('DAY 16'!V69)","v":0},{"$f":"SUM('DAY 16'!V70)","v":0},0,true]
[18,"Cream in GRAMS",{"$f":"SUM('Production DAY 15'!G19)","v":0},null,{"$f":"SUM('DAY 16'!W69)","v":0},{"$f":"SUM('DAY 16'!W70)","v":0},0,true]
[19,"KETCHUP",{"$f":"SUM('Production DAY 15'!G20)","v":0},null,{"$f":"SUM('DAY 16'!X69)","v":0},{"$f":"SUM('DAY 16'!X70)","v":0},0,true]
[20,"plain Nylon",{"$f":"SUM('Production DAY 15'!G21)","v":0},null,{"$f":"SUM('DAY 16'!Y69)","v":0},{"$f":"SUM('DAY 16'!Y70)","v":0},0,true]
[21,"Barbeque Sauce",{"$f":"SUM('Production DAY 15'!G22)","v":0},null,{"$f":"SUM('DAY 16'!Z69)","v":0},{"$f":"SUM('DAY 16'!Z70)","v":0},0,true]
[22,"Meal Box",{"$f":"SUM('Production DAY 15'!G23)","v":0},null,{"$f":"SUM('DAY 16'!AA69)","v":0},{"$f":"SUM('DAY 16'!AA70)","v":0},0,true]
[23,"COCONUT BREAD",{"$f":"SUM('Production DAY 15'!G24)","v":0},null,{"$f":"SUM('DAY 16'!AB69)","v":0},{"$f":"SUM('DAY 16'!AB70)","v":0},0,true]
[24,"SUPA KOMMANDO",{"$f":"SUM('Production DAY 15'!G25)","v":0},null,{"$f":"SUM('DAY 16'!AC69)","v":0},{"$f":"SUM('DAY 16'!AC70)","v":0},0,true]
[25,"SHAWARMA SUB",{"$f":"SUM('Production DAY 15'!G26)","v":0},null,{"$f":"SUM('DAY 16'!AD69)","v":0},{"$f":"SUM('DAY 16'!AD70)","v":0},0,true]
[26,"CAN COKE / FANTA",{"$f":"SUM('Production DAY 15'!G27)","v":0},null,{"$f":"SUM('DAY 16'!AE69)","v":0},{"$f":"SUM('DAY 16'!AE70)","v":0},0,true]
[27,"NUGGETS ",{"$f":"SUM('Production DAY 15'!G28)","v":0},null,{"$f":"SUM('DAY 16'!AF69)","v":0},{"$f":"SUM('DAY 16'!AF70)","v":0},0,true]
[28,"PRAWN",{"$f":"SUM('Production DAY 15'!G29)","v":0},null,{"$f":"SUM('DAY 16'!AG69)","v":0},{"$f":"SUM('DAY 16'!AG70)","v":0},0,true]
[29,"FARM PRIDE",{"$f":"SUM('Production DAY 15'!G30)","v":0},null,{"$f":"SUM('DAY 16'!AH69)","v":0},{"$f":"SUM('DAY 16'!AH70)","v":0},0,true]
[30,"50CL OR PULPY",{"$f":"SUM('Production DAY 15'!G31)","v":0},null,{"$f":"SUM('DAY 16'!AI69)","v":0},{"$f":"SUM('DAY 16'!AI70)","v":0},0,true]
[31,"FARM PRIDE 1 LT",{"$f":"SUM('Production DAY 15'!G32)","v":0},null,{"$f":"SUM('DAY 16'!AJ69)","v":0},{"$f":"SUM('DAY 16'!AJ70)","v":0},0,true]
[32,"BEEF PORTION FOR SHAWARMA",{"$f":"SUM('Production DAY 15'!G33)","v":0},null,{"$f":"SUM('DAY 16'!AK69)","v":0},{"$f":"SUM('DAY 16'!AK70)","v":0},0,true]
[33,"BEEF SUYA STICK",{"$f":"SUM('Production DAY 15'!G34)","v":0},null,{"$f":"SUM('DAY 16'!AL69)","v":0},{"$f":"SUM('DAY 16'!AL70)","v":0},0,true]
[34,"EMPTY 1",{"$f":"SUM('Production DAY 15'!G35)","v":0},null,{"$f":"SUM('DAY 16'!AM69)","v":0},{"$f":"SUM('DAY 16'!AM70)","v":0},0,true]
[35,"EMPTY 2",{"$f":"SUM('Production DAY 15'!G36)","v":0},null,{"$f":"SUM('DAY 16'!AN69)","v":0},{"$f":"SUM('DAY 16'!AN70)","v":0},0,true]
[36,"EMPTY 3",{"$f":"SUM('Production DAY 15'!G37)","v":0},null,{"$f":"SUM('DAY 16'!AO69)","v":0},{"$f":"SUM('DAY 16'!AO70)","v":0},0,true]
[37,"EMPTY 4",{"$f":"SUM('Production DAY 15'!G38)","v":0},null,{"$f":"SUM('DAY 16'!AP69)","v":0},{"$f":"SUM('DAY 16'!AP70)","v":0},0,true]
[38,"EMPTY 5",{"$f":"SUM('Production DAY 15'!G39)","v":0},null,{"$f":"SUM('DAY 16'!AQ69)","v":0},{"$f":"SUM('DAY 16'!AQ70)","v":0},0,true]
[39,"EMPTY 6",{"$f":"SUM('Production DAY 15'!G40)","v":0},null,{"$f":"SUM('DAY 16'!AR69)","v":0},{"$f":"SUM('DAY 16'!AR70)","v":0},0,true]
[40,"EMPTY 7",{"$f":"SUM('Production DAY 15'!G41)","v":0},null,{"$f":"SUM('DAY 16'!AS69)","v":0},{"$f":"SUM('DAY 16'!AS70)","v":0},0,true]
[41,"EMPTY 8",{"$f":"SUM('Production DAY 15'!G42)","v":0},null,{"$f":"SUM('DAY 16'!AT69)","v":0},{"$f":"SUM('DAY 16'!AT70)","v":0},0,true]
[42,"EMPTY 9",{"$f":"SUM('Production DAY 15'!G43)","v":0},null,{"$f":"SUM('DAY 16'!AU69)","v":0},{"$f":"SUM('DAY 16'!AU70)","v":0},0,true]
[43,"EMPTY 10",{"$f":"SUM('Production DAY 15'!G44)","v":0},null,{"$f":"SUM('DAY 16'!AV69)","v":0},{"$f":"SUM('DAY 16'!AV70)","v":0},0,true]

{"sheet":"DAY 16","index":31,"n_rows":70,"n_cols":47,"rows_kept":70,"cut":false,"hidden":false,"merged":[[0,7,0,28]]}
["FEBRUARY 12th, 2022",null,null,{"$f":"SUM(D3:D50)","v":0},null,null,null,"BURGER PALACE INVENTORY RECORDS"]
["ITEM","AMOUNT","QUANTITY","TOTAL",null,"Burger Bread","Chicken Patty","Shawarma Bread","Chicken Portion or Shawarma portion","Sausage","Portion of Fries","Pieces of Chicken","Cheese","Bacon","A Paper Bag","Achicken Box","Paper Wrap","A Branded Nylon","Parfait","A Bottle of SUGAR Juice","35 CL Soft Drink","Beef Patty","Cream in GRAMS","KETCHUP","plain Nylon","Barbeque Sauce","Meal Box","COCONUT BREAD ","SUPA KOMMANDO ","SHAWARMA SUB","CAN COKE / FANTA","NUGGETS","PRAWN","FARM PRIDE 50CL OR PULPY","FARM PRIDE 1 LT","BEEF PORTION FOR SHAWARMA ","BEEF SUYA STICK","EMPTY 1","EMPTY 2","EMPTY 3","EMPTY 4","EMPTY 5","EMPTY 6","EMPTY 7","EMPTY 8","EMPTY 9","EMPTY 10"]
["DELUXE BURGER MEAL (WITH SOFT DRINK)",5400,0,{"$f":"SUM(B3*C3)","v":0},null,{"$f":"SUM(C3)","v":0},{"$f":"SUM(C3)","v":0},{"$f":"SUM(C3)","v":0},{"$f":"SUM(C3)","v":0},{"$f":"SUM(C3)","v":0},{"$f":"SUM(C3)","v":0},{"$f":"SUM(C3)*2","v":0},"ZERO","ZERO",{"$f":"SUM(C3)*1","v":0},{"$f":"SUM(C3)","v":0},{"$f":"SUM(C3)*2","v":0},{"$f":"SUM(C3)","v":0},null,"ZERO",{"$f":"SUM(C3)","v":0},null,{"$f":"SUM(C3)*140","v":0},{"$f":"SUM(C3)","v":0},{"$f":"SUM(C3)","v":0},"ZERO",null,null,null,null,null,null,null,null,null,{"$f":"SUM(AD3)","v":0},0]
["DELUXE BURGER MEAL (WITH SUGARCANE JUICE)",5600,0,{"$f":"SUM(B4*C4)","v":0},null,{"$f":"SUM(C4)","v":0},{"$f":"SUM(C4)","v":0},{"$f":"SUM(C4)","v":0},{"$f":"SUM(C4)","v":0},{"$f":"SUM(C4)","v":0},0,{"$f":"SUM(C4)*2","v":0},"ZERO","ZERO",{"$f":"SUM(C4)*1","v":0},0,{"$f":"SUM(C4)*2","v":0},0,null,{"$f":"SUM(C4)","v":0},"ZERO",null,{"$f":"SUM(C4)*140","v":0},{"$f":"SUM(C4)","v":0},0,"ZERO",null,null,null,null,null,null,null,null,null,0,0]
["DELUXE MEAL EXTRA (WITH Soft Drink)",null,0,{"$f":"SUM(B5*C5)","v":0},null,{"$f":"SUM(C5)","v":0},{"$f":"SUM(C5)","v":0},{"$f":"SUM(C5)","v":0},{"$f":"SUM(C5)","v":0},{"$f":"SUM(C5)","v":0},0,{"$f":"SUM(C5)*2","v":0},"ZERO","ZERO",{"$f":"SUM(C5)","v":0},0,{"$f":"SUM(C5)*2","v":0},0,{"$f":"SUM(C5)","v":0},"ZERO",{"$f":"SUM(C5)","v":0},null,{"$f":"SUM(C5)*140","v":0},{"$f":"SUM(C5)","v":0},0,"ZERO",null,null,null,null,null,null,null,null,null,0,0]
["DELUXE BURGER MEAL Extra (With Sugarcane juice",null,0,{"$f":"SUM(B6*C6)","v":0},null,{"$f":"SUM(C6)","v":0},{"$f":"SUM(C6)","v":0},{"$f":"SUM(C6)","v":0},{"$f":"SUM(C6)","v":0},{"$f":"SUM(C6)","v":0},0,{"$f":"SUM(C6)*2","v":0},"ZERO","ZERO",{"$f":"SUM(C6)","v":0},0,{"$f":"SUM(C6)*2","v":0},0,{"$f":"SUM(C6)","v":0},{"$f":"SUM(C6)","v":0},"ZERO",null,{"$f":"SUM(C6)*140","v":0},{"$f":"SUM(C6)","v":0},0,"ZERO",null,null,null,null,null,null,null,null,null,0,0]
["PREMIUM BURGER Meal ",5900,0,{"$f":"SUM(B7*C7)","v":0},null,{"$f":"SUM(C7)","v":0},{"$f":"SUM(C7)","v":0},"ZERO","ZERO","ZERO",0,{"$f":"SUM(C7)*5","v":0},"ZERO","ZERO",{"$f":"SUM(C7)","v":0},0,{"$f":"SUM(C7)*1.25","v":0},0,"ZERO","ZERO",{"$f":"SUM(C7)","v":0},"ZERO",{"$f":"SUM(C7)*70","v":0},{"$f":"SUM(C7)*2","v":0},0,{"$f":"SUM(C7)","v":0},null,null,null,null,null,null,null,null,null,"ZERO","ZERO"]
["CRISPY CHICKEN BOX",4300,0,null,null,"ZERO","ZERO","ZERO","ZERO","ZERO",0,{"$f":"SUM(C8)*5","v":0},"ZERO","ZERO","ZERO",0,{"$f":"SUM(C8)*0.25","v":0},0,"ZERO","ZERO",{"$f":"SUM(C8)","v":0},"ZERO","ZERO",{"$f":"SUM(C8)*2","v":0},0,{"$f":"SUM(C8)","v":0},null,null,null,null,null,null,null,null,null,"ZERO","ZERO"]
["ROYAL BURGER MEAL (CHICKEN  PATTY)",null,0,{"$f":"SUM(B9*C9)","v":0},null,{"$f":"SUM(C9)","v":0},{"$f":"SUM(C9)*2","v":0},"ZERO","ZERO","ZERO",0,"ZERO",{"$f":"SUM(C9)*2","v":0},{"$f":"SUM(C9)*2","v":0},"ZERO",0,{"$f":"SUM(C9)","v":0},0,{"$f":"SUM(C9)","v":0},"ZERO","ZERO","ZERO",{"$f":"SUM(C9)*140","v":0},{"$f":"SUM(C9)*2","v":0},0,{"$f":"SUM(C9)","v":0},null,null,null,null,null,null,null,null,null,"ZERO","ZERO"]
["ROYAL BURGER MEAL (BEEF  PATTY)",null,0,{"$f":"SUM(B10*C10)","v":0},null,{"$f":"SUM(C10)","v":0},"ZERO","ZERO","ZERO","ZERO",0,"ZERO",{"$f":"SUM(C10)*2","v":0},{"$f":"SUM(C10)*2","v":0},"ZERO",0,0,0,{"$f":"SUM(C10)","v":0},"ZERO","ZERO",{"$f":"SUM(C10)*2","v":0},{"$f":"SUM(C10)*140","v":0},{"$f":"SUM(C10)*2","v":0},0,{"$f":"SUM(C10)","v":0},null,null,null,null,null,null,null,null,null,"ZERO","ZERO"]
["ROYAL BURGER ONLY (CHICKEN PATTY)",3300,0,{"$f":"SUM(B11*C11:C25,A1,A1,A1,A1,A1)","v":0},null,{"$f":"SUM(C11)","v":0},{"$f":"SUM(C11)*2","v":0},"ZERO","ZERO","ZERO","ZERO","ZERO",{"$f":"SUM(C11)*2","v":0},{"$f":"SUM(C11)*2","v":0},"ZERO",0,0,0,"ZERO","ZERO","ZERO","ZERO",{"$f":"SUM(C11)*140","v":0},{"$f":"SUM(C11)","v":0},"ZERO","ZERO",null,null,null,null,null,null,null,null,null,"ZERO","ZERO"]
["ROYAL BURGER ONLY (BEEF PATTY)",3300,0,{"$f":"SUM(B12*C12)","v":0},null,{"$f":"SUM(C12)","v":0},null,"ZERO","ZERO","ZERO","ZERO","ZERO",{"$f":"SUM(C12)*2","v":0},{"$f":"SUM(C12)*2","v":0},"ZERO",0,0,0,"ZERO","ZERO","ZERO",{"$f":"SUM(C12)*2","v":0},{"$f":"SUM(C12)*140","v":0},{"$f":"SUM(C12)","v":0},"ZERO","ZERO",null,null,null,null,null,null,null,null,null,"ZERO","ZERO"]
["MAYOR'S COCONUT BURGER ",2800,0,0,null,0,{"$f":"SUM(C13)","v":0},"ZERO","ZERO","ZERO","ZERO","ZERO",{"$f":"SUM(C13)","v":0},"ZERO","ZERO",0,0,0,"ZERO","ZERO","ZERO",{"$f":"SUM(C13)","v":0},{"$f":"SUM(C13)*140","v":0},"ZERO","ZERO","ZERO",null,{"$f":"SUM(C13)","v":0},{"$f":"SUM(C13)","v":0},null,null,null,null,null,null,"ZERO","ZERO"]
["DOUBLE DECKER CRISPY CHK. CHEESE BURGER",2500,0,0,null,{"$f":"SUM(C14)","v":0},{"$f":"SUM(C14)*2","v":0},"ZERO","ZERO","ZERO","ZERO","ZERO",{"$f":"SUM(C14)","v":0},"ZERO","ZERO",0,0,"ZERO","ZERO","ZERO","ZERO","ZERO",{"$f":"SUM(C14)*70","v":0},"ZERO","ZERO","ZERO",null,null,null,null,null,null,null,null,null,"ZERO","ZERO"]
["SINGLE BEEF BURGER",1700,0,0,null,0,"ZERO","ZERO","ZERO","ZERO","ZERO","ZERO",null,"ZERO",{"$f":"SUM(C15)","v":0},null,0,"ZERO","ZERO","ZERO","ZERO",{"$f":"SUM(C15)","v":0},{"$f":"SUM(C15)*70","v":0},"ZERO","ZERO","ZERO",null,null,null,null,null,null,null,null,null,"ZERO","ZERO"]
["YANKEE BURGER",2400,0,0,null,0,"ZERO","ZERO","ZERO","ZERO","ZERO","ZERO",null,{"$f":"SUM(C16)*2","v":0},{"$f":"SUM(C16)","v":0},null,0,"ZERO","ZERO","ZERO","ZERO",{"$f":"SUM(C16)","v":0},{"$f":"SUM(C16)*70","v":0},"ZERO","ZERO","ZERO",null,null,null,null,null,null,null,null,null,"ZERO","ZERO"]
["ROYAL BURGER WITH FRIES (Chicken)",4000,0,0,null,0,{"$f":"SUM(C17)*2","v":0},"ZERO","ZERO","ZERO",{"$f":"SUM(C17)","v":0},"ZERO",{"$f":"SUM(C17)*2","v":0},{"$f":"SUM(C17)*2","v":0},"ZERO",{"$f":"SUM(C17)","v":0},0,"ZERO","ZERO","ZERO","ZERO","ZERO",{"$f":"SUM(C17)*140","v":0},{"$f":"SUM(C17)*2","v":0},"ZERO","ZERO",null,null,null,null,null,null,null,null,null,"ZERO","ZERO"]
["ROYAL BURGER WITH FRIES (BEEF)",4000,0,0,null,0,"ZERO","ZERO","ZERO","ZERO",{"$f":"SUM(C18)","v":0},"ZERO",{"$f":"SUM(C18)*2","v":0},{"$f":"SUM(C18)*2","v":0},"ZERO",{"$f":"SUM(C18)","v":0},0,"ZERO","ZERO","ZERO","ZERO",{"$f":"SUM(C18)*2","v":0},{"$f":"SUM(C18)*140","v":0},{"$f":"SUM(C18)*2","v":0},"ZERO","ZERO",null,null,null,null,null,null,null,null,null,"ZERO","ZERO"]
["CRISPY CHICKEN BURGER",1700,0,0,null,0,{"$f":"SUM(C19)","v":0},"ZERO","ZERO","ZERO","ZERO","ZERO","ZERO","ZERO",{"$f":"SUM(C19)","v":0},"ZERO",{"$f":"SUM(C19)*1","v":0},"ZERO","ZERO","ZERO","ZERO","ZERO",{"$f":"SUM(C19)*70","v":0},"ZERO","ZERO","ZERO",null,null,null,null,null,null,null,null,null,"ZERO","ZERO"]
["SUYA BURGER BOX",5500,0,0,null,0,{"$f":"SUM(C20)*2","v":0},"ZERO","ZERO",{"$f":"SUM(C20)*4","v":0},{"$f":"SUM(C20)","v":0},{"$f":"SUM(C20)*4","v":0},"ZERO","ZERO",{"$f":"SUM(C20)","v":0},{"$f":"SUM(C20)","v":0},{"$f":"SUM(C20)","v":0},"ZERO","ZERO",null,{"$f":"SUM(C20)","v":0},"ZERO",0,{"$f":"SUM(C20)*2","v":0},{"$f":"SUM(C20)","v":0},"ZERO",{"$f":"SUM(C20)","v":0},null,null,null,null,null,null,null,null,"ZERO","ZERO"]
["CRISPY CHICKEN BURGER PLUS CHEESE",2100,0,0,null,0,{"$f":"SUM(C21)","v":0},"ZERO","ZERO","ZERO","ZERO","ZERO",{"$f":"SUM(C21)","v":0},"ZERO",{"$f":"SUM(C21)","v":0},"ZERO",0,"ZERO","ZERO","ZERO","ZERO","ZERO",0,"ZERO","ZERO","ZERO",null,null,null,null,null,null,null,null,null,"ZERO","ZERO"]
["SINGLE BEEF CHEESE BURGER ",2100,0,0,null,0,"ZERO","ZERO","ZERO","ZERO","ZERO","ZERO",{"$f":"SUM(C22)","v":0},"ZERO",{"$f":"SUM(C22)","v":0},"ZERO",0,"ZERO","ZERO","ZERO","ZERO",{"$f":"SUM(C22)","v":0},0,"ZERO","ZERO","ZERO",null,null,null,null,null,null,null,null,null,"ZERO","ZERO"]
["DOUBLE DECKER BEEF CHEESE BURGER",2800,0,0,null,0,"ZERO","ZERO","ZERO","ZERO","ZERO","ZERO",{"$f":"SUM(C23)*2","v":0},"ZERO","ZERO",{"$f":"SUM(C23)","v":0},0,"ZERO","ZERO","ZERO","ZERO",{"$f":"SUM(C23)*2","v":0},0,"ZERO","ZERO","ZERO",null,null,null,null,null,null,null,null,null,"ZERO","ZERO"]
["CHICKEN SUYA BURGER ",2200,0,0,null,0,{"$f":"SUM(C24)*2","v":0},"ZERO","ZERO","ZERO","ZERO","ZERO","ZERO","ZERO",{"$f":"SUM(C24)*1","v":0},"ZERO",0,"ZERO","ZERO","ZERO","ZERO","ZERO",0,"ZERO","ZERO","ZERO",null,null,null,null,null,null,null,null,null,"ZERO","ZERO"]
["CHICKEN SHAWARMA",1800,0,0,null,null,"ZERO",{"$f":"SUM(C25)","v":0},{"$f":"SUM(C25)","v":0},{"$f":"SUM(C25)*2","v":0},"ZERO","ZERO","ZERO","ZERO","ZERO","ZERO",0,{"$f":"SUM(C25)","v":0},"ZERO","ZERO","ZERO","ZERO",0,"ZERO","ZERO","ZERO",null,null,null,null,null,null,null,null,null,{"$f":"SUM(AD25)","v":0},{"$f":"SUM(AE25)","v":0}]
["BARBECUE BEEF SHAWARMA",2000,0,0,null,null,"ZERO",{"$f":"SUM(C26)","v":0},"ZERO",{"$f":"SUM(C26)*2","v":0},"ZERO","ZERO","ZERO","ZERO","ZERO","ZERO",0,0,"ZERO","ZERO","ZERO","ZERO",0,"ZERO","ZERO","ZERO",null,null,null,null,null,null,null,null,null,{"$f":"SUM(C26)","v":0},"ZERO"]
["BEEF SUYA SHAWARMA",2200,0,0,null,null,"ZERO",{"$f":"SUM(C27)","v":0},"ZERO",{"$f":"SUM(C27)*2","v":0},"ZERO","ZERO","ZERO","ZERO","ZERO","ZERO",0,0,"ZERO","ZERO","ZERO","ZERO",0,"ZERO","ZERO","ZERO",null,null,null,null,null,null,null,null,null,{"$f":"SUM(AD27)","v":0},{"$f":"SUM(C27)","v":0}]
["BEEF SUYA BURGER ",2200,0,0,null,{"$f":"SUM(C28)","v":0},"ZERO",null,"ZERO","ZERO","ZERO","ZERO","ZERO","ZERO",{"$f":"SUM(C28)","v":0},"ZERO",0,0,"ZERO","ZERO","ZERO","ZERO",0,"ZERO","ZERO","ZERO",null,null,null,null,null,null,null,null,null,{"$f":"SUM(AD28)","v":0},{"$f":"SUM(C28)","v":0}]
["CHICKEN SUYA SHAWARMA",2200,0,0,null,"ZERO",{"$f":"SUM(C29)*2","v":0},{"$f":"SUM(C29)","v":0},null,{"$f":"SUM(C29)*2","v":0},"ZERO","ZERO","ZERO","ZERO","ZERO","ZERO",0,0,"ZERO","ZERO","ZERO","ZERO",0,"ZERO","ZERO","ZERO"]
["CHESSY SHAWARMA",2500,0,0,null,"ZERO","ZERO",{"$f":"SUM(C30)","v":0},{"$f":"SUM(C30)","v":0},{"$f":"SUM(C30)*2","v":0},null,"ZERO",{"$f":"SUM(C30)*2","v":0},"ZERO","ZERO","ZERO",0,0,"ZERO","ZERO","ZERO","ZERO",{"$f":"SUM(C30)*140","v":0},"ZERO","ZERO","ZERO",null,null,null,null,null,null,null,null,null,{"$f":"SUM(AD30)","v":0},{"$f":"SUM(AE30)","v":0}]
["2 CHICKEN AND CHIPS",2300,0,0,null,"ZERO","ZERO","ZERO","ZERO","ZERO",{"$f":"SUM(C31)","v":0},{"$f":"SUM(C31)*2","v":0},"ZERO","ZERO","ZERO",{"$f":"SUM(C31)","v":0},"ZERO",0,"ZERO","ZERO","ZERO","ZERO","ZERO",{"$f":"SUM(C31)","v":0},"ZERO","ZERO",null,null,null,null,null,null,null,null,null,"ZERO","ZERO"]
["4 CHICKEN AND CHIPS",3500,0,0,null,"ZERO","ZERO","ZERO","ZERO","ZERO",{"$f":"SUM(C32)","v":0},{"$f":"SUM(C32)*4","v":0},"ZERO","ZERO","ZERO",{"$f":"SUM(C32)","v":0},"ZERO",0,"ZERO","ZERO","ZERO","ZERO","ZERO",{"$f":"SUM(C32)*2","v":0},"ZERO","ZERO","zero","zero","zero",null,null,null,null,null,null,"ZERO","ZERO"]
["SPICY CHICKEN ONLY",650,0,null,null,"ZERO","ZERO","ZERO","ZERO","ZERO","ZERO",{"$f":"SUM(C33)","v":0},"ZERO","ZERO","ZERO","ZERO","ZERO","ZERO","ZERO","ZERO","ZERO","ZERO","ZERO","ZERO",{"$f":"SUM(C33)","v":0},"ZERO",null,null,null,null,null,null,null,null,null,"ZERO","ZERO"]
["CRISPY CHICKEN ONLY",650,0,{"$f":"SUM(B34*C34)","v":0},null,"ZERO","ZERO","ZERO","ZERO","ZERO","ZERO",{"$f":"SUM(C34)","v":0},"ZERO","ZERO","ZERO","ZERO","ZERO","ZERO","ZERO","ZERO","ZERO","ZERO","ZERO","ZERO",{"$f":"SUM(C34)","v":0},"ZERO",null,null,null,null,null,null,null,null,null,"ZERO","ZERO"]
["POTATO FRIES",700,0,0,null,"ZERO","ZERO","ZERO","ZERO","ZERO",null,"ZERO","ZERO","ZERO","ZERO","ZERO","ZERO","ZERO","ZERO","ZERO","ZERO","ZERO","ZERO","ZERO","ZERO","ZERO",null,null,null,null,null,null,null,null,null,"ZERO","ZERO"]
["FRENCH FRIES ONLY",1000,0,0,null,"ZERO","ZERO","ZERO","ZERO","ZERO",{"$f":"SUM(C36)","v":0},"ZERO","ZERO","ZERO","ZERO","ZERO","ZERO","ZERO","ZERO","ZERO","ZERO","ZERO","ZERO","ZERO",{"$f":"SUM(C36)","v":0},"ZERO",null,null,null,null,null,null,null,null,null,"ZERO","ZERO"]
["SUGERCANNE JUICE",750,0,0,null,"ZERO","ZERO","ZERO","ZERO","ZERO","ZERO","ZERO","ZERO","ZERO","ZERO","ZERO","ZERO","ZERO","ZERO",{"$f":"SUM(C37)","v":0},"ZERO","ZERO","ZERO","ZERO","ZERO","ZERO",null,null,null,null,null,null,null,null,null,"ZERO","ZERO"]
["35 CL SOFT DRINK",200,0,0,null,"ZERO","ZERO","ZERO","ZERO","ZERO","ZERO","ZERO","ZERO","ZERO","ZERO","ZERO","ZERO","ZERO","ZERO","ZERO",{"$f":"SUM(C38)","v":0},"ZERO","ZERO","ZERO","ZERO","ZERO",null,null,null,null,null,null,null,null,null,"ZERO","ZERO"]
["PARFAIT",null,0,0,null,"ZERO","ZERO","ZERO","ZERO","ZERO","ZERO","ZERO","ZERO","ZERO","ZERO","ZERO","ZERO",{"$f":"SUM(C39)","v":0},{"$f":"SUM(C39)","v":0},"ZERO","ZERO","ZERO","ZERO","ZERO","ZERO","ZERO",null,null,null,null,null,null,null,null,null,"ZERO","ZERO"]
["MARINATED WINGS",500,0,0,null,"ZERO","ZERO","ZERO","ZERO","ZERO","ZERO",{"$f":"SUM(C40)","v":0},"ZERO","ZERO","ZERO","ZERO","ZERO","ZERO","ZERO","ZERO","ZERO","ZERO","ZERO","ZERO","ZERO","ZERO",null,null,null,null,null,null,null,null,null,"ZERO","ZERO"]
["CHEESE ",400,0,0,null,"ZERO","ZERO","ZERO","ZERO","ZERO","ZERO","ZERO",{"$f":"SUM(C41)","v":0},"ZERO","ZERO","ZERO","ZERO","ZERO","ZERO","ZERO","ZERO","ZERO","ZERO","ZERO","ZERO","ZERO",null,null,null,null,null,null,null,null,null,"ZERO","ZERO"]
["SAUSAGE",200,0,0,null,null,null,null,null,null,"ZERO"]
["BACON",400,0,0,null,"ZERO","ZERO","ZERO","ZERO","ZERO","ZERO","ZERO","ZERO",{"$f":"SUM(C43)","v":0},"ZERO","ZERO","ZERO","ZERO","ZERO","ZERO","ZERO","ZERO","ZERO","ZERO","ZERO","ZERO",null,null,null,null,null,null,null,null,null,"ZERO","ZERO"]
["FRIENDY BURGER MEAL (WITH SOFT DRINK)",10200,0,0,null,{"$f":"SUM(C44)*2","v":0},{"$f":"SUM(C44)*2","v":0},{"$f":"SUM(C44)*2","v":0},{"$f":"SUM(C44)*2","v":0},{"$f":"SUM(C44)*2","v":0},{"$f":"SUM(C44)*2","v":0},{"$f":"SUM(C44)*2*2","v":0},"ZERO","ZERO",{"$f":"SUM(C44)*1*2","v":0},{"$f":"SUM(C44)*2","v":0},{"$f":"SUM(C44)*2*2","v":0},{"$f":"SUM(C44)*2","v":0},null,"ZERO",{"$f":"SUM(C44)*2","v":0},null,{"$f":"SUM(C44)*140*2","v":0},{"$f":"SUM(C44)*2","v":0},{"$f":"SUM(C44)*2","v":0},"ZERO",null,null,null,null,null,null,null,null,null,{"$f":"SUM(AD44)*2","v":0},{"$f":"SUM(AE44)*2","v":0}]
["FRIENDY BURGER MEAL (WITH SUGARCANE JUICE)",10600,0,0,null,{"$f":"SUM(C45)*2","v":0},{"$f":"SUM(C45)*2","v":0},{"$f":"SUM(C45)*2","v":0},{"$f":"SUM(C45)*2","v":0},{"$f":"SUM(C45)*2","v":0},{"$f":"SUM(C45)*2","v":0},{"$f":"SUM(C45)*2*2","v":0},"ZERO","ZERO",{"$f":"SUM(C45)*1*2","v":0},{"$f":"SUM(C45)*2","v":0},{"$f":"SUM(C45)*2*2","v":0},{"$f":"SUM(C45)*2","v":0},null,{"$f":"SUM(C45)*2","v":0},"ZERO",null,{"$f":"SUM(C45)*140*2","v":0},{"$f":"SUM(C45)*2","v":0},{"$f":"SUM(C45)*2","v":0},"ZERO",null,null,null,null,null,null,null,null,null,{"$f":"SUM(AD45)*2","v":0},{"$f":"SUM(AE45)*2","v":0}]
["SHAWARMA  SUB",1800,0,0,null,null,"ZERO","ZERO",{"$f":"SUM(C46)","v":0},{"$f":"SUM(C46)*2","v":0},"ZERO","ZERO","ZERO","ZERO",{"$f":"SUM(C46)*1","v":0},"ZERO",{"$f":"SUM(C46)","v":0},"ZERO","ZERO","ZERO","ZERO","ZERO",{"$f":"SUM(C46)*70","v":0},"ZERO","ZERO","ZERO",null,null,null,{"$f":"SUM(C46)","v":0},null,null,null,null,null,{"$f":"SUM(AD46)","v":0},{"$f":"SUM(AE46)","v":0}]
["DELISH PACK 1",5300,0,0,null,{"$f":"SUM(C47)","v":0},{"$f":"SUM(C47)","v":0},"ZERO",{"$f":"SUM(C47)","v":0},{"$f":"SUM(C47)*2","v":0},"ZERO",{"$f":"SUM(C47)*4","v":0},"ZERO","ZERO",{"$f":"SUM(C47)*1","v":0},{"$f":"SUM(C47)*1","v":0},{"$f":"SUM(C47)*2","v":0},{"$f":"SUM(C47)","v":0},"ZERO","ZERO","ZERO","ZERO",{"$f":"SUM(C47)*70","v":0},"ZERO","ZERO","ZERO",null,null,null,{"$f":"SUM(C47)","v":0},{"$f":"SUM(C47)*1","v":0},null,null,null,null,{"$f":"SUM(AD47)","v":0},{"$f":"SUM(AE47)","v":0}]
["FAMILY BURGER MEAL (WITH SOFT DRINK)",19800,0,0,null,{"$f":"SUM(C48)*4","v":0},{"$f":"SUM(C48)*4","v":0},{"$f":"SUM(C48)*4","v":0},{"$f":"SUM(C48)*4","v":0},{"$f":"SUM(C48)*4","v":0},{"$f":"SUM(C48)*4","v":0},{"$f":"SUM(C48)*2*4","v":0},"ZERO","ZERO",{"$f":"SUM(C48)*1*4","v":0},{"$f":"SUM(C48)*4","v":0},{"$f":"SUM(C48)*2*4","v":0},{"$f":"SUM(C48)*4","v":0},null,"ZERO",{"$f":"SUM(C48)*4","v":0},null,{"$f":"SUM(C48)*140*4","v":0},{"$f":"SUM(C48)*4","v":0},{"$f":"SUM(C48)*4","v":0},"ZERO",null,null,null,null,null,null,null,null,null,{"$f":"SUM(AD48)*4","v":0},{"$f":"SUM(AE48)*4","v":0}]
["FAMILY BURGER MEAL (WITH SUGARCANE JUICE)",20800,0,0,null,{"$f":"SUM(C49)*4","v":0},{"$f":"SUM(C49)*4","v":0},{"$f":"SUM(C49)*4","v":0},{"$f":"SUM(C49)*4","v":0},{"$f":"SUM(C49)*4","v":0},{"$f":"SUM(C49)*4","v":0},{"$f":"SUM(C49)*2*4","v":0},"ZERO","ZERO",{"$f":"SUM(C49)*1*4","v":0},{"$f":"SUM(C49)*4","v":0},{"$f":"SUM(C49)*2*4","v":0},{"$f":"SUM(C49)*4","v":0},null,{"$f":"SUM(C49)*4","v":0},"ZERO",null,{"$f":"SUM(C49)*140*4","v":0},{"$f":"SUM(C49)*4","v":0},{"$f":"SUM(C49)*4","v":0},"ZERO",null,null,null,null,null,null,null,null,null,{"$f":"SUM(AD49)*4","v":0},{"$f":"SUM(AE49)*4","v":0}]
["CAN COKE/FANTA ONLY",null,0,0,null,"ZERO","ZERO","ZERO","ZERO","ZERO","ZERO","ZERO","ZERO","ZERO","ZERO","ZERO","ZERO","ZERO","ZERO","ZERO","ZERO","ZERO","ZERO","ZERO","ZERO","ZERO",null,null,null,null,{"$f":"SUM(C50)","v":0},null,null,null,null,"ZERO","ZERO"]
["SUPA KOMMANDO ONLY",250,0,0,null,"ZERO","ZERO","ZERO","ZERO","ZERO","ZERO","ZERO","ZERO","ZERO","ZERO","ZERO","ZERO","ZERO","ZERO","ZERO","ZERO","ZERO","ZERO","ZERO","ZERO","ZERO",null,null,{"$f":"SUM(C51)","v":0},null,"ZERO","ZERO",null,null,null,"ZERO","ZERO"]
["10X Chicken Nuggets ",2400,0,0,null,null,null,null,null,null,"ZERO",null,null,null,null,{"$f":"SUM(C52)","v":0},null,{"$f":"SUM(C52)","v":0},null,null,null,null,null,{"$f":"SUM(C52)","v":0},null,null,null,null,null,null,{"$f":"SUM(C52)","v":0},{"$f":"SUM(C52)*10","v":0}]
["20X Chicken Nuggets ",4800,0,0,null,null,null,null,null,null,"ZERO ",null,null,null,null,{"$f":"SUM(C53)","v":0},null,{"$f":"SUM(C53)","v":0},null,null,null,null,null,{"$f":"SUM(C53)","v":0},null,null,null,null,null,null,{"$f":"SUM(C53)","v":0},{"$f":"SUM(C53)*20","v":0}]
["10 CHICKEN NUGGETS & FRIES BOX",3300,0,0,null,null,null,null,null,null,{"$f":"SUM(C54)","v":0},null,null,null,null,{"$f":"SUM(C54)","v":0},null,{"$f":"SUM(C54)","v":0},null,null,null,null,null,{"$f":"SUM(C54)","v":0},null,null,null,null,null,null,{"$f":"SUM(C54)","v":0},{"$f":"SUM(C54)*10","v":0}]
["20 CHICKEN NUGGETS & FRIES BOX",6600,0,0,null,null,null,null,null,null,{"$f":"SUM(C55)","v":0},null,null,null,null,{"$f":"SUM(C55)","v":0},null,{"$f":"SUM(C55)","v":0},null,null,null,null,null,{"$f":"SUM(C55)","v":0},null,null,null,null,null,null,{"$f":"SUM(C55)","v":0},{"$f":"SUM(C55)*20","v":0}]
["PRAWN BURGER ",3000,0,0,null,{"$f":"SUM(C56)","v":0},"ZERO","ZERO","ZERO","ZERO","ZERO","ZERO",{"$f":"SUM(C56)","v":0},"ZERO",{"$f":"SUM(C56)","v":0},"ZERO",{"$f":"SUM(C56)","v":0},"ZERO","ZERO","ZERO","ZERO","ZERO",{"$f":"SUM(C56)*70","v":0},"ZERO","ZERO","ZERO",null,null,null,null,null,null,{"$f":"SUM(C56)*2","v":0},null,null,"ZERO","ZERO"]
[" FUNMMY NUGGETS  BOX",5300,0,0,null,{"$f":"SUM(C57)","v":0},{"$f":"SUM(C57)","v":0},null,null,null,{"$f":"SUM(C57)","v":0},null,{"$f":"SUM(C57)","v":0},null,{"$f":"SUM(C57)","v":0},{"$f":"SUM(C57)","v":0},null,{"$f":"SUM(C57)","v":0},null,null,null,null,null,{"$f":"SUM(C57)","v":0},null,null,null,null,null,null,{"$f":"SUM(C57)","v":0},{"$f":"SUM(C57)*10","v":0}]
["FARM PRIDE 50 CL",500,0,0,null,"ZERO","ZERO","ZERO","ZERO","ZERO","ZERO","ZERO","ZERO","ZERO","ZERO","ZERO","ZERO","ZERO","ZERO","ZERO","ZERO","ZERO","ZERO","ZERO","ZERO","ZERO",null,null,null,null,null,null,null,{"$f":"SUM(C58)","v":0},null,"ZERO","ZERO"]
["FARM PRIDE 1 LITRE",800,0,0,null,"ZERO","ZERO","ZERO","ZERO","ZERO","ZERO","ZERO","ZERO","ZERO","ZERO","ZERO","ZERO","ZERO","ZERO","ZERO","ZERO","ZERO","ZERO","ZERO","ZERO","ZERO",null,null,null,null,null,null,null,"ZERO",{"$f":"SUM(C59)","v":0},"ZERO","ZERO"]
["GRILLED CHICKEN BURGER",1700,0,{"$f":"SUM(B60*C60)","v":0},null,{"$f":"SUM(C60)","v":0},{"$f":"SUM(C60)","v":0},"ZERO","ZERO","ZERO","ZERO","ZERO","ZERO","ZERO",{"$f":"SUM(C60)","v":0},"ZERO",{"$f":"SUM(C60)*1","v":0},"ZERO","ZERO","ZERO","ZERO","ZERO",{"$f":"SUM(C60)*70","v":0},"ZERO","ZERO","ZERO",null,null,null,null,null,null,null,null,null,"ZERO","ZERO"]
["GRILLED CHICKEN BURGER + JUICE",2200,0,{"$f":"SUM(B61*C61)","v":0},null,{"$f":"SUM(C61)","v":0},{"$f":"SUM(C61)","v":0},"ZERO","ZERO","ZERO","ZERO","ZERO","ZERO","ZERO",{"$f":"SUM(C61)","v":0},"ZERO",{"$f":"SUM(C61)*1","v":0},"ZERO","ZERO","ZERO","ZERO","ZERO",{"$f":"SUM(C61)*70","v":0},"ZERO","ZERO","ZERO",null,null,null,null,null,null,null,{"$f":"SUM(C61)","v":0},null,"ZERO","ZERO"]
["GRILLED BURGER MEAL 1 & 3",4000,0,{"$f":"SUM(B62*C62)","v":0},null,{"$f":"SUM(C62)","v":0},{"$f":"SUM(C62)","v":0},"ZERO","ZERO","ZERO",{"$f":"SUM(C62)","v":0},{"$f":"SUM(C62)*2","v":0},"ZERO","ZERO","ZERO",{"$f":"SUM(C62)","v":0},{"$f":"SUM(C62)","v":0},{"$f":"SUM(C62)","v":0},"ZERO","ZERO","ZERO","ZERO",{"$f":"SUM(C62)*70","v":0},{"$f":"SUM(C62)","v":0},"ZERO","ZERO",null,null,null,null,null,null,null,{"$f":"SUM(C62)","v":0},null,"ZERO","ZERO"]
["GRILLED BURGER MEAL 2",3700,0,{"$f":"SUM(B63*C63)","v":0},null,{"$f":"SUM(C63)","v":0},{"$f":"SUM(C63)","v":0},"ZERO","ZERO","ZERO",{"$f":"SUM(C63)","v":0},{"$f":"SUM(C63)*2","v":0},"ZERO","ZERO","ZERO",{"$f":"SUM(C63)","v":0},{"$f":"SUM(C63)","v":0},{"$f":"SUM(C63)","v":0},"ZERO","ZERO",{"$f":"SUM(C63)","v":0},"ZERO",{"$f":"SUM(C63)*70","v":0},{"$f":"SUM(C63)","v":0},"ZERO","ZERO",null,null,null,null,null,null,null,"ZERO",null,"ZERO","ZERO"]
["MASTERPIECE BURGER ",5000,0,{"$f":"SUM(B64*C64)","v":0},null,{"$f":"SUM(C64)","v":0},"ZERO","ZERO","ZERO","ZERO","ZERO","ZERO",{"$f":"SUM(C64)","v":0},"ZERO","ZERO",{"$f":"SUM(C64)","v":0},{"$f":"SUM(C64)","v":0},"ZERO","ZERO","ZERO",{"$f":"SUM(C64)","v":0},{"$f":"SUM(C64)","v":0},{"$f":"SUM(C64)*70","v":0},"ZERO","ZERO","ZERO",null,null,null,null,null,null,null,null,null,"ZERO",{"$f":"SUM(C64)","v":0}]
["SUYA BURGER BOX 2 (WITH BEEF SUYA BURGER)",6000,0,0,null,0,"ZERO ","ZERO","ZERO",0,0,0,"ZERO","ZERO",0,0,0,"ZERO","ZERO",null,0,"ZERO",0,0,0,"ZERO",0,null,null,null,null,null,null,null,null,"ZERO",0]
["OPENING STOCK",null,null,null,null,{"$f":"SUM('Production DAY 16'!C2)","v":0},{"$f":"SUM('Production DAY 16'!C3)","v":0},{"$f":"SUM('Production DAY 16'!C4)","v":0},{"$f":"SUM('Production DAY 16'!C5)","v":0},{"$f":"SUM('Production DAY 16'!C6)","v":0},{"$f":"SUM('Production DAY 16'!C7)","v":0},{"$f":"SUM('Production DAY 16'!C8)","v":0},{"$f":"SUM('Production DAY 16'!C9)","v":0},{"$f":"SUM('Production DAY 16'!C10)","v":0},{"$f":"SUM('Production DAY 16'!C11)","v":0},{"$f":"SUM('Production DAY 16'!C12)","v":0},{"$f":"SUM('Production DAY 16'!C13)","v":0},{"$f":"SUM('Production DAY 16'!C14)","v":0},{"$f":"SUM('Production DAY 16'!C15)","v":0},{"$f":"SUM('Production DAY 16'!C16)","v":0},{"$f":"SUM('Production DAY 16'!C17)","v":0},{"$f":"SUM('Production DAY 16'!C18)","v":0},{"$f":"SUM('Production DAY 16'!C19)","v":0},{"$f":"SUM('Production DAY 16'!C20)","v":0},{"$f":"SUM('Production DAY 16'!C21)","v":0},{"$f":"SUM('Production DAY 16'!C22)","v":0},{"$f":"SUM('Production DAY 16'!C23)","v":0},{"$f":"SUM('Production DAY 16'!C24)","v":0},{"$f":"SUM('Production DAY 16'!C25)","v":0},{"$f":"SUM('Production DAY 16'!C26)","v":0},{"$f":"SUM('Production DAY 16'!C27)","v":0},{"$f":"SUM('Production DAY 16'!C28)","v":0},{"$f":"SUM('Production DAY 16'!C29)","v":0},{"$f":"SUM('Production DAY 16'!C30)","v":0},{"$f":"SUM('Production DAY 16'!C31)","v":0},{"$f":"SUM('Production DAY 16'!C32)","v":0},{"$f":"SUM('Production DAY 16'!C33)","v":0},{"$f":"SUM('Production DAY 16'!C34)","v":0},{"$f":"SUM('Production DAY 16'!C35)","v":0},{"$f":"SUM('Production DAY 16'!C36)","v":0},{"$f":"SUM('Production DAY 16'!C37)","v":0},{"$f":"SUM('Production DAY 16'!C38)","v":0},{"$f":"SUM('Production DAY 16'!C39)","v":0},{"$f":"SUM('Production DAY 16'!C40)","v":0},{"$f":"SUM('Production DAY 16'!C41)","v":0},{"$f":"SUM('Production DAY 16'!C42)","v":0},{"$f":"SUM('Production DAY 16'!C43)","v":0}]
["RECEIVED",null,null,null,null,{"$f":"SUM('Production DAY 16'!D2)","v":0},{"$f":"SUM('Production DAY 16'!D3)","v":0},{"$f":"SUM('Production DAY 16'!D4)","v":0},{"$f":"SUM('Production DAY 16'!D5)","v":0},{"$f":"SUM('Production DAY 16'!D6)","v":0},{"$f":"SUM('Production DAY 16'!D7)","v":0},{"$f":"SUM('Production DAY 16'!D8)","v":0},{"$f":"SUM('Production DAY 16'!D9)","v":0},{"$f":"SUM('Production DAY 16'!D10)","v":0},{"$f":"SUM('Production DAY 16'!D11)","v":0},{"$f":"SUM('Production DAY 16'!D12)","v":0},{"$f":"SUM('Production DAY 16'!D13)","v":0},{"$f":"SUM('Production DAY 16'!D14)","v":0},{"$f":"SUM('Production DAY 16'!D15)","v":0},{"$f":"SUM('Production DAY 16'!D16)","v":0},{"$f":"SUM('Production DAY 16'!D17)","v":0},{"$f":"SUM('Production DAY 16'!D18)","v":0},{"$f":"SUM('Production DAY 16'!D19)","v":0},{"$f":"SUM('Production DAY 16'!D20)","v":0},{"$f":"SUM('Production DAY 16'!D21)","v":0},{"$f":"SUM('Production DAY 16'!D22)","v":0},{"$f":"SUM('Production DAY 16'!D23)","v":0},{"$f":"SUM('Production DAY 16'!D24)","v":0},{"$f":"SUM('Production DAY 16'!D25)","v":0},{"$f":"SUM('Production DAY 16'!D26)","v":0},{"$f":"SUM('Production DAY 16'!D27)","v":0},{"$f":"SUM('Production DAY 16'!D28)","v":0},{"$f":"SUM('Production DAY 16'!D29)","v":0},{"$f":"SUM('Production DAY 16'!D30)","v":0},{"$f":"SUM('Production DAY 16'!D31)","v":0},{"$f":"SUM('Production DAY 16'!D32)","v":0},{"$f":"SUM('Production DAY 16'!D33)","v":0},{"$f":"SUM('Production DAY 16'!D34)","v":0},{"$f":"SUM('Production DAY 16'!D35)","v":0},{"$f":"SUM('Production DAY 16'!D36)","v":0},{"$f":"SUM('Production DAY 16'!D37)","v":0},{"$f":"SUM('Production DAY 16'!D38)","v":0},{"$f":"SUM('Production DAY 16'!D39)","v":0},{"$f":"SUM('Production DAY 16'!D40)","v":0},{"$f":"SUM('Production DAY 16'!D41)","v":0},{"$f":"SUM('Production DAY 16'!D42)","v":0},{"$f":"SUM('Production DAY 16'!D43)","v":0}]
["TOTAL STOCK",null,null,null,null,{"$f":"SUM(F66:F67)","v":0},{"$f":"SUM(G66:G67)","v":0},{"$f":"SUM(H66:H67)","v":0},{"$f":"SUM(I66:I67)","v":0},0,0,0,0,0,0,{"$f":"SUM(P66:P67)","v":0},0,0,0,0,0,0,0,0,0,0,0,0,0,0,0,0,0,0,0,0,0,0,0,0,0,0,0,0,0,0,0]
["USED",null,null,{"$f":"SUM(D3:D65)","v":0},null,{"$f":"SUM(F3:F65)","v":0},0,0,0,0,0,0,0,0,0,0,0,0,0,0,0,0,0,0,0,0,0,0,0,0,0,0,0,0,0,0,0,{"$f":"SUM(AL3:AL64)","v":0},0,0,0,0,0,0,0,0,0]
["CLOSING STOCK",null,null,null,null,{"$f":"SUM(F68-F69)","v":0},0,0,0,0,0,0,0,0,0,0,0,0,0,0,0,0,0,0,0,0,0,0,0,0,0,0,0,{"$f":"SUM(AH66-AH69)","v":0},{"$f":"SUM(AI68-AI69)","v":0},0,0,0,0,0,0,0,0,0,0,0,0]

{"sheet":"Production DAY 17","index":32,"n_rows":44,"n_cols":8,"rows_kept":44,"cut":false,"hidden":false,"merged":[]}
["Nos#","ITEMS"," < OPENING STOCK","RECEIVED","USED >","SALES CLOSING STOCK >","PHYSICAL STOCK COUNT","COMMENTS"]
[1,"Burger Bread",{"$f":"SUM('Production DAY 16'!G2)","v":0},null,{"$f":"SUM('DAY 17'!F69)","v":0},{"$f":"SUM('DAY 17'!F70)","v":0},0,{"$f":"IF(G2=F2,TRUE,FALSE)","v":true}]
[2,"Chicken Patty",{"$f":"SUM('Production DAY 16'!G3)","v":0},null,{"$f":"SUM('DAY 17'!G69)","v":0},{"$f":"SUM('DAY 17'!G70)","v":0},0,true]
[3,"Shawarma Bread",{"$f":"SUM('Production DAY 16'!G4)","v":0},null,{"$f":"SUM('DAY 17'!H69)","v":0},{"$f":"SUM('DAY 17'!H70)","v":0},0,true]
[4,"Chicken Portion or Shawarma portion",{"$f":"SUM('Production DAY 16'!G5)","v":0},null,{"$f":"SUM('DAY 17'!I69)","v":0},{"$f":"SUM('DAY 17'!I70)","v":0},0,true]
[5,"Sausage",{"$f":"SUM('Production DAY 16'!G6)","v":0},null,{"$f":"SUM('DAY 17'!J69)","v":0},{"$f":"SUM('DAY 17'!J70)","v":0},0,true]
[6,"Portion of Fries",{"$f":"SUM('Production DAY 16'!G7)","v":0},null,{"$f":"SUM('DAY 17'!K69)","v":0},{"$f":"SUM('DAY 17'!K70)","v":0},0,true]
[7,"Pieces of Chicken",{"$f":"SUM('Production DAY 16'!G8)","v":0},null,{"$f":"SUM('DAY 17'!L69)","v":0},{"$f":"SUM('DAY 17'!L70)","v":0},0,true]
[8,"Cheese",{"$f":"SUM('Production DAY 16'!G9)","v":0},null,{"$f":"SUM('DAY 17'!M69)","v":0},{"$f":"SUM('DAY 17'!M70)","v":0},0,true]
[9,"Bacon",{"$f":"SUM('Production DAY 16'!G10)","v":0},null,{"$f":"SUM('DAY 17'!N69)","v":0},{"$f":"SUM('DAY 17'!N70)","v":0},0,true]
[10,"A Paper Bag",{"$f":"SUM('Production DAY 16'!G11)","v":0},null,{"$f":"SUM('DAY 17'!O69)","v":0},{"$f":"SUM('DAY 17'!O70)","v":0},0,true]
[11,"Achicken Box",{"$f":"SUM('Production DAY 16'!G12)","v":0},null,{"$f":"SUM('DAY 17'!P69)","v":0},{"$f":"SUM('DAY 17'!P70)","v":0},0,true]
[12,"Paper Wrap",{"$f":"SUM('Production DAY 16'!G13)","v":0},null,{"$f":"SUM('DAY 17'!Q69)","v":0},{"$f":"SUM('DAY 17'!Q70)","v":0},0,true]
[13,"A Branded Nylon",{"$f":"SUM('Production DAY 16'!G14)","v":0},null,{"$f":"SUM('DAY 17'!R69)","v":0},{"$f":"SUM('DAY 17'!R70)","v":0},0,true]
[14,"Parfait",{"$f":"SUM('Production DAY 16'!G15)","v":0},null,{"$f":"SUM('DAY 17'!S69)","v":0},{"$f":"SUM('DAY 17'!S70)","v":0},0,true]
[15,"A Bottle of SUGAR Juice",{"$f":"SUM('Production DAY 16'!G16)","v":0},null,{"$f":"SUM('DAY 17'!T69)","v":0},{"$f":"SUM('DAY 17'!T70)","v":0},0,true]
[16,"35 CL Soft Drink",{"$f":"SUM('Production DAY 16'!G17)","v":0},null,{"$f":"SUM('DAY 17'!U69)","v":0},{"$f":"SUM('DAY 17'!U70)","v":0},0,true]
[17,"Beef Patty",{"$f":"SUM('Production DAY 16'!G18)","v":0},null,{"$f":"SUM('DAY 17'!V69)","v":0},{"$f":"SUM('DAY 17'!V70)","v":0},0,true]
[18,"Cream in GRAMS",{"$f":"SUM('Production DAY 16'!G19)","v":0},null,{"$f":"SUM('DAY 17'!W69)","v":0},{"$f":"SUM('DAY 17'!W70)","v":0},0,true]
[19,"KETCHUP",{"$f":"SUM('Production DAY 16'!G20)","v":0},null,{"$f":"SUM('DAY 17'!X69)","v":0},{"$f":"SUM('DAY 17'!X70)","v":0},0,true]
[20,"plain Nylon",{"$f":"SUM('Production DAY 16'!G21)","v":0},null,{"$f":"SUM('DAY 17'!Y69)","v":0},{"$f":"SUM('DAY 17'!Y70)","v":0},0,true]
[21,"Barbeque Sauce",{"$f":"SUM('Production DAY 16'!G22)","v":0},null,{"$f":"SUM('DAY 17'!Z69)","v":0},{"$f":"SUM('DAY 17'!Z70)","v":0},0,true]
[22,"Meal Box",{"$f":"SUM('Production DAY 16'!G23)","v":0},null,{"$f":"SUM('DAY 17'!AA69)","v":0},{"$f":"SUM('DAY 17'!AA70)","v":0},0,true]
[23,"COCONUT BREAD",{"$f":"SUM('Production DAY 16'!G24)","v":0},null,{"$f":"SUM('DAY 17'!AB69)","v":0},{"$f":"SUM('DAY 17'!AB70)","v":0},0,true]
[24,"SUPA KOMMANDO",{"$f":"SUM('Production DAY 16'!G25)","v":0},null,{"$f":"SUM('DAY 17'!AC69)","v":0},{"$f":"SUM('DAY 17'!AC70)","v":0},0,true]
[25,"SHAWARMA SUB",{"$f":"SUM('Production DAY 16'!G26)","v":0},null,{"$f":"SUM('DAY 17'!AD69)","v":0},{"$f":"SUM('DAY 17'!AD70)","v":0},0,true]
[26,"CAN COKE / FANTA",{"$f":"SUM('Production DAY 16'!G27)","v":0},null,{"$f":"SUM('DAY 17'!AE69)","v":0},{"$f":"SUM('DAY 17'!AE70)","v":0},0,true]
[27,"NUGGETS ",{"$f":"SUM('Production DAY 16'!G28)","v":0},null,{"$f":"SUM('DAY 17'!AF69)","v":0},{"$f":"SUM('DAY 17'!AF70)","v":0},0,true]
[28,"PRAWN",{"$f":"SUM('Production DAY 16'!G29)","v":0},null,{"$f":"SUM('DAY 17'!AG69)","v":0},{"$f":"SUM('DAY 17'!AG70)","v":0},0,true]
[29,"FARM PRIDE",{"$f":"SUM('Production DAY 16'!G30)","v":0},null,{"$f":"SUM('DAY 17'!AH69)","v":0},{"$f":"SUM('DAY 17'!AH70)","v":0},0,true]
[30,"50CL OR PULPY",{"$f":"SUM('Production DAY 16'!G31)","v":0},null,{"$f":"SUM('DAY 17'!AI69)","v":0},{"$f":"SUM('DAY 17'!AI70)","v":0},0,true]
[31,"FARM PRIDE 1 LT",{"$f":"SUM('Production DAY 16'!G32)","v":0},null,{"$f":"SUM('DAY 17'!AJ69)","v":0},{"$f":"SUM('DAY 17'!AJ70)","v":0},0,true]
[32,"BEEF PORTION FOR SHAWARMA",{"$f":"SUM('Production DAY 16'!G33)","v":0},null,{"$f":"SUM('DAY 17'!AK69)","v":0},{"$f":"SUM('DAY 17'!AK70)","v":0},0,true]
[33,"BEEF SUYA STICK",{"$f":"SUM('Production DAY 16'!G34)","v":0},null,{"$f":"SUM('DAY 17'!AL69)","v":0},{"$f":"SUM('DAY 17'!AL70)","v":0},0,true]
[34,"EMPTY 1",{"$f":"SUM('Production DAY 16'!G35)","v":0},null,{"$f":"SUM('DAY 17'!AM69)","v":0},{"$f":"SUM('DAY 17'!AM70)","v":0},0,true]
[35,"EMPTY 2",{"$f":"SUM('Production DAY 16'!G36)","v":0},null,{"$f":"SUM('DAY 17'!AN69)","v":0},{"$f":"SUM('DAY 17'!AN70)","v":0},0,true]
[36,"EMPTY 3",{"$f":"SUM('Production DAY 16'!G37)","v":0},null,{"$f":"SUM('DAY 17'!AO69)","v":0},{"$f":"SUM('DAY 17'!AO70)","v":0},0,true]
[37,"EMPTY 4",{"$f":"SUM('Production DAY 16'!G38)","v":0},null,{"$f":"SUM('DAY 17'!AP69)","v":0},{"$f":"SUM('DAY 17'!AP70)","v":0},0,true]
[38,"EMPTY 5",{"$f":"SUM('Production DAY 16'!G39)","v":0},null,{"$f":"SUM('DAY 17'!AQ69)","v":0},{"$f":"SUM('DAY 17'!AQ70)","v":0},0,true]
[39,"EMPTY 6",{"$f":"SUM('Production DAY 16'!G40)","v":0},null,{"$f":"SUM('DAY 17'!AR69)","v":0},{"$f":"SUM('DAY 17'!AR70)","v":0},0,true]
[40,"EMPTY 7",{"$f":"SUM('Production DAY 16'!G41)","v":0},null,{"$f":"SUM('DAY 17'!AS69)","v":0},{"$f":"SUM('DAY 17'!AS70)","v":0},0,true]
[41,"EMPTY 8",{"$f":"SUM('Production DAY 16'!G42)","v":0},null,{"$f":"SUM('DAY 17'!AT69)","v":0},{"$f":"SUM('DAY 17'!AT70)","v":0},0,true]
[42,"EMPTY 9",{"$f":"SUM('Production DAY 16'!G43)","v":0},null,{"$f":"SUM('DAY 17'!AU69)","v":0},{"$f":"SUM('DAY 17'!AU70)","v":0},0,true]
[43,"EMPTY 10",{"$f":"SUM('Production DAY 16'!G44)","v":0},null,{"$f":"SUM('DAY 17'!AV69)","v":0},{"$f":"SUM('DAY 17'!AV70)","v":0},0,true]

{"sheet":"DAY 17","index":33,"n_rows":70,"n_cols":47,"rows_kept":70,"cut":false,"hidden":false,"merged":[[0,7,0,28]]}
["FEBRUARY 12th, 2022",null,null,{"$f":"SUM(D3:D50)","v":0},null,null,null,"BURGER PALACE INVENTORY RECORDS"]
["ITEM","AMOUNT","QUANTITY","TOTAL",null,"Burger Bread","Chicken Patty","Shawarma Bread","Chicken Portion or Shawarma portion","Sausage","Portion of Fries","Pieces of Chicken","Cheese","Bacon","A Paper Bag","Achicken Box","Paper Wrap","A Branded Nylon","Parfait","A Bottle of SUGAR Juice","35 CL Soft Drink","Beef Patty","Cream in GRAMS","KETCHUP","plain Nylon","Barbeque Sauce","Meal Box","COCONUT BREAD ","SUPA KOMMANDO ","SHAWARMA SUB","CAN COKE / FANTA","NUGGETS","PRAWN","FARM PRIDE 50CL OR PULPY","FARM PRIDE 1 LT","BEEF PORTION FOR SHAWARMA ","BEEF SUYA STICK","EMPTY 1","EMPTY 2","EMPTY 3","EMPTY 4","EMPTY 5","EMPTY 6","EMPTY 7","EMPTY 8","EMPTY 9","EMPTY 10"]
["DELUXE BURGER MEAL (WITH SOFT DRINK)",5400,0,{"$f":"SUM(B3*C3)","v":0},null,{"$f":"SUM(C3)","v":0},{"$f":"SUM(C3)","v":0},{"$f":"SUM(C3)","v":0},{"$f":"SUM(C3)","v":0},{"$f":"SUM(C3)","v":0},{"$f":"SUM(C3)","v":0},{"$f":"SUM(C3)*2","v":0},"ZERO","ZERO",{"$f":"SUM(C3)*1","v":0},{"$f":"SUM(C3)","v":0},{"$f":"SUM(C3)*2","v":0},{"$f":"SUM(C3)","v":0},null,"ZERO",{"$f":"SUM(C3)","v":0},null,{"$f":"SUM(C3)*140","v":0},{"$f":"SUM(C3)","v":0},{"$f":"SUM(C3)","v":0},"ZERO",null,null,null,null,null,null,null,null,null,{"$f":"SUM(AD3)","v":0},0]
["DELUXE BURGER MEAL (WITH SUGARCANE JUICE)",5600,0,{"$f":"SUM(B4*C4)","v":0},null,{"$f":"SUM(C4)","v":0},{"$f":"SUM(C4)","v":0},{"$f":"SUM(C4)","v":0},{"$f":"SUM(C4)","v":0},{"$f":"SUM(C4)","v":0},0,{"$f":"SUM(C4)*2","v":0},"ZERO","ZERO",{"$f":"SUM(C4)*1","v":0},0,{"$f":"SUM(C4)*2","v":0},0,null,{"$f":"SUM(C4)","v":0},"ZERO",null,{"$f":"SUM(C4)*140","v":0},{"$f":"SUM(C4)","v":0},0,"ZERO",null,null,null,null,null,null,null,null,null,0,0]
["DELUXE MEAL EXTRA (WITH Soft Drink)",null,0,{"$f":"SUM(B5*C5)","v":0},null,{"$f":"SUM(C5)","v":0},{"$f":"SUM(C5)","v":0},{"$f":"SUM(C5)","v":0},{"$f":"SUM(C5)","v":0},{"$f":"SUM(C5)","v":0},0,{"$f":"SUM(C5)*2","v":0},"ZERO","ZERO",{"$f":"SUM(C5)","v":0},0,{"$f":"SUM(C5)*2","v":0},0,{"$f":"SUM(C5)","v":0},"ZERO",{"$f":"SUM(C5)","v":0},null,{"$f":"SUM(C5)*140","v":0},{"$f":"SUM(C5)","v":0},0,"ZERO",null,null,null,null,null,null,null,null,null,0,0]
["DELUXE BURGER MEAL Extra (With Sugarcane juice",null,0,{"$f":"SUM(B6*C6)","v":0},null,{"$f":"SUM(C6)","v":0},{"$f":"SUM(C6)","v":0},{"$f":"SUM(C6)","v":0},{"$f":"SUM(C6)","v":0},{"$f":"SUM(C6)","v":0},0,{"$f":"SUM(C6)*2","v":0},"ZERO","ZERO",{"$f":"SUM(C6)","v":0},0,{"$f":"SUM(C6)*2","v":0},0,{"$f":"SUM(C6)","v":0},{"$f":"SUM(C6)","v":0},"ZERO",null,{"$f":"SUM(C6)*140","v":0},{"$f":"SUM(C6)","v":0},0,"ZERO",null,null,null,null,null,null,null,null,null,0,0]
["PREMIUM BURGER Meal ",5900,0,{"$f":"SUM(B7*C7)","v":0},null,{"$f":"SUM(C7)","v":0},{"$f":"SUM(C7)","v":0},"ZERO","ZERO","ZERO",0,{"$f":"SUM(C7)*5","v":0},"ZERO","ZERO",{"$f":"SUM(C7)","v":0},0,{"$f":"SUM(C7)*1.25","v":0},0,"ZERO","ZERO",{"$f":"SUM(C7)","v":0},"ZERO",{"$f":"SUM(C7)*70","v":0},{"$f":"SUM(C7)*2","v":0},0,{"$f":"SUM(C7)","v":0},null,null,null,null,null,null,null,null,null,"ZERO","ZERO"]
["CRISPY CHICKEN BOX",4300,0,null,null,"ZERO","ZERO","ZERO","ZERO","ZERO",0,{"$f":"SUM(C8)*5","v":0},"ZERO","ZERO","ZERO",0,{"$f":"SUM(C8)*0.25","v":0},0,"ZERO","ZERO",{"$f":"SUM(C8)","v":0},"ZERO","ZERO",{"$f":"SUM(C8)*2","v":0},0,{"$f":"SUM(C8)","v":0},null,null,null,null,null,null,null,null,null,"ZERO","ZERO"]
["ROYAL BURGER MEAL (CHICKEN  PATTY)",null,0,{"$f":"SUM(B9*C9)","v":0},null,{"$f":"SUM(C9)","v":0},{"$f":"SUM(C9)*2","v":0},"ZERO","ZERO","ZERO",0,"ZERO",{"$f":"SUM(C9)*2","v":0},{"$f":"SUM(C9)*2","v":0},"ZERO",0,{"$f":"SUM(C9)","v":0},0,{"$f":"SUM(C9)","v":0},"ZERO","ZERO","ZERO",{"$f":"SUM(C9)*140","v":0},{"$f":"SUM(C9)*2","v":0},0,{"$f":"SUM(C9)","v":0},null,null,null,null,null,null,null,null,null,"ZERO","ZERO"]
["ROYAL BURGER MEAL (BEEF  PATTY)",null,0,{"$f":"SUM(B10*C10)","v":0},null,{"$f":"SUM(C10)","v":0},"ZERO","ZERO","ZERO","ZERO",0,"ZERO",{"$f":"SUM(C10)*2","v":0},{"$f":"SUM(C10)*2","v":0},"ZERO",0,0,0,{"$f":"SUM(C10)","v":0},"ZERO","ZERO",{"$f":"SUM(C10)*2","v":0},{"$f":"SUM(C10)*140","v":0},{"$f":"SUM(C10)*2","v":0},0,{"$f":"SUM(C10)","v":0},null,null,null,null,null,null,null,null,null,"ZERO","ZERO"]
["ROYAL BURGER ONLY (CHICKEN PATTY)",3300,0,{"$f":"SUM(B11*C11:C25,A1,A1,A1,A1,A1)","v":0},null,{"$f":"SUM(C11)","v":0},{"$f":"SUM(C11)*2","v":0},"ZERO","ZERO","ZERO","ZERO","ZERO",{"$f":"SUM(C11)*2","v":0},{"$f":"SUM(C11)*2","v":0},"ZERO",0,0,0,"ZERO","ZERO","ZERO","ZERO",{"$f":"SUM(C11)*140","v":0},{"$f":"SUM(C11)","v":0},"ZERO","ZERO",null,null,null,null,null,null,null,null,null,"ZERO","ZERO"]
["ROYAL BURGER ONLY (BEEF PATTY)",3300,0,{"$f":"SUM(B12*C12)","v":0},null,{"$f":"SUM(C12)","v":0},null,"ZERO","ZERO","ZERO","ZERO","ZERO",{"$f":"SUM(C12)*2","v":0},{"$f":"SUM(C12)*2","v":0},"ZERO",0,0,0,"ZERO","ZERO","ZERO",{"$f":"SUM(C12)*2","v":0},{"$f":"SUM(C12)*140","v":0},{"$f":"SUM(C12)","v":0},"ZERO","ZERO",null,null,null,null,null,null,null,null,null,"ZERO","ZERO"]
["MAYOR'S COCONUT BURGER ",2800,0,0,null,0,{"$f":"SUM(C13)","v":0},"ZERO","ZERO","ZERO","ZERO","ZERO",{"$f":"SUM(C13)","v":0},"ZERO","ZERO",0,0,0,"ZERO","ZERO","ZERO",{"$f":"SUM(C13)","v":0},{"$f":"SUM(C13)*140","v":0},"ZERO","ZERO","ZERO",null,{"$f":"SUM(C13)","v":0},{"$f":"SUM(C13)","v":0},null,null,null,null,null,null,"ZERO","ZERO"]
["DOUBLE DECKER CRISPY CHK. CHEESE BURGER",2500,0,0,null,{"$f":"SUM(C14)","v":0},{"$f":"SUM(C14)*2","v":0},"ZERO","ZERO","ZERO","ZERO","ZERO",{"$f":"SUM(C14)","v":0},"ZERO","ZERO",0,0,"ZERO","ZERO","ZERO","ZERO","ZERO",{"$f":"SUM(C14)*70","v":0},"ZERO","ZERO","ZERO",null,null,null,null,null,null,null,null,null,"ZERO","ZERO"]
["SINGLE BEEF BURGER",1700,0,0,null,0,"ZERO","ZERO","ZERO","ZERO","ZERO","ZERO",null,"ZERO",{"$f":"SUM(C15)","v":0},null,0,"ZERO","ZERO","ZERO","ZERO",{"$f":"SUM(C15)","v":0},{"$f":"SUM(C15)*70","v":0},"ZERO","ZERO","ZERO",null,null,null,null,null,null,null,null,null,"ZERO","ZERO"]
["YANKEE BURGER",2400,0,0,null,0,"ZERO","ZERO","ZERO","ZERO","ZERO","ZERO",null,{"$f":"SUM(C16)*2","v":0},{"$f":"SUM(C16)","v":0},null,0,"ZERO","ZERO","ZERO","ZERO",{"$f":"SUM(C16)","v":0},{"$f":"SUM(C16)*70","v":0},"ZERO","ZERO","ZERO",null,null,null,null,null,null,null,null,null,"ZERO","ZERO"]
["ROYAL BURGER WITH FRIES (Chicken)",4000,0,0,null,0,{"$f":"SUM(C17)*2","v":0},"ZERO","ZERO","ZERO",{"$f":"SUM(C17)","v":0},"ZERO",{"$f":"SUM(C17)*2","v":0},{"$f":"SUM(C17)*2","v":0},"ZERO",{"$f":"SUM(C17)","v":0},0,"ZERO","ZERO","ZERO","ZERO","ZERO",{"$f":"SUM(C17)*140","v":0},{"$f":"SUM(C17)*2","v":0},"ZERO","ZERO",null,null,null,null,null,null,null,null,null,"ZERO","ZERO"]
["ROYAL BURGER WITH FRIES (BEEF)",4000,0,0,null,0,"ZERO","ZERO","ZERO","ZERO",{"$f":"SUM(C18)","v":0},"ZERO",{"$f":"SUM(C18)*2","v":0},{"$f":"SUM(C18)*2","v":0},"ZERO",{"$f":"SUM(C18)","v":0},0,"ZERO","ZERO","ZERO","ZERO",{"$f":"SUM(C18)*2","v":0},{"$f":"SUM(C18)*140","v":0},{"$f":"SUM(C18)*2","v":0},"ZERO","ZERO",null,null,null,null,null,null,null,null,null,"ZERO","ZERO"]
["CRISPY CHICKEN BURGER",1700,0,0,null,0,{"$f":"SUM(C19)","v":0},"ZERO","ZERO","ZERO","ZERO","ZERO","ZERO","ZERO",{"$f":"SUM(C19)","v":0},"ZERO",{"$f":"SUM(C19)*1","v":0},"ZERO","ZERO","ZERO","ZERO","ZERO",{"$f":"SUM(C19)*70","v":0},"ZERO","ZERO","ZERO",null,null,null,null,null,null,null,null,null,"ZERO","ZERO"]
["SUYA BURGER BOX",5500,0,0,null,0,{"$f":"SUM(C20)*2","v":0},"ZERO","ZERO",{"$f":"SUM(C20)*4","v":0},{"$f":"SUM(C20)","v":0},{"$f":"SUM(C20)*4","v":0},"ZERO","ZERO",{"$f":"SUM(C20)","v":0},{"$f":"SUM(C20)","v":0},{"$f":"SUM(C20)","v":0},"ZERO","ZERO",null,{"$f":"SUM(C20)","v":0},"ZERO",0,{"$f":"SUM(C20)*2","v":0},{"$f":"SUM(C20)","v":0},"ZERO",{"$f":"SUM(C20)","v":0},null,null,null,null,null,null,null,null,"ZERO","ZERO"]
["CRISPY CHICKEN BURGER PLUS CHEESE",2100,0,0,null,0,{"$f":"SUM(C21)","v":0},"ZERO","ZERO","ZERO","ZERO","ZERO",{"$f":"SUM(C21)","v":0},"ZERO",{"$f":"SUM(C21)","v":0},"ZERO",0,"ZERO","ZERO","ZERO","ZERO","ZERO",0,"ZERO","ZERO","ZERO",null,null,null,null,null,null,null,null,null,"ZERO","ZERO"]
["SINGLE BEEF CHEESE BURGER ",2100,0,0,null,0,"ZERO","ZERO","ZERO","ZERO","ZERO","ZERO",{"$f":"SUM(C22)","v":0},"ZERO",{"$f":"SUM(C22)","v":0},"ZERO",0,"ZERO","ZERO","ZERO","ZERO",{"$f":"SUM(C22)","v":0},0,"ZERO","ZERO","ZERO",null,null,null,null,null,null,null,null,null,"ZERO","ZERO"]
["DOUBLE DECKER BEEF CHEESE BURGER",2800,0,0,null,0,"ZERO","ZERO","ZERO","ZERO","ZERO","ZERO",{"$f":"SUM(C23)*2","v":0},"ZERO","ZERO",{"$f":"SUM(C23)","v":0},0,"ZERO","ZERO","ZERO","ZERO",{"$f":"SUM(C23)*2","v":0},0,"ZERO","ZERO","ZERO",null,null,null,null,null,null,null,null,null,"ZERO","ZERO"]
["CHICKEN SUYA BURGER ",2200,0,0,null,0,{"$f":"SUM(C24)*2","v":0},"ZERO","ZERO","ZERO","ZERO","ZERO","ZERO","ZERO",{"$f":"SUM(C24)*1","v":0},"ZERO",0,"ZERO","ZERO","ZERO","ZERO","ZERO",0,"ZERO","ZERO","ZERO",null,null,null,null,null,null,null,null,null,"ZERO","ZERO"]
["CHICKEN SHAWARMA",1800,0,0,null,null,"ZERO",{"$f":"SUM(C25)","v":0},{"$f":"SUM(C25)","v":0},{"$f":"SUM(C25)*2","v":0},"ZERO","ZERO","ZERO","ZERO","ZERO","ZERO",0,{"$f":"SUM(C25)","v":0},"ZERO","ZERO","ZERO","ZERO",0,"ZERO","ZERO","ZERO",null,null,null,null,null,null,null,null,null,{"$f":"SUM(AD25)","v":0},{"$f":"SUM(AE25)","v":0}]
["BARBECUE BEEF SHAWARMA",2000,0,0,null,null,"ZERO",{"$f":"SUM(C26)","v":0},"ZERO",{"$f":"SUM(C26)*2","v":0},"ZERO","ZERO","ZERO","ZERO","ZERO","ZERO",0,0,"ZERO","ZERO","ZERO","ZERO",0,"ZERO","ZERO","ZERO",null,null,null,null,null,null,null,null,null,{"$f":"SUM(C26)","v":0},"ZERO"]
["BEEF SUYA SHAWARMA",2200,0,0,null,null,"ZERO",{"$f":"SUM(C27)","v":0},"ZERO",{"$f":"SUM(C27)*2","v":0},"ZERO","ZERO","ZERO","ZERO","ZERO","ZERO",0,0,"ZERO","ZERO","ZERO","ZERO",0,"ZERO","ZERO","ZERO",null,null,null,null,null,null,null,null,null,{"$f":"SUM(AD27)","v":0},{"$f":"SUM(C27)","v":0}]
["BEEF SUYA BURGER ",2200,0,0,null,{"$f":"SUM(C28)","v":0},"ZERO",null,"ZERO","ZERO","ZERO","ZERO","ZERO","ZERO",{"$f":"SUM(C28)","v":0},"ZERO",0,0,"ZERO","ZERO","ZERO","ZERO",0,"ZERO","ZERO","ZERO",null,null,null,null,null,null,null,null,null,{"$f":"SUM(AD28)","v":0},{"$f":"SUM(C28)","v":0}]
["CHICKEN SUYA SHAWARMA",2200,0,0,null,"ZERO",{"$f":"SUM(C29)*2","v":0},{"$f":"SUM(C29)","v":0},null,{"$f":"SUM(C29)*2","v":0},"ZERO","ZERO","ZERO","ZERO","ZERO","ZERO",0,0,"ZERO","ZERO","ZERO","ZERO",0,"ZERO","ZERO","ZERO"]
["CHESSY SHAWARMA",2500,0,0,null,"ZERO","ZERO",{"$f":"SUM(C30)","v":0},{"$f":"SUM(C30)","v":0},{"$f":"SUM(C30)*2","v":0},null,"ZERO",{"$f":"SUM(C30)*2","v":0},"ZERO","ZERO","ZERO",0,0,"ZERO","ZERO","ZERO","ZERO",{"$f":"SUM(C30)*140","v":0},"ZERO","ZERO","ZERO",null,null,null,null,null,null,null,null,null,{"$f":"SUM(AD30)","v":0},{"$f":"SUM(AE30)","v":0}]
["2 CHICKEN AND CHIPS",2300,0,0,null,"ZERO","ZERO","ZERO","ZERO","ZERO",{"$f":"SUM(C31)","v":0},{"$f":"SUM(C31)*2","v":0},"ZERO","ZERO","ZERO",{"$f":"SUM(C31)","v":0},"ZERO",0,"ZERO","ZERO","ZERO","ZERO","ZERO",{"$f":"SUM(C31)","v":0},"ZERO","ZERO",null,null,null,null,null,null,null,null,null,"ZERO","ZERO"]
["4 CHICKEN AND CHIPS",3500,0,0,null,"ZERO","ZERO","ZERO","ZERO","ZERO",{"$f":"SUM(C32)","v":0},{"$f":"SUM(C32)*4","v":0},"ZERO","ZERO","ZERO",{"$f":"SUM(C32)","v":0},"ZERO",0,"ZERO","ZERO","ZERO","ZERO","ZERO",{"$f":"SUM(C32)*2","v":0},"ZERO","ZERO","zero","zero","zero",null,null,null,null,null,null,"ZERO","ZERO"]
["SPICY CHICKEN ONLY",650,0,null,null,"ZERO","ZERO","ZERO","ZERO","ZERO","ZERO",{"$f":"SUM(C33)","v":0},"ZERO","ZERO","ZERO","ZERO","ZERO","ZERO","ZERO","ZERO","ZERO","ZERO","ZERO","ZERO",{"$f":"SUM(C33)","v":0},"ZERO",null,null,null,null,null,null,null,null,null,"ZERO","ZERO"]
["CRISPY CHICKEN ONLY",650,0,{"$f":"SUM(B34*C34)","v":0},null,"ZERO","ZERO","ZERO","ZERO","ZERO","ZERO",{"$f":"SUM(C34)","v":0},"ZERO","ZERO","ZERO","ZERO","ZERO","ZERO","ZERO","ZERO","ZERO","ZERO","ZERO","ZERO",{"$f":"SUM(C34)","v":0},"ZERO",null,null,null,null,null,null,null,null,null,"ZERO","ZERO"]
["POTATO FRIES",700,0,0,null,"ZERO","ZERO","ZERO","ZERO","ZERO",null,"ZERO","ZERO","ZERO","ZERO","ZERO","ZERO","ZERO","ZERO","ZERO","ZERO","ZERO","ZERO","ZERO","ZERO","ZERO",null,null,null,null,null,null,null,null,null,"ZERO","ZERO"]
["FRENCH FRIES ONLY",1000,0,0,null,"ZERO","ZERO","ZERO","ZERO","ZERO",{"$f":"SUM(C36)","v":0},"ZERO","ZERO","ZERO","ZERO","ZERO","ZERO","ZERO","ZERO","ZERO","ZERO","ZERO","ZERO","ZERO",{"$f":"SUM(C36)","v":0},"ZERO",null,null,null,null,null,null,null,null,null,"ZERO","ZERO"]
["SUGERCANNE JUICE",750,0,0,null,"ZERO","ZERO","ZERO","ZERO","ZERO","ZERO","ZERO","ZERO","ZERO","ZERO","ZERO","ZERO","ZERO","ZERO",{"$f":"SUM(C37)","v":0},"ZERO","ZERO","ZERO","ZERO","ZERO","ZERO",null,null,null,null,null,null,null,null,null,"ZERO","ZERO"]
["35 CL SOFT DRINK",200,0,0,null,"ZERO","ZERO","ZERO","ZERO","ZERO","ZERO","ZERO","ZERO","ZERO","ZERO","ZERO","ZERO","ZERO","ZERO","ZERO",{"$f":"SUM(C38)","v":0},"ZERO","ZERO","ZERO","ZERO","ZERO",null,null,null,null,null,null,null,null,null,"ZERO","ZERO"]
["PARFAIT",null,0,0,null,"ZERO","ZERO","ZERO","ZERO","ZERO","ZERO","ZERO","ZERO","ZERO","ZERO","ZERO","ZERO",{"$f":"SUM(C39)","v":0},{"$f":"SUM(C39)","v":0},"ZERO","ZERO","ZERO","ZERO","ZERO","ZERO","ZERO",null,null,null,null,null,null,null,null,null,"ZERO","ZERO"]
["MARINATED WINGS",500,0,0,null,"ZERO","ZERO","ZERO","ZERO","ZERO","ZERO",{"$f":"SUM(C40)","v":0},"ZERO","ZERO","ZERO","ZERO","ZERO","ZERO","ZERO","ZERO","ZERO","ZERO","ZERO","ZERO","ZERO","ZERO",null,null,null,null,null,null,null,null,null,"ZERO","ZERO"]
["CHEESE ",400,0,0,null,"ZERO","ZERO","ZERO","ZERO","ZERO","ZERO","ZERO",{"$f":"SUM(C41)","v":0},"ZERO","ZERO","ZERO","ZERO","ZERO","ZERO","ZERO","ZERO","ZERO","ZERO","ZERO","ZERO","ZERO",null,null,null,null,null,null,null,null,null,"ZERO","ZERO"]
["SAUSAGE",200,0,0,null,null,null,null,null,null,"ZERO"]
["BACON",400,0,0,null,"ZERO","ZERO","ZERO","ZERO","ZERO","ZERO","ZERO","ZERO",{"$f":"SUM(C43)","v":0},"ZERO","ZERO","ZERO","ZERO","ZERO","ZERO","ZERO","ZERO","ZERO","ZERO","ZERO","ZERO",null,null,null,null,null,null,null,null,null,"ZERO","ZERO"]
["FRIENDY BURGER MEAL (WITH SOFT DRINK)",10200,0,0,null,{"$f":"SUM(C44)*2","v":0},{"$f":"SUM(C44)*2","v":0},{"$f":"SUM(C44)*2","v":0},{"$f":"SUM(C44)*2","v":0},{"$f":"SUM(C44)*2","v":0},{"$f":"SUM(C44)*2","v":0},{"$f":"SUM(C44)*2*2","v":0},"ZERO","ZERO",{"$f":"SUM(C44)*1*2","v":0},{"$f":"SUM(C44)*2","v":0},{"$f":"SUM(C44)*2*2","v":0},{"$f":"SUM(C44)*2","v":0},null,"ZERO",{"$f":"SUM(C44)*2","v":0},null,{"$f":"SUM(C44)*140*2","v":0},{"$f":"SUM(C44)*2","v":0},{"$f":"SUM(C44)*2","v":0},"ZERO",null,null,null,null,null,null,null,null,null,{"$f":"SUM(AD44)*2","v":0},{"$f":"SUM(AE44)*2","v":0}]
["FRIENDY BURGER MEAL (WITH SUGARCANE JUICE)",10600,0,0,null,{"$f":"SUM(C45)*2","v":0},{"$f":"SUM(C45)*2","v":0},{"$f":"SUM(C45)*2","v":0},{"$f":"SUM(C45)*2","v":0},{"$f":"SUM(C45)*2","v":0},{"$f":"SUM(C45)*2","v":0},{"$f":"SUM(C45)*2*2","v":0},"ZERO","ZERO",{"$f":"SUM(C45)*1*2","v":0},{"$f":"SUM(C45)*2","v":0},{"$f":"SUM(C45)*2*2","v":0},{"$f":"SUM(C45)*2","v":0},null,{"$f":"SUM(C45)*2","v":0},"ZERO",null,{"$f":"SUM(C45)*140*2","v":0},{"$f":"SUM(C45)*2","v":0},{"$f":"SUM(C45)*2","v":0},"ZERO",null,null,null,null,null,null,null,null,null,{"$f":"SUM(AD45)*2","v":0},{"$f":"SUM(AE45)*2","v":0}]
["SHAWARMA  SUB",1800,0,0,null,null,"ZERO","ZERO",{"$f":"SUM(C46)","v":0},{"$f":"SUM(C46)*2","v":0},"ZERO","ZERO","ZERO","ZERO",{"$f":"SUM(C46)*1","v":0},"ZERO",{"$f":"SUM(C46)","v":0},"ZERO","ZERO","ZERO","ZERO","ZERO",{"$f":"SUM(C46)*70","v":0},"ZERO","ZERO","ZERO",null,null,null,{"$f":"SUM(C46)","v":0},null,null,null,null,null,{"$f":"SUM(AD46)","v":0},{"$f":"SUM(AE46)","v":0}]
["DELISH PACK 1",5300,0,0,null,{"$f":"SUM(C47)","v":0},{"$f":"SUM(C47)","v":0},"ZERO",{"$f":"SUM(C47)","v":0},{"$f":"SUM(C47)*2","v":0},"ZERO",{"$f":"SUM(C47)*4","v":0},"ZERO","ZERO",{"$f":"SUM(C47)*1","v":0},{"$f":"SUM(C47)*1","v":0},{"$f":"SUM(C47)*2","v":0},{"$f":"SUM(C47)","v":0},"ZERO","ZERO","ZERO","ZERO",{"$f":"SUM(C47)*70","v":0},"ZERO","ZERO","ZERO",null,null,null,{"$f":"SUM(C47)","v":0},{"$f":"SUM(C47)*1","v":0},null,null,null,null,{"$f":"SUM(AD47)","v":0},{"$f":"SUM(AE47)","v":0}]
["FAMILY BURGER MEAL (WITH SOFT DRINK)",19800,0,0,null,{"$f":"SUM(C48)*4","v":0},{"$f":"SUM(C48)*4","v":0},{"$f":"SUM(C48)*4","v":0},{"$f":"SUM(C48)*4","v":0},{"$f":"SUM(C48)*4","v":0},{"$f":"SUM(C48)*4","v":0},{"$f":"SUM(C48)*2*4","v":0},"ZERO","ZERO",{"$f":"SUM(C48)*1*4","v":0},{"$f":"SUM(C48)*4","v":0},{"$f":"SUM(C48)*2*4","v":0},{"$f":"SUM(C48)*4","v":0},null,"ZERO",{"$f":"SUM(C48)*4","v":0},null,{"$f":"SUM(C48)*140*4","v":0},{"$f":"SUM(C48)*4","v":0},{"$f":"SUM(C48)*4","v":0},"ZERO",null,null,null,null,null,null,null,null,null,{"$f":"SUM(AD48)*4","v":0},{"$f":"SUM(AE48)*4","v":0}]
["FAMILY BURGER MEAL (WITH SUGARCANE JUICE)",20800,0,0,null,{"$f":"SUM(C49)*4","v":0},{"$f":"SUM(C49)*4","v":0},{"$f":"SUM(C49)*4","v":0},{"$f":"SUM(C49)*4","v":0},{"$f":"SUM(C49)*4","v":0},{"$f":"SUM(C49)*4","v":0},{"$f":"SUM(C49)*2*4","v":0},"ZERO","ZERO",{"$f":"SUM(C49)*1*4","v":0},{"$f":"SUM(C49)*4","v":0},{"$f":"SUM(C49)*2*4","v":0},{"$f":"SUM(C49)*4","v":0},null,{"$f":"SUM(C49)*4","v":0},"ZERO",null,{"$f":"SUM(C49)*140*4","v":0},{"$f":"SUM(C49)*4","v":0},{"$f":"SUM(C49)*4","v":0},"ZERO",null,null,null,null,null,null,null,null,null,{"$f":"SUM(AD49)*4","v":0},{"$f":"SUM(AE49)*4","v":0}]
["CAN COKE/FANTA ONLY",null,0,0,null,"ZERO","ZERO","ZERO","ZERO","ZERO","ZERO","ZERO","ZERO","ZERO","ZERO","ZERO","ZERO","ZERO","ZERO","ZERO","ZERO","ZERO","ZERO","ZERO","ZERO","ZERO",null,null,null,null,{"$f":"SUM(C50)","v":0},null,null,null,null,"ZERO","ZERO"]
["SUPA KOMMANDO ONLY",250,0,0,null,"ZERO","ZERO","ZERO","ZERO","ZERO","ZERO","ZERO","ZERO","ZERO","ZERO","ZERO","ZERO","ZERO","ZERO","ZERO","ZERO","ZERO","ZERO","ZERO","ZERO","ZERO",null,null,{"$f":"SUM(C51)","v":0},null,"ZERO","ZERO",null,null,null,"ZERO","ZERO"]
["10X Chicken Nuggets ",2400,0,0,null,null,null,null,null,null,"ZERO",null,null,null,null,{"$f":"SUM(C52)","v":0},null,{"$f":"SUM(C52)","v":0},null,null,null,null,null,{"$f":"SUM(C52)","v":0},null,null,null,null,null,null,{"$f":"SUM(C52)","v":0},{"$f":"SUM(C52)*10","v":0}]
["20X Chicken Nuggets ",4800,0,0,null,null,null,null,null,null,"ZERO ",null,null,null,null,{"$f":"SUM(C53)","v":0},null,{"$f":"SUM(C53)","v":0},null,null,null,null,null,{"$f":"SUM(C53)","v":0},null,null,null,null,null,null,{"$f":"SUM(C53)","v":0},{"$f":"SUM(C53)*20","v":0}]
["10 CHICKEN NUGGETS & FRIES BOX",3300,0,0,null,null,null,null,null,null,{"$f":"SUM(C54)","v":0},null,null,null,null,{"$f":"SUM(C54)","v":0},null,{"$f":"SUM(C54)","v":0},null,null,null,null,null,{"$f":"SUM(C54)","v":0},null,null,null,null,null,null,{"$f":"SUM(C54)","v":0},{"$f":"SUM(C54)*10","v":0}]
["20 CHICKEN NUGGETS & FRIES BOX",6600,0,0,null,null,null,null,null,null,{"$f":"SUM(C55)","v":0},null,null,null,null,{"$f":"SUM(C55)","v":0},null,{"$f":"SUM(C55)","v":0},null,null,null,null,null,{"$f":"SUM(C55)","v":0},null,null,null,null,null,null,{"$f":"SUM(C55)","v":0},{"$f":"SUM(C55)*20","v":0}]
["PRAWN BURGER ",3000,0,0,null,{"$f":"SUM(C56)","v":0},"ZERO","ZERO","ZERO","ZERO","ZERO","ZERO",{"$f":"SUM(C56)","v":0},"ZERO",{"$f":"SUM(C56)","v":0},"ZERO",{"$f":"SUM(C56)","v":0},"ZERO","ZERO","ZERO","ZERO","ZERO",{"$f":"SUM(C56)*70","v":0},"ZERO","ZERO","ZERO",null,null,null,null,null,null,{"$f":"SUM(C56)*2","v":0},null,null,"ZERO","ZERO"]
[" FUNMMY NUGGETS  BOX",5300,0,0,null,{"$f":"SUM(C57)","v":0},{"$f":"SUM(C57)","v":0},null,null,null,{"$f":"SUM(C57)","v":0},null,{"$f":"SUM(C57)","v":0},null,{"$f":"SUM(C57)","v":0},{"$f":"SUM(C57)","v":0},null,{"$f":"SUM(C57)","v":0},null,null,null,null,null,{"$f":"SUM(C57)","v":0},null,null,null,null,null,null,{"$f":"SUM(C57)","v":0},{"$f":"SUM(C57)*10","v":0}]
["FARM PRIDE 50 CL",500,0,0,null,"ZERO","ZERO","ZERO","ZERO","ZERO","ZERO","ZERO","ZERO","ZERO","ZERO","ZERO","ZERO","ZERO","ZERO","ZERO","ZERO","ZERO","ZERO","ZERO","ZERO","ZERO",null,null,null,null,null,null,null,{"$f":"SUM(C58)","v":0},null,"ZERO","ZERO"]
["FARM PRIDE 1 LITRE",800,0,0,null,"ZERO","ZERO","ZERO","ZERO","ZERO","ZERO","ZERO","ZERO","ZERO","ZERO","ZERO","ZERO","ZERO","ZERO","ZERO","ZERO","ZERO","ZERO","ZERO","ZERO","ZERO",null,null,null,null,null,null,null,"ZERO",{"$f":"SUM(C59)","v":0},"ZERO","ZERO"]
["GRILLED CHICKEN BURGER",1700,0,{"$f":"SUM(B60*C60)","v":0},null,{"$f":"SUM(C60)","v":0},{"$f":"SUM(C60)","v":0},"ZERO","ZERO","ZERO","ZERO","ZERO","ZERO","ZERO",{"$f":"SUM(C60)","v":0},"ZERO",{"$f":"SUM(C60)*1","v":0},"ZERO","ZERO","ZERO","ZERO","ZERO",{"$f":"SUM(C60)*70","v":0},"ZERO","ZERO","ZERO",null,null,null,null,null,null,null,null,null,"ZERO","ZERO"]
["GRILLED CHICKEN BURGER + JUICE",2200,0,{"$f":"SUM(B61*C61)","v":0},null,{"$f":"SUM(C61)","v":0},{"$f":"SUM(C61)","v":0},"ZERO","ZERO","ZERO","ZERO","ZERO","ZERO","ZERO",{"$f":"SUM(C61)","v":0},"ZERO",{"$f":"SUM(C61)*1","v":0},"ZERO","ZERO","ZERO","ZERO","ZERO",{"$f":"SUM(C61)*70","v":0},"ZERO","ZERO","ZERO",null,null,null,null,null,null,null,{"$f":"SUM(C61)","v":0},null,"ZERO","ZERO"]
["GRILLED BURGER MEAL 1 & 3",4000,0,{"$f":"SUM(B62*C62)","v":0},null,{"$f":"SUM(C62)","v":0},{"$f":"SUM(C62)","v":0},"ZERO","ZERO","ZERO",{"$f":"SUM(C62)","v":0},{"$f":"SUM(C62)*2","v":0},"ZERO","ZERO","ZERO",{"$f":"SUM(C62)","v":0},{"$f":"SUM(C62)","v":0},{"$f":"SUM(C62)","v":0},"ZERO","ZERO","ZERO","ZERO",{"$f":"SUM(C62)*70","v":0},{"$f":"SUM(C62)","v":0},"ZERO","ZERO",null,null,null,null,null,null,null,{"$f":"SUM(C62)","v":0},null,"ZERO","ZERO"]
["GRILLED BURGER MEAL 2",3700,0,{"$f":"SUM(B63*C63)","v":0},null,{"$f":"SUM(C63)","v":0},{"$f":"SUM(C63)","v":0},"ZERO","ZERO","ZERO",{"$f":"SUM(C63)","v":0},{"$f":"SUM(C63)*2","v":0},"ZERO","ZERO","ZERO",{"$f":"SUM(C63)","v":0},{"$f":"SUM(C63)","v":0},{"$f":"SUM(C63)","v":0},"ZERO","ZERO",{"$f":"SUM(C63)","v":0},"ZERO",{"$f":"SUM(C63)*70","v":0},{"$f":"SUM(C63)","v":0},"ZERO","ZERO",null,null,null,null,null,null,null,"ZERO",null,"ZERO","ZERO"]
["MASTERPIECE BURGER ",5000,0,{"$f":"SUM(B64*C64)","v":0},null,{"$f":"SUM(C64)","v":0},"ZERO","ZERO","ZERO","ZERO","ZERO","ZERO",{"$f":"SUM(C64)","v":0},"ZERO","ZERO",{"$f":"SUM(C64)","v":0},{"$f":"SUM(C64)","v":0},"ZERO","ZERO","ZERO",{"$f":"SUM(C64)","v":0},{"$f":"SUM(C64)","v":0},{"$f":"SUM(C64)*70","v":0},"ZERO","ZERO","ZERO",null,null,null,null,null,null,null,null,null,"ZERO",{"$f":"SUM(C64)","v":0}]
["SUYA BURGER BOX 2 (WITH BEEF SUYA BURGER)",6000,0,0,null,0,"ZERO ","ZERO","ZERO",0,0,0,"ZERO","ZERO",0,0,0,"ZERO","ZERO",null,0,"ZERO",0,0,0,"ZERO",0,null,null,null,null,null,null,null,null,"ZERO",0]
["OPENING STOCK",null,null,null,null,{"$f":"SUM('Production DAY 17'!C2)","v":0},{"$f":"SUM('Production DAY 17'!C3)","v":0},{"$f":"SUM('Production DAY 17'!C4)","v":0},{"$f":"SUM('Production DAY 17'!C5)","v":0},{"$f":"SUM('Production DAY 17'!C6)","v":0},{"$f":"SUM('Production DAY 17'!C7)","v":0},{"$f":"SUM('Production DAY 17'!C8)","v":0},{"$f":"SUM('Production DAY 17'!C9)","v":0},{"$f":"SUM('Production DAY 17'!C10)","v":0},{"$f":"SUM('Production DAY 17'!C11)","v":0},{"$f":"SUM('Production DAY 17'!C12)","v":0},{"$f":"SUM('Production DAY 17'!C13)","v":0},{"$f":"SUM('Production DAY 17'!C14)","v":0},{"$f":"SUM('Production DAY 17'!C15)","v":0},{"$f":"SUM('Production DAY 17'!C16)","v":0},{"$f":"SUM('Production DAY 17'!C17)","v":0},{"$f":"SUM('Production DAY 17'!C18)","v":0},{"$f":"SUM('Production DAY 17'!C19)","v":0},{"$f":"SUM('Production DAY 17'!C20)","v":0},{"$f":"SUM('Production DAY 17'!C21)","v":0},{"$f":"SUM('Production DAY 17'!C22)","v":0},{"$f":"SUM('Production DAY 17'!C23)","v":0},{"$f":"SUM('Production DAY 17'!C24)","v":0},{"$f":"SUM('Production DAY 17'!C25)","v":0},{"$f":"SUM('Production DAY 17'!C26)","v":0},{"$f":"SUM('Production DAY 17'!C27)","v":0},{"$f":"SUM('Production DAY 17'!C28)","v":0},{"$f":"SUM('Production DAY 17'!C29)","v":0},{"$f":"SUM('Production DAY 17'!C30)","v":0},{"$f":"SUM('Production DAY 17'!C31)","v":0},{"$f":"SUM('Production DAY 17'!C32)","v":0},{"$f":"SUM('Production DAY 17'!C33)","v":0},{"$f":"SUM('Production DAY 17'!C34)","v":0},{"$f":"SUM('Production DAY 17'!C35)","v":0},{"$f":"SUM('Production DAY 17'!C36)","v":0},{"$f":"SUM('Production DAY 17'!C37)","v":0},{"$f":"SUM('Production DAY 17'!C38)","v":0},{"$f":"SUM('Production DAY 17'!C39)","v":0},{"$f":"SUM('Production DAY 17'!C40)","v":0},{"$f":"SUM('Production DAY 17'!C41)","v":0},{"$f":"SUM('Production DAY 17'!C42)","v":0},{"$f":"SUM('Production DAY 17'!C43)","v":0}]
["RECEIVED",null,null,null,null,{"$f":"SUM('Production DAY 17'!D2)","v":0},{"$f":"SUM('Production DAY 17'!D3)","v":0},{"$f":"SUM('Production DAY 17'!D4)","v":0},{"$f":"SUM('Production DAY 17'!D5)","v":0},{"$f":"SUM('Production DAY 17'!D6)","v":0},{"$f":"SUM('Production DAY 17'!D7)","v":0},{"$f":"SUM('Production DAY 17'!D8)","v":0},{"$f":"SUM('Production DAY 17'!D9)","v":0},{"$f":"SUM('Production DAY 17'!D10)","v":0},{"$f":"SUM('Production DAY 17'!D11)","v":0},{"$f":"SUM('Production DAY 17'!D12)","v":0},{"$f":"SUM('Production DAY 17'!D13)","v":0},{"$f":"SUM('Production DAY 17'!D14)","v":0},{"$f":"SUM('Production DAY 17'!D15)","v":0},{"$f":"SUM('Production DAY 17'!D16)","v":0},{"$f":"SUM('Production DAY 17'!D17)","v":0},{"$f":"SUM('Production DAY 17'!D18)","v":0},{"$f":"SUM('Production DAY 17'!D19)","v":0},{"$f":"SUM('Production DAY 17'!D20)","v":0},{"$f":"SUM('Production DAY 17'!D21)","v":0},{"$f":"SUM('Production DAY 17'!D22)","v":0},{"$f":"SUM('Production DAY 17'!D23)","v":0},{"$f":"SUM('Production DAY 17'!D24)","v":0},{"$f":"SUM('Production DAY 17'!D25)","v":0},{"$f":"SUM('Production DAY 17'!D26)","v":0},{"$f":"SUM('Production DAY 17'!D27)","v":0},{"$f":"SUM('Production DAY 17'!D28)","v":0},{"$f":"SUM('Production DAY 17'!D29)","v":0},{"$f":"SUM('Production DAY 17'!D30)","v":0},{"$f":"SUM('Production DAY 17'!D31)","v":0},{"$f":"SUM('Production DAY 17'!D32)","v":0},{"$f":"SUM('Production DAY 17'!D33)","v":0},{"$f":"SUM('Production DAY 17'!D34)","v":0},{"$f":"SUM('Production DAY 17'!D35)","v":0},{"$f":"SUM('Production DAY 17'!D36)","v":0},{"$f":"SUM('Production DAY 17'!D37)","v":0},{"$f":"SUM('Production DAY 17'!D38)","v":0},{"$f":"SUM('Production DAY 17'!D39)","v":0},{"$f":"SUM('Production DAY 17'!D40)","v":0},{"$f":"SUM('Production DAY 17'!D41)","v":0},{"$f":"SUM('Production DAY 17'!D42)","v":0},{"$f":"SUM('Production DAY 17'!D43)","v":0}]
["TOTAL STOCK",null,null,null,null,{"$f":"SUM(F66:F67)","v":0},{"$f":"SUM(G66:G67)","v":0},{"$f":"SUM(H66:H67)","v":0},{"$f":"SUM(I66:I67)","v":0},0,0,0,0,0,0,{"$f":"SUM(P66:P67)","v":0},0,0,0,0,0,0,0,0,0,0,0,0,0,0,0,0,0,0,0,0,0,0,0,0,0,0,0,0,0,0,0]
["USED",null,null,{"$f":"SUM(D3:D65)","v":0},null,{"$f":"SUM(F3:F65)","v":0},0,0,0,0,0,0,0,0,0,0,0,0,0,0,0,0,0,0,0,0,0,0,0,0,0,0,0,0,0,0,0,{"$f":"SUM(AL3:AL64)","v":0},0,0,0,0,0,0,0,0,0]
["CLOSING STOCK",null,null,null,null,{"$f":"SUM(F68-F69)","v":0},0,0,0,0,0,0,0,0,0,0,0,0,0,0,0,0,0,0,0,0,0,0,0,0,0,0,0,{"$f":"SUM(AH66-AH69)","v":0},{"$f":"SUM(AI68-AI69)","v":0},0,0,0,0,0,0,0,0,0,0,0,0]

{"sheet":"Production DAY 18","index":34,"n_rows":44,"n_cols":8,"rows_kept":44,"cut":false,"hidden":false,"merged":[]}
["Nos#","ITEMS"," < OPENING STOCK","RECEIVED","USED >","SALES CLOSING STOCK >","PHYSICAL STOCK COUNT","COMMENTS"]
[1,"Burger Bread",{"$f":"SUM('Production DAY 17'!G2)","v":0},null,{"$f":"SUM('DAY 18'!F69)","v":0},{"$f":"SUM('DAY 18'!F70)","v":0},0,{"$f":"IF(G2=F2,TRUE,FALSE)","v":true}]
[2,"Chicken Patty",{"$f":"SUM('Production DAY 17'!G3)","v":0},null,{"$f":"SUM('DAY 18'!G69)","v":0},{"$f":"SUM('DAY 18'!G70)","v":0},0,true]
[3,"Shawarma Bread",{"$f":"SUM('Production DAY 17'!G4)","v":0},null,{"$f":"SUM('DAY 18'!H69)","v":0},{"$f":"SUM('DAY 18'!H70)","v":0},0,true]
[4,"Chicken Portion or Shawarma portion",{"$f":"SUM('Production DAY 17'!G5)","v":0},null,{"$f":"SUM('DAY 18'!I69)","v":0},{"$f":"SUM('DAY 18'!I70)","v":0},0,true]
[5,"Sausage",{"$f":"SUM('Production DAY 17'!G6)","v":0},null,{"$f":"SUM('DAY 18'!J69)","v":0},{"$f":"SUM('DAY 18'!J70)","v":0},0,true]
[6,"Portion of Fries",{"$f":"SUM('Production DAY 17'!G7)","v":0},null,{"$f":"SUM('DAY 18'!K69)","v":0},{"$f":"SUM('DAY 18'!K70)","v":0},0,true]
[7,"Pieces of Chicken",{"$f":"SUM('Production DAY 17'!G8)","v":0},null,{"$f":"SUM('DAY 18'!L69)","v":0},{"$f":"SUM('DAY 18'!L70)","v":0},0,true]
[8,"Cheese",{"$f":"SUM('Production DAY 17'!G9)","v":0},null,{"$f":"SUM('DAY 18'!M69)","v":0},{"$f":"SUM('DAY 18'!M70)","v":0},0,true]
[9,"Bacon",{"$f":"SUM('Production DAY 17'!G10)","v":0},null,{"$f":"SUM('DAY 18'!N69)","v":0},{"$f":"SUM('DAY 18'!N70)","v":0},0,true]
[10,"A Paper Bag",{"$f":"SUM('Production DAY 17'!G11)","v":0},null,{"$f":"SUM('DAY 18'!O69)","v":0},{"$f":"SUM('DAY 18'!O70)","v":0},0,true]
[11,"Achicken Box",{"$f":"SUM('Production DAY 17'!G12)","v":0},null,{"$f":"SUM('DAY 18'!P69)","v":0},{"$f":"SUM('DAY 18'!P70)","v":0},0,true]
[12,"Paper Wrap",{"$f":"SUM('Production DAY 17'!G13)","v":0},null,{"$f":"SUM('DAY 18'!Q69)","v":0},{"$f":"SUM('DAY 18'!Q70)","v":0},0,true]
[13,"A Branded Nylon",{"$f":"SUM('Production DAY 17'!G14)","v":0},null,{"$f":"SUM('DAY 18'!R69)","v":0},{"$f":"SUM('DAY 18'!R70)","v":0},0,true]
[14,"Parfait",{"$f":"SUM('Production DAY 17'!G15)","v":0},null,{"$f":"SUM('DAY 18'!S69)","v":0},{"$f":"SUM('DAY 18'!S70)","v":0},0,true]
[15,"A Bottle of SUGAR Juice",{"$f":"SUM('Production DAY 17'!G16)","v":0},null,{"$f":"SUM('DAY 18'!T69)","v":0},{"$f":"SUM('DAY 18'!T70)","v":0},0,true]
[16,"35 CL Soft Drink",{"$f":"SUM('Production DAY 17'!G17)","v":0},null,{"$f":"SUM('DAY 18'!U69)","v":0},{"$f":"SUM('DAY 18'!U70)","v":0},0,true]
[17,"Beef Patty",{"$f":"SUM('Production DAY 17'!G18)","v":0},null,{"$f":"SUM('DAY 18'!V69)","v":0},{"$f":"SUM('DAY 18'!V70)","v":0},0,true]
[18,"Cream in GRAMS",{"$f":"SUM('Production DAY 17'!G19)","v":0},null,{"$f":"SUM('DAY 18'!W69)","v":0},{"$f":"SUM('DAY 18'!W70)","v":0},0,true]
[19,"KETCHUP",{"$f":"SUM('Production DAY 17'!G20)","v":0},null,{"$f":"SUM('DAY 18'!X69)","v":0},{"$f":"SUM('DAY 18'!X70)","v":0},0,true]
[20,"plain Nylon",{"$f":"SUM('Production DAY 17'!G21)","v":0},null,{"$f":"SUM('DAY 18'!Y69)","v":0},{"$f":"SUM('DAY 18'!Y70)","v":0},0,true]
[21,"Barbeque Sauce",{"$f":"SUM('Production DAY 17'!G22)","v":0},null,{"$f":"SUM('DAY 18'!Z69)","v":0},{"$f":"SUM('DAY 18'!Z70)","v":0},0,true]
[22,"Meal Box",{"$f":"SUM('Production DAY 17'!G23)","v":0},null,{"$f":"SUM('DAY 18'!AA69)","v":0},{"$f":"SUM('DAY 18'!AA70)","v":0},0,true]
[23,"COCONUT BREAD",{"$f":"SUM('Production DAY 17'!G24)","v":0},null,{"$f":"SUM('DAY 18'!AB69)","v":0},{"$f":"SUM('DAY 18'!AB70)","v":0},0,true]
[24,"SUPA KOMMANDO",{"$f":"SUM('Production DAY 17'!G25)","v":0},null,{"$f":"SUM('DAY 18'!AC69)","v":0},{"$f":"SUM('DAY 18'!AC70)","v":0},0,true]
[25,"SHAWARMA SUB",{"$f":"SUM('Production DAY 17'!G26)","v":0},null,{"$f":"SUM('DAY 18'!AD69)","v":0},{"$f":"SUM('DAY 18'!AD70)","v":0},0,true]
[26,"CAN COKE / FANTA",{"$f":"SUM('Production DAY 17'!G27)","v":0},null,{"$f":"SUM('DAY 18'!AE69)","v":0},{"$f":"SUM('DAY 18'!AE70)","v":0},0,true]
[27,"NUGGETS ",{"$f":"SUM('Production DAY 17'!G28)","v":0},null,{"$f":"SUM('DAY 18'!AF69)","v":0},{"$f":"SUM('DAY 18'!AF70)","v":0},0,true]
[28,"PRAWN",{"$f":"SUM('Production DAY 17'!G29)","v":0},null,{"$f":"SUM('DAY 18'!AG69)","v":0},{"$f":"SUM('DAY 18'!AG70)","v":0},0,true]
[29,"FARM PRIDE",{"$f":"SUM('Production DAY 17'!G30)","v":0},null,{"$f":"SUM('DAY 18'!AH69)","v":0},{"$f":"SUM('DAY 18'!AH70)","v":0},0,true]
[30,"50CL OR PULPY",{"$f":"SUM('Production DAY 17'!G31)","v":0},null,{"$f":"SUM('DAY 18'!AI69)","v":0},{"$f":"SUM('DAY 18'!AI70)","v":0},0,true]
[31,"FARM PRIDE 1 LT",{"$f":"SUM('Production DAY 17'!G32)","v":0},null,{"$f":"SUM('DAY 18'!AJ69)","v":0},{"$f":"SUM('DAY 18'!AJ70)","v":0},0,true]
[32,"BEEF PORTION FOR SHAWARMA",{"$f":"SUM('Production DAY 17'!G33)","v":0},null,{"$f":"SUM('DAY 18'!AK69)","v":0},{"$f":"SUM('DAY 18'!AK70)","v":0},0,true]
[33,"BEEF SUYA STICK",{"$f":"SUM('Production DAY 17'!G34)","v":0},null,{"$f":"SUM('DAY 18'!AL69)","v":0},{"$f":"SUM('DAY 18'!AL70)","v":0},0,true]
[34,"EMPTY 1",{"$f":"SUM('Production DAY 17'!G35)","v":0},null,{"$f":"SUM('DAY 18'!AM69)","v":0},{"$f":"SUM('DAY 18'!AM70)","v":0},0,true]
[35,"EMPTY 2",{"$f":"SUM('Production DAY 17'!G36)","v":0},null,{"$f":"SUM('DAY 18'!AN69)","v":0},{"$f":"SUM('DAY 18'!AN70)","v":0},0,true]
[36,"EMPTY 3",{"$f":"SUM('Production DAY 17'!G37)","v":0},null,{"$f":"SUM('DAY 18'!AO69)","v":0},{"$f":"SUM('DAY 18'!AO70)","v":0},0,true]
[37,"EMPTY 4",{"$f":"SUM('Production DAY 17'!G38)","v":0},null,{"$f":"SUM('DAY 18'!AP69)","v":0},{"$f":"SUM('DAY 18'!AP70)","v":0},0,true]
[38,"EMPTY 5",{"$f":"SUM('Production DAY 17'!G39)","v":0},null,{"$f":"SUM('DAY 18'!AQ69)","v":0},{"$f":"SUM('DAY 18'!AQ70)","v":0},0,true]
[39,"EMPTY 6",{"$f":"SUM('Production DAY 17'!G40)","v":0},null,{"$f":"SUM('DAY 18'!AR69)","v":0},{"$f":"SUM('DAY 18'!AR70)","v":0},0,true]
[40,"EMPTY 7",{"$f":"SUM('Production DAY 17'!G41)","v":0},null,{"$f":"SUM('DAY 18'!AS69)","v":0},{"$f":"SUM('DAY 18'!AS70)","v":0},0,true]
[41,"EMPTY 8",{"$f":"SUM('Production DAY 17'!G42)","v":0},null,{"$f":"SUM('DAY 18'!AT69)","v":0},{"$f":"SUM('DAY 18'!AT70)","v":0},0,true]
[42,"EMPTY 9",{"$f":"SUM('Production DAY 17'!G43)","v":0},null,{"$f":"SUM('DAY 18'!AU69)","v":0},{"$f":"SUM('DAY 18'!AU70)","v":0},0,true]
[43,"EMPTY 10",{"$f":"SUM('Production DAY 17'!G44)","v":0},null,{"$f":"SUM('DAY 18'!AV69)","v":0},{"$f":"SUM('DAY 18'!AV70)","v":0},0,true]

{"sheet":"DAY 18","index":35,"n_rows":70,"n_cols":47,"rows_kept":70,"cut":false,"hidden":false,"merged":[[0,7,0,28]]}
["FEBRUARY 12th, 2022",null,null,{"$f":"SUM(D3:D50)","v":0},null,null,null,"BURGER PALACE INVENTORY RECORDS"]
["ITEM","AMOUNT","QUANTITY","TOTAL",null,"Burger Bread","Chicken Patty","Shawarma Bread","Chicken Portion or Shawarma portion","Sausage","Portion of Fries","Pieces of Chicken","Cheese","Bacon","A Paper Bag","Achicken Box","Paper Wrap","A Branded Nylon","Parfait","A Bottle of SUGAR Juice","35 CL Soft Drink","Beef Patty","Cream in GRAMS","KETCHUP","plain Nylon","Barbeque Sauce","Meal Box","COCONUT BREAD ","SUPA KOMMANDO ","SHAWARMA SUB","CAN COKE / FANTA","NUGGETS","PRAWN","FARM PRIDE 50CL OR PULPY","FARM PRIDE 1 LT","BEEF PORTION FOR SHAWARMA ","BEEF SUYA STICK","EMPTY 1","EMPTY 2","EMPTY 3","EMPTY 4","EMPTY 5","EMPTY 6","EMPTY 7","EMPTY 8","EMPTY 9","EMPTY 10"]
["DELUXE BURGER MEAL (WITH SOFT DRINK)",5400,0,{"$f":"SUM(B3*C3)","v":0},null,{"$f":"SUM(C3)","v":0},{"$f":"SUM(C3)","v":0},{"$f":"SUM(C3)","v":0},{"$f":"SUM(C3)","v":0},{"$f":"SUM(C3)","v":0},{"$f":"SUM(C3)","v":0},{"$f":"SUM(C3)*2","v":0},"ZERO","ZERO",{"$f":"SUM(C3)*1","v":0},{"$f":"SUM(C3)","v":0},{"$f":"SUM(C3)*2","v":0},{"$f":"SUM(C3)","v":0},null,"ZERO",{"$f":"SUM(C3)","v":0},null,{"$f":"SUM(C3)*140","v":0},{"$f":"SUM(C3)","v":0},{"$f":"SUM(C3)","v":0},"ZERO",null,null,null,null,null,null,null,null,null,{"$f":"SUM(AD3)","v":0},0]
["DELUXE BURGER MEAL (WITH SUGARCANE JUICE)",5600,0,{"$f":"SUM(B4*C4)","v":0},null,{"$f":"SUM(C4)","v":0},{"$f":"SUM(C4)","v":0},{"$f":"SUM(C4)","v":0},{"$f":"SUM(C4)","v":0},{"$f":"SUM(C4)","v":0},0,{"$f":"SUM(C4)*2","v":0},"ZERO","ZERO",{"$f":"SUM(C4)*1","v":0},0,{"$f":"SUM(C4)*2","v":0},0,null,{"$f":"SUM(C4)","v":0},"ZERO",null,{"$f":"SUM(C4)*140","v":0},{"$f":"SUM(C4)","v":0},0,"ZERO",null,null,null,null,null,null,null,null,null,0,0]
["DELUXE MEAL EXTRA (WITH Soft Drink)",null,0,{"$f":"SUM(B5*C5)","v":0},null,{"$f":"SUM(C5)","v":0},{"$f":"SUM(C5)","v":0},{"$f":"SUM(C5)","v":0},{"$f":"SUM(C5)","v":0},{"$f":"SUM(C5)","v":0},0,{"$f":"SUM(C5)*2","v":0},"ZERO","ZERO",{"$f":"SUM(C5)","v":0},0,{"$f":"SUM(C5)*2","v":0},0,{"$f":"SUM(C5)","v":0},"ZERO",{"$f":"SUM(C5)","v":0},null,{"$f":"SUM(C5)*140","v":0},{"$f":"SUM(C5)","v":0},0,"ZERO",null,null,null,null,null,null,null,null,null,0,0]
["DELUXE BURGER MEAL Extra (With Sugarcane juice",null,0,{"$f":"SUM(B6*C6)","v":0},null,{"$f":"SUM(C6)","v":0},{"$f":"SUM(C6)","v":0},{"$f":"SUM(C6)","v":0},{"$f":"SUM(C6)","v":0},{"$f":"SUM(C6)","v":0},0,{"$f":"SUM(C6)*2","v":0},"ZERO","ZERO",{"$f":"SUM(C6)","v":0},0,{"$f":"SUM(C6)*2","v":0},0,{"$f":"SUM(C6)","v":0},{"$f":"SUM(C6)","v":0},"ZERO",null,{"$f":"SUM(C6)*140","v":0},{"$f":"SUM(C6)","v":0},0,"ZERO",null,null,null,null,null,null,null,null,null,0,0]
["PREMIUM BURGER Meal ",5900,0,{"$f":"SUM(B7*C7)","v":0},null,{"$f":"SUM(C7)","v":0},{"$f":"SUM(C7)","v":0},"ZERO","ZERO","ZERO",0,{"$f":"SUM(C7)*5","v":0},"ZERO","ZERO",{"$f":"SUM(C7)","v":0},0,{"$f":"SUM(C7)*1.25","v":0},0,"ZERO","ZERO",{"$f":"SUM(C7)","v":0},"ZERO",{"$f":"SUM(C7)*70","v":0},{"$f":"SUM(C7)*2","v":0},0,{"$f":"SUM(C7)","v":0},null,null,null,null,null,null,null,null,null,"ZERO","ZERO"]
["CRISPY CHICKEN BOX",4300,0,null,null,"ZERO","ZERO","ZERO","ZERO","ZERO",0,{"$f":"SUM(C8)*5","v":0},"ZERO","ZERO","ZERO",0,{"$f":"SUM(C8)*0.25","v":0},0,"ZERO","ZERO",{"$f":"SUM(C8)","v":0},"ZERO","ZERO",{"$f":"SUM(C8)*2","v":0},0,{"$f":"SUM(C8)","v":0},null,null,null,null,null,null,null,null,null,"ZERO","ZERO"]
["ROYAL BURGER MEAL (CHICKEN  PATTY)",null,0,{"$f":"SUM(B9*C9)","v":0},null,{"$f":"SUM(C9)","v":0},{"$f":"SUM(C9)*2","v":0},"ZERO","ZERO","ZERO",0,"ZERO",{"$f":"SUM(C9)*2","v":0},{"$f":"SUM(C9)*2","v":0},"ZERO",0,{"$f":"SUM(C9)","v":0},0,{"$f":"SUM(C9)","v":0},"ZERO","ZERO","ZERO",{"$f":"SUM(C9)*140","v":0},{"$f":"SUM(C9)*2","v":0},0,{"$f":"SUM(C9)","v":0},null,null,null,null,null,null,null,null,null,"ZERO","ZERO"]
["ROYAL BURGER MEAL (BEEF  PATTY)",null,0,{"$f":"SUM(B10*C10)","v":0},null,{"$f":"SUM(C10)","v":0},"ZERO","ZERO","ZERO","ZERO",0,"ZERO",{"$f":"SUM(C10)*2","v":0},{"$f":"SUM(C10)*2","v":0},"ZERO",0,0,0,{"$f":"SUM(C10)","v":0},"ZERO","ZERO",{"$f":"SUM(C10)*2","v":0},{"$f":"SUM(C10)*140","v":0},{"$f":"SUM(C10)*2","v":0},0,{"$f":"SUM(C10)","v":0},null,null,null,null,null,null,null,null,null,"ZERO","ZERO"]
["ROYAL BURGER ONLY (CHICKEN PATTY)",3300,0,{"$f":"SUM(B11*C11:C25,A1,A1,A1,A1,A1)","v":0},null,{"$f":"SUM(C11)","v":0},{"$f":"SUM(C11)*2","v":0},"ZERO","ZERO","ZERO","ZERO","ZERO",{"$f":"SUM(C11)*2","v":0},{"$f":"SUM(C11)*2","v":0},"ZERO",0,0,0,"ZERO","ZERO","ZERO","ZERO",{"$f":"SUM(C11)*140","v":0},{"$f":"SUM(C11)","v":0},"ZERO","ZERO",null,null,null,null,null,null,null,null,null,"ZERO","ZERO"]
["ROYAL BURGER ONLY (BEEF PATTY)",3300,0,{"$f":"SUM(B12*C12)","v":0},null,{"$f":"SUM(C12)","v":0},null,"ZERO","ZERO","ZERO","ZERO","ZERO",{"$f":"SUM(C12)*2","v":0},{"$f":"SUM(C12)*2","v":0},"ZERO",0,0,0,"ZERO","ZERO","ZERO",{"$f":"SUM(C12)*2","v":0},{"$f":"SUM(C12)*140","v":0},{"$f":"SUM(C12)","v":0},"ZERO","ZERO",null,null,null,null,null,null,null,null,null,"ZERO","ZERO"]
["MAYOR'S COCONUT BURGER ",2800,0,0,null,0,{"$f":"SUM(C13)","v":0},"ZERO","ZERO","ZERO","ZERO","ZERO",{"$f":"SUM(C13)","v":0},"ZERO","ZERO",0,0,0,"ZERO","ZERO","ZERO",{"$f":"SUM(C13)","v":0},{"$f":"SUM(C13)*140","v":0},"ZERO","ZERO","ZERO",null,{"$f":"SUM(C13)","v":0},{"$f":"SUM(C13)","v":0},null,null,null,null,null,null,"ZERO","ZERO"]
["DOUBLE DECKER CRISPY CHK. CHEESE BURGER",2500,0,0,null,{"$f":"SUM(C14)","v":0},{"$f":"SUM(C14)*2","v":0},"ZERO","ZERO","ZERO","ZERO","ZERO",{"$f":"SUM(C14)","v":0},"ZERO","ZERO",0,0,"ZERO","ZERO","ZERO","ZERO","ZERO",{"$f":"SUM(C14)*70","v":0},"ZERO","ZERO","ZERO",null,null,null,null,null,null,null,null,null,"ZERO","ZERO"]
["SINGLE BEEF BURGER",1700,0,0,null,0,"ZERO","ZERO","ZERO","ZERO","ZERO","ZERO",null,"ZERO",{"$f":"SUM(C15)","v":0},null,0,"ZERO","ZERO","ZERO","ZERO",{"$f":"SUM(C15)","v":0},{"$f":"SUM(C15)*70","v":0},"ZERO","ZERO","ZERO",null,null,null,null,null,null,null,null,null,"ZERO","ZERO"]
["YANKEE BURGER",2400,0,0,null,0,"ZERO","ZERO","ZERO","ZERO","ZERO","ZERO",null,{"$f":"SUM(C16)*2","v":0},{"$f":"SUM(C16)","v":0},null,0,"ZERO","ZERO","ZERO","ZERO",{"$f":"SUM(C16)","v":0},{"$f":"SUM(C16)*70","v":0},"ZERO","ZERO","ZERO",null,null,null,null,null,null,null,null,null,"ZERO","ZERO"]
["ROYAL BURGER WITH FRIES (Chicken)",4000,0,0,null,0,{"$f":"SUM(C17)*2","v":0},"ZERO","ZERO","ZERO",{"$f":"SUM(C17)","v":0},"ZERO",{"$f":"SUM(C17)*2","v":0},{"$f":"SUM(C17)*2","v":0},"ZERO",{"$f":"SUM(C17)","v":0},0,"ZERO","ZERO","ZERO","ZERO","ZERO",{"$f":"SUM(C17)*140","v":0},{"$f":"SUM(C17)*2","v":0},"ZERO","ZERO",null,null,null,null,null,null,null,null,null,"ZERO","ZERO"]
["ROYAL BURGER WITH FRIES (BEEF)",4000,0,0,null,0,"ZERO","ZERO","ZERO","ZERO",{"$f":"SUM(C18)","v":0},"ZERO",{"$f":"SUM(C18)*2","v":0},{"$f":"SUM(C18)*2","v":0},"ZERO",{"$f":"SUM(C18)","v":0},0,"ZERO","ZERO","ZERO","ZERO",{"$f":"SUM(C18)*2","v":0},{"$f":"SUM(C18)*140","v":0},{"$f":"SUM(C18)*2","v":0},"ZERO","ZERO",null,null,null,null,null,null,null,null,null,"ZERO","ZERO"]
["CRISPY CHICKEN BURGER",1700,0,0,null,0,{"$f":"SUM(C19)","v":0},"ZERO","ZERO","ZERO","ZERO","ZERO","ZERO","ZERO",{"$f":"SUM(C19)","v":0},"ZERO",{"$f":"SUM(C19)*1","v":0},"ZERO","ZERO","ZERO","ZERO","ZERO",{"$f":"SUM(C19)*70","v":0},"ZERO","ZERO","ZERO",null,null,null,null,null,null,null,null,null,"ZERO","ZERO"]
["SUYA BURGER BOX",5500,0,0,null,0,{"$f":"SUM(C20)*2","v":0},"ZERO","ZERO",{"$f":"SUM(C20)*4","v":0},{"$f":"SUM(C20)","v":0},{"$f":"SUM(C20)*4","v":0},"ZERO","ZERO",{"$f":"SUM(C20)","v":0},{"$f":"SUM(C20)","v":0},{"$f":"SUM(C20)","v":0},"ZERO","ZERO",null,{"$f":"SUM(C20)","v":0},"ZERO",0,{"$f":"SUM(C20)*2","v":0},{"$f":"SUM(C20)","v":0},"ZERO",{"$f":"SUM(C20)","v":0},null,null,null,null,null,null,null,null,"ZERO","ZERO"]
["CRISPY CHICKEN BURGER PLUS CHEESE",2100,0,0,null,0,{"$f":"SUM(C21)","v":0},"ZERO","ZERO","ZERO","ZERO","ZERO",{"$f":"SUM(C21)","v":0},"ZERO",{"$f":"SUM(C21)","v":0},"ZERO",0,"ZERO","ZERO","ZERO","ZERO","ZERO",0,"ZERO","ZERO","ZERO",null,null,null,null,null,null,null,null,null,"ZERO","ZERO"]
["SINGLE BEEF CHEESE BURGER ",2100,0,0,null,0,"ZERO","ZERO","ZERO","ZERO","ZERO","ZERO",{"$f":"SUM(C22)","v":0},"ZERO",{"$f":"SUM(C22)","v":0},"ZERO",0,"ZERO","ZERO","ZERO","ZERO",{"$f":"SUM(C22)","v":0},0,"ZERO","ZERO","ZERO",null,null,null,null,null,null,null,null,null,"ZERO","ZERO"]
["DOUBLE DECKER BEEF CHEESE BURGER",2800,0,0,null,0,"ZERO","ZERO","ZERO","ZERO","ZERO","ZERO",{"$f":"SUM(C23)*2","v":0},"ZERO","ZERO",{"$f":"SUM(C23)","v":0},0,"ZERO","ZERO","ZERO","ZERO",{"$f":"SUM(C23)*2","v":0},0,"ZERO","ZERO","ZERO",null,null,null,null,null,null,null,null,null,"ZERO","ZERO"]
["CHICKEN SUYA BURGER ",2200,0,0,null,0,{"$f":"SUM(C24)*2","v":0},"ZERO","ZERO","ZERO","ZERO","ZERO","ZERO","ZERO",{"$f":"SUM(C24)*1","v":0},"ZERO",0,"ZERO","ZERO","ZERO","ZERO","ZERO",0,"ZERO","ZERO","ZERO",null,null,null,null,null,null,null,null,null,"ZERO","ZERO"]
["CHICKEN SHAWARMA",1800,0,0,null,null,"ZERO",{"$f":"SUM(C25)","v":0},{"$f":"SUM(C25)","v":0},{"$f":"SUM(C25)*2","v":0},"ZERO","ZERO","ZERO","ZERO","ZERO","ZERO",0,{"$f":"SUM(C25)","v":0},"ZERO","ZERO","ZERO","ZERO",0,"ZERO","ZERO","ZERO",null,null,null,null,null,null,null,null,null,{"$f":"SUM(AD25)","v":0},{"$f":"SUM(AE25)","v":0}]
["BARBECUE BEEF SHAWARMA",2000,0,0,null,null,"ZERO",{"$f":"SUM(C26)","v":0},"ZERO",{"$f":"SUM(C26)*2","v":0},"ZERO","ZERO","ZERO","ZERO","ZERO","ZERO",0,0,"ZERO","ZERO","ZERO","ZERO",0,"ZERO","ZERO","ZERO",null,null,null,null,null,null,null,null,null,{"$f":"SUM(C26)","v":0},"ZERO"]
["BEEF SUYA SHAWARMA",2200,0,0,null,null,"ZERO",{"$f":"SUM(C27)","v":0},"ZERO",{"$f":"SUM(C27)*2","v":0},"ZERO","ZERO","ZERO","ZERO","ZERO","ZERO",0,0,"ZERO","ZERO","ZERO","ZERO",0,"ZERO","ZERO","ZERO",null,null,null,null,null,null,null,null,null,{"$f":"SUM(AD27)","v":0},{"$f":"SUM(C27)","v":0}]
["BEEF SUYA BURGER ",2200,0,0,null,{"$f":"SUM(C28)","v":0},"ZERO",null,"ZERO","ZERO","ZERO","ZERO","ZERO","ZERO",{"$f":"SUM(C28)","v":0},"ZERO",0,0,"ZERO","ZERO","ZERO","ZERO",0,"ZERO","ZERO","ZERO",null,null,null,null,null,null,null,null,null,{"$f":"SUM(AD28)","v":0},{"$f":"SUM(C28)","v":0}]
["CHICKEN SUYA SHAWARMA",2200,0,0,null,"ZERO",{"$f":"SUM(C29)*2","v":0},{"$f":"SUM(C29)","v":0},null,{"$f":"SUM(C29)*2","v":0},"ZERO","ZERO","ZERO","ZERO","ZERO","ZERO",0,0,"ZERO","ZERO","ZERO","ZERO",0,"ZERO","ZERO","ZERO"]
["CHESSY SHAWARMA",2500,0,0,null,"ZERO","ZERO",{"$f":"SUM(C30)","v":0},{"$f":"SUM(C30)","v":0},{"$f":"SUM(C30)*2","v":0},null,"ZERO",{"$f":"SUM(C30)*2","v":0},"ZERO","ZERO","ZERO",0,0,"ZERO","ZERO","ZERO","ZERO",{"$f":"SUM(C30)*140","v":0},"ZERO","ZERO","ZERO",null,null,null,null,null,null,null,null,null,{"$f":"SUM(AD30)","v":0},{"$f":"SUM(AE30)","v":0}]
["2 CHICKEN AND CHIPS",2300,0,0,null,"ZERO","ZERO","ZERO","ZERO","ZERO",{"$f":"SUM(C31)","v":0},{"$f":"SUM(C31)*2","v":0},"ZERO","ZERO","ZERO",{"$f":"SUM(C31)","v":0},"ZERO",0,"ZERO","ZERO","ZERO","ZERO","ZERO",{"$f":"SUM(C31)","v":0},"ZERO","ZERO",null,null,null,null,null,null,null,null,null,"ZERO","ZERO"]
["4 CHICKEN AND CHIPS",3500,0,0,null,"ZERO","ZERO","ZERO","ZERO","ZERO",{"$f":"SUM(C32)","v":0},{"$f":"SUM(C32)*4","v":0},"ZERO","ZERO","ZERO",{"$f":"SUM(C32)","v":0},"ZERO",0,"ZERO","ZERO","ZERO","ZERO","ZERO",{"$f":"SUM(C32)*2","v":0},"ZERO","ZERO","zero","zero","zero",null,null,null,null,null,null,"ZERO","ZERO"]
["SPICY CHICKEN ONLY",650,0,null,null,"ZERO","ZERO","ZERO","ZERO","ZERO","ZERO",{"$f":"SUM(C33)","v":0},"ZERO","ZERO","ZERO","ZERO","ZERO","ZERO","ZERO","ZERO","ZERO","ZERO","ZERO","ZERO",{"$f":"SUM(C33)","v":0},"ZERO",null,null,null,null,null,null,null,null,null,"ZERO","ZERO"]
["CRISPY CHICKEN ONLY",650,0,{"$f":"SUM(B34*C34)","v":0},null,"ZERO","ZERO","ZERO","ZERO","ZERO","ZERO",{"$f":"SUM(C34)","v":0},"ZERO","ZERO","ZERO","ZERO","ZERO","ZERO","ZERO","ZERO","ZERO","ZERO","ZERO","ZERO",{"$f":"SUM(C34)","v":0},"ZERO",null,null,null,null,null,null,null,null,null,"ZERO","ZERO"]
["POTATO FRIES",700,0,0,null,"ZERO","ZERO","ZERO","ZERO","ZERO",null,"ZERO","ZERO","ZERO","ZERO","ZERO","ZERO","ZERO","ZERO","ZERO","ZERO","ZERO","ZERO","ZERO","ZERO","ZERO",null,null,null,null,null,null,null,null,null,"ZERO","ZERO"]
["FRENCH FRIES ONLY",1000,0,0,null,"ZERO","ZERO","ZERO","ZERO","ZERO",{"$f":"SUM(C36)","v":0},"ZERO","ZERO","ZERO","ZERO","ZERO","ZERO","ZERO","ZERO","ZERO","ZERO","ZERO","ZERO","ZERO",{"$f":"SUM(C36)","v":0},"ZERO",null,null,null,null,null,null,null,null,null,"ZERO","ZERO"]
["SUGERCANNE JUICE",750,0,0,null,"ZERO","ZERO","ZERO","ZERO","ZERO","ZERO","ZERO","ZERO","ZERO","ZERO","ZERO","ZERO","ZERO","ZERO",{"$f":"SUM(C37)","v":0},"ZERO","ZERO","ZERO","ZERO","ZERO","ZERO",null,null,null,null,null,null,null,null,null,"ZERO","ZERO"]
["35 CL SOFT DRINK",200,0,0,null,"ZERO","ZERO","ZERO","ZERO","ZERO","ZERO","ZERO","ZERO","ZERO","ZERO","ZERO","ZERO","ZERO","ZERO","ZERO",{"$f":"SUM(C38)","v":0},"ZERO","ZERO","ZERO","ZERO","ZERO",null,null,null,null,null,null,null,null,null,"ZERO","ZERO"]
["PARFAIT",null,0,0,null,"ZERO","ZERO","ZERO","ZERO","ZERO","ZERO","ZERO","ZERO","ZERO","ZERO","ZERO","ZERO",{"$f":"SUM(C39)","v":0},{"$f":"SUM(C39)","v":0},"ZERO","ZERO","ZERO","ZERO","ZERO","ZERO","ZERO",null,null,null,null,null,null,null,null,null,"ZERO","ZERO"]
["MARINATED WINGS",500,0,0,null,"ZERO","ZERO","ZERO","ZERO","ZERO","ZERO",{"$f":"SUM(C40)","v":0},"ZERO","ZERO","ZERO","ZERO","ZERO","ZERO","ZERO","ZERO","ZERO","ZERO","ZERO","ZERO","ZERO","ZERO",null,null,null,null,null,null,null,null,null,"ZERO","ZERO"]
["CHEESE ",400,0,0,null,"ZERO","ZERO","ZERO","ZERO","ZERO","ZERO","ZERO",{"$f":"SUM(C41)","v":0},"ZERO","ZERO","ZERO","ZERO","ZERO","ZERO","ZERO","ZERO","ZERO","ZERO","ZERO","ZERO","ZERO",null,null,null,null,null,null,null,null,null,"ZERO","ZERO"]
["SAUSAGE",200,0,0,null,null,null,null,null,null,"ZERO"]
["BACON",400,0,0,null,"ZERO","ZERO","ZERO","ZERO","ZERO","ZERO","ZERO","ZERO",{"$f":"SUM(C43)","v":0},"ZERO","ZERO","ZERO","ZERO","ZERO","ZERO","ZERO","ZERO","ZERO","ZERO","ZERO","ZERO",null,null,null,null,null,null,null,null,null,"ZERO","ZERO"]
["FRIENDY BURGER MEAL (WITH SOFT DRINK)",10200,0,0,null,{"$f":"SUM(C44)*2","v":0},{"$f":"SUM(C44)*2","v":0},{"$f":"SUM(C44)*2","v":0},{"$f":"SUM(C44)*2","v":0},{"$f":"SUM(C44)*2","v":0},{"$f":"SUM(C44)*2","v":0},{"$f":"SUM(C44)*2*2","v":0},"ZERO","ZERO",{"$f":"SUM(C44)*1*2","v":0},{"$f":"SUM(C44)*2","v":0},{"$f":"SUM(C44)*2*2","v":0},{"$f":"SUM(C44)*2","v":0},null,"ZERO",{"$f":"SUM(C44)*2","v":0},null,{"$f":"SUM(C44)*140*2","v":0},{"$f":"SUM(C44)*2","v":0},{"$f":"SUM(C44)*2","v":0},"ZERO",null,null,null,null,null,null,null,null,null,{"$f":"SUM(AD44)*2","v":0},{"$f":"SUM(AE44)*2","v":0}]
["FRIENDY BURGER MEAL (WITH SUGARCANE JUICE)",10600,0,0,null,{"$f":"SUM(C45)*2","v":0},{"$f":"SUM(C45)*2","v":0},{"$f":"SUM(C45)*2","v":0},{"$f":"SUM(C45)*2","v":0},{"$f":"SUM(C45)*2","v":0},{"$f":"SUM(C45)*2","v":0},{"$f":"SUM(C45)*2*2","v":0},"ZERO","ZERO",{"$f":"SUM(C45)*1*2","v":0},{"$f":"SUM(C45)*2","v":0},{"$f":"SUM(C45)*2*2","v":0},{"$f":"SUM(C45)*2","v":0},null,{"$f":"SUM(C45)*2","v":0},"ZERO",null,{"$f":"SUM(C45)*140*2","v":0},{"$f":"SUM(C45)*2","v":0},{"$f":"SUM(C45)*2","v":0},"ZERO",null,null,null,null,null,null,null,null,null,{"$f":"SUM(AD45)*2","v":0},{"$f":"SUM(AE45)*2","v":0}]
["SHAWARMA  SUB",1800,0,0,null,null,"ZERO","ZERO",{"$f":"SUM(C46)","v":0},{"$f":"SUM(C46)*2","v":0},"ZERO","ZERO","ZERO","ZERO",{"$f":"SUM(C46)*1","v":0},"ZERO",{"$f":"SUM(C46)","v":0},"ZERO","ZERO","ZERO","ZERO","ZERO",{"$f":"SUM(C46)*70","v":0},"ZERO","ZERO","ZERO",null,null,null,{"$f":"SUM(C46)","v":0},null,null,null,null,null,{"$f":"SUM(AD46)","v":0},{"$f":"SUM(AE46)","v":0}]
["DELISH PACK 1",5300,0,0,null,{"$f":"SUM(C47)","v":0},{"$f":"SUM(C47)","v":0},"ZERO",{"$f":"SUM(C47)","v":0},{"$f":"SUM(C47)*2","v":0},"ZERO",{"$f":"SUM(C47)*4","v":0},"ZERO","ZERO",{"$f":"SUM(C47)*1","v":0},{"$f":"SUM(C47)*1","v":0},{"$f":"SUM(C47)*2","v":0},{"$f":"SUM(C47)","v":0},"ZERO","ZERO","ZERO","ZERO",{"$f":"SUM(C47)*70","v":0},"ZERO","ZERO","ZERO",null,null,null,{"$f":"SUM(C47)","v":0},{"$f":"SUM(C47)*1","v":0},null,null,null,null,{"$f":"SUM(AD47)","v":0},{"$f":"SUM(AE47)","v":0}]
["FAMILY BURGER MEAL (WITH SOFT DRINK)",19800,0,0,null,{"$f":"SUM(C48)*4","v":0},{"$f":"SUM(C48)*4","v":0},{"$f":"SUM(C48)*4","v":0},{"$f":"SUM(C48)*4","v":0},{"$f":"SUM(C48)*4","v":0},{"$f":"SUM(C48)*4","v":0},{"$f":"SUM(C48)*2*4","v":0},"ZERO","ZERO",{"$f":"SUM(C48)*1*4","v":0},{"$f":"SUM(C48)*4","v":0},{"$f":"SUM(C48)*2*4","v":0},{"$f":"SUM(C48)*4","v":0},null,"ZERO",{"$f":"SUM(C48)*4","v":0},null,{"$f":"SUM(C48)*140*4","v":0},{"$f":"SUM(C48)*4","v":0},{"$f":"SUM(C48)*4","v":0},"ZERO",null,null,null,null,null,null,null,null,null,{"$f":"SUM(AD48)*4","v":0},{"$f":"SUM(AE48)*4","v":0}]
["FAMILY BURGER MEAL (WITH SUGARCANE JUICE)",20800,0,0,null,{"$f":"SUM(C49)*4","v":0},{"$f":"SUM(C49)*4","v":0},{"$f":"SUM(C49)*4","v":0},{"$f":"SUM(C49)*4","v":0},{"$f":"SUM(C49)*4","v":0},{"$f":"SUM(C49)*4","v":0},{"$f":"SUM(C49)*2*4","v":0},"ZERO","ZERO",{"$f":"SUM(C49)*1*4","v":0},{"$f":"SUM(C49)*4","v":0},{"$f":"SUM(C49)*2*4","v":0},{"$f":"SUM(C49)*4","v":0},null,{"$f":"SUM(C49)*4","v":0},"ZERO",null,{"$f":"SUM(C49)*140*4","v":0},{"$f":"SUM(C49)*4","v":0},{"$f":"SUM(C49)*4","v":0},"ZERO",null,null,null,null,null,null,null,null,null,{"$f":"SUM(AD49)*4","v":0},{"$f":"SUM(AE49)*4","v":0}]
["CAN COKE/FANTA ONLY",null,0,0,null,"ZERO","ZERO","ZERO","ZERO","ZERO","ZERO","ZERO","ZERO","ZERO","ZERO","ZERO","ZERO","ZERO","ZERO","ZERO","ZERO","ZERO","ZERO","ZERO","ZERO","ZERO",null,null,null,null,{"$f":"SUM(C50)","v":0},null,null,null,null,"ZERO","ZERO"]
["SUPA KOMMANDO ONLY",250,0,0,null,"ZERO","ZERO","ZERO","ZERO","ZERO","ZERO","ZERO","ZERO","ZERO","ZERO","ZERO","ZERO","ZERO","ZERO","ZERO","ZERO","ZERO","ZERO","ZERO","ZERO","ZERO",null,null,{"$f":"SUM(C51)","v":0},null,"ZERO","ZERO",null,null,null,"ZERO","ZERO"]
["10X Chicken Nuggets ",2400,0,0,null,null,null,null,null,null,"ZERO",null,null,null,null,{"$f":"SUM(C52)","v":0},null,{"$f":"SUM(C52)","v":0},null,null,null,null,null,{"$f":"SUM(C52)","v":0},null,null,null,null,null,null,{"$f":"SUM(C52)","v":0},{"$f":"SUM(C52)*10","v":0}]
["20X Chicken Nuggets ",4800,0,0,null,null,null,null,null,null,"ZERO ",null,null,null,null,{"$f":"SUM(C53)","v":0},null,{"$f":"SUM(C53)","v":0},null,null,null,null,null,{"$f":"SUM(C53)","v":0},null,null,null,null,null,null,{"$f":"SUM(C53)","v":0},{"$f":"SUM(C53)*20","v":0}]
["10 CHICKEN NUGGETS & FRIES BOX",3300,0,0,null,null,null,null,null,null,{"$f":"SUM(C54)","v":0},null,null,null,null,{"$f":"SUM(C54)","v":0},null,{"$f":"SUM(C54)","v":0},null,null,null,null,null,{"$f":"SUM(C54)","v":0},null,null,null,null,null,null,{"$f":"SUM(C54)","v":0},{"$f":"SUM(C54)*10","v":0}]
["20 CHICKEN NUGGETS & FRIES BOX",6600,0,0,null,null,null,null,null,null,{"$f":"SUM(C55)","v":0},null,null,null,null,{"$f":"SUM(C55)","v":0},null,{"$f":"SUM(C55)","v":0},null,null,null,null,null,{"$f":"SUM(C55)","v":0},null,null,null,null,null,null,{"$f":"SUM(C55)","v":0},{"$f":"SUM(C55)*20","v":0}]
["PRAWN BURGER ",3000,0,0,null,{"$f":"SUM(C56)","v":0},"ZERO","ZERO","ZERO","ZERO","ZERO","ZERO",{"$f":"SUM(C56)","v":0},"ZERO",{"$f":"SUM(C56)","v":0},"ZERO",{"$f":"SUM(C56)","v":0},"ZERO","ZERO","ZERO","ZERO","ZERO",{"$f":"SUM(C56)*70","v":0},"ZERO","ZERO","ZERO",null,null,null,null,null,null,{"$f":"SUM(C56)*2","v":0},null,null,"ZERO","ZERO"]
[" FUNMMY NUGGETS  BOX",5300,0,0,null,{"$f":"SUM(C57)","v":0},{"$f":"SUM(C57)","v":0},null,null,null,{"$f":"SUM(C57)","v":0},null,{"$f":"SUM(C57)","v":0},null,{"$f":"SUM(C57)","v":0},{"$f":"SUM(C57)","v":0},null,{"$f":"SUM(C57)","v":0},null,null,null,null,null,{"$f":"SUM(C57)","v":0},null,null,null,null,null,null,{"$f":"SUM(C57)","v":0},{"$f":"SUM(C57)*10","v":0}]
["FARM PRIDE 50 CL",500,0,0,null,"ZERO","ZERO","ZERO","ZERO","ZERO","ZERO","ZERO","ZERO","ZERO","ZERO","ZERO","ZERO","ZERO","ZERO","ZERO","ZERO","ZERO","ZERO","ZERO","ZERO","ZERO",null,null,null,null,null,null,null,{"$f":"SUM(C58)","v":0},null,"ZERO","ZERO"]
["FARM PRIDE 1 LITRE",800,0,0,null,"ZERO","ZERO","ZERO","ZERO","ZERO","ZERO","ZERO","ZERO","ZERO","ZERO","ZERO","ZERO","ZERO","ZERO","ZERO","ZERO","ZERO","ZERO","ZERO","ZERO","ZERO",null,null,null,null,null,null,null,"ZERO",{"$f":"SUM(C59)","v":0},"ZERO","ZERO"]
["GRILLED CHICKEN BURGER",1700,0,{"$f":"SUM(B60*C60)","v":0},null,{"$f":"SUM(C60)","v":0},{"$f":"SUM(C60)","v":0},"ZERO","ZERO","ZERO","ZERO","ZERO","ZERO","ZERO",{"$f":"SUM(C60)","v":0},"ZERO",{"$f":"SUM(C60)*1","v":0},"ZERO","ZERO","ZERO","ZERO","ZERO",{"$f":"SUM(C60)*70","v":0},"ZERO","ZERO","ZERO",null,null,null,null,null,null,null,null,null,"ZERO","ZERO"]
["GRILLED CHICKEN BURGER + JUICE",2200,0,{"$f":"SUM(B61*C61)","v":0},null,{"$f":"SUM(C61)","v":0},{"$f":"SUM(C61)","v":0},"ZERO","ZERO","ZERO","ZERO","ZERO","ZERO","ZERO",{"$f":"SUM(C61)","v":0},"ZERO",{"$f":"SUM(C61)*1","v":0},"ZERO","ZERO","ZERO","ZERO","ZERO",{"$f":"SUM(C61)*70","v":0},"ZERO","ZERO","ZERO",null,null,null,null,null,null,null,{"$f":"SUM(C61)","v":0},null,"ZERO","ZERO"]
["GRILLED BURGER MEAL 1 & 3",4000,0,{"$f":"SUM(B62*C62)","v":0},null,{"$f":"SUM(C62)","v":0},{"$f":"SUM(C62)","v":0},"ZERO","ZERO","ZERO",{"$f":"SUM(C62)","v":0},{"$f":"SUM(C62)*2","v":0},"ZERO","ZERO","ZERO",{"$f":"SUM(C62)","v":0},{"$f":"SUM(C62)","v":0},{"$f":"SUM(C62)","v":0},"ZERO","ZERO","ZERO","ZERO",{"$f":"SUM(C62)*70","v":0},{"$f":"SUM(C62)","v":0},"ZERO","ZERO",null,null,null,null,null,null,null,{"$f":"SUM(C62)","v":0},null,"ZERO","ZERO"]
["GRILLED BURGER MEAL 2",3700,0,{"$f":"SUM(B63*C63)","v":0},null,{"$f":"SUM(C63)","v":0},{"$f":"SUM(C63)","v":0},"ZERO","ZERO","ZERO",{"$f":"SUM(C63)","v":0},{"$f":"SUM(C63)*2","v":0},"ZERO","ZERO","ZERO",{"$f":"SUM(C63)","v":0},{"$f":"SUM(C63)","v":0},{"$f":"SUM(C63)","v":0},"ZERO","ZERO",{"$f":"SUM(C63)","v":0},"ZERO",{"$f":"SUM(C63)*70","v":0},{"$f":"SUM(C63)","v":0},"ZERO","ZERO",null,null,null,null,null,null,null,"ZERO",null,"ZERO","ZERO"]
["MASTERPIECE BURGER ",5000,0,{"$f":"SUM(B64*C64)","v":0},null,{"$f":"SUM(C64)","v":0},"ZERO","ZERO","ZERO","ZERO","ZERO","ZERO",{"$f":"SUM(C64)","v":0},"ZERO","ZERO",{"$f":"SUM(C64)","v":0},{"$f":"SUM(C64)","v":0},"ZERO","ZERO","ZERO",{"$f":"SUM(C64)","v":0},{"$f":"SUM(C64)","v":0},{"$f":"SUM(C64)*70","v":0},"ZERO","ZERO","ZERO",null,null,null,null,null,null,null,null,null,"ZERO",{"$f":"SUM(C64)","v":0}]
["SUYA BURGER BOX 2 (WITH BEEF SUYA BURGER)",6000,0,0,null,0,"ZERO ","ZERO","ZERO",0,0,0,"ZERO","ZERO",0,0,0,"ZERO","ZERO",null,0,"ZERO",0,0,0,"ZERO",0,null,null,null,null,null,null,null,null,"ZERO",0]
["OPENING STOCK",null,null,null,null,{"$f":"SUM('Production DAY 18'!C2)","v":0},{"$f":"SUM('Production DAY 18'!C3)","v":0},{"$f":"SUM('Production DAY 18'!C4)","v":0},{"$f":"SUM('Production DAY 18'!C5)","v":0},{"$f":"SUM('Production DAY 18'!C6)","v":0},{"$f":"SUM('Production DAY 18'!C7)","v":0},{"$f":"SUM('Production DAY 18'!C8)","v":0},{"$f":"SUM('Production DAY 18'!C9)","v":0},{"$f":"SUM('Production DAY 18'!C10)","v":0},{"$f":"SUM('Production DAY 18'!C11)","v":0},{"$f":"SUM('Production DAY 18'!C12)","v":0},{"$f":"SUM('Production DAY 18'!C13)","v":0},{"$f":"SUM('Production DAY 18'!C14)","v":0},{"$f":"SUM('Production DAY 18'!C15)","v":0},{"$f":"SUM('Production DAY 18'!C16)","v":0},{"$f":"SUM('Production DAY 18'!C17)","v":0},{"$f":"SUM('Production DAY 18'!C18)","v":0},{"$f":"SUM('Production DAY 18'!C19)","v":0},{"$f":"SUM('Production DAY 18'!C20)","v":0},{"$f":"SUM('Production DAY 18'!C21)","v":0},{"$f":"SUM('Production DAY 18'!C22)","v":0},{"$f":"SUM('Production DAY 18'!C23)","v":0},{"$f":"SUM('Production DAY 18'!C24)","v":0},{"$f":"SUM('Production DAY 18'!C25)","v":0},{"$f":"SUM('Production DAY 18'!C26)","v":0},{"$f":"SUM('Production DAY 18'!C27)","v":0},{"$f":"SUM('Production DAY 18'!C28)","v":0},{"$f":"SUM('Production DAY 18'!C29)","v":0},{"$f":"SUM('Production DAY 18'!C30)","v":0},{"$f":"SUM('Production DAY 18'!C31)","v":0},{"$f":"SUM('Production DAY 18'!C32)","v":0},{"$f":"SUM('Production DAY 18'!C33)","v":0},{"$f":"SUM('Production DAY 18'!C34)","v":0},{"$f":"SUM('Production DAY 18'!C35)","v":0},{"$f":"SUM('Production DAY 18'!C36)","v":0},{"$f":"SUM('Production DAY 18'!C37)","v":0},{"$f":"SUM('Production DAY 18'!C38)","v":0},{"$f":"SUM('Production DAY 18'!C39)","v":0},{"$f":"SUM('Production DAY 18'!C40)","v":0},{"$f":"SUM('Production DAY 18'!C41)","v":0},{"$f":"SUM('Production DAY 18'!C42)","v":0},{"$f":"SUM('Production DAY 18'!C43)","v":0}]
["RECEIVED",null,null,null,null,{"$f":"SUM('Production DAY 18'!D2)","v":0},{"$f":"SUM('Production DAY 18'!D3)","v":0},{"$f":"SUM('Production DAY 18'!D4)","v":0},{"$f":"SUM('Production DAY 18'!D5)","v":0},{"$f":"SUM('Production DAY 18'!D6)","v":0},{"$f":"SUM('Production DAY 18'!D7)","v":0},{"$f":"SUM('Production DAY 18'!D8)","v":0},{"$f":"SUM('Production DAY 18'!D9)","v":0},{"$f":"SUM('Production DAY 18'!D10)","v":0},{"$f":"SUM('Production DAY 18'!D11)","v":0},{"$f":"SUM('Production DAY 18'!D12)","v":0},{"$f":"SUM('Production DAY 18'!D13)","v":0},{"$f":"SUM('Production DAY 18'!D14)","v":0},{"$f":"SUM('Production DAY 18'!D15)","v":0},{"$f":"SUM('Production DAY 18'!D16)","v":0},{"$f":"SUM('Production DAY 18'!D17)","v":0},{"$f":"SUM('Production DAY 18'!D18)","v":0},{"$f":"SUM('Production DAY 18'!D19)","v":0},{"$f":"SUM('Production DAY 18'!D20)","v":0},{"$f":"SUM('Production DAY 18'!D21)","v":0},{"$f":"SUM('Production DAY 18'!D22)","v":0},{"$f":"SUM('Production DAY 18'!D23)","v":0},{"$f":"SUM('Production DAY 18'!D24)","v":0},{"$f":"SUM('Production DAY 18'!D25)","v":0},{"$f":"SUM('Production DAY 18'!D26)","v":0},{"$f":"SUM('Production DAY 18'!D27)","v":0},{"$f":"SUM('Production DAY 18'!D28)","v":0},{"$f":"SUM('Production DAY 18'!D29)","v":0},{"$f":"SUM('Production DAY 18'!D30)","v":0},{"$f":"SUM('Production DAY 18'!D31)","v":0},{"$f":"SUM('Production DAY 18'!D32)","v":0},{"$f":"SUM('Production DAY 18'!D33)","v":0},{"$f":"SUM('Production DAY 18'!D34)","v":0},{"$f":"SUM('Production DAY 18'!D35)","v":0},{"$f":"SUM('Production DAY 18'!D36)","v":0},{"$f":"SUM('Production DAY 18'!D37)","v":0},{"$f":"SUM('Production DAY 18'!D38)","v":0},{"$f":"SUM('Production DAY 18'!D39)","v":0},{"$f":"SUM('Production DAY 18'!D40)","v":0},{"$f":"SUM('Production DAY 18'!D41)","v":0},{"$f":"SUM('Production DAY 18'!D42)","v":0},{"$f":"SUM('Production DAY 18'!D43)","v":0}]
["TOTAL STOCK",null,null,null,null,{"$f":"SUM(F66:F67)","v":0},{"$f":"SUM(G66:G67)","v":0},{"$f":"SUM(H66:H67)","v":0},{"$f":"SUM(I66:I67)","v":0},0,0,0,0,0,0,{"$f":"SUM(P66:P67)","v":0},0,0,0,0,0,0,0,0,0,0,0,0,0,0,0,0,0,0,0,0,0,0,0,0,0,0,0,0,0,0,0]
["USED",null,null,{"$f":"SUM(D3:D65)","v":0},null,{"$f":"SUM(F3:F65)","v":0},0,0,0,0,0,0,0,0,0,0,0,0,0,0,0,0,0,0,0,0,0,0,0,0,0,0,0,0,0,0,0,{"$f":"SUM(AL3:AL64)","v":0},0,0,0,0,0,0,0,0,0]
["CLOSING STOCK",null,null,null,null,{"$f":"SUM(F68-F69)","v":0},0,0,0,0,0,0,0,0,0,0,0,0,0,0,0,0,0,0,0,0,0,0,0,0,0,0,0,{"$f":"SUM(AH66-AH69)","v":0},{"$f":"SUM(AI68-AI69)","v":0},0,0,0,0,0,0,0,0,0,0,0,0]

{"sheet":"Production DAY 19","index":36,"n_rows":44,"n_cols":8,"rows_kept":44,"cut":false,"hidden":false,"merged":[]}
["Nos#","ITEMS"," < OPENING STOCK","RECEIVED","USED >","SALES CLOSING STOCK >","PHYSICAL STOCK COUNT","COMMENTS"]
[1,"Burger Bread",{"$f":"SUM('Production DAY 18'!G2)","v":0},null,{"$f":"SUM('DAY 19'!F69)","v":0},{"$f":"SUM('DAY 19'!F70)","v":0},0,{"$f":"IF(G2=F2,TRUE,FALSE)","v":true}]
[2,"Chicken Patty",{"$f":"SUM('Production DAY 18'!G3)","v":0},null,{"$f":"SUM('DAY 19'!G69)","v":0},{"$f":"SUM('DAY 19'!G70)","v":0},0,true]
[3,"Shawarma Bread",{"$f":"SUM('Production DAY 18'!G4)","v":0},null,{"$f":"SUM('DAY 19'!H69)","v":0},{"$f":"SUM('DAY 19'!H70)","v":0},0,true]
[4,"Chicken Portion or Shawarma portion",{"$f":"SUM('Production DAY 18'!G5)","v":0},null,{"$f":"SUM('DAY 19'!I69)","v":0},{"$f":"SUM('DAY 19'!I70)","v":0},0,true]
[5,"Sausage",{"$f":"SUM('Production DAY 18'!G6)","v":0},null,{"$f":"SUM('DAY 19'!J69)","v":0},{"$f":"SUM('DAY 19'!J70)","v":0},0,true]
[6,"Portion of Fries",{"$f":"SUM('Production DAY 18'!G7)","v":0},null,{"$f":"SUM('DAY 19'!K69)","v":0},{"$f":"SUM('DAY 19'!K70)","v":0},0,true]
[7,"Pieces of Chicken",{"$f":"SUM('Production DAY 18'!G8)","v":0},null,{"$f":"SUM('DAY 19'!L69)","v":0},{"$f":"SUM('DAY 19'!L70)","v":0},0,true]
[8,"Cheese",{"$f":"SUM('Production DAY 18'!G9)","v":0},null,{"$f":"SUM('DAY 19'!M69)","v":0},{"$f":"SUM('DAY 19'!M70)","v":0},0,true]
[9,"Bacon",{"$f":"SUM('Production DAY 18'!G10)","v":0},null,{"$f":"SUM('DAY 19'!N69)","v":0},{"$f":"SUM('DAY 19'!N70)","v":0},0,true]
[10,"A Paper Bag",{"$f":"SUM('Production DAY 18'!G11)","v":0},null,{"$f":"SUM('DAY 19'!O69)","v":0},{"$f":"SUM('DAY 19'!O70)","v":0},0,true]
[11,"Achicken Box",{"$f":"SUM('Production DAY 18'!G12)","v":0},null,{"$f":"SUM('DAY 19'!P69)","v":0},{"$f":"SUM('DAY 19'!P70)","v":0},0,true]
[12,"Paper Wrap",{"$f":"SUM('Production DAY 18'!G13)","v":0},null,{"$f":"SUM('DAY 19'!Q69)","v":0},{"$f":"SUM('DAY 19'!Q70)","v":0},0,true]
[13,"A Branded Nylon",{"$f":"SUM('Production DAY 18'!G14)","v":0},null,{"$f":"SUM('DAY 19'!R69)","v":0},{"$f":"SUM('DAY 19'!R70)","v":0},0,true]
[14,"Parfait",{"$f":"SUM('Production DAY 18'!G15)","v":0},null,{"$f":"SUM('DAY 19'!S69)","v":0},{"$f":"SUM('DAY 19'!S70)","v":0},0,true]
[15,"A Bottle of SUGAR Juice",{"$f":"SUM('Production DAY 18'!G16)","v":0},null,{"$f":"SUM('DAY 19'!T69)","v":0},{"$f":"SUM('DAY 19'!T70)","v":0},0,true]
[16,"35 CL Soft Drink",{"$f":"SUM('Production DAY 18'!G17)","v":0},null,{"$f":"SUM('DAY 19'!U69)","v":0},{"$f":"SUM('DAY 19'!U70)","v":0},0,true]
[17,"Beef Patty",{"$f":"SUM('Production DAY 18'!G18)","v":0},null,{"$f":"SUM('DAY 19'!V69)","v":0},{"$f":"SUM('DAY 19'!V70)","v":0},0,true]
[18,"Cream in GRAMS",{"$f":"SUM('Production DAY 18'!G19)","v":0},null,{"$f":"SUM('DAY 19'!W69)","v":0},{"$f":"SUM('DAY 19'!W70)","v":0},0,true]
[19,"KETCHUP",{"$f":"SUM('Production DAY 18'!G20)","v":0},null,{"$f":"SUM('DAY 19'!X69)","v":0},{"$f":"SUM('DAY 19'!X70)","v":0},0,true]
[20,"plain Nylon",{"$f":"SUM('Production DAY 18'!G21)","v":0},null,{"$f":"SUM('DAY 19'!Y69)","v":0},{"$f":"SUM('DAY 19'!Y70)","v":0},0,true]
[21,"Barbeque Sauce",{"$f":"SUM('Production DAY 18'!G22)","v":0},null,{"$f":"SUM('DAY 19'!Z69)","v":0},{"$f":"SUM('DAY 19'!Z70)","v":0},0,true]
[22,"Meal Box",{"$f":"SUM('Production DAY 18'!G23)","v":0},null,{"$f":"SUM('DAY 19'!AA69)","v":0},{"$f":"SUM('DAY 19'!AA70)","v":0},0,true]
[23,"COCONUT BREAD",{"$f":"SUM('Production DAY 18'!G24)","v":0},null,{"$f":"SUM('DAY 19'!AB69)","v":0},{"$f":"SUM('DAY 19'!AB70)","v":0},0,true]
[24,"SUPA KOMMANDO",{"$f":"SUM('Production DAY 18'!G25)","v":0},null,{"$f":"SUM('DAY 19'!AC69)","v":0},{"$f":"SUM('DAY 19'!AC70)","v":0},0,true]
[25,"SHAWARMA SUB",{"$f":"SUM('Production DAY 18'!G26)","v":0},null,{"$f":"SUM('DAY 19'!AD69)","v":0},{"$f":"SUM('DAY 19'!AD70)","v":0},0,true]
[26,"CAN COKE / FANTA",{"$f":"SUM('Production DAY 18'!G27)","v":0},null,{"$f":"SUM('DAY 19'!AE69)","v":0},{"$f":"SUM('DAY 19'!AE70)","v":0},0,true]
[27,"NUGGETS ",{"$f":"SUM('Production DAY 18'!G28)","v":0},null,{"$f":"SUM('DAY 19'!AF69)","v":0},{"$f":"SUM('DAY 19'!AF70)","v":0},0,true]
[28,"PRAWN",{"$f":"SUM('Production DAY 18'!G29)","v":0},null,{"$f":"SUM('DAY 19'!AG69)","v":0},{"$f":"SUM('DAY 19'!AG70)","v":0},0,true]
[29,"FARM PRIDE",{"$f":"SUM('Production DAY 18'!G30)","v":0},null,{"$f":"SUM('DAY 19'!AH69)","v":0},{"$f":"SUM('DAY 19'!AH70)","v":0},0,true]
[30,"50CL OR PULPY",{"$f":"SUM('Production DAY 18'!G31)","v":0},null,{"$f":"SUM('DAY 19'!AI69)","v":0},{"$f":"SUM('DAY 19'!AI70)","v":0},0,true]
[31,"FARM PRIDE 1 LT",{"$f":"SUM('Production DAY 18'!G32)","v":0},null,{"$f":"SUM('DAY 19'!AJ69)","v":0},{"$f":"SUM('DAY 19'!AJ70)","v":0},0,true]
[32,"BEEF PORTION FOR SHAWARMA",{"$f":"SUM('Production DAY 18'!G33)","v":0},null,{"$f":"SUM('DAY 19'!AK69)","v":0},{"$f":"SUM('DAY 19'!AK70)","v":0},0,true]
[33,"BEEF SUYA STICK",{"$f":"SUM('Production DAY 18'!G34)","v":0},null,{"$f":"SUM('DAY 19'!AL69)","v":0},{"$f":"SUM('DAY 19'!AL70)","v":0},0,true]
[34,"EMPTY 1",{"$f":"SUM('Production DAY 18'!G35)","v":0},null,{"$f":"SUM('DAY 19'!AM69)","v":0},{"$f":"SUM('DAY 19'!AM70)","v":0},0,true]
[35,"EMPTY 2",{"$f":"SUM('Production DAY 18'!G36)","v":0},null,{"$f":"SUM('DAY 19'!AN69)","v":0},{"$f":"SUM('DAY 19'!AN70)","v":0},0,true]
[36,"EMPTY 3",{"$f":"SUM('Production DAY 18'!G37)","v":0},null,{"$f":"SUM('DAY 19'!AO69)","v":0},{"$f":"SUM('DAY 19'!AO70)","v":0},0,true]
[37,"EMPTY 4",{"$f":"SUM('Production DAY 18'!G38)","v":0},null,{"$f":"SUM('DAY 19'!AP69)","v":0},{"$f":"SUM('DAY 19'!AP70)","v":0},0,true]
[38,"EMPTY 5",{"$f":"SUM('Production DAY 18'!G39)","v":0},null,{"$f":"SUM('DAY 19'!AQ69)","v":0},{"$f":"SUM('DAY 19'!AQ70)","v":0},0,true]
[39,"EMPTY 6",{"$f":"SUM('Production DAY 18'!G40)","v":0},null,{"$f":"SUM('DAY 19'!AR69)","v":0},{"$f":"SUM('DAY 19'!AR70)","v":0},0,true]
[40,"EMPTY 7",{"$f":"SUM('Production DAY 18'!G41)","v":0},null,{"$f":"SUM('DAY 19'!AS69)","v":0},{"$f":"SUM('DAY 19'!AS70)","v":0},0,true]
[41,"EMPTY 8",{"$f":"SUM('Production DAY 18'!G42)","v":0},null,{"$f":"SUM('DAY 19'!AT69)","v":0},{"$f":"SUM('DAY 19'!AT70)","v":0},0,true]
[42,"EMPTY 9",{"$f":"SUM('Production DAY 18'!G43)","v":0},null,{"$f":"SUM('DAY 19'!AU69)","v":0},{"$f":"SUM('DAY 19'!AU70)","v":0},0,true]
[43,"EMPTY 10",{"$f":"SUM('Production DAY 18'!G44)","v":0},null,{"$f":"SUM('DAY 19'!AV69)","v":0},{"$f":"SUM('DAY 19'!AV70)","v":0},0,true]

{"sheet":"DAY 19","index":37,"n_rows":70,"n_cols":47,"rows_kept":70,"cut":false,"hidden":false,"merged":[[0,7,0,28]]}
["FEBRUARY 12th, 2022",null,null,{"$f":"SUM(D3:D50)","v":0},null,null,null,"BURGER PALACE INVENTORY RECORDS"]
["ITEM","AMOUNT","QUANTITY","TOTAL",null,"Burger Bread","Chicken Patty","Shawarma Bread","Chicken Portion or Shawarma portion","Sausage","Portion of Fries","Pieces of Chicken","Cheese","Bacon","A Paper Bag","Achicken Box","Paper Wrap","A Branded Nylon","Parfait","A Bottle of SUGAR Juice","35 CL Soft Drink","Beef Patty","Cream in GRAMS","KETCHUP","plain Nylon","Barbeque Sauce","Meal Box","COCONUT BREAD ","SUPA KOMMANDO ","SHAWARMA SUB","CAN COKE / FANTA","NUGGETS","PRAWN","FARM PRIDE 50CL OR PULPY","FARM PRIDE 1 LT","BEEF PORTION FOR SHAWARMA ","BEEF SUYA STICK","EMPTY 1","EMPTY 2","EMPTY 3","EMPTY 4","EMPTY 5","EMPTY 6","EMPTY 7","EMPTY 8","EMPTY 9","EMPTY 10"]
["DELUXE BURGER MEAL (WITH SOFT DRINK)",5400,0,{"$f":"SUM(B3*C3)","v":0},null,{"$f":"SUM(C3)","v":0},{"$f":"SUM(C3)","v":0},{"$f":"SUM(C3)","v":0},{"$f":"SUM(C3)","v":0},{"$f":"SUM(C3)","v":0},{"$f":"SUM(C3)","v":0},{"$f":"SUM(C3)*2","v":0},"ZERO","ZERO",{"$f":"SUM(C3)*1","v":0},{"$f":"SUM(C3)","v":0},{"$f":"SUM(C3)*2","v":0},{"$f":"SUM(C3)","v":0},null,"ZERO",{"$f":"SUM(C3)","v":0},null,{"$f":"SUM(C3)*140","v":0},{"$f":"SUM(C3)","v":0},{"$f":"SUM(C3)","v":0},"ZERO",null,null,null,null,null,null,null,null,null,{"$f":"SUM(AD3)","v":0},0]
["DELUXE BURGER MEAL (WITH SUGARCANE JUICE)",5600,0,{"$f":"SUM(B4*C4)","v":0},null,{"$f":"SUM(C4)","v":0},{"$f":"SUM(C4)","v":0},{"$f":"SUM(C4)","v":0},{"$f":"SUM(C4)","v":0},{"$f":"SUM(C4)","v":0},0,{"$f":"SUM(C4)*2","v":0},"ZERO","ZERO",{"$f":"SUM(C4)*1","v":0},0,{"$f":"SUM(C4)*2","v":0},0,null,{"$f":"SUM(C4)","v":0},"ZERO",null,{"$f":"SUM(C4)*140","v":0},{"$f":"SUM(C4)","v":0},0,"ZERO",null,null,null,null,null,null,null,null,null,0,0]
["DELUXE MEAL EXTRA (WITH Soft Drink)",null,0,{"$f":"SUM(B5*C5)","v":0},null,{"$f":"SUM(C5)","v":0},{"$f":"SUM(C5)","v":0},{"$f":"SUM(C5)","v":0},{"$f":"SUM(C5)","v":0},{"$f":"SUM(C5)","v":0},0,{"$f":"SUM(C5)*2","v":0},"ZERO","ZERO",{"$f":"SUM(C5)","v":0},0,{"$f":"SUM(C5)*2","v":0},0,{"$f":"SUM(C5)","v":0},"ZERO",{"$f":"SUM(C5)","v":0},null,{"$f":"SUM(C5)*140","v":0},{"$f":"SUM(C5)","v":0},0,"ZERO",null,null,null,null,null,null,null,null,null,0,0]
["DELUXE BURGER MEAL Extra (With Sugarcane juice",null,0,{"$f":"SUM(B6*C6)","v":0},null,{"$f":"SUM(C6)","v":0},{"$f":"SUM(C6)","v":0},{"$f":"SUM(C6)","v":0},{"$f":"SUM(C6)","v":0},{"$f":"SUM(C6)","v":0},0,{"$f":"SUM(C6)*2","v":0},"ZERO","ZERO",{"$f":"SUM(C6)","v":0},0,{"$f":"SUM(C6)*2","v":0},0,{"$f":"SUM(C6)","v":0},{"$f":"SUM(C6)","v":0},"ZERO",null,{"$f":"SUM(C6)*140","v":0},{"$f":"SUM(C6)","v":0},0,"ZERO",null,null,null,null,null,null,null,null,null,0,0]
["PREMIUM BURGER Meal ",5900,0,{"$f":"SUM(B7*C7)","v":0},null,{"$f":"SUM(C7)","v":0},{"$f":"SUM(C7)","v":0},"ZERO","ZERO","ZERO",0,{"$f":"SUM(C7)*5","v":0},"ZERO","ZERO",{"$f":"SUM(C7)","v":0},0,{"$f":"SUM(C7)*1.25","v":0},0,"ZERO","ZERO",{"$f":"SUM(C7)","v":0},"ZERO",{"$f":"SUM(C7)*70","v":0},{"$f":"SUM(C7)*2","v":0},0,{"$f":"SUM(C7)","v":0},null,null,null,null,null,null,null,null,null,"ZERO","ZERO"]
["CRISPY CHICKEN BOX",4300,0,null,null,"ZERO","ZERO","ZERO","ZERO","ZERO",0,{"$f":"SUM(C8)*5","v":0},"ZERO","ZERO","ZERO",0,{"$f":"SUM(C8)*0.25","v":0},0,"ZERO","ZERO",{"$f":"SUM(C8)","v":0},"ZERO","ZERO",{"$f":"SUM(C8)*2","v":0},0,{"$f":"SUM(C8)","v":0},null,null,null,null,null,null,null,null,null,"ZERO","ZERO"]
["ROYAL BURGER MEAL (CHICKEN  PATTY)",null,0,{"$f":"SUM(B9*C9)","v":0},null,{"$f":"SUM(C9)","v":0},{"$f":"SUM(C9)*2","v":0},"ZERO","ZERO","ZERO",0,"ZERO",{"$f":"SUM(C9)*2","v":0},{"$f":"SUM(C9)*2","v":0},"ZERO",0,{"$f":"SUM(C9)","v":0},0,{"$f":"SUM(C9)","v":0},"ZERO","ZERO","ZERO",{"$f":"SUM(C9)*140","v":0},{"$f":"SUM(C9)*2","v":0},0,{"$f":"SUM(C9)","v":0},null,null,null,null,null,null,null,null,null,"ZERO","ZERO"]
["ROYAL BURGER MEAL (BEEF  PATTY)",null,0,{"$f":"SUM(B10*C10)","v":0},null,{"$f":"SUM(C10)","v":0},"ZERO","ZERO","ZERO","ZERO",0,"ZERO",{"$f":"SUM(C10)*2","v":0},{"$f":"SUM(C10)*2","v":0},"ZERO",0,0,0,{"$f":"SUM(C10)","v":0},"ZERO","ZERO",{"$f":"SUM(C10)*2","v":0},{"$f":"SUM(C10)*140","v":0},{"$f":"SUM(C10)*2","v":0},0,{"$f":"SUM(C10)","v":0},null,null,null,null,null,null,null,null,null,"ZERO","ZERO"]
["ROYAL BURGER ONLY (CHICKEN PATTY)",3300,0,{"$f":"SUM(B11*C11:C25,A1,A1,A1,A1,A1)","v":0},null,{"$f":"SUM(C11)","v":0},{"$f":"SUM(C11)*2","v":0},"ZERO","ZERO","ZERO","ZERO","ZERO",{"$f":"SUM(C11)*2","v":0},{"$f":"SUM(C11)*2","v":0},"ZERO",0,0,0,"ZERO","ZERO","ZERO","ZERO",{"$f":"SUM(C11)*140","v":0},{"$f":"SUM(C11)","v":0},"ZERO","ZERO",null,null,null,null,null,null,null,null,null,"ZERO","ZERO"]
["ROYAL BURGER ONLY (BEEF PATTY)",3300,0,{"$f":"SUM(B12*C12)","v":0},null,{"$f":"SUM(C12)","v":0},null,"ZERO","ZERO","ZERO","ZERO","ZERO",{"$f":"SUM(C12)*2","v":0},{"$f":"SUM(C12)*2","v":0},"ZERO",0,0,0,"ZERO","ZERO","ZERO",{"$f":"SUM(C12)*2","v":0},{"$f":"SUM(C12)*140","v":0},{"$f":"SUM(C12)","v":0},"ZERO","ZERO",null,null,null,null,null,null,null,null,null,"ZERO","ZERO"]
["MAYOR'S COCONUT BURGER ",2800,0,0,null,0,{"$f":"SUM(C13)","v":0},"ZERO","ZERO","ZERO","ZERO","ZERO",{"$f":"SUM(C13)","v":0},"ZERO","ZERO",0,0,0,"ZERO","ZERO","ZERO",{"$f":"SUM(C13)","v":0},{"$f":"SUM(C13)*140","v":0},"ZERO","ZERO","ZERO",null,{"$f":"SUM(C13)","v":0},{"$f":"SUM(C13)","v":0},null,null,null,null,null,null,"ZERO","ZERO"]
["DOUBLE DECKER CRISPY CHK. CHEESE BURGER",2500,0,0,null,{"$f":"SUM(C14)","v":0},{"$f":"SUM(C14)*2","v":0},"ZERO","ZERO","ZERO","ZERO","ZERO",{"$f":"SUM(C14)","v":0},"ZERO","ZERO",0,0,"ZERO","ZERO","ZERO","ZERO","ZERO",{"$f":"SUM(C14)*70","v":0},"ZERO","ZERO","ZERO",null,null,null,null,null,null,null,null,null,"ZERO","ZERO"]
["SINGLE BEEF BURGER",1700,0,0,null,0,"ZERO","ZERO","ZERO","ZERO","ZERO","ZERO",null,"ZERO",{"$f":"SUM(C15)","v":0},null,0,"ZERO","ZERO","ZERO","ZERO",{"$f":"SUM(C15)","v":0},{"$f":"SUM(C15)*70","v":0},"ZERO","ZERO","ZERO",null,null,null,null,null,null,null,null,null,"ZERO","ZERO"]
["YANKEE BURGER",2400,0,0,null,0,"ZERO","ZERO","ZERO","ZERO","ZERO","ZERO",null,{"$f":"SUM(C16)*2","v":0},{"$f":"SUM(C16)","v":0},null,0,"ZERO","ZERO","ZERO","ZERO",{"$f":"SUM(C16)","v":0},{"$f":"SUM(C16)*70","v":0},"ZERO","ZERO","ZERO",null,null,null,null,null,null,null,null,null,"ZERO","ZERO"]
["ROYAL BURGER WITH FRIES (Chicken)",4000,0,0,null,0,{"$f":"SUM(C17)*2","v":0},"ZERO","ZERO","ZERO",{"$f":"SUM(C17)","v":0},"ZERO",{"$f":"SUM(C17)*2","v":0},{"$f":"SUM(C17)*2","v":0},"ZERO",{"$f":"SUM(C17)","v":0},0,"ZERO","ZERO","ZERO","ZERO","ZERO",{"$f":"SUM(C17)*140","v":0},{"$f":"SUM(C17)*2","v":0},"ZERO","ZERO",null,null,null,null,null,null,null,null,null,"ZERO","ZERO"]
["ROYAL BURGER WITH FRIES (BEEF)",4000,0,0,null,0,"ZERO","ZERO","ZERO","ZERO",{"$f":"SUM(C18)","v":0},"ZERO",{"$f":"SUM(C18)*2","v":0},{"$f":"SUM(C18)*2","v":0},"ZERO",{"$f":"SUM(C18)","v":0},0,"ZERO","ZERO","ZERO","ZERO",{"$f":"SUM(C18)*2","v":0},{"$f":"SUM(C18)*140","v":0},{"$f":"SUM(C18)*2","v":0},"ZERO","ZERO",null,null,null,null,null,null,null,null,null,"ZERO","ZERO"]
["CRISPY CHICKEN BURGER",1700,0,0,null,0,{"$f":"SUM(C19)","v":0},"ZERO","ZERO","ZERO","ZERO","ZERO","ZERO","ZERO",{"$f":"SUM(C19)","v":0},"ZERO",{"$f":"SUM(C19)*1","v":0},"ZERO","ZERO","ZERO","ZERO","ZERO",{"$f":"SUM(C19)*70","v":0},"ZERO","ZERO","ZERO",null,null,null,null,null,null,null,null,null,"ZERO","ZERO"]
["SUYA BURGER BOX",5500,0,0,null,0,{"$f":"SUM(C20)*2","v":0},"ZERO","ZERO",{"$f":"SUM(C20)*4","v":0},{"$f":"SUM(C20)","v":0},{"$f":"SUM(C20)*4","v":0},"ZERO","ZERO",{"$f":"SUM(C20)","v":0},{"$f":"SUM(C20)","v":0},{"$f":"SUM(C20)","v":0},"ZERO","ZERO",null,{"$f":"SUM(C20)","v":0},"ZERO",0,{"$f":"SUM(C20)*2","v":0},{"$f":"SUM(C20)","v":0},"ZERO",{"$f":"SUM(C20)","v":0},null,null,null,null,null,null,null,null,"ZERO","ZERO"]
["CRISPY CHICKEN BURGER PLUS CHEESE",2100,0,0,null,0,{"$f":"SUM(C21)","v":0},"ZERO","ZERO","ZERO","ZERO","ZERO",{"$f":"SUM(C21)","v":0},"ZERO",{"$f":"SUM(C21)","v":0},"ZERO",0,"ZERO","ZERO","ZERO","ZERO","ZERO",0,"ZERO","ZERO","ZERO",null,null,null,null,null,null,null,null,null,"ZERO","ZERO"]
["SINGLE BEEF CHEESE BURGER ",2100,0,0,null,0,"ZERO","ZERO","ZERO","ZERO","ZERO","ZERO",{"$f":"SUM(C22)","v":0},"ZERO",{"$f":"SUM(C22)","v":0},"ZERO",0,"ZERO","ZERO","ZERO","ZERO",{"$f":"SUM(C22)","v":0},0,"ZERO","ZERO","ZERO",null,null,null,null,null,null,null,null,null,"ZERO","ZERO"]
["DOUBLE DECKER BEEF CHEESE BURGER",2800,0,0,null,0,"ZERO","ZERO","ZERO","ZERO","ZERO","ZERO",{"$f":"SUM(C23)*2","v":0},"ZERO","ZERO",{"$f":"SUM(C23)","v":0},0,"ZERO","ZERO","ZERO","ZERO",{"$f":"SUM(C23)*2","v":0},0,"ZERO","ZERO","ZERO",null,null,null,null,null,null,null,null,null,"ZERO","ZERO"]
["CHICKEN SUYA BURGER ",2200,0,0,null,0,{"$f":"SUM(C24)*2","v":0},"ZERO","ZERO","ZERO","ZERO","ZERO","ZERO","ZERO",{"$f":"SUM(C24)*1","v":0},"ZERO",0,"ZERO","ZERO","ZERO","ZERO","ZERO",0,"ZERO","ZERO","ZERO",null,null,null,null,null,null,null,null,null,"ZERO","ZERO"]
["CHICKEN SHAWARMA",1800,0,0,null,null,"ZERO",{"$f":"SUM(C25)","v":0},{"$f":"SUM(C25)","v":0},{"$f":"SUM(C25)*2","v":0},"ZERO","ZERO","ZERO","ZERO","ZERO","ZERO",0,{"$f":"SUM(C25)","v":0},"ZERO","ZERO","ZERO","ZERO",0,"ZERO","ZERO","ZERO",null,null,null,null,null,null,null,null,null,{"$f":"SUM(AD25)","v":0},{"$f":"SUM(AE25)","v":0}]
["BARBECUE BEEF SHAWARMA",2000,0,0,null,null,"ZERO",{"$f":"SUM(C26)","v":0},"ZERO",{"$f":"SUM(C26)*2","v":0},"ZERO","ZERO","ZERO","ZERO","ZERO","ZERO",0,0,"ZERO","ZERO","ZERO","ZERO",0,"ZERO","ZERO","ZERO",null,null,null,null,null,null,null,null,null,{"$f":"SUM(C26)","v":0},"ZERO"]
["BEEF SUYA SHAWARMA",2200,0,0,null,null,"ZERO",{"$f":"SUM(C27)","v":0},"ZERO",{"$f":"SUM(C27)*2","v":0},"ZERO","ZERO","ZERO","ZERO","ZERO","ZERO",0,0,"ZERO","ZERO","ZERO","ZERO",0,"ZERO","ZERO","ZERO",null,null,null,null,null,null,null,null,null,{"$f":"SUM(AD27)","v":0},{"$f":"SUM(C27)","v":0}]
["BEEF SUYA BURGER ",2200,0,0,null,{"$f":"SUM(C28)","v":0},"ZERO",null,"ZERO","ZERO","ZERO","ZERO","ZERO","ZERO",{"$f":"SUM(C28)","v":0},"ZERO",0,0,"ZERO","ZERO","ZERO","ZERO",0,"ZERO","ZERO","ZERO",null,null,null,null,null,null,null,null,null,{"$f":"SUM(AD28)","v":0},{"$f":"SUM(C28)","v":0}]
["CHICKEN SUYA SHAWARMA",2200,0,0,null,"ZERO",{"$f":"SUM(C29)*2","v":0},{"$f":"SUM(C29)","v":0},null,{"$f":"SUM(C29)*2","v":0},"ZERO","ZERO","ZERO","ZERO","ZERO","ZERO",0,0,"ZERO","ZERO","ZERO","ZERO",0,"ZERO","ZERO","ZERO"]
["CHESSY SHAWARMA",2500,0,0,null,"ZERO","ZERO",{"$f":"SUM(C30)","v":0},{"$f":"SUM(C30)","v":0},{"$f":"SUM(C30)*2","v":0},null,"ZERO",{"$f":"SUM(C30)*2","v":0},"ZERO","ZERO","ZERO",0,0,"ZERO","ZERO","ZERO","ZERO",{"$f":"SUM(C30)*140","v":0},"ZERO","ZERO","ZERO",null,null,null,null,null,null,null,null,null,{"$f":"SUM(AD30)","v":0},{"$f":"SUM(AE30)","v":0}]
["2 CHICKEN AND CHIPS",2300,0,0,null,"ZERO","ZERO","ZERO","ZERO","ZERO",{"$f":"SUM(C31)","v":0},{"$f":"SUM(C31)*2","v":0},"ZERO","ZERO","ZERO",{"$f":"SUM(C31)","v":0},"ZERO",0,"ZERO","ZERO","ZERO","ZERO","ZERO",{"$f":"SUM(C31)","v":0},"ZERO","ZERO",null,null,null,null,null,null,null,null,null,"ZERO","ZERO"]
["4 CHICKEN AND CHIPS",3500,0,0,null,"ZERO","ZERO","ZERO","ZERO","ZERO",{"$f":"SUM(C32)","v":0},{"$f":"SUM(C32)*4","v":0},"ZERO","ZERO","ZERO",{"$f":"SUM(C32)","v":0},"ZERO",0,"ZERO","ZERO","ZERO","ZERO","ZERO",{"$f":"SUM(C32)*2","v":0},"ZERO","ZERO","zero","zero","zero",null,null,null,null,null,null,"ZERO","ZERO"]
["SPICY CHICKEN ONLY",650,0,null,null,"ZERO","ZERO","ZERO","ZERO","ZERO","ZERO",{"$f":"SUM(C33)","v":0},"ZERO","ZERO","ZERO","ZERO","ZERO","ZERO","ZERO","ZERO","ZERO","ZERO","ZERO","ZERO",{"$f":"SUM(C33)","v":0},"ZERO",null,null,null,null,null,null,null,null,null,"ZERO","ZERO"]
["CRISPY CHICKEN ONLY",650,0,{"$f":"SUM(B34*C34)","v":0},null,"ZERO","ZERO","ZERO","ZERO","ZERO","ZERO",{"$f":"SUM(C34)","v":0},"ZERO","ZERO","ZERO","ZERO","ZERO","ZERO","ZERO","ZERO","ZERO","ZERO","ZERO","ZERO",{"$f":"SUM(C34)","v":0},"ZERO",null,null,null,null,null,null,null,null,null,"ZERO","ZERO"]
["POTATO FRIES",700,0,0,null,"ZERO","ZERO","ZERO","ZERO","ZERO",null,"ZERO","ZERO","ZERO","ZERO","ZERO","ZERO","ZERO","ZERO","ZERO","ZERO","ZERO","ZERO","ZERO","ZERO","ZERO",null,null,null,null,null,null,null,null,null,"ZERO","ZERO"]
["FRENCH FRIES ONLY",1000,0,0,null,"ZERO","ZERO","ZERO","ZERO","ZERO",{"$f":"SUM(C36)","v":0},"ZERO","ZERO","ZERO","ZERO","ZERO","ZERO","ZERO","ZERO","ZERO","ZERO","ZERO","ZERO","ZERO",{"$f":"SUM(C36)","v":0},"ZERO",null,null,null,null,null,null,null,null,null,"ZERO","ZERO"]
["SUGERCANNE JUICE",750,0,0,null,"ZERO","ZERO","ZERO","ZERO","ZERO","ZERO","ZERO","ZERO","ZERO","ZERO","ZERO","ZERO","ZERO","ZERO",{"$f":"SUM(C37)","v":0},"ZERO","ZERO","ZERO","ZERO","ZERO","ZERO",null,null,null,null,null,null,null,null,null,"ZERO","ZERO"]
["35 CL SOFT DRINK",200,0,0,null,"ZERO","ZERO","ZERO","ZERO","ZERO","ZERO","ZERO","ZERO","ZERO","ZERO","ZERO","ZERO","ZERO","ZERO","ZERO",{"$f":"SUM(C38)","v":0},"ZERO","ZERO","ZERO","ZERO","ZERO",null,null,null,null,null,null,null,null,null,"ZERO","ZERO"]
["PARFAIT",null,0,0,null,"ZERO","ZERO","ZERO","ZERO","ZERO","ZERO","ZERO","ZERO","ZERO","ZERO","ZERO","ZERO",{"$f":"SUM(C39)","v":0},{"$f":"SUM(C39)","v":0},"ZERO","ZERO","ZERO","ZERO","ZERO","ZERO","ZERO",null,null,null,null,null,null,null,null,null,"ZERO","ZERO"]
["MARINATED WINGS",500,0,0,null,"ZERO","ZERO","ZERO","ZERO","ZERO","ZERO",{"$f":"SUM(C40)","v":0},"ZERO","ZERO","ZERO","ZERO","ZERO","ZERO","ZERO","ZERO","ZERO","ZERO","ZERO","ZERO","ZERO","ZERO",null,null,null,null,null,null,null,null,null,"ZERO","ZERO"]
["CHEESE ",400,0,0,null,"ZERO","ZERO","ZERO","ZERO","ZERO","ZERO","ZERO",{"$f":"SUM(C41)","v":0},"ZERO","ZERO","ZERO","ZERO","ZERO","ZERO","ZERO","ZERO","ZERO","ZERO","ZERO","ZERO","ZERO",null,null,null,null,null,null,null,null,null,"ZERO","ZERO"]
["SAUSAGE",200,0,0,null,null,null,null,null,null,"ZERO"]
["BACON",400,0,0,null,"ZERO","ZERO","ZERO","ZERO","ZERO","ZERO","ZERO","ZERO",{"$f":"SUM(C43)","v":0},"ZERO","ZERO","ZERO","ZERO","ZERO","ZERO","ZERO","ZERO","ZERO","ZERO","ZERO","ZERO",null,null,null,null,null,null,null,null,null,"ZERO","ZERO"]
["FRIENDY BURGER MEAL (WITH SOFT DRINK)",10200,0,0,null,{"$f":"SUM(C44)*2","v":0},{"$f":"SUM(C44)*2","v":0},{"$f":"SUM(C44)*2","v":0},{"$f":"SUM(C44)*2","v":0},{"$f":"SUM(C44)*2","v":0},{"$f":"SUM(C44)*2","v":0},{"$f":"SUM(C44)*2*2","v":0},"ZERO","ZERO",{"$f":"SUM(C44)*1*2","v":0},{"$f":"SUM(C44)*2","v":0},{"$f":"SUM(C44)*2*2","v":0},{"$f":"SUM(C44)*2","v":0},null,"ZERO",{"$f":"SUM(C44)*2","v":0},null,{"$f":"SUM(C44)*140*2","v":0},{"$f":"SUM(C44)*2","v":0},{"$f":"SUM(C44)*2","v":0},"ZERO",null,null,null,null,null,null,null,null,null,{"$f":"SUM(AD44)*2","v":0},{"$f":"SUM(AE44)*2","v":0}]
["FRIENDY BURGER MEAL (WITH SUGARCANE JUICE)",10600,0,0,null,{"$f":"SUM(C45)*2","v":0},{"$f":"SUM(C45)*2","v":0},{"$f":"SUM(C45)*2","v":0},{"$f":"SUM(C45)*2","v":0},{"$f":"SUM(C45)*2","v":0},{"$f":"SUM(C45)*2","v":0},{"$f":"SUM(C45)*2*2","v":0},"ZERO","ZERO",{"$f":"SUM(C45)*1*2","v":0},{"$f":"SUM(C45)*2","v":0},{"$f":"SUM(C45)*2*2","v":0},{"$f":"SUM(C45)*2","v":0},null,{"$f":"SUM(C45)*2","v":0},"ZERO",null,{"$f":"SUM(C45)*140*2","v":0},{"$f":"SUM(C45)*2","v":0},{"$f":"SUM(C45)*2","v":0},"ZERO",null,null,null,null,null,null,null,null,null,{"$f":"SUM(AD45)*2","v":0},{"$f":"SUM(AE45)*2","v":0}]
["SHAWARMA  SUB",1800,0,0,null,null,"ZERO","ZERO",{"$f":"SUM(C46)","v":0},{"$f":"SUM(C46)*2","v":0},"ZERO","ZERO","ZERO","ZERO",{"$f":"SUM(C46)*1","v":0},"ZERO",{"$f":"SUM(C46)","v":0},"ZERO","ZERO","ZERO","ZERO","ZERO",{"$f":"SUM(C46)*70","v":0},"ZERO","ZERO","ZERO",null,null,null,{"$f":"SUM(C46)","v":0},null,null,null,null,null,{"$f":"SUM(AD46)","v":0},{"$f":"SUM(AE46)","v":0}]
["DELISH PACK 1",5300,0,0,null,{"$f":"SUM(C47)","v":0},{"$f":"SUM(C47)","v":0},"ZERO",{"$f":"SUM(C47)","v":0},{"$f":"SUM(C47)*2","v":0},"ZERO",{"$f":"SUM(C47)*4","v":0},"ZERO","ZERO",{"$f":"SUM(C47)*1","v":0},{"$f":"SUM(C47)*1","v":0},{"$f":"SUM(C47)*2","v":0},{"$f":"SUM(C47)","v":0},"ZERO","ZERO","ZERO","ZERO",{"$f":"SUM(C47)*70","v":0},"ZERO","ZERO","ZERO",null,null,null,{"$f":"SUM(C47)","v":0},{"$f":"SUM(C47)*1","v":0},null,null,null,null,{"$f":"SUM(AD47)","v":0},{"$f":"SUM(AE47)","v":0}]
["FAMILY BURGER MEAL (WITH SOFT DRINK)",19800,0,0,null,{"$f":"SUM(C48)*4","v":0},{"$f":"SUM(C48)*4","v":0},{"$f":"SUM(C48)*4","v":0},{"$f":"SUM(C48)*4","v":0},{"$f":"SUM(C48)*4","v":0},{"$f":"SUM(C48)*4","v":0},{"$f":"SUM(C48)*2*4","v":0},"ZERO","ZERO",{"$f":"SUM(C48)*1*4","v":0},{"$f":"SUM(C48)*4","v":0},{"$f":"SUM(C48)*2*4","v":0},{"$f":"SUM(C48)*4","v":0},null,"ZERO",{"$f":"SUM(C48)*4","v":0},null,{"$f":"SUM(C48)*140*4","v":0},{"$f":"SUM(C48)*4","v":0},{"$f":"SUM(C48)*4","v":0},"ZERO",null,null,null,null,null,null,null,null,null,{"$f":"SUM(AD48)*4","v":0},{"$f":"SUM(AE48)*4","v":0}]
["FAMILY BURGER MEAL (WITH SUGARCANE JUICE)",20800,0,0,null,{"$f":"SUM(C49)*4","v":0},{"$f":"SUM(C49)*4","v":0},{"$f":"SUM(C49)*4","v":0},{"$f":"SUM(C49)*4","v":0},{"$f":"SUM(C49)*4","v":0},{"$f":"SUM(C49)*4","v":0},{"$f":"SUM(C49)*2*4","v":0},"ZERO","ZERO",{"$f":"SUM(C49)*1*4","v":0},{"$f":"SUM(C49)*4","v":0},{"$f":"SUM(C49)*2*4","v":0},{"$f":"SUM(C49)*4","v":0},null,{"$f":"SUM(C49)*4","v":0},"ZERO",null,{"$f":"SUM(C49)*140*4","v":0},{"$f":"SUM(C49)*4","v":0},{"$f":"SUM(C49)*4","v":0},"ZERO",null,null,null,null,null,null,null,null,null,{"$f":"SUM(AD49)*4","v":0},{"$f":"SUM(AE49)*4","v":0}]
["CAN COKE/FANTA ONLY",null,0,0,null,"ZERO","ZERO","ZERO","ZERO","ZERO","ZERO","ZERO","ZERO","ZERO","ZERO","ZERO","ZERO","ZERO","ZERO","ZERO","ZERO","ZERO","ZERO","ZERO","ZERO","ZERO",null,null,null,null,{"$f":"SUM(C50)","v":0},null,null,null,null,"ZERO","ZERO"]
["SUPA KOMMANDO ONLY",250,0,0,null,"ZERO","ZERO","ZERO","ZERO","ZERO","ZERO","ZERO","ZERO","ZERO","ZERO","ZERO","ZERO","ZERO","ZERO","ZERO","ZERO","ZERO","ZERO","ZERO","ZERO","ZERO",null,null,{"$f":"SUM(C51)","v":0},null,"ZERO","ZERO",null,null,null,"ZERO","ZERO"]
["10X Chicken Nuggets ",2400,0,0,null,null,null,null,null,null,"ZERO",null,null,null,null,{"$f":"SUM(C52)","v":0},null,{"$f":"SUM(C52)","v":0},null,null,null,null,null,{"$f":"SUM(C52)","v":0},null,null,null,null,null,null,{"$f":"SUM(C52)","v":0},{"$f":"SUM(C52)*10","v":0}]
["20X Chicken Nuggets ",4800,0,0,null,null,null,null,null,null,"ZERO ",null,null,null,null,{"$f":"SUM(C53)","v":0},null,{"$f":"SUM(C53)","v":0},null,null,null,null,null,{"$f":"SUM(C53)","v":0},null,null,null,null,null,null,{"$f":"SUM(C53)","v":0},{"$f":"SUM(C53)*20","v":0}]
["10 CHICKEN NUGGETS & FRIES BOX",3300,0,0,null,null,null,null,null,null,{"$f":"SUM(C54)","v":0},null,null,null,null,{"$f":"SUM(C54)","v":0},null,{"$f":"SUM(C54)","v":0},null,null,null,null,null,{"$f":"SUM(C54)","v":0},null,null,null,null,null,null,{"$f":"SUM(C54)","v":0},{"$f":"SUM(C54)*10","v":0}]
["20 CHICKEN NUGGETS & FRIES BOX",6600,0,0,null,null,null,null,null,null,{"$f":"SUM(C55)","v":0},null,null,null,null,{"$f":"SUM(C55)","v":0},null,{"$f":"SUM(C55)","v":0},null,null,null,null,null,{"$f":"SUM(C55)","v":0},null,null,null,null,null,null,{"$f":"SUM(C55)","v":0},{"$f":"SUM(C55)*20","v":0}]
["PRAWN BURGER ",3000,0,0,null,{"$f":"SUM(C56)","v":0},"ZERO","ZERO","ZERO","ZERO","ZERO","ZERO",{"$f":"SUM(C56)","v":0},"ZERO",{"$f":"SUM(C56)","v":0},"ZERO",{"$f":"SUM(C56)","v":0},"ZERO","ZERO","ZERO","ZERO","ZERO",{"$f":"SUM(C56)*70","v":0},"ZERO","ZERO","ZERO",null,null,null,null,null,null,{"$f":"SUM(C56)*2","v":0},null,null,"ZERO","ZERO"]
[" FUNMMY NUGGETS  BOX",5300,0,0,null,{"$f":"SUM(C57)","v":0},{"$f":"SUM(C57)","v":0},null,null,null,{"$f":"SUM(C57)","v":0},null,{"$f":"SUM(C57)","v":0},null,{"$f":"SUM(C57)","v":0},{"$f":"SUM(C57)","v":0},null,{"$f":"SUM(C57)","v":0},null,null,null,null,null,{"$f":"SUM(C57)","v":0},null,null,null,null,null,null,{"$f":"SUM(C57)","v":0},{"$f":"SUM(C57)*10","v":0}]
["FARM PRIDE 50 CL",500,0,0,null,"ZERO","ZERO","ZERO","ZERO","ZERO","ZERO","ZERO","ZERO","ZERO","ZERO","ZERO","ZERO","ZERO","ZERO","ZERO","ZERO","ZERO","ZERO","ZERO","ZERO","ZERO",null,null,null,null,null,null,null,{"$f":"SUM(C58)","v":0},null,"ZERO","ZERO"]
["FARM PRIDE 1 LITRE",800,0,0,null,"ZERO","ZERO","ZERO","ZERO","ZERO","ZERO","ZERO","ZERO","ZERO","ZERO","ZERO","ZERO","ZERO","ZERO","ZERO","ZERO","ZERO","ZERO","ZERO","ZERO","ZERO",null,null,null,null,null,null,null,"ZERO",{"$f":"SUM(C59)","v":0},"ZERO","ZERO"]
["GRILLED CHICKEN BURGER",1700,0,{"$f":"SUM(B60*C60)","v":0},null,{"$f":"SUM(C60)","v":0},{"$f":"SUM(C60)","v":0},"ZERO","ZERO","ZERO","ZERO","ZERO","ZERO","ZERO",{"$f":"SUM(C60)","v":0},"ZERO",{"$f":"SUM(C60)*1","v":0},"ZERO","ZERO","ZERO","ZERO","ZERO",{"$f":"SUM(C60)*70","v":0},"ZERO","ZERO","ZERO",null,null,null,null,null,null,null,null,null,"ZERO","ZERO"]
["GRILLED CHICKEN BURGER + JUICE",2200,0,{"$f":"SUM(B61*C61)","v":0},null,{"$f":"SUM(C61)","v":0},{"$f":"SUM(C61)","v":0},"ZERO","ZERO","ZERO","ZERO","ZERO","ZERO","ZERO",{"$f":"SUM(C61)","v":0},"ZERO",{"$f":"SUM(C61)*1","v":0},"ZERO","ZERO","ZERO","ZERO","ZERO",{"$f":"SUM(C61)*70","v":0},"ZERO","ZERO","ZERO",null,null,null,null,null,null,null,{"$f":"SUM(C61)","v":0},null,"ZERO","ZERO"]
["GRILLED BURGER MEAL 1 & 3",4000,0,{"$f":"SUM(B62*C62)","v":0},null,{"$f":"SUM(C62)","v":0},{"$f":"SUM(C62)","v":0},"ZERO","ZERO","ZERO",{"$f":"SUM(C62)","v":0},{"$f":"SUM(C62)*2","v":0},"ZERO","ZERO","ZERO",{"$f":"SUM(C62)","v":0},{"$f":"SUM(C62)","v":0},{"$f":"SUM(C62)","v":0},"ZERO","ZERO","ZERO","ZERO",{"$f":"SUM(C62)*70","v":0},{"$f":"SUM(C62)","v":0},"ZERO","ZERO",null,null,null,null,null,null,null,{"$f":"SUM(C62)","v":0},null,"ZERO","ZERO"]
["GRILLED BURGER MEAL 2",3700,0,{"$f":"SUM(B63*C63)","v":0},null,{"$f":"SUM(C63)","v":0},{"$f":"SUM(C63)","v":0},"ZERO","ZERO","ZERO",{"$f":"SUM(C63)","v":0},{"$f":"SUM(C63)*2","v":0},"ZERO","ZERO","ZERO",{"$f":"SUM(C63)","v":0},{"$f":"SUM(C63)","v":0},{"$f":"SUM(C63)","v":0},"ZERO","ZERO",{"$f":"SUM(C63)","v":0},"ZERO",{"$f":"SUM(C63)*70","v":0},{"$f":"SUM(C63)","v":0},"ZERO","ZERO",null,null,null,null,null,null,null,"ZERO",null,"ZERO","ZERO"]
["MASTERPIECE BURGER ",5000,0,{"$f":"SUM(B64*C64)","v":0},null,{"$f":"SUM(C64)","v":0},"ZERO","ZERO","ZERO","ZERO","ZERO","ZERO",{"$f":"SUM(C64)","v":0},"ZERO","ZERO",{"$f":"SUM(C64)","v":0},{"$f":"SUM(C64)","v":0},"ZERO","ZERO","ZERO",{"$f":"SUM(C64)","v":0},{"$f":"SUM(C64)","v":0},{"$f":"SUM(C64)*70","v":0},"ZERO","ZERO","ZERO",null,null,null,null,null,null,null,null,null,"ZERO",{"$f":"SUM(C64)","v":0}]
["SUYA BURGER BOX 2 (WITH BEEF SUYA BURGER)",6000,0,0,null,0,"ZERO ","ZERO","ZERO",0,0,0,"ZERO","ZERO",0,0,0,"ZERO","ZERO",null,0,"ZERO",0,0,0,"ZERO",0,null,null,null,null,null,null,null,null,"ZERO",0]
["OPENING STOCK",null,null,null,null,{"$f":"SUM('Production DAY 19'!C2)","v":0},{"$f":"SUM('Production DAY 19'!C3)","v":0},{"$f":"SUM('Production DAY 19'!C4)","v":0},{"$f":"SUM('Production DAY 19'!C5)","v":0},{"$f":"SUM('Production DAY 19'!C6)","v":0},{"$f":"SUM('Production DAY 19'!C7)","v":0},{"$f":"SUM('Production DAY 19'!C8)","v":0},{"$f":"SUM('Production DAY 19'!C9)","v":0},{"$f":"SUM('Production DAY 19'!C10)","v":0},{"$f":"SUM('Production DAY 19'!C11)","v":0},{"$f":"SUM('Production DAY 19'!C12)","v":0},{"$f":"SUM('Production DAY 19'!C13)","v":0},{"$f":"SUM('Production DAY 19'!C14)","v":0},{"$f":"SUM('Production DAY 19'!C15)","v":0},{"$f":"SUM('Production DAY 19'!C16)","v":0},{"$f":"SUM('Production DAY 19'!C17)","v":0},{"$f":"SUM('Production DAY 19'!C18)","v":0},{"$f":"SUM('Production DAY 19'!C19)","v":0},{"$f":"SUM('Production DAY 19'!C20)","v":0},{"$f":"SUM('Production DAY 19'!C21)","v":0},{"$f":"SUM('Production DAY 19'!C22)","v":0},{"$f":"SUM('Production DAY 19'!C23)","v":0},{"$f":"SUM('Production DAY 19'!C24)","v":0},{"$f":"SUM('Production DAY 19'!C25)","v":0},{"$f":"SUM('Production DAY 19'!C26)","v":0},{"$f":"SUM('Production DAY 19'!C27)","v":0},{"$f":"SUM('Production DAY 19'!C28)","v":0},{"$f":"SUM('Production DAY 19'!C29)","v":0},{"$f":"SUM('Production DAY 19'!C30)","v":0},{"$f":"SUM('Production DAY 19'!C31)","v":0},{"$f":"SUM('Production DAY 19'!C32)","v":0},{"$f":"SUM('Production DAY 19'!C33)","v":0},{"$f":"SUM('Production DAY 19'!C34)","v":0},{"$f":"SUM('Production DAY 19'!C35)","v":0},{"$f":"SUM('Production DAY 19'!C36)","v":0},{"$f":"SUM('Production DAY 19'!C37)","v":0},{"$f":"SUM('Production DAY 19'!C38)","v":0},{"$f":"SUM('Production DAY 19'!C39)","v":0},{"$f":"SUM('Production DAY 19'!C40)","v":0},{"$f":"SUM('Production DAY 19'!C41)","v":0},{"$f":"SUM('Production DAY 19'!C42)","v":0},{"$f":"SUM('Production DAY 19'!C43)","v":0}]
["RECEIVED",null,null,null,null,{"$f":"SUM('Production DAY 19'!D2)","v":0},{"$f":"SUM('Production DAY 19'!D3)","v":0},{"$f":"SUM('Production DAY 19'!D4)","v":0},{"$f":"SUM('Production DAY 19'!D5)","v":0},{"$f":"SUM('Production DAY 19'!D6)","v":0},{"$f":"SUM('Production DAY 19'!D7)","v":0},{"$f":"SUM('Production DAY 19'!D8)","v":0},{"$f":"SUM('Production DAY 19'!D9)","v":0},{"$f":"SUM('Production DAY 19'!D10)","v":0},{"$f":"SUM('Production DAY 19'!D11)","v":0},{"$f":"SUM('Production DAY 19'!D12)","v":0},{"$f":"SUM('Production DAY 19'!D13)","v":0},{"$f":"SUM('Production DAY 19'!D14)","v":0},{"$f":"SUM('Production DAY 19'!D15)","v":0},{"$f":"SUM('Production DAY 19'!D16)","v":0},{"$f":"SUM('Production DAY 19'!D17)","v":0},{"$f":"SUM('Production DAY 19'!D18)","v":0},{"$f":"SUM('Production DAY 19'!D19)","v":0},{"$f":"SUM('Production DAY 19'!D20)","v":0},{"$f":"SUM('Production DAY 19'!D21)","v":0},{"$f":"SUM('Production DAY 19'!D22)","v":0},{"$f":"SUM('Production DAY 19'!D23)","v":0},{"$f":"SUM('Production DAY 19'!D24)","v":0},{"$f":"SUM('Production DAY 19'!D25)","v":0},{"$f":"SUM('Production DAY 19'!D26)","v":0},{"$f":"SUM('Production DAY 19'!D27)","v":0},{"$f":"SUM('Production DAY 19'!D28)","v":0},{"$f":"SUM('Production DAY 19'!D29)","v":0},{"$f":"SUM('Production DAY 19'!D30)","v":0},{"$f":"SUM('Production DAY 19'!D31)","v":0},{"$f":"SUM('Production DAY 19'!D32)","v":0},{"$f":"SUM('Production DAY 19'!D33)","v":0},{"$f":"SUM('Production DAY 19'!D34)","v":0},{"$f":"SUM('Production DAY 19'!D35)","v":0},{"$f":"SUM('Production DAY 19'!D36)","v":0},{"$f":"SUM('Production DAY 19'!D37)","v":0},{"$f":"SUM('Production DAY 19'!D38)","v":0},{"$f":"SUM('Production DAY 19'!D39)","v":0},{"$f":"SUM('Production DAY 19'!D40)","v":0},{"$f":"SUM('Production DAY 19'!D41)","v":0},{"$f":"SUM('Production DAY 19'!D42)","v":0},{"$f":"SUM('Production DAY 19'!D43)","v":0}]
["TOTAL STOCK",null,null,null,null,{"$f":"SUM(F66:F67)","v":0},{"$f":"SUM(G66:G67)","v":0},{"$f":"SUM(H66:H67)","v":0},{"$f":"SUM(I66:I67)","v":0},0,0,0,0,0,0,{"$f":"SUM(P66:P67)","v":0},0,0,0,0,0,0,0,0,0,0,0,0,0,0,0,0,0,0,0,0,0,0,0,0,0,0,0,0,0,0,0]
["USED",null,null,{"$f":"SUM(D3:D65)","v":0},null,{"$f":"SUM(F3:F65)","v":0},0,0,0,0,0,0,0,0,0,0,0,0,0,0,0,0,0,0,0,0,0,0,0,0,0,0,0,0,0,0,0,{"$f":"SUM(AL3:AL64)","v":0},0,0,0,0,0,0,0,0,0]
["CLOSING STOCK",null,null,null,null,{"$f":"SUM(F68-F69)","v":0},0,0,0,0,0,0,0,0,0,0,0,0,0,0,0,0,0,0,0,0,0,0,0,0,0,0,0,{"$f":"SUM(AH66-AH69)","v":0},{"$f":"SUM(AI68-AI69)","v":0},0,0,0,0,0,0,0,0,0,0,0,0]

{"sheet":"Production DAY 20","index":38,"n_rows":44,"n_cols":8,"rows_kept":44,"cut":false,"hidden":false,"merged":[]}
["Nos#","ITEMS"," < OPENING STOCK","RECEIVED","USED >","SALES CLOSING STOCK >","PHYSICAL STOCK COUNT","COMMENTS"]
[1,"Burger Bread",{"$f":"SUM('Production DAY 19'!G2)","v":0},null,{"$f":"SUM('DAY 20'!F69)","v":0},{"$f":"SUM('DAY 20'!F70)","v":0},0,{"$f":"IF(G2=F2,TRUE,FALSE)","v":true}]
[2,"Chicken Patty",{"$f":"SUM('Production DAY 19'!G3)","v":0},null,{"$f":"SUM('DAY 20'!G69)","v":0},{"$f":"SUM('DAY 20'!G70)","v":0},0,true]
[3,"Shawarma Bread",{"$f":"SUM('Production DAY 19'!G4)","v":0},null,{"$f":"SUM('DAY 20'!H69)","v":0},{"$f":"SUM('DAY 20'!H70)","v":0},0,true]
[4,"Chicken Portion or Shawarma portion",{"$f":"SUM('Production DAY 19'!G5)","v":0},null,{"$f":"SUM('DAY 20'!I69)","v":0},{"$f":"SUM('DAY 20'!I70)","v":0},0,true]
[5,"Sausage",{"$f":"SUM('Production DAY 19'!G6)","v":0},null,{"$f":"SUM('DAY 20'!J69)","v":0},{"$f":"SUM('DAY 20'!J70)","v":0},0,true]
[6,"Portion of Fries",{"$f":"SUM('Production DAY 19'!G7)","v":0},null,{"$f":"SUM('DAY 20'!K69)","v":0},{"$f":"SUM('DAY 20'!K70)","v":0},0,true]
[7,"Pieces of Chicken",{"$f":"SUM('Production DAY 19'!G8)","v":0},null,{"$f":"SUM('DAY 20'!L69)","v":0},{"$f":"SUM('DAY 20'!L70)","v":0},0,true]
[8,"Cheese",{"$f":"SUM('Production DAY 19'!G9)","v":0},null,{"$f":"SUM('DAY 20'!M69)","v":0},{"$f":"SUM('DAY 20'!M70)","v":0},0,true]
[9,"Bacon",{"$f":"SUM('Production DAY 19'!G10)","v":0},null,{"$f":"SUM('DAY 20'!N69)","v":0},{"$f":"SUM('DAY 20'!N70)","v":0},0,true]
[10,"A Paper Bag",{"$f":"SUM('Production DAY 19'!G11)","v":0},null,{"$f":"SUM('DAY 20'!O69)","v":0},{"$f":"SUM('DAY 20'!O70)","v":0},0,true]
[11,"Achicken Box",{"$f":"SUM('Production DAY 19'!G12)","v":0},null,{"$f":"SUM('DAY 20'!P69)","v":0},{"$f":"SUM('DAY 20'!P70)","v":0},0,true]
[12,"Paper Wrap",{"$f":"SUM('Production DAY 19'!G13)","v":0},null,{"$f":"SUM('DAY 20'!Q69)","v":0},{"$f":"SUM('DAY 20'!Q70)","v":0},0,true]
[13,"A Branded Nylon",{"$f":"SUM('Production DAY 19'!G14)","v":0},null,{"$f":"SUM('DAY 20'!R69)","v":0},{"$f":"SUM('DAY 20'!R70)","v":0},0,true]
[14,"Parfait",{"$f":"SUM('Production DAY 19'!G15)","v":0},null,{"$f":"SUM('DAY 20'!S69)","v":0},{"$f":"SUM('DAY 20'!S70)","v":0},0,true]
[15,"A Bottle of SUGAR Juice",{"$f":"SUM('Production DAY 19'!G16)","v":0},null,{"$f":"SUM('DAY 20'!T69)","v":0},{"$f":"SUM('DAY 20'!T70)","v":0},0,true]
[16,"35 CL Soft Drink",{"$f":"SUM('Production DAY 19'!G17)","v":0},null,{"$f":"SUM('DAY 20'!U69)","v":0},{"$f":"SUM('DAY 20'!U70)","v":0},0,true]
[17,"Beef Patty",{"$f":"SUM('Production DAY 19'!G18)","v":0},null,{"$f":"SUM('DAY 20'!V69)","v":0},{"$f":"SUM('DAY 20'!V70)","v":0},0,true]
[18,"Cream in GRAMS",{"$f":"SUM('Production DAY 19'!G19)","v":0},null,{"$f":"SUM('DAY 20'!W69)","v":0},{"$f":"SUM('DAY 20'!W70)","v":0},0,true]
[19,"KETCHUP",{"$f":"SUM('Production DAY 19'!G20)","v":0},null,{"$f":"SUM('DAY 20'!X69)","v":0},{"$f":"SUM('DAY 20'!X70)","v":0},0,true]
[20,"plain Nylon",{"$f":"SUM('Production DAY 19'!G21)","v":0},null,{"$f":"SUM('DAY 20'!Y69)","v":0},{"$f":"SUM('DAY 20'!Y70)","v":0},0,true]
[21,"Barbeque Sauce",{"$f":"SUM('Production DAY 19'!G22)","v":0},null,{"$f":"SUM('DAY 20'!Z69)","v":0},{"$f":"SUM('DAY 20'!Z70)","v":0},0,true]
[22,"Meal Box",{"$f":"SUM('Production DAY 19'!G23)","v":0},null,{"$f":"SUM('DAY 20'!AA69)","v":0},{"$f":"SUM('DAY 20'!AA70)","v":0},0,true]
[23,"COCONUT BREAD",{"$f":"SUM('Production DAY 19'!G24)","v":0},null,{"$f":"SUM('DAY 20'!AB69)","v":0},{"$f":"SUM('DAY 20'!AB70)","v":0},0,true]
[24,"SUPA KOMMANDO",{"$f":"SUM('Production DAY 19'!G25)","v":0},null,{"$f":"SUM('DAY 20'!AC69)","v":0},{"$f":"SUM('DAY 20'!AC70)","v":0},0,true]
[25,"SHAWARMA SUB",{"$f":"SUM('Production DAY 19'!G26)","v":0},null,{"$f":"SUM('DAY 20'!AD69)","v":0},{"$f":"SUM('DAY 20'!AD70)","v":0},0,true]
[26,"CAN COKE / FANTA",{"$f":"SUM('Production DAY 19'!G27)","v":0},null,{"$f":"SUM('DAY 20'!AE69)","v":0},{"$f":"SUM('DAY 20'!AE70)","v":0},0,true]
[27,"NUGGETS ",{"$f":"SUM('Production DAY 19'!G28)","v":0},null,{"$f":"SUM('DAY 20'!AF69)","v":0},{"$f":"SUM('DAY 20'!AF70)","v":0},0,true]
[28,"PRAWN",{"$f":"SUM('Production DAY 19'!G29)","v":0},null,{"$f":"SUM('DAY 20'!AG69)","v":0},{"$f":"SUM('DAY 20'!AG70)","v":0},0,true]
[29,"FARM PRIDE",{"$f":"SUM('Production DAY 19'!G30)","v":0},null,{"$f":"SUM('DAY 20'!AH69)","v":0},{"$f":"SUM('DAY 20'!AH70)","v":0},0,true]
[30,"50CL OR PULPY",{"$f":"SUM('Production DAY 19'!G31)","v":0},null,{"$f":"SUM('DAY 20'!AI69)","v":0},{"$f":"SUM('DAY 20'!AI70)","v":0},0,true]
[31,"FARM PRIDE 1 LT",{"$f":"SUM('Production DAY 19'!G32)","v":0},null,{"$f":"SUM('DAY 20'!AJ69)","v":0},{"$f":"SUM('DAY 20'!AJ70)","v":0},0,true]
[32,"BEEF PORTION FOR SHAWARMA",{"$f":"SUM('Production DAY 19'!G33)","v":0},null,{"$f":"SUM('DAY 20'!AK69)","v":0},{"$f":"SUM('DAY 20'!AK70)","v":0},0,true]
[33,"BEEF SUYA STICK",{"$f":"SUM('Production DAY 19'!G34)","v":0},null,{"$f":"SUM('DAY 20'!AL69)","v":0},{"$f":"SUM('DAY 20'!AL70)","v":0},0,true]
[34,"EMPTY 1",{"$f":"SUM('Production DAY 19'!G35)","v":0},null,{"$f":"SUM('DAY 20'!AM69)","v":0},{"$f":"SUM('DAY 20'!AM70)","v":0},0,true]
[35,"EMPTY 2",{"$f":"SUM('Production DAY 19'!G36)","v":0},null,{"$f":"SUM('DAY 20'!AN69)","v":0},{"$f":"SUM('DAY 20'!AN70)","v":0},0,true]
[36,"EMPTY 3",{"$f":"SUM('Production DAY 19'!G37)","v":0},null,{"$f":"SUM('DAY 20'!AO69)","v":0},{"$f":"SUM('DAY 20'!AO70)","v":0},0,true]
[37,"EMPTY 4",{"$f":"SUM('Production DAY 19'!G38)","v":0},null,{"$f":"SUM('DAY 20'!AP69)","v":0},{"$f":"SUM('DAY 20'!AP70)","v":0},0,true]
[38,"EMPTY 5",{"$f":"SUM('Production DAY 19'!G39)","v":0},null,{"$f":"SUM('DAY 20'!AQ69)","v":0},{"$f":"SUM('DAY 20'!AQ70)","v":0},0,true]
[39,"EMPTY 6",{"$f":"SUM('Production DAY 19'!G40)","v":0},null,{"$f":"SUM('DAY 20'!AR69)","v":0},{"$f":"SUM('DAY 20'!AR70)","v":0},0,true]
[40,"EMPTY 7",{"$f":"SUM('Production DAY 19'!G41)","v":0},null,{"$f":"SUM('DAY 20'!AS69)","v":0},{"$f":"SUM('DAY 20'!AS70)","v":0},0,true]
[41,"EMPTY 8",{"$f":"SUM('Production DAY 19'!G42)","v":0},null,{"$f":"SUM('DAY 20'!AT69)","v":0},{"$f":"SUM('DAY 20'!AT70)","v":0},0,true]
[42,"EMPTY 9",{"$f":"SUM('Production DAY 19'!G43)","v":0},null,{"$f":"SUM('DAY 20'!AU69)","v":0},{"$f":"SUM('DAY 20'!AU70)","v":0},0,true]
[43,"EMPTY 10",{"$f":"SUM('Production DAY 19'!G44)","v":0},null,{"$f":"SUM('DAY 20'!AV69)","v":0},{"$f":"SUM('DAY 20'!AV70)","v":0},0,true]

{"sheet":"DAY 20","index":39,"n_rows":70,"n_cols":47,"rows_kept":70,"cut":false,"hidden":false,"merged":[[0,7,0,28]]}
["FEBRUARY 12th, 2022",null,null,{"$f":"SUM(D3:D50)","v":0},null,null,null,"BURGER PALACE INVENTORY RECORDS"]
["ITEM","AMOUNT","QUANTITY","TOTAL",null,"Burger Bread","Chicken Patty","Shawarma Bread","Chicken Portion or Shawarma portion","Sausage","Portion of Fries","Pieces of Chicken","Cheese","Bacon","A Paper Bag","Achicken Box","Paper Wrap","A Branded Nylon","Parfait","A Bottle of SUGAR Juice","35 CL Soft Drink","Beef Patty","Cream in GRAMS","KETCHUP","plain Nylon","Barbeque Sauce","Meal Box","COCONUT BREAD ","SUPA KOMMANDO ","SHAWARMA SUB","CAN COKE / FANTA","NUGGETS","PRAWN","FARM PRIDE 50CL OR PULPY","FARM PRIDE 1 LT","BEEF PORTION FOR SHAWARMA ","BEEF SUYA STICK","EMPTY 1","EMPTY 2","EMPTY 3","EMPTY 4","EMPTY 5","EMPTY 6","EMPTY 7","EMPTY 8","EMPTY 9","EMPTY 10"]
["DELUXE BURGER MEAL (WITH SOFT DRINK)",5400,0,{"$f":"SUM(B3*C3)","v":0},null,{"$f":"SUM(C3)","v":0},{"$f":"SUM(C3)","v":0},{"$f":"SUM(C3)","v":0},{"$f":"SUM(C3)","v":0},{"$f":"SUM(C3)","v":0},{"$f":"SUM(C3)","v":0},{"$f":"SUM(C3)*2","v":0},"ZERO","ZERO",{"$f":"SUM(C3)*1","v":0},{"$f":"SUM(C3)","v":0},{"$f":"SUM(C3)*2","v":0},{"$f":"SUM(C3)","v":0},null,"ZERO",{"$f":"SUM(C3)","v":0},null,{"$f":"SUM(C3)*140","v":0},{"$f":"SUM(C3)","v":0},{"$f":"SUM(C3)","v":0},"ZERO",null,null,null,null,null,null,null,null,null,{"$f":"SUM(AD3)","v":0},0]
["DELUXE BURGER MEAL (WITH SUGARCANE JUICE)",5600,0,{"$f":"SUM(B4*C4)","v":0},null,{"$f":"SUM(C4)","v":0},{"$f":"SUM(C4)","v":0},{"$f":"SUM(C4)","v":0},{"$f":"SUM(C4)","v":0},{"$f":"SUM(C4)","v":0},0,{"$f":"SUM(C4)*2","v":0},"ZERO","ZERO",{"$f":"SUM(C4)*1","v":0},0,{"$f":"SUM(C4)*2","v":0},0,null,{"$f":"SUM(C4)","v":0},"ZERO",null,{"$f":"SUM(C4)*140","v":0},{"$f":"SUM(C4)","v":0},0,"ZERO",null,null,null,null,null,null,null,null,null,0,0]
["DELUXE MEAL EXTRA (WITH Soft Drink)",null,0,{"$f":"SUM(B5*C5)","v":0},null,{"$f":"SUM(C5)","v":0},{"$f":"SUM(C5)","v":0},{"$f":"SUM(C5)","v":0},{"$f":"SUM(C5)","v":0},{"$f":"SUM(C5)","v":0},0,{"$f":"SUM(C5)*2","v":0},"ZERO","ZERO",{"$f":"SUM(C5)","v":0},0,{"$f":"SUM(C5)*2","v":0},0,{"$f":"SUM(C5)","v":0},"ZERO",{"$f":"SUM(C5)","v":0},null,{"$f":"SUM(C5)*140","v":0},{"$f":"SUM(C5)","v":0},0,"ZERO",null,null,null,null,null,null,null,null,null,0,0]
["DELUXE BURGER MEAL Extra (With Sugarcane juice",null,0,{"$f":"SUM(B6*C6)","v":0},null,{"$f":"SUM(C6)","v":0},{"$f":"SUM(C6)","v":0},{"$f":"SUM(C6)","v":0},{"$f":"SUM(C6)","v":0},{"$f":"SUM(C6)","v":0},0,{"$f":"SUM(C6)*2","v":0},"ZERO","ZERO",{"$f":"SUM(C6)","v":0},0,{"$f":"SUM(C6)*2","v":0},0,{"$f":"SUM(C6)","v":0},{"$f":"SUM(C6)","v":0},"ZERO",null,{"$f":"SUM(C6)*140","v":0},{"$f":"SUM(C6)","v":0},0,"ZERO",null,null,null,null,null,null,null,null,null,0,0]
["PREMIUM BURGER Meal ",5900,0,{"$f":"SUM(B7*C7)","v":0},null,{"$f":"SUM(C7)","v":0},{"$f":"SUM(C7)","v":0},"ZERO","ZERO","ZERO",0,{"$f":"SUM(C7)*5","v":0},"ZERO","ZERO",{"$f":"SUM(C7)","v":0},0,{"$f":"SUM(C7)*1.25","v":0},0,"ZERO","ZERO",{"$f":"SUM(C7)","v":0},"ZERO",{"$f":"SUM(C7)*70","v":0},{"$f":"SUM(C7)*2","v":0},0,{"$f":"SUM(C7)","v":0},null,null,null,null,null,null,null,null,null,"ZERO","ZERO"]
["CRISPY CHICKEN BOX",4300,0,null,null,"ZERO","ZERO","ZERO","ZERO","ZERO",0,{"$f":"SUM(C8)*5","v":0},"ZERO","ZERO","ZERO",0,{"$f":"SUM(C8)*0.25","v":0},0,"ZERO","ZERO",{"$f":"SUM(C8)","v":0},"ZERO","ZERO",{"$f":"SUM(C8)*2","v":0},0,{"$f":"SUM(C8)","v":0},null,null,null,null,null,null,null,null,null,"ZERO","ZERO"]
["ROYAL BURGER MEAL (CHICKEN  PATTY)",null,0,{"$f":"SUM(B9*C9)","v":0},null,{"$f":"SUM(C9)","v":0},{"$f":"SUM(C9)*2","v":0},"ZERO","ZERO","ZERO",0,"ZERO",{"$f":"SUM(C9)*2","v":0},{"$f":"SUM(C9)*2","v":0},"ZERO",0,{"$f":"SUM(C9)","v":0},0,{"$f":"SUM(C9)","v":0},"ZERO","ZERO","ZERO",{"$f":"SUM(C9)*140","v":0},{"$f":"SUM(C9)*2","v":0},0,{"$f":"SUM(C9)","v":0},null,null,null,null,null,null,null,null,null,"ZERO","ZERO"]
["ROYAL BURGER MEAL (BEEF  PATTY)",null,0,{"$f":"SUM(B10*C10)","v":0},null,{"$f":"SUM(C10)","v":0},"ZERO","ZERO","ZERO","ZERO",0,"ZERO",{"$f":"SUM(C10)*2","v":0},{"$f":"SUM(C10)*2","v":0},"ZERO",0,0,0,{"$f":"SUM(C10)","v":0},"ZERO","ZERO",{"$f":"SUM(C10)*2","v":0},{"$f":"SUM(C10)*140","v":0},{"$f":"SUM(C10)*2","v":0},0,{"$f":"SUM(C10)","v":0},null,null,null,null,null,null,null,null,null,"ZERO","ZERO"]
["ROYAL BURGER ONLY (CHICKEN PATTY)",3300,0,{"$f":"SUM(B11*C11:C25,A1,A1,A1,A1,A1)","v":0},null,{"$f":"SUM(C11)","v":0},{"$f":"SUM(C11)*2","v":0},"ZERO","ZERO","ZERO","ZERO","ZERO",{"$f":"SUM(C11)*2","v":0},{"$f":"SUM(C11)*2","v":0},"ZERO",0,0,0,"ZERO","ZERO","ZERO","ZERO",{"$f":"SUM(C11)*140","v":0},{"$f":"SUM(C11)","v":0},"ZERO","ZERO",null,null,null,null,null,null,null,null,null,"ZERO","ZERO"]
["ROYAL BURGER ONLY (BEEF PATTY)",3300,0,{"$f":"SUM(B12*C12)","v":0},null,{"$f":"SUM(C12)","v":0},null,"ZERO","ZERO","ZERO","ZERO","ZERO",{"$f":"SUM(C12)*2","v":0},{"$f":"SUM(C12)*2","v":0},"ZERO",0,0,0,"ZERO","ZERO","ZERO",{"$f":"SUM(C12)*2","v":0},{"$f":"SUM(C12)*140","v":0},{"$f":"SUM(C12)","v":0},"ZERO","ZERO",null,null,null,null,null,null,null,null,null,"ZERO","ZERO"]
["MAYOR'S COCONUT BURGER ",2800,0,0,null,0,{"$f":"SUM(C13)","v":0},"ZERO","ZERO","ZERO","ZERO","ZERO",{"$f":"SUM(C13)","v":0},"ZERO","ZERO",0,0,0,"ZERO","ZERO","ZERO",{"$f":"SUM(C13)","v":0},{"$f":"SUM(C13)*140","v":0},"ZERO","ZERO","ZERO",null,{"$f":"SUM(C13)","v":0},{"$f":"SUM(C13)","v":0},null,null,null,null,null,null,"ZERO","ZERO"]
["DOUBLE DECKER CRISPY CHK. CHEESE BURGER",2500,0,0,null,{"$f":"SUM(C14)","v":0},{"$f":"SUM(C14)*2","v":0},"ZERO","ZERO","ZERO","ZERO","ZERO",{"$f":"SUM(C14)","v":0},"ZERO","ZERO",0,0,"ZERO","ZERO","ZERO","ZERO","ZERO",{"$f":"SUM(C14)*70","v":0},"ZERO","ZERO","ZERO",null,null,null,null,null,null,null,null,null,"ZERO","ZERO"]
["SINGLE BEEF BURGER",1700,0,0,null,0,"ZERO","ZERO","ZERO","ZERO","ZERO","ZERO",null,"ZERO",{"$f":"SUM(C15)","v":0},null,0,"ZERO","ZERO","ZERO","ZERO",{"$f":"SUM(C15)","v":0},{"$f":"SUM(C15)*70","v":0},"ZERO","ZERO","ZERO",null,null,null,null,null,null,null,null,null,"ZERO","ZERO"]
["YANKEE BURGER",2400,0,0,null,0,"ZERO","ZERO","ZERO","ZERO","ZERO","ZERO",null,{"$f":"SUM(C16)*2","v":0},{"$f":"SUM(C16)","v":0},null,0,"ZERO","ZERO","ZERO","ZERO",{"$f":"SUM(C16)","v":0},{"$f":"SUM(C16)*70","v":0},"ZERO","ZERO","ZERO",null,null,null,null,null,null,null,null,null,"ZERO","ZERO"]
["ROYAL BURGER WITH FRIES (Chicken)",4000,0,0,null,0,{"$f":"SUM(C17)*2","v":0},"ZERO","ZERO","ZERO",{"$f":"SUM(C17)","v":0},"ZERO",{"$f":"SUM(C17)*2","v":0},{"$f":"SUM(C17)*2","v":0},"ZERO",{"$f":"SUM(C17)","v":0},0,"ZERO","ZERO","ZERO","ZERO","ZERO",{"$f":"SUM(C17)*140","v":0},{"$f":"SUM(C17)*2","v":0},"ZERO","ZERO",null,null,null,null,null,null,null,null,null,"ZERO","ZERO"]
["ROYAL BURGER WITH FRIES (BEEF)",4000,0,0,null,0,"ZERO","ZERO","ZERO","ZERO",{"$f":"SUM(C18)","v":0},"ZERO",{"$f":"SUM(C18)*2","v":0},{"$f":"SUM(C18)*2","v":0},"ZERO",{"$f":"SUM(C18)","v":0},0,"ZERO","ZERO","ZERO","ZERO",{"$f":"SUM(C18)*2","v":0},{"$f":"SUM(C18)*140","v":0},{"$f":"SUM(C18)*2","v":0},"ZERO","ZERO",null,null,null,null,null,null,null,null,null,"ZERO","ZERO"]
["CRISPY CHICKEN BURGER",1700,0,0,null,0,{"$f":"SUM(C19)","v":0},"ZERO","ZERO","ZERO","ZERO","ZERO","ZERO","ZERO",{"$f":"SUM(C19)","v":0},"ZERO",{"$f":"SUM(C19)*1","v":0},"ZERO","ZERO","ZERO","ZERO","ZERO",{"$f":"SUM(C19)*70","v":0},"ZERO","ZERO","ZERO",null,null,null,null,null,null,null,null,null,"ZERO","ZERO"]
["SUYA BURGER BOX",5500,0,0,null,0,{"$f":"SUM(C20)*2","v":0},"ZERO","ZERO",{"$f":"SUM(C20)*4","v":0},{"$f":"SUM(C20)","v":0},{"$f":"SUM(C20)*4","v":0},"ZERO","ZERO",{"$f":"SUM(C20)","v":0},{"$f":"SUM(C20)","v":0},{"$f":"SUM(C20)","v":0},"ZERO","ZERO",null,{"$f":"SUM(C20)","v":0},"ZERO",0,{"$f":"SUM(C20)*2","v":0},{"$f":"SUM(C20)","v":0},"ZERO",{"$f":"SUM(C20)","v":0},null,null,null,null,null,null,null,null,"ZERO","ZERO"]
["CRISPY CHICKEN BURGER PLUS CHEESE",2100,0,0,null,0,{"$f":"SUM(C21)","v":0},"ZERO","ZERO","ZERO","ZERO","ZERO",{"$f":"SUM(C21)","v":0},"ZERO",{"$f":"SUM(C21)","v":0},"ZERO",0,"ZERO","ZERO","ZERO","ZERO","ZERO",0,"ZERO","ZERO","ZERO",null,null,null,null,null,null,null,null,null,"ZERO","ZERO"]
["SINGLE BEEF CHEESE BURGER ",2100,0,0,null,0,"ZERO","ZERO","ZERO","ZERO","ZERO","ZERO",{"$f":"SUM(C22)","v":0},"ZERO",{"$f":"SUM(C22)","v":0},"ZERO",0,"ZERO","ZERO","ZERO","ZERO",{"$f":"SUM(C22)","v":0},0,"ZERO","ZERO","ZERO",null,null,null,null,null,null,null,null,null,"ZERO","ZERO"]
["DOUBLE DECKER BEEF CHEESE BURGER",2800,0,0,null,0,"ZERO","ZERO","ZERO","ZERO","ZERO","ZERO",{"$f":"SUM(C23)*2","v":0},"ZERO","ZERO",{"$f":"SUM(C23)","v":0},0,"ZERO","ZERO","ZERO","ZERO",{"$f":"SUM(C23)*2","v":0},0,"ZERO","ZERO","ZERO",null,null,null,null,null,null,null,null,null,"ZERO","ZERO"]
["CHICKEN SUYA BURGER ",2200,0,0,null,0,{"$f":"SUM(C24)*2","v":0},"ZERO","ZERO","ZERO","ZERO","ZERO","ZERO","ZERO",{"$f":"SUM(C24)*1","v":0},"ZERO",0,"ZERO","ZERO","ZERO","ZERO","ZERO",0,"ZERO","ZERO","ZERO",null,null,null,null,null,null,null,null,null,"ZERO","ZERO"]
["CHICKEN SHAWARMA",1800,0,0,null,null,"ZERO",{"$f":"SUM(C25)","v":0},{"$f":"SUM(C25)","v":0},{"$f":"SUM(C25)*2","v":0},"ZERO","ZERO","ZERO","ZERO","ZERO","ZERO",0,{"$f":"SUM(C25)","v":0},"ZERO","ZERO","ZERO","ZERO",0,"ZERO","ZERO","ZERO",null,null,null,null,null,null,null,null,null,{"$f":"SUM(AD25)","v":0},{"$f":"SUM(AE25)","v":0}]
["BARBECUE BEEF SHAWARMA",2000,0,0,null,null,"ZERO",{"$f":"SUM(C26)","v":0},"ZERO",{"$f":"SUM(C26)*2","v":0},"ZERO","ZERO","ZERO","ZERO","ZERO","ZERO",0,0,"ZERO","ZERO","ZERO","ZERO",0,"ZERO","ZERO","ZERO",null,null,null,null,null,null,null,null,null,{"$f":"SUM(C26)","v":0},"ZERO"]
["BEEF SUYA SHAWARMA",2200,0,0,null,null,"ZERO",{"$f":"SUM(C27)","v":0},"ZERO",{"$f":"SUM(C27)*2","v":0},"ZERO","ZERO","ZERO","ZERO","ZERO","ZERO",0,0,"ZERO","ZERO","ZERO","ZERO",0,"ZERO","ZERO","ZERO",null,null,null,null,null,null,null,null,null,{"$f":"SUM(AD27)","v":0},{"$f":"SUM(C27)","v":0}]
["BEEF SUYA BURGER ",2200,0,0,null,{"$f":"SUM(C28)","v":0},"ZERO",null,"ZERO","ZERO","ZERO","ZERO","ZERO","ZERO",{"$f":"SUM(C28)","v":0},"ZERO",0,0,"ZERO","ZERO","ZERO","ZERO",0,"ZERO","ZERO","ZERO",null,null,null,null,null,null,null,null,null,{"$f":"SUM(AD28)","v":0},{"$f":"SUM(C28)","v":0}]
["CHICKEN SUYA SHAWARMA",2200,0,0,null,"ZERO",{"$f":"SUM(C29)*2","v":0},{"$f":"SUM(C29)","v":0},null,{"$f":"SUM(C29)*2","v":0},"ZERO","ZERO","ZERO","ZERO","ZERO","ZERO",0,0,"ZERO","ZERO","ZERO","ZERO",0,"ZERO","ZERO","ZERO"]
["CHESSY SHAWARMA",2500,0,0,null,"ZERO","ZERO",{"$f":"SUM(C30)","v":0},{"$f":"SUM(C30)","v":0},{"$f":"SUM(C30)*2","v":0},null,"ZERO",{"$f":"SUM(C30)*2","v":0},"ZERO","ZERO","ZERO",0,0,"ZERO","ZERO","ZERO","ZERO",{"$f":"SUM(C30)*140","v":0},"ZERO","ZERO","ZERO",null,null,null,null,null,null,null,null,null,{"$f":"SUM(AD30)","v":0},{"$f":"SUM(AE30)","v":0}]
["2 CHICKEN AND CHIPS",2300,0,0,null,"ZERO","ZERO","ZERO","ZERO","ZERO",{"$f":"SUM(C31)","v":0},{"$f":"SUM(C31)*2","v":0},"ZERO","ZERO","ZERO",{"$f":"SUM(C31)","v":0},"ZERO",0,"ZERO","ZERO","ZERO","ZERO","ZERO",{"$f":"SUM(C31)","v":0},"ZERO","ZERO",null,null,null,null,null,null,null,null,null,"ZERO","ZERO"]
["4 CHICKEN AND CHIPS",3500,0,0,null,"ZERO","ZERO","ZERO","ZERO","ZERO",{"$f":"SUM(C32)","v":0},{"$f":"SUM(C32)*4","v":0},"ZERO","ZERO","ZERO",{"$f":"SUM(C32)","v":0},"ZERO",0,"ZERO","ZERO","ZERO","ZERO","ZERO",{"$f":"SUM(C32)*2","v":0},"ZERO","ZERO","zero","zero","zero",null,null,null,null,null,null,"ZERO","ZERO"]
["SPICY CHICKEN ONLY",650,0,null,null,"ZERO","ZERO","ZERO","ZERO","ZERO","ZERO",{"$f":"SUM(C33)","v":0},"ZERO","ZERO","ZERO","ZERO","ZERO","ZERO","ZERO","ZERO","ZERO","ZERO","ZERO","ZERO",{"$f":"SUM(C33)","v":0},"ZERO",null,null,null,null,null,null,null,null,null,"ZERO","ZERO"]
["CRISPY CHICKEN ONLY",650,0,{"$f":"SUM(B34*C34)","v":0},null,"ZERO","ZERO","ZERO","ZERO","ZERO","ZERO",{"$f":"SUM(C34)","v":0},"ZERO","ZERO","ZERO","ZERO","ZERO","ZERO","ZERO","ZERO","ZERO","ZERO","ZERO","ZERO",{"$f":"SUM(C34)","v":0},"ZERO",null,null,null,null,null,null,null,null,null,"ZERO","ZERO"]
["POTATO FRIES",700,0,0,null,"ZERO","ZERO","ZERO","ZERO","ZERO",null,"ZERO","ZERO","ZERO","ZERO","ZERO","ZERO","ZERO","ZERO","ZERO","ZERO","ZERO","ZERO","ZERO","ZERO","ZERO",null,null,null,null,null,null,null,null,null,"ZERO","ZERO"]
["FRENCH FRIES ONLY",1000,0,0,null,"ZERO","ZERO","ZERO","ZERO","ZERO",{"$f":"SUM(C36)","v":0},"ZERO","ZERO","ZERO","ZERO","ZERO","ZERO","ZERO","ZERO","ZERO","ZERO","ZERO","ZERO","ZERO",{"$f":"SUM(C36)","v":0},"ZERO",null,null,null,null,null,null,null,null,null,"ZERO","ZERO"]
["SUGERCANNE JUICE",750,0,0,null,"ZERO","ZERO","ZERO","ZERO","ZERO","ZERO","ZERO","ZERO","ZERO","ZERO","ZERO","ZERO","ZERO","ZERO",{"$f":"SUM(C37)","v":0},"ZERO","ZERO","ZERO","ZERO","ZERO","ZERO",null,null,null,null,null,null,null,null,null,"ZERO","ZERO"]
["35 CL SOFT DRINK",200,0,0,null,"ZERO","ZERO","ZERO","ZERO","ZERO","ZERO","ZERO","ZERO","ZERO","ZERO","ZERO","ZERO","ZERO","ZERO","ZERO",{"$f":"SUM(C38)","v":0},"ZERO","ZERO","ZERO","ZERO","ZERO",null,null,null,null,null,null,null,null,null,"ZERO","ZERO"]
["PARFAIT",null,0,0,null,"ZERO","ZERO","ZERO","ZERO","ZERO","ZERO","ZERO","ZERO","ZERO","ZERO","ZERO","ZERO",{"$f":"SUM(C39)","v":0},{"$f":"SUM(C39)","v":0},"ZERO","ZERO","ZERO","ZERO","ZERO","ZERO","ZERO",null,null,null,null,null,null,null,null,null,"ZERO","ZERO"]
["MARINATED WINGS",500,0,0,null,"ZERO","ZERO","ZERO","ZERO","ZERO","ZERO",{"$f":"SUM(C40)","v":0},"ZERO","ZERO","ZERO","ZERO","ZERO","ZERO","ZERO","ZERO","ZERO","ZERO","ZERO","ZERO","ZERO","ZERO",null,null,null,null,null,null,null,null,null,"ZERO","ZERO"]
["CHEESE ",400,0,0,null,"ZERO","ZERO","ZERO","ZERO","ZERO","ZERO","ZERO",{"$f":"SUM(C41)","v":0},"ZERO","ZERO","ZERO","ZERO","ZERO","ZERO","ZERO","ZERO","ZERO","ZERO","ZERO","ZERO","ZERO",null,null,null,null,null,null,null,null,null,"ZERO","ZERO"]
["SAUSAGE",200,0,0,null,null,null,null,null,null,"ZERO"]
["BACON",400,0,0,null,"ZERO","ZERO","ZERO","ZERO","ZERO","ZERO","ZERO","ZERO",{"$f":"SUM(C43)","v":0},"ZERO","ZERO","ZERO","ZERO","ZERO","ZERO","ZERO","ZERO","ZERO","ZERO","ZERO","ZERO",null,null,null,null,null,null,null,null,null,"ZERO","ZERO"]
["FRIENDY BURGER MEAL (WITH SOFT DRINK)",10200,0,0,null,{"$f":"SUM(C44)*2","v":0},{"$f":"SUM(C44)*2","v":0},{"$f":"SUM(C44)*2","v":0},{"$f":"SUM(C44)*2","v":0},{"$f":"SUM(C44)*2","v":0},{"$f":"SUM(C44)*2","v":0},{"$f":"SUM(C44)*2*2","v":0},"ZERO","ZERO",{"$f":"SUM(C44)*1*2","v":0},{"$f":"SUM(C44)*2","v":0},{"$f":"SUM(C44)*2*2","v":0},{"$f":"SUM(C44)*2","v":0},null,"ZERO",{"$f":"SUM(C44)*2","v":0},null,{"$f":"SUM(C44)*140*2","v":0},{"$f":"SUM(C44)*2","v":0},{"$f":"SUM(C44)*2","v":0},"ZERO",null,null,null,null,null,null,null,null,null,{"$f":"SUM(AD44)*2","v":0},{"$f":"SUM(AE44)*2","v":0}]
["FRIENDY BURGER MEAL (WITH SUGARCANE JUICE)",10600,0,0,null,{"$f":"SUM(C45)*2","v":0},{"$f":"SUM(C45)*2","v":0},{"$f":"SUM(C45)*2","v":0},{"$f":"SUM(C45)*2","v":0},{"$f":"SUM(C45)*2","v":0},{"$f":"SUM(C45)*2","v":0},{"$f":"SUM(C45)*2*2","v":0},"ZERO","ZERO",{"$f":"SUM(C45)*1*2","v":0},{"$f":"SUM(C45)*2","v":0},{"$f":"SUM(C45)*2*2","v":0},{"$f":"SUM(C45)*2","v":0},null,{"$f":"SUM(C45)*2","v":0},"ZERO",null,{"$f":"SUM(C45)*140*2","v":0},{"$f":"SUM(C45)*2","v":0},{"$f":"SUM(C45)*2","v":0},"ZERO",null,null,null,null,null,null,null,null,null,{"$f":"SUM(AD45)*2","v":0},{"$f":"SUM(AE45)*2","v":0}]
["SHAWARMA  SUB",1800,0,0,null,null,"ZERO","ZERO",{"$f":"SUM(C46)","v":0},{"$f":"SUM(C46)*2","v":0},"ZERO","ZERO","ZERO","ZERO",{"$f":"SUM(C46)*1","v":0},"ZERO",{"$f":"SUM(C46)","v":0},"ZERO","ZERO","ZERO","ZERO","ZERO",{"$f":"SUM(C46)*70","v":0},"ZERO","ZERO","ZERO",null,null,null,{"$f":"SUM(C46)","v":0},null,null,null,null,null,{"$f":"SUM(AD46)","v":0},{"$f":"SUM(AE46)","v":0}]
["DELISH PACK 1",5300,0,0,null,{"$f":"SUM(C47)","v":0},{"$f":"SUM(C47)","v":0},"ZERO",{"$f":"SUM(C47)","v":0},{"$f":"SUM(C47)*2","v":0},"ZERO",{"$f":"SUM(C47)*4","v":0},"ZERO","ZERO",{"$f":"SUM(C47)*1","v":0},{"$f":"SUM(C47)*1","v":0},{"$f":"SUM(C47)*2","v":0},{"$f":"SUM(C47)","v":0},"ZERO","ZERO","ZERO","ZERO",{"$f":"SUM(C47)*70","v":0},"ZERO","ZERO","ZERO",null,null,null,{"$f":"SUM(C47)","v":0},{"$f":"SUM(C47)*1","v":0},null,null,null,null,{"$f":"SUM(AD47)","v":0},{"$f":"SUM(AE47)","v":0}]
["FAMILY BURGER MEAL (WITH SOFT DRINK)",19800,0,0,null,{"$f":"SUM(C48)*4","v":0},{"$f":"SUM(C48)*4","v":0},{"$f":"SUM(C48)*4","v":0},{"$f":"SUM(C48)*4","v":0},{"$f":"SUM(C48)*4","v":0},{"$f":"SUM(C48)*4","v":0},{"$f":"SUM(C48)*2*4","v":0},"ZERO","ZERO",{"$f":"SUM(C48)*1*4","v":0},{"$f":"SUM(C48)*4","v":0},{"$f":"SUM(C48)*2*4","v":0},{"$f":"SUM(C48)*4","v":0},null,"ZERO",{"$f":"SUM(C48)*4","v":0},null,{"$f":"SUM(C48)*140*4","v":0},{"$f":"SUM(C48)*4","v":0},{"$f":"SUM(C48)*4","v":0},"ZERO",null,null,null,null,null,null,null,null,null,{"$f":"SUM(AD48)*4","v":0},{"$f":"SUM(AE48)*4","v":0}]
["FAMILY BURGER MEAL (WITH SUGARCANE JUICE)",20800,0,0,null,{"$f":"SUM(C49)*4","v":0},{"$f":"SUM(C49)*4","v":0},{"$f":"SUM(C49)*4","v":0},{"$f":"SUM(C49)*4","v":0},{"$f":"SUM(C49)*4","v":0},{"$f":"SUM(C49)*4","v":0},{"$f":"SUM(C49)*2*4","v":0},"ZERO","ZERO",{"$f":"SUM(C49)*1*4","v":0},{"$f":"SUM(C49)*4","v":0},{"$f":"SUM(C49)*2*4","v":0},{"$f":"SUM(C49)*4","v":0},null,{"$f":"SUM(C49)*4","v":0},"ZERO",null,{"$f":"SUM(C49)*140*4","v":0},{"$f":"SUM(C49)*4","v":0},{"$f":"SUM(C49)*4","v":0},"ZERO",null,null,null,null,null,null,null,null,null,{"$f":"SUM(AD49)*4","v":0},{"$f":"SUM(AE49)*4","v":0}]
["CAN COKE/FANTA ONLY",null,0,0,null,"ZERO","ZERO","ZERO","ZERO","ZERO","ZERO","ZERO","ZERO","ZERO","ZERO","ZERO","ZERO","ZERO","ZERO","ZERO","ZERO","ZERO","ZERO","ZERO","ZERO","ZERO",null,null,null,null,{"$f":"SUM(C50)","v":0},null,null,null,null,"ZERO","ZERO"]
["SUPA KOMMANDO ONLY",250,0,0,null,"ZERO","ZERO","ZERO","ZERO","ZERO","ZERO","ZERO","ZERO","ZERO","ZERO","ZERO","ZERO","ZERO","ZERO","ZERO","ZERO","ZERO","ZERO","ZERO","ZERO","ZERO",null,null,{"$f":"SUM(C51)","v":0},null,"ZERO","ZERO",null,null,null,"ZERO","ZERO"]
["10X Chicken Nuggets ",2400,0,0,null,null,null,null,null,null,"ZERO",null,null,null,null,{"$f":"SUM(C52)","v":0},null,{"$f":"SUM(C52)","v":0},null,null,null,null,null,{"$f":"SUM(C52)","v":0},null,null,null,null,null,null,{"$f":"SUM(C52)","v":0},{"$f":"SUM(C52)*10","v":0}]
["20X Chicken Nuggets ",4800,0,0,null,null,null,null,null,null,"ZERO ",null,null,null,null,{"$f":"SUM(C53)","v":0},null,{"$f":"SUM(C53)","v":0},null,null,null,null,null,{"$f":"SUM(C53)","v":0},null,null,null,null,null,null,{"$f":"SUM(C53)","v":0},{"$f":"SUM(C53)*20","v":0}]
["10 CHICKEN NUGGETS & FRIES BOX",3300,0,0,null,null,null,null,null,null,{"$f":"SUM(C54)","v":0},null,null,null,null,{"$f":"SUM(C54)","v":0},null,{"$f":"SUM(C54)","v":0},null,null,null,null,null,{"$f":"SUM(C54)","v":0},null,null,null,null,null,null,{"$f":"SUM(C54)","v":0},{"$f":"SUM(C54)*10","v":0}]
["20 CHICKEN NUGGETS & FRIES BOX",6600,0,0,null,null,null,null,null,null,{"$f":"SUM(C55)","v":0},null,null,null,null,{"$f":"SUM(C55)","v":0},null,{"$f":"SUM(C55)","v":0},null,null,null,null,null,{"$f":"SUM(C55)","v":0},null,null,null,null,null,null,{"$f":"SUM(C55)","v":0},{"$f":"SUM(C55)*20","v":0}]
["PRAWN BURGER ",3000,0,0,null,{"$f":"SUM(C56)","v":0},"ZERO","ZERO","ZERO","ZERO","ZERO","ZERO",{"$f":"SUM(C56)","v":0},"ZERO",{"$f":"SUM(C56)","v":0},"ZERO",{"$f":"SUM(C56)","v":0},"ZERO","ZERO","ZERO","ZERO","ZERO",{"$f":"SUM(C56)*70","v":0},"ZERO","ZERO","ZERO",null,null,null,null,null,null,{"$f":"SUM(C56)*2","v":0},null,null,"ZERO","ZERO"]
[" FUNMMY NUGGETS  BOX",5300,0,0,null,{"$f":"SUM(C57)","v":0},{"$f":"SUM(C57)","v":0},null,null,null,{"$f":"SUM(C57)","v":0},null,{"$f":"SUM(C57)","v":0},null,{"$f":"SUM(C57)","v":0},{"$f":"SUM(C57)","v":0},null,{"$f":"SUM(C57)","v":0},null,null,null,null,null,{"$f":"SUM(C57)","v":0},null,null,null,null,null,null,{"$f":"SUM(C57)","v":0},{"$f":"SUM(C57)*10","v":0}]
["FARM PRIDE 50 CL",500,0,0,null,"ZERO","ZERO","ZERO","ZERO","ZERO","ZERO","ZERO","ZERO","ZERO","ZERO","ZERO","ZERO","ZERO","ZERO","ZERO","ZERO","ZERO","ZERO","ZERO","ZERO","ZERO",null,null,null,null,null,null,null,{"$f":"SUM(C58)","v":0},null,"ZERO","ZERO"]
["FARM PRIDE 1 LITRE",800,0,0,null,"ZERO","ZERO","ZERO","ZERO","ZERO","ZERO","ZERO","ZERO","ZERO","ZERO","ZERO","ZERO","ZERO","ZERO","ZERO","ZERO","ZERO","ZERO","ZERO","ZERO","ZERO",null,null,null,null,null,null,null,"ZERO",{"$f":"SUM(C59)","v":0},"ZERO","ZERO"]
["GRILLED CHICKEN BURGER",1700,0,{"$f":"SUM(B60*C60)","v":0},null,{"$f":"SUM(C60)","v":0},{"$f":"SUM(C60)","v":0},"ZERO","ZERO","ZERO","ZERO","ZERO","ZERO","ZERO",{"$f":"SUM(C60)","v":0},"ZERO",{"$f":"SUM(C60)*1","v":0},"ZERO","ZERO","ZERO","ZERO","ZERO",{"$f":"SUM(C60)*70","v":0},"ZERO","ZERO","ZERO",null,null,null,null,null,null,null,null,null,"ZERO","ZERO"]
["GRILLED CHICKEN BURGER + JUICE",2200,0,{"$f":"SUM(B61*C61)","v":0},null,{"$f":"SUM(C61)","v":0},{"$f":"SUM(C61)","v":0},"ZERO","ZERO","ZERO","ZERO","ZERO","ZERO","ZERO",{"$f":"SUM(C61)","v":0},"ZERO",{"$f":"SUM(C61)*1","v":0},"ZERO","ZERO","ZERO","ZERO","ZERO",{"$f":"SUM(C61)*70","v":0},"ZERO","ZERO","ZERO",null,null,null,null,null,null,null,{"$f":"SUM(C61)","v":0},null,"ZERO","ZERO"]
["GRILLED BURGER MEAL 1 & 3",4000,0,{"$f":"SUM(B62*C62)","v":0},null,{"$f":"SUM(C62)","v":0},{"$f":"SUM(C62)","v":0},"ZERO","ZERO","ZERO",{"$f":"SUM(C62)","v":0},{"$f":"SUM(C62)*2","v":0},"ZERO","ZERO","ZERO",{"$f":"SUM(C62)","v":0},{"$f":"SUM(C62)","v":0},{"$f":"SUM(C62)","v":0},"ZERO","ZERO","ZERO","ZERO",{"$f":"SUM(C62)*70","v":0},{"$f":"SUM(C62)","v":0},"ZERO","ZERO",null,null,null,null,null,null,null,{"$f":"SUM(C62)","v":0},null,"ZERO","ZERO"]
["GRILLED BURGER MEAL 2",3700,0,{"$f":"SUM(B63*C63)","v":0},null,{"$f":"SUM(C63)","v":0},{"$f":"SUM(C63)","v":0},"ZERO","ZERO","ZERO",{"$f":"SUM(C63)","v":0},{"$f":"SUM(C63)*2","v":0},"ZERO","ZERO","ZERO",{"$f":"SUM(C63)","v":0},{"$f":"SUM(C63)","v":0},{"$f":"SUM(C63)","v":0},"ZERO","ZERO",{"$f":"SUM(C63)","v":0},"ZERO",{"$f":"SUM(C63)*70","v":0},{"$f":"SUM(C63)","v":0},"ZERO","ZERO",null,null,null,null,null,null,null,"ZERO",null,"ZERO","ZERO"]
["MASTERPIECE BURGER ",5000,0,{"$f":"SUM(B64*C64)","v":0},null,{"$f":"SUM(C64)","v":0},"ZERO","ZERO","ZERO","ZERO","ZERO","ZERO",{"$f":"SUM(C64)","v":0},"ZERO","ZERO",{"$f":"SUM(C64)","v":0},{"$f":"SUM(C64)","v":0},"ZERO","ZERO","ZERO",{"$f":"SUM(C64)","v":0},{"$f":"SUM(C64)","v":0},{"$f":"SUM(C64)*70","v":0},"ZERO","ZERO","ZERO",null,null,null,null,null,null,null,null,null,"ZERO",{"$f":"SUM(C64)","v":0}]
["SUYA BURGER BOX 2 (WITH BEEF SUYA BURGER)",6000,0,0,null,0,"ZERO ","ZERO","ZERO",0,0,0,"ZERO","ZERO",0,0,0,"ZERO","ZERO",null,0,"ZERO",0,0,0,"ZERO",0,null,null,null,null,null,null,null,null,"ZERO",0]
["OPENING STOCK",null,null,null,null,{"$f":"SUM('Production DAY 20'!C2)","v":0},{"$f":"SUM('Production DAY 20'!C3)","v":0},{"$f":"SUM('Production DAY 20'!C4)","v":0},{"$f":"SUM('Production DAY 20'!C5)","v":0},{"$f":"SUM('Production DAY 20'!C6)","v":0},{"$f":"SUM('Production DAY 20'!C7)","v":0},{"$f":"SUM('Production DAY 20'!C8)","v":0},{"$f":"SUM('Production DAY 20'!C9)","v":0},{"$f":"SUM('Production DAY 20'!C10)","v":0},{"$f":"SUM('Production DAY 20'!C11)","v":0},{"$f":"SUM('Production DAY 20'!C12)","v":0},{"$f":"SUM('Production DAY 20'!C13)","v":0},{"$f":"SUM('Production DAY 20'!C14)","v":0},{"$f":"SUM('Production DAY 20'!C15)","v":0},{"$f":"SUM('Production DAY 20'!C16)","v":0},{"$f":"SUM('Production DAY 20'!C17)","v":0},{"$f":"SUM('Production DAY 20'!C18)","v":0},{"$f":"SUM('Production DAY 20'!C19)","v":0},{"$f":"SUM('Production DAY 20'!C20)","v":0},{"$f":"SUM('Production DAY 20'!C21)","v":0},{"$f":"SUM('Production DAY 20'!C22)","v":0},{"$f":"SUM('Production DAY 20'!C23)","v":0},{"$f":"SUM('Production DAY 20'!C24)","v":0},{"$f":"SUM('Production DAY 20'!C25)","v":0},{"$f":"SUM('Production DAY 20'!C26)","v":0},{"$f":"SUM('Production DAY 20'!C27)","v":0},{"$f":"SUM('Production DAY 20'!C28)","v":0},{"$f":"SUM('Production DAY 20'!C29)","v":0},{"$f":"SUM('Production DAY 20'!C30)","v":0},{"$f":"SUM('Production DAY 20'!C31)","v":0},{"$f":"SUM('Production DAY 20'!C32)","v":0},{"$f":"SUM('Production DAY 20'!C33)","v":0},{"$f":"SUM('Production DAY 20'!C34)","v":0},{"$f":"SUM('Production DAY 20'!C35)","v":0},{"$f":"SUM('Production DAY 20'!C36)","v":0},{"$f":"SUM('Production DAY 20'!C37)","v":0},{"$f":"SUM('Production DAY 20'!C38)","v":0},{"$f":"SUM('Production DAY 20'!C39)","v":0},{"$f":"SUM('Production DAY 20'!C40)","v":0},{"$f":"SUM('Production DAY 20'!C41)","v":0},{"$f":"SUM('Production DAY 20'!C42)","v":0},{"$f":"SUM('Production DAY 20'!C43)","v":0}]
["RECEIVED",null,null,null,null,{"$f":"SUM('Production DAY 20'!D2)","v":0},{"$f":"SUM('Production DAY 20'!D3)","v":0},{"$f":"SUM('Production DAY 20'!D4)","v":0},{"$f":"SUM('Production DAY 20'!D5)","v":0},{"$f":"SUM('Production DAY 20'!D6)","v":0},{"$f":"SUM('Production DAY 20'!D7)","v":0},{"$f":"SUM('Production DAY 20'!D8)","v":0},{"$f":"SUM('Production DAY 20'!D9)","v":0},{"$f":"SUM('Production DAY 20'!D10)","v":0},{"$f":"SUM('Production DAY 20'!D11)","v":0},{"$f":"SUM('Production DAY 20'!D12)","v":0},{"$f":"SUM('Production DAY 20'!D13)","v":0},{"$f":"SUM('Production DAY 20'!D14)","v":0},{"$f":"SUM('Production DAY 20'!D15)","v":0},{"$f":"SUM('Production DAY 20'!D16)","v":0},{"$f":"SUM('Production DAY 20'!D17)","v":0},{"$f":"SUM('Production DAY 20'!D18)","v":0},{"$f":"SUM('Production DAY 20'!D19)","v":0},{"$f":"SUM('Production DAY 20'!D20)","v":0},{"$f":"SUM('Production DAY 20'!D21)","v":0},{"$f":"SUM('Production DAY 20'!D22)","v":0},{"$f":"SUM('Production DAY 20'!D23)","v":0},{"$f":"SUM('Production DAY 20'!D24)","v":0},{"$f":"SUM('Production DAY 20'!D25)","v":0},{"$f":"SUM('Production DAY 20'!D26)","v":0},{"$f":"SUM('Production DAY 20'!D27)","v":0},{"$f":"SUM('Production DAY 20'!D28)","v":0},{"$f":"SUM('Production DAY 20'!D29)","v":0},{"$f":"SUM('Production DAY 20'!D30)","v":0},{"$f":"SUM('Production DAY 20'!D31)","v":0},{"$f":"SUM('Production DAY 20'!D32)","v":0},{"$f":"SUM('Production DAY 20'!D33)","v":0},{"$f":"SUM('Production DAY 20'!D34)","v":0},{"$f":"SUM('Production DAY 20'!D35)","v":0},{"$f":"SUM('Production DAY 20'!D36)","v":0},{"$f":"SUM('Production DAY 20'!D37)","v":0},{"$f":"SUM('Production DAY 20'!D38)","v":0},{"$f":"SUM('Production DAY 20'!D39)","v":0},{"$f":"SUM('Production DAY 20'!D40)","v":0},{"$f":"SUM('Production DAY 20'!D41)","v":0},{"$f":"SUM('Production DAY 20'!D42)","v":0},{"$f":"SUM('Production DAY 20'!D43)","v":0}]
["TOTAL STOCK",null,null,null,null,{"$f":"SUM(F66:F67)","v":0},{"$f":"SUM(G66:G67)","v":0},{"$f":"SUM(H66:H67)","v":0},{"$f":"SUM(I66:I67)","v":0},0,0,0,0,0,0,{"$f":"SUM(P66:P67)","v":0},0,0,0,0,0,0,0,0,0,0,0,0,0,0,0,0,0,0,0,0,0,0,0,0,0,0,0,0,0,0,0]
["USED",null,null,{"$f":"SUM(D3:D65)","v":0},null,{"$f":"SUM(F3:F65)","v":0},0,0,0,0,0,0,0,0,0,0,0,0,0,0,0,0,0,0,0,0,0,0,0,0,0,0,0,0,0,0,0,{"$f":"SUM(AL3:AL64)","v":0},0,0,0,0,0,0,0,0,0]
["CLOSING STOCK",null,null,null,null,{"$f":"SUM(F68-F69)","v":0},0,0,0,0,0,0,0,0,0,0,0,0,0,0,0,0,0,0,0,0,0,0,0,0,0,0,0,{"$f":"SUM(AH66-AH69)","v":0},{"$f":"SUM(AI68-AI69)","v":0},0,0,0,0,0,0,0,0,0,0,0,0]

{"sheet":"Production DAY 21","index":40,"n_rows":44,"n_cols":8,"rows_kept":44,"cut":false,"hidden":false,"merged":[]}
["Nos#","ITEMS"," < OPENING STOCK","RECEIVED","USED >","SALES CLOSING STOCK >","PHYSICAL STOCK COUNT","COMMENTS"]
[1,"Burger Bread",{"$f":"SUM('Production DAY 20'!G2)","v":0},null,{"$f":"SUM('DAY 21'!F69)","v":0},{"$f":"SUM('DAY 21'!F70)","v":0},0,{"$f":"IF(G2=F2,TRUE,FALSE)","v":true}]
[2,"Chicken Patty",{"$f":"SUM('Production DAY 20'!G3)","v":0},null,{"$f":"SUM('DAY 21'!G69)","v":0},{"$f":"SUM('DAY 21'!G70)","v":0},0,true]
[3,"Shawarma Bread",{"$f":"SUM('Production DAY 20'!G4)","v":0},null,{"$f":"SUM('DAY 21'!H69)","v":0},{"$f":"SUM('DAY 21'!H70)","v":0},0,true]
[4,"Chicken Portion or Shawarma portion",{"$f":"SUM('Production DAY 20'!G5)","v":0},null,{"$f":"SUM('DAY 21'!I69)","v":0},{"$f":"SUM('DAY 21'!I70)","v":0},0,true]
[5,"Sausage",{"$f":"SUM('Production DAY 20'!G6)","v":0},null,{"$f":"SUM('DAY 21'!J69)","v":0},{"$f":"SUM('DAY 21'!J70)","v":0},0,true]
[6,"Portion of Fries",{"$f":"SUM('Production DAY 20'!G7)","v":0},null,{"$f":"SUM('DAY 21'!K69)","v":0},{"$f":"SUM('DAY 21'!K70)","v":0},0,true]
[7,"Pieces of Chicken",{"$f":"SUM('Production DAY 20'!G8)","v":0},null,{"$f":"SUM('DAY 21'!L69)","v":0},{"$f":"SUM('DAY 21'!L70)","v":0},0,true]
[8,"Cheese",{"$f":"SUM('Production DAY 20'!G9)","v":0},null,{"$f":"SUM('DAY 21'!M69)","v":0},{"$f":"SUM('DAY 21'!M70)","v":0},0,true]
[9,"Bacon",{"$f":"SUM('Production DAY 20'!G10)","v":0},null,{"$f":"SUM('DAY 21'!N69)","v":0},{"$f":"SUM('DAY 21'!N70)","v":0},0,true]
[10,"A Paper Bag",{"$f":"SUM('Production DAY 20'!G11)","v":0},null,{"$f":"SUM('DAY 21'!O69)","v":0},{"$f":"SUM('DAY 21'!O70)","v":0},0,true]
[11,"Achicken Box",{"$f":"SUM('Production DAY 20'!G12)","v":0},null,{"$f":"SUM('DAY 21'!P69)","v":0},{"$f":"SUM('DAY 21'!P70)","v":0},0,true]
[12,"Paper Wrap",{"$f":"SUM('Production DAY 20'!G13)","v":0},null,{"$f":"SUM('DAY 21'!Q69)","v":0},{"$f":"SUM('DAY 21'!Q70)","v":0},0,true]
[13,"A Branded Nylon",{"$f":"SUM('Production DAY 20'!G14)","v":0},null,{"$f":"SUM('DAY 21'!R69)","v":0},{"$f":"SUM('DAY 21'!R70)","v":0},0,true]
[14,"Parfait",{"$f":"SUM('Production DAY 20'!G15)","v":0},null,{"$f":"SUM('DAY 21'!S69)","v":0},{"$f":"SUM('DAY 21'!S70)","v":0},0,true]
[15,"A Bottle of SUGAR Juice",{"$f":"SUM('Production DAY 20'!G16)","v":0},null,{"$f":"SUM('DAY 21'!T69)","v":0},{"$f":"SUM('DAY 21'!T70)","v":0},0,true]
[16,"35 CL Soft Drink",{"$f":"SUM('Production DAY 20'!G17)","v":0},null,{"$f":"SUM('DAY 21'!U69)","v":0},{"$f":"SUM('DAY 21'!U70)","v":0},0,true]
[17,"Beef Patty",{"$f":"SUM('Production DAY 20'!G18)","v":0},null,{"$f":"SUM('DAY 21'!V69)","v":0},{"$f":"SUM('DAY 21'!V70)","v":0},0,true]
[18,"Cream in GRAMS",{"$f":"SUM('Production DAY 20'!G19)","v":0},null,{"$f":"SUM('DAY 21'!W69)","v":0},{"$f":"SUM('DAY 21'!W70)","v":0},0,true]
[19,"KETCHUP",{"$f":"SUM('Production DAY 20'!G20)","v":0},null,{"$f":"SUM('DAY 21'!X69)","v":0},{"$f":"SUM('DAY 21'!X70)","v":0},0,true]
[20,"plain Nylon",{"$f":"SUM('Production DAY 20'!G21)","v":0},null,{"$f":"SUM('DAY 21'!Y69)","v":0},{"$f":"SUM('DAY 21'!Y70)","v":0},0,true]
[21,"Barbeque Sauce",{"$f":"SUM('Production DAY 20'!G22)","v":0},null,{"$f":"SUM('DAY 21'!Z69)","v":0},{"$f":"SUM('DAY 21'!Z70)","v":0},0,true]
[22,"Meal Box",{"$f":"SUM('Production DAY 20'!G23)","v":0},null,{"$f":"SUM('DAY 21'!AA69)","v":0},{"$f":"SUM('DAY 21'!AA70)","v":0},0,true]
[23,"COCONUT BREAD",{"$f":"SUM('Production DAY 20'!G24)","v":0},null,{"$f":"SUM('DAY 21'!AB69)","v":0},{"$f":"SUM('DAY 21'!AB70)","v":0},0,true]
[24,"SUPA KOMMANDO",{"$f":"SUM('Production DAY 20'!G25)","v":0},null,{"$f":"SUM('DAY 21'!AC69)","v":0},{"$f":"SUM('DAY 21'!AC70)","v":0},0,true]
[25,"SHAWARMA SUB",{"$f":"SUM('Production DAY 20'!G26)","v":0},null,{"$f":"SUM('DAY 21'!AD69)","v":0},{"$f":"SUM('DAY 21'!AD70)","v":0},0,true]
[26,"CAN COKE / FANTA",{"$f":"SUM('Production DAY 20'!G27)","v":0},null,{"$f":"SUM('DAY 21'!AE69)","v":0},{"$f":"SUM('DAY 21'!AE70)","v":0},0,true]
[27,"NUGGETS ",{"$f":"SUM('Production DAY 20'!G28)","v":0},null,{"$f":"SUM('DAY 21'!AF69)","v":0},{"$f":"SUM('DAY 21'!AF70)","v":0},0,true]
[28,"PRAWN",{"$f":"SUM('Production DAY 20'!G29)","v":0},null,{"$f":"SUM('DAY 21'!AG69)","v":0},{"$f":"SUM('DAY 21'!AG70)","v":0},0,true]
[29,"FARM PRIDE",{"$f":"SUM('Production DAY 20'!G30)","v":0},null,{"$f":"SUM('DAY 21'!AH69)","v":0},{"$f":"SUM('DAY 21'!AH70)","v":0},0,true]
[30,"50CL OR PULPY",{"$f":"SUM('Production DAY 20'!G31)","v":0},null,{"$f":"SUM('DAY 21'!AI69)","v":0},{"$f":"SUM('DAY 21'!AI70)","v":0},0,true]
[31,"FARM PRIDE 1 LT",{"$f":"SUM('Production DAY 20'!G32)","v":0},null,{"$f":"SUM('DAY 21'!AJ69)","v":0},{"$f":"SUM('DAY 21'!AJ70)","v":0},0,true]
[32,"BEEF PORTION FOR SHAWARMA",{"$f":"SUM('Production DAY 20'!G33)","v":0},null,{"$f":"SUM('DAY 21'!AK69)","v":0},{"$f":"SUM('DAY 21'!AK70)","v":0},0,true]
[33,"BEEF SUYA STICK",{"$f":"SUM('Production DAY 20'!G34)","v":0},null,{"$f":"SUM('DAY 21'!AL69)","v":0},{"$f":"SUM('DAY 21'!AL70)","v":0},0,true]
[34,"EMPTY 1",{"$f":"SUM('Production DAY 20'!G35)","v":0},null,{"$f":"SUM('DAY 21'!AM69)","v":0},{"$f":"SUM('DAY 21'!AM70)","v":0},0,true]
[35,"EMPTY 2",{"$f":"SUM('Production DAY 20'!G36)","v":0},null,{"$f":"SUM('DAY 21'!AN69)","v":0},{"$f":"SUM('DAY 21'!AN70)","v":0},0,true]
[36,"EMPTY 3",{"$f":"SUM('Production DAY 20'!G37)","v":0},null,{"$f":"SUM('DAY 21'!AO69)","v":0},{"$f":"SUM('DAY 21'!AO70)","v":0},0,true]
[37,"EMPTY 4",{"$f":"SUM('Production DAY 20'!G38)","v":0},null,{"$f":"SUM('DAY 21'!AP69)","v":0},{"$f":"SUM('DAY 21'!AP70)","v":0},0,true]
[38,"EMPTY 5",{"$f":"SUM('Production DAY 20'!G39)","v":0},null,{"$f":"SUM('DAY 21'!AQ69)","v":0},{"$f":"SUM('DAY 21'!AQ70)","v":0},0,true]
[39,"EMPTY 6",{"$f":"SUM('Production DAY 20'!G40)","v":0},null,{"$f":"SUM('DAY 21'!AR69)","v":0},{"$f":"SUM('DAY 21'!AR70)","v":0},0,true]
[40,"EMPTY 7",{"$f":"SUM('Production DAY 20'!G41)","v":0},null,{"$f":"SUM('DAY 21'!AS69)","v":0},{"$f":"SUM('DAY 21'!AS70)","v":0},0,true]
[41,"EMPTY 8",{"$f":"SUM('Production DAY 20'!G42)","v":0},null,{"$f":"SUM('DAY 21'!AT69)","v":0},{"$f":"SUM('DAY 21'!AT70)","v":0},0,true]
[42,"EMPTY 9",{"$f":"SUM('Production DAY 20'!G43)","v":0},null,{"$f":"SUM('DAY 21'!AU69)","v":0},{"$f":"SUM('DAY 21'!AU70)","v":0},0,true]
[43,"EMPTY 10",{"$f":"SUM('Production DAY 20'!G44)","v":0},null,{"$f":"SUM('DAY 21'!AV69)","v":0},{"$f":"SUM('DAY 21'!AV70)","v":0},0,true]

{"sheet":"DAY 21","index":41,"n_rows":70,"n_cols":47,"rows_kept":70,"cut":false,"hidden":false,"merged":[[0,7,0,28]]}
["FEBRUARY 12th, 2022",null,null,{"$f":"SUM(D3:D50)","v":0},null,null,null,"BURGER PALACE INVENTORY RECORDS"]
["ITEM","AMOUNT","QUANTITY","TOTAL",null,"Burger Bread","Chicken Patty","Shawarma Bread","Chicken Portion or Shawarma portion","Sausage","Portion of Fries","Pieces of Chicken","Cheese","Bacon","A Paper Bag","Achicken Box","Paper Wrap","A Branded Nylon","Parfait","A Bottle of SUGAR Juice","35 CL Soft Drink","Beef Patty","Cream in GRAMS","KETCHUP","plain Nylon","Barbeque Sauce","Meal Box","COCONUT BREAD ","SUPA KOMMANDO ","SHAWARMA SUB","CAN COKE / FANTA","NUGGETS","PRAWN","FARM PRIDE 50CL OR PULPY","FARM PRIDE 1 LT","BEEF PORTION FOR SHAWARMA ","BEEF SUYA STICK","EMPTY 1","EMPTY 2","EMPTY 3","EMPTY 4","EMPTY 5","EMPTY 6","EMPTY 7","EMPTY 8","EMPTY 9","EMPTY 10"]
["DELUXE BURGER MEAL (WITH SOFT DRINK)",5400,0,{"$f":"SUM(B3*C3)","v":0},null,{"$f":"SUM(C3)","v":0},{"$f":"SUM(C3)","v":0},{"$f":"SUM(C3)","v":0},{"$f":"SUM(C3)","v":0},{"$f":"SUM(C3)","v":0},{"$f":"SUM(C3)","v":0},{"$f":"SUM(C3)*2","v":0},"ZERO","ZERO",{"$f":"SUM(C3)*1","v":0},{"$f":"SUM(C3)","v":0},{"$f":"SUM(C3)*2","v":0},{"$f":"SUM(C3)","v":0},null,"ZERO",{"$f":"SUM(C3)","v":0},null,{"$f":"SUM(C3)*140","v":0},{"$f":"SUM(C3)","v":0},{"$f":"SUM(C3)","v":0},"ZERO",null,null,null,null,null,null,null,null,null,{"$f":"SUM(AD3)","v":0},0]
["DELUXE BURGER MEAL (WITH SUGARCANE JUICE)",5600,0,{"$f":"SUM(B4*C4)","v":0},null,{"$f":"SUM(C4)","v":0},{"$f":"SUM(C4)","v":0},{"$f":"SUM(C4)","v":0},{"$f":"SUM(C4)","v":0},{"$f":"SUM(C4)","v":0},0,{"$f":"SUM(C4)*2","v":0},"ZERO","ZERO",{"$f":"SUM(C4)*1","v":0},0,{"$f":"SUM(C4)*2","v":0},0,null,{"$f":"SUM(C4)","v":0},"ZERO",null,{"$f":"SUM(C4)*140","v":0},{"$f":"SUM(C4)","v":0},0,"ZERO",null,null,null,null,null,null,null,null,null,0,0]
["DELUXE MEAL EXTRA (WITH Soft Drink)",null,0,{"$f":"SUM(B5*C5)","v":0},null,{"$f":"SUM(C5)","v":0},{"$f":"SUM(C5)","v":0},{"$f":"SUM(C5)","v":0},{"$f":"SUM(C5)","v":0},{"$f":"SUM(C5)","v":0},0,{"$f":"SUM(C5)*2","v":0},"ZERO","ZERO",{"$f":"SUM(C5)","v":0},0,{"$f":"SUM(C5)*2","v":0},0,{"$f":"SUM(C5)","v":0},"ZERO",{"$f":"SUM(C5)","v":0},null,{"$f":"SUM(C5)*140","v":0},{"$f":"SUM(C5)","v":0},0,"ZERO",null,null,null,null,null,null,null,null,null,0,0]
["DELUXE BURGER MEAL Extra (With Sugarcane juice",null,0,{"$f":"SUM(B6*C6)","v":0},null,{"$f":"SUM(C6)","v":0},{"$f":"SUM(C6)","v":0},{"$f":"SUM(C6)","v":0},{"$f":"SUM(C6)","v":0},{"$f":"SUM(C6)","v":0},0,{"$f":"SUM(C6)*2","v":0},"ZERO","ZERO",{"$f":"SUM(C6)","v":0},0,{"$f":"SUM(C6)*2","v":0},0,{"$f":"SUM(C6)","v":0},{"$f":"SUM(C6)","v":0},"ZERO",null,{"$f":"SUM(C6)*140","v":0},{"$f":"SUM(C6)","v":0},0,"ZERO",null,null,null,null,null,null,null,null,null,0,0]
["PREMIUM BURGER Meal ",5900,0,{"$f":"SUM(B7*C7)","v":0},null,{"$f":"SUM(C7)","v":0},{"$f":"SUM(C7)","v":0},"ZERO","ZERO","ZERO",0,{"$f":"SUM(C7)*5","v":0},"ZERO","ZERO",{"$f":"SUM(C7)","v":0},0,{"$f":"SUM(C7)*1.25","v":0},0,"ZERO","ZERO",{"$f":"SUM(C7)","v":0},"ZERO",{"$f":"SUM(C7)*70","v":0},{"$f":"SUM(C7)*2","v":0},0,{"$f":"SUM(C7)","v":0},null,null,null,null,null,null,null,null,null,"ZERO","ZERO"]
["CRISPY CHICKEN BOX",4300,0,null,null,"ZERO","ZERO","ZERO","ZERO","ZERO",0,{"$f":"SUM(C8)*5","v":0},"ZERO","ZERO","ZERO",0,{"$f":"SUM(C8)*0.25","v":0},0,"ZERO","ZERO",{"$f":"SUM(C8)","v":0},"ZERO","ZERO",{"$f":"SUM(C8)*2","v":0},0,{"$f":"SUM(C8)","v":0},null,null,null,null,null,null,null,null,null,"ZERO","ZERO"]
["ROYAL BURGER MEAL (CHICKEN  PATTY)",null,0,{"$f":"SUM(B9*C9)","v":0},null,{"$f":"SUM(C9)","v":0},{"$f":"SUM(C9)*2","v":0},"ZERO","ZERO","ZERO",0,"ZERO",{"$f":"SUM(C9)*2","v":0},{"$f":"SUM(C9)*2","v":0},"ZERO",0,{"$f":"SUM(C9)","v":0},0,{"$f":"SUM(C9)","v":0},"ZERO","ZERO","ZERO",{"$f":"SUM(C9)*140","v":0},{"$f":"SUM(C9)*2","v":0},0,{"$f":"SUM(C9)","v":0},null,null,null,null,null,null,null,null,null,"ZERO","ZERO"]
["ROYAL BURGER MEAL (BEEF  PATTY)",null,0,{"$f":"SUM(B10*C10)","v":0},null,{"$f":"SUM(C10)","v":0},"ZERO","ZERO","ZERO","ZERO",0,"ZERO",{"$f":"SUM(C10)*2","v":0},{"$f":"SUM(C10)*2","v":0},"ZERO",0,0,0,{"$f":"SUM(C10)","v":0},"ZERO","ZERO",{"$f":"SUM(C10)*2","v":0},{"$f":"SUM(C10)*140","v":0},{"$f":"SUM(C10)*2","v":0},0,{"$f":"SUM(C10)","v":0},null,null,null,null,null,null,null,null,null,"ZERO","ZERO"]
["ROYAL BURGER ONLY (CHICKEN PATTY)",3300,0,{"$f":"SUM(B11*C11:C25,A1,A1,A1,A1,A1)","v":0},null,{"$f":"SUM(C11)","v":0},{"$f":"SUM(C11)*2","v":0},"ZERO","ZERO","ZERO","ZERO","ZERO",{"$f":"SUM(C11)*2","v":0},{"$f":"SUM(C11)*2","v":0},"ZERO",0,0,0,"ZERO","ZERO","ZERO","ZERO",{"$f":"SUM(C11)*140","v":0},{"$f":"SUM(C11)","v":0},"ZERO","ZERO",null,null,null,null,null,null,null,null,null,"ZERO","ZERO"]
["ROYAL BURGER ONLY (BEEF PATTY)",3300,0,{"$f":"SUM(B12*C12)","v":0},null,{"$f":"SUM(C12)","v":0},null,"ZERO","ZERO","ZERO","ZERO","ZERO",{"$f":"SUM(C12)*2","v":0},{"$f":"SUM(C12)*2","v":0},"ZERO",0,0,0,"ZERO","ZERO","ZERO",{"$f":"SUM(C12)*2","v":0},{"$f":"SUM(C12)*140","v":0},{"$f":"SUM(C12)","v":0},"ZERO","ZERO",null,null,null,null,null,null,null,null,null,"ZERO","ZERO"]
["MAYOR'S COCONUT BURGER ",2800,0,0,null,0,{"$f":"SUM(C13)","v":0},"ZERO","ZERO","ZERO","ZERO","ZERO",{"$f":"SUM(C13)","v":0},"ZERO","ZERO",0,0,0,"ZERO","ZERO","ZERO",{"$f":"SUM(C13)","v":0},{"$f":"SUM(C13)*140","v":0},"ZERO","ZERO","ZERO",null,{"$f":"SUM(C13)","v":0},{"$f":"SUM(C13)","v":0},null,null,null,null,null,null,"ZERO","ZERO"]
["DOUBLE DECKER CRISPY CHK. CHEESE BURGER",2500,0,0,null,{"$f":"SUM(C14)","v":0},{"$f":"SUM(C14)*2","v":0},"ZERO","ZERO","ZERO","ZERO","ZERO",{"$f":"SUM(C14)","v":0},"ZERO","ZERO",0,0,"ZERO","ZERO","ZERO","ZERO","ZERO",{"$f":"SUM(C14)*70","v":0},"ZERO","ZERO","ZERO",null,null,null,null,null,null,null,null,null,"ZERO","ZERO"]
["SINGLE BEEF BURGER",1700,0,0,null,0,"ZERO","ZERO","ZERO","ZERO","ZERO","ZERO",null,"ZERO",{"$f":"SUM(C15)","v":0},null,0,"ZERO","ZERO","ZERO","ZERO",{"$f":"SUM(C15)","v":0},{"$f":"SUM(C15)*70","v":0},"ZERO","ZERO","ZERO",null,null,null,null,null,null,null,null,null,"ZERO","ZERO"]
["YANKEE BURGER",2400,0,0,null,0,"ZERO","ZERO","ZERO","ZERO","ZERO","ZERO",null,{"$f":"SUM(C16)*2","v":0},{"$f":"SUM(C16)","v":0},null,0,"ZERO","ZERO","ZERO","ZERO",{"$f":"SUM(C16)","v":0},{"$f":"SUM(C16)*70","v":0},"ZERO","ZERO","ZERO",null,null,null,null,null,null,null,null,null,"ZERO","ZERO"]
["ROYAL BURGER WITH FRIES (Chicken)",4000,0,0,null,0,{"$f":"SUM(C17)*2","v":0},"ZERO","ZERO","ZERO",{"$f":"SUM(C17)","v":0},"ZERO",{"$f":"SUM(C17)*2","v":0},{"$f":"SUM(C17)*2","v":0},"ZERO",{"$f":"SUM(C17)","v":0},0,"ZERO","ZERO","ZERO","ZERO","ZERO",{"$f":"SUM(C17)*140","v":0},{"$f":"SUM(C17)*2","v":0},"ZERO","ZERO",null,null,null,null,null,null,null,null,null,"ZERO","ZERO"]
["ROYAL BURGER WITH FRIES (BEEF)",4000,0,0,null,0,"ZERO","ZERO","ZERO","ZERO",{"$f":"SUM(C18)","v":0},"ZERO",{"$f":"SUM(C18)*2","v":0},{"$f":"SUM(C18)*2","v":0},"ZERO",{"$f":"SUM(C18)","v":0},0,"ZERO","ZERO","ZERO","ZERO",{"$f":"SUM(C18)*2","v":0},{"$f":"SUM(C18)*140","v":0},{"$f":"SUM(C18)*2","v":0},"ZERO","ZERO",null,null,null,null,null,null,null,null,null,"ZERO","ZERO"]
["CRISPY CHICKEN BURGER",1700,0,0,null,0,{"$f":"SUM(C19)","v":0},"ZERO","ZERO","ZERO","ZERO","ZERO","ZERO","ZERO",{"$f":"SUM(C19)","v":0},"ZERO",{"$f":"SUM(C19)*1","v":0},"ZERO","ZERO","ZERO","ZERO","ZERO",{"$f":"SUM(C19)*70","v":0},"ZERO","ZERO","ZERO",null,null,null,null,null,null,null,null,null,"ZERO","ZERO"]
["SUYA BURGER BOX",5500,0,0,null,0,{"$f":"SUM(C20)*2","v":0},"ZERO","ZERO",{"$f":"SUM(C20)*4","v":0},{"$f":"SUM(C20)","v":0},{"$f":"SUM(C20)*4","v":0},"ZERO","ZERO",{"$f":"SUM(C20)","v":0},{"$f":"SUM(C20)","v":0},{"$f":"SUM(C20)","v":0},"ZERO","ZERO",null,{"$f":"SUM(C20)","v":0},"ZERO",0,{"$f":"SUM(C20)*2","v":0},{"$f":"SUM(C20)","v":0},"ZERO",{"$f":"SUM(C20)","v":0},null,null,null,null,null,null,null,null,"ZERO","ZERO"]
["CRISPY CHICKEN BURGER PLUS CHEESE",2100,0,0,null,0,{"$f":"SUM(C21)","v":0},"ZERO","ZERO","ZERO","ZERO","ZERO",{"$f":"SUM(C21)","v":0},"ZERO",{"$f":"SUM(C21)","v":0},"ZERO",0,"ZERO","ZERO","ZERO","ZERO","ZERO",0,"ZERO","ZERO","ZERO",null,null,null,null,null,null,null,null,null,"ZERO","ZERO"]
["SINGLE BEEF CHEESE BURGER ",2100,0,0,null,0,"ZERO","ZERO","ZERO","ZERO","ZERO","ZERO",{"$f":"SUM(C22)","v":0},"ZERO",{"$f":"SUM(C22)","v":0},"ZERO",0,"ZERO","ZERO","ZERO","ZERO",{"$f":"SUM(C22)","v":0},0,"ZERO","ZERO","ZERO",null,null,null,null,null,null,null,null,null,"ZERO","ZERO"]
["DOUBLE DECKER BEEF CHEESE BURGER",2800,0,0,null,0,"ZERO","ZERO","ZERO","ZERO","ZERO","ZERO",{"$f":"SUM(C23)*2","v":0},"ZERO","ZERO",{"$f":"SUM(C23)","v":0},0,"ZERO","ZERO","ZERO","ZERO",{"$f":"SUM(C23)*2","v":0},0,"ZERO","ZERO","ZERO",null,null,null,null,null,null,null,null,null,"ZERO","ZERO"]
["CHICKEN SUYA BURGER ",2200,0,0,null,0,{"$f":"SUM(C24)*2","v":0},"ZERO","ZERO","ZERO","ZERO","ZERO","ZERO","ZERO",{"$f":"SUM(C24)*1","v":0},"ZERO",0,"ZERO","ZERO","ZERO","ZERO","ZERO",0,"ZERO","ZERO","ZERO",null,null,null,null,null,null,null,null,null,"ZERO","ZERO"]
["CHICKEN SHAWARMA",1800,0,0,null,null,"ZERO",{"$f":"SUM(C25)","v":0},{"$f":"SUM(C25)","v":0},{"$f":"SUM(C25)*2","v":0},"ZERO","ZERO","ZERO","ZERO","ZERO","ZERO",0,{"$f":"SUM(C25)","v":0},"ZERO","ZERO","ZERO","ZERO",0,"ZERO","ZERO","ZERO",null,null,null,null,null,null,null,null,null,{"$f":"SUM(AD25)","v":0},{"$f":"SUM(AE25)","v":0}]
["BARBECUE BEEF SHAWARMA",2000,0,0,null,null,"ZERO",{"$f":"SUM(C26)","v":0},"ZERO",{"$f":"SUM(C26)*2","v":0},"ZERO","ZERO","ZERO","ZERO","ZERO","ZERO",0,0,"ZERO","ZERO","ZERO","ZERO",0,"ZERO","ZERO","ZERO",null,null,null,null,null,null,null,null,null,{"$f":"SUM(C26)","v":0},"ZERO"]
["BEEF SUYA SHAWARMA",2200,0,0,null,null,"ZERO",{"$f":"SUM(C27)","v":0},"ZERO",{"$f":"SUM(C27)*2","v":0},"ZERO","ZERO","ZERO","ZERO","ZERO","ZERO",0,0,"ZERO","ZERO","ZERO","ZERO",0,"ZERO","ZERO","ZERO",null,null,null,null,null,null,null,null,null,{"$f":"SUM(AD27)","v":0},{"$f":"SUM(C27)","v":0}]
["BEEF SUYA BURGER ",2200,0,0,null,{"$f":"SUM(C28)","v":0},"ZERO",null,"ZERO","ZERO","ZERO","ZERO","ZERO","ZERO",{"$f":"SUM(C28)","v":0},"ZERO",0,0,"ZERO","ZERO","ZERO","ZERO",0,"ZERO","ZERO","ZERO",null,null,null,null,null,null,null,null,null,{"$f":"SUM(AD28)","v":0},{"$f":"SUM(C28)","v":0}]
["CHICKEN SUYA SHAWARMA",2200,0,0,null,"ZERO",{"$f":"SUM(C29)*2","v":0},{"$f":"SUM(C29)","v":0},null,{"$f":"SUM(C29)*2","v":0},"ZERO","ZERO","ZERO","ZERO","ZERO","ZERO",0,0,"ZERO","ZERO","ZERO","ZERO",0,"ZERO","ZERO","ZERO"]
["CHESSY SHAWARMA",2500,0,0,null,"ZERO","ZERO",{"$f":"SUM(C30)","v":0},{"$f":"SUM(C30)","v":0},{"$f":"SUM(C30)*2","v":0},null,"ZERO",{"$f":"SUM(C30)*2","v":0},"ZERO","ZERO","ZERO",0,0,"ZERO","ZERO","ZERO","ZERO",{"$f":"SUM(C30)*140","v":0},"ZERO","ZERO","ZERO",null,null,null,null,null,null,null,null,null,{"$f":"SUM(AD30)","v":0},{"$f":"SUM(AE30)","v":0}]
["2 CHICKEN AND CHIPS",2300,0,0,null,"ZERO","ZERO","ZERO","ZERO","ZERO",{"$f":"SUM(C31)","v":0},{"$f":"SUM(C31)*2","v":0},"ZERO","ZERO","ZERO",{"$f":"SUM(C31)","v":0},"ZERO",0,"ZERO","ZERO","ZERO","ZERO","ZERO",{"$f":"SUM(C31)","v":0},"ZERO","ZERO",null,null,null,null,null,null,null,null,null,"ZERO","ZERO"]
["4 CHICKEN AND CHIPS",3500,0,0,null,"ZERO","ZERO","ZERO","ZERO","ZERO",{"$f":"SUM(C32)","v":0},{"$f":"SUM(C32)*4","v":0},"ZERO","ZERO","ZERO",{"$f":"SUM(C32)","v":0},"ZERO",0,"ZERO","ZERO","ZERO","ZERO","ZERO",{"$f":"SUM(C32)*2","v":0},"ZERO","ZERO","zero","zero","zero",null,null,null,null,null,null,"ZERO","ZERO"]
["SPICY CHICKEN ONLY",650,0,null,null,"ZERO","ZERO","ZERO","ZERO","ZERO","ZERO",{"$f":"SUM(C33)","v":0},"ZERO","ZERO","ZERO","ZERO","ZERO","ZERO","ZERO","ZERO","ZERO","ZERO","ZERO","ZERO",{"$f":"SUM(C33)","v":0},"ZERO",null,null,null,null,null,null,null,null,null,"ZERO","ZERO"]
["CRISPY CHICKEN ONLY",650,0,{"$f":"SUM(B34*C34)","v":0},null,"ZERO","ZERO","ZERO","ZERO","ZERO","ZERO",{"$f":"SUM(C34)","v":0},"ZERO","ZERO","ZERO","ZERO","ZERO","ZERO","ZERO","ZERO","ZERO","ZERO","ZERO","ZERO",{"$f":"SUM(C34)","v":0},"ZERO",null,null,null,null,null,null,null,null,null,"ZERO","ZERO"]
["POTATO FRIES",700,0,0,null,"ZERO","ZERO","ZERO","ZERO","ZERO",null,"ZERO","ZERO","ZERO","ZERO","ZERO","ZERO","ZERO","ZERO","ZERO","ZERO","ZERO","ZERO","ZERO","ZERO","ZERO",null,null,null,null,null,null,null,null,null,"ZERO","ZERO"]
["FRENCH FRIES ONLY",1000,0,0,null,"ZERO","ZERO","ZERO","ZERO","ZERO",{"$f":"SUM(C36)","v":0},"ZERO","ZERO","ZERO","ZERO","ZERO","ZERO","ZERO","ZERO","ZERO","ZERO","ZERO","ZERO","ZERO",{"$f":"SUM(C36)","v":0},"ZERO",null,null,null,null,null,null,null,null,null,"ZERO","ZERO"]
["SUGERCANNE JUICE",750,0,0,null,"ZERO","ZERO","ZERO","ZERO","ZERO","ZERO","ZERO","ZERO","ZERO","ZERO","ZERO","ZERO","ZERO","ZERO",{"$f":"SUM(C37)","v":0},"ZERO","ZERO","ZERO","ZERO","ZERO","ZERO",null,null,null,null,null,null,null,null,null,"ZERO","ZERO"]
["35 CL SOFT DRINK",200,0,0,null,"ZERO","ZERO","ZERO","ZERO","ZERO","ZERO","ZERO","ZERO","ZERO","ZERO","ZERO","ZERO","ZERO","ZERO","ZERO",{"$f":"SUM(C38)","v":0},"ZERO","ZERO","ZERO","ZERO","ZERO",null,null,null,null,null,null,null,null,null,"ZERO","ZERO"]
["PARFAIT",null,0,0,null,"ZERO","ZERO","ZERO","ZERO","ZERO","ZERO","ZERO","ZERO","ZERO","ZERO","ZERO","ZERO",{"$f":"SUM(C39)","v":0},{"$f":"SUM(C39)","v":0},"ZERO","ZERO","ZERO","ZERO","ZERO","ZERO","ZERO",null,null,null,null,null,null,null,null,null,"ZERO","ZERO"]
["MARINATED WINGS",500,0,0,null,"ZERO","ZERO","ZERO","ZERO","ZERO","ZERO",{"$f":"SUM(C40)","v":0},"ZERO","ZERO","ZERO","ZERO","ZERO","ZERO","ZERO","ZERO","ZERO","ZERO","ZERO","ZERO","ZERO","ZERO",null,null,null,null,null,null,null,null,null,"ZERO","ZERO"]
["CHEESE ",400,0,0,null,"ZERO","ZERO","ZERO","ZERO","ZERO","ZERO","ZERO",{"$f":"SUM(C41)","v":0},"ZERO","ZERO","ZERO","ZERO","ZERO","ZERO","ZERO","ZERO","ZERO","ZERO","ZERO","ZERO","ZERO",null,null,null,null,null,null,null,null,null,"ZERO","ZERO"]
["SAUSAGE",200,0,0,null,null,null,null,null,null,"ZERO"]
["BACON",400,0,0,null,"ZERO","ZERO","ZERO","ZERO","ZERO","ZERO","ZERO","ZERO",{"$f":"SUM(C43)","v":0},"ZERO","ZERO","ZERO","ZERO","ZERO","ZERO","ZERO","ZERO","ZERO","ZERO","ZERO","ZERO",null,null,null,null,null,null,null,null,null,"ZERO","ZERO"]
["FRIENDY BURGER MEAL (WITH SOFT DRINK)",10200,0,0,null,{"$f":"SUM(C44)*2","v":0},{"$f":"SUM(C44)*2","v":0},{"$f":"SUM(C44)*2","v":0},{"$f":"SUM(C44)*2","v":0},{"$f":"SUM(C44)*2","v":0},{"$f":"SUM(C44)*2","v":0},{"$f":"SUM(C44)*2*2","v":0},"ZERO","ZERO",{"$f":"SUM(C44)*1*2","v":0},{"$f":"SUM(C44)*2","v":0},{"$f":"SUM(C44)*2*2","v":0},{"$f":"SUM(C44)*2","v":0},null,"ZERO",{"$f":"SUM(C44)*2","v":0},null,{"$f":"SUM(C44)*140*2","v":0},{"$f":"SUM(C44)*2","v":0},{"$f":"SUM(C44)*2","v":0},"ZERO",null,null,null,null,null,null,null,null,null,{"$f":"SUM(AD44)*2","v":0},{"$f":"SUM(AE44)*2","v":0}]
["FRIENDY BURGER MEAL (WITH SUGARCANE JUICE)",10600,0,0,null,{"$f":"SUM(C45)*2","v":0},{"$f":"SUM(C45)*2","v":0},{"$f":"SUM(C45)*2","v":0},{"$f":"SUM(C45)*2","v":0},{"$f":"SUM(C45)*2","v":0},{"$f":"SUM(C45)*2","v":0},{"$f":"SUM(C45)*2*2","v":0},"ZERO","ZERO",{"$f":"SUM(C45)*1*2","v":0},{"$f":"SUM(C45)*2","v":0},{"$f":"SUM(C45)*2*2","v":0},{"$f":"SUM(C45)*2","v":0},null,{"$f":"SUM(C45)*2","v":0},"ZERO",null,{"$f":"SUM(C45)*140*2","v":0},{"$f":"SUM(C45)*2","v":0},{"$f":"SUM(C45)*2","v":0},"ZERO",null,null,null,null,null,null,null,null,null,{"$f":"SUM(AD45)*2","v":0},{"$f":"SUM(AE45)*2","v":0}]
["SHAWARMA  SUB",1800,0,0,null,null,"ZERO","ZERO",{"$f":"SUM(C46)","v":0},{"$f":"SUM(C46)*2","v":0},"ZERO","ZERO","ZERO","ZERO",{"$f":"SUM(C46)*1","v":0},"ZERO",{"$f":"SUM(C46)","v":0},"ZERO","ZERO","ZERO","ZERO","ZERO",{"$f":"SUM(C46)*70","v":0},"ZERO","ZERO","ZERO",null,null,null,{"$f":"SUM(C46)","v":0},null,null,null,null,null,{"$f":"SUM(AD46)","v":0},{"$f":"SUM(AE46)","v":0}]
["DELISH PACK 1",5300,0,0,null,{"$f":"SUM(C47)","v":0},{"$f":"SUM(C47)","v":0},"ZERO",{"$f":"SUM(C47)","v":0},{"$f":"SUM(C47)*2","v":0},"ZERO",{"$f":"SUM(C47)*4","v":0},"ZERO","ZERO",{"$f":"SUM(C47)*1","v":0},{"$f":"SUM(C47)*1","v":0},{"$f":"SUM(C47)*2","v":0},{"$f":"SUM(C47)","v":0},"ZERO","ZERO","ZERO","ZERO",{"$f":"SUM(C47)*70","v":0},"ZERO","ZERO","ZERO",null,null,null,{"$f":"SUM(C47)","v":0},{"$f":"SUM(C47)*1","v":0},null,null,null,null,{"$f":"SUM(AD47)","v":0},{"$f":"SUM(AE47)","v":0}]
["FAMILY BURGER MEAL (WITH SOFT DRINK)",19800,0,0,null,{"$f":"SUM(C48)*4","v":0},{"$f":"SUM(C48)*4","v":0},{"$f":"SUM(C48)*4","v":0},{"$f":"SUM(C48)*4","v":0},{"$f":"SUM(C48)*4","v":0},{"$f":"SUM(C48)*4","v":0},{"$f":"SUM(C48)*2*4","v":0},"ZERO","ZERO",{"$f":"SUM(C48)*1*4","v":0},{"$f":"SUM(C48)*4","v":0},{"$f":"SUM(C48)*2*4","v":0},{"$f":"SUM(C48)*4","v":0},null,"ZERO",{"$f":"SUM(C48)*4","v":0},null,{"$f":"SUM(C48)*140*4","v":0},{"$f":"SUM(C48)*4","v":0},{"$f":"SUM(C48)*4","v":0},"ZERO",null,null,null,null,null,null,null,null,null,{"$f":"SUM(AD48)*4","v":0},{"$f":"SUM(AE48)*4","v":0}]
["FAMILY BURGER MEAL (WITH SUGARCANE JUICE)",20800,0,0,null,{"$f":"SUM(C49)*4","v":0},{"$f":"SUM(C49)*4","v":0},{"$f":"SUM(C49)*4","v":0},{"$f":"SUM(C49)*4","v":0},{"$f":"SUM(C49)*4","v":0},{"$f":"SUM(C49)*4","v":0},{"$f":"SUM(C49)*2*4","v":0},"ZERO","ZERO",{"$f":"SUM(C49)*1*4","v":0},{"$f":"SUM(C49)*4","v":0},{"$f":"SUM(C49)*2*4","v":0},{"$f":"SUM(C49)*4","v":0},null,{"$f":"SUM(C49)*4","v":0},"ZERO",null,{"$f":"SUM(C49)*140*4","v":0},{"$f":"SUM(C49)*4","v":0},{"$f":"SUM(C49)*4","v":0},"ZERO",null,null,null,null,null,null,null,null,null,{"$f":"SUM(AD49)*4","v":0},{"$f":"SUM(AE49)*4","v":0}]
["CAN COKE/FANTA ONLY",null,0,0,null,"ZERO","ZERO","ZERO","ZERO","ZERO","ZERO","ZERO","ZERO","ZERO","ZERO","ZERO","ZERO","ZERO","ZERO","ZERO","ZERO","ZERO","ZERO","ZERO","ZERO","ZERO",null,null,null,null,{"$f":"SUM(C50)","v":0},null,null,null,null,"ZERO","ZERO"]
["SUPA KOMMANDO ONLY",250,0,0,null,"ZERO","ZERO","ZERO","ZERO","ZERO","ZERO","ZERO","ZERO","ZERO","ZERO","ZERO","ZERO","ZERO","ZERO","ZERO","ZERO","ZERO","ZERO","ZERO","ZERO","ZERO",null,null,{"$f":"SUM(C51)","v":0},null,"ZERO","ZERO",null,null,null,"ZERO","ZERO"]
["10X Chicken Nuggets ",2400,0,0,null,null,null,null,null,null,"ZERO",null,null,null,null,{"$f":"SUM(C52)","v":0},null,{"$f":"SUM(C52)","v":0},null,null,null,null,null,{"$f":"SUM(C52)","v":0},null,null,null,null,null,null,{"$f":"SUM(C52)","v":0},{"$f":"SUM(C52)*10","v":0}]
["20X Chicken Nuggets ",4800,0,0,null,null,null,null,null,null,"ZERO ",null,null,null,null,{"$f":"SUM(C53)","v":0},null,{"$f":"SUM(C53)","v":0},null,null,null,null,null,{"$f":"SUM(C53)","v":0},null,null,null,null,null,null,{"$f":"SUM(C53)","v":0},{"$f":"SUM(C53)*20","v":0}]
["10 CHICKEN NUGGETS & FRIES BOX",3300,0,0,null,null,null,null,null,null,{"$f":"SUM(C54)","v":0},null,null,null,null,{"$f":"SUM(C54)","v":0},null,{"$f":"SUM(C54)","v":0},null,null,null,null,null,{"$f":"SUM(C54)","v":0},null,null,null,null,null,null,{"$f":"SUM(C54)","v":0},{"$f":"SUM(C54)*10","v":0}]
["20 CHICKEN NUGGETS & FRIES BOX",6600,0,0,null,null,null,null,null,null,{"$f":"SUM(C55)","v":0},null,null,null,null,{"$f":"SUM(C55)","v":0},null,{"$f":"SUM(C55)","v":0},null,null,null,null,null,{"$f":"SUM(C55)","v":0},null,null,null,null,null,null,{"$f":"SUM(C55)","v":0},{"$f":"SUM(C55)*20","v":0}]
["PRAWN BURGER ",3000,0,0,null,{"$f":"SUM(C56)","v":0},"ZERO","ZERO","ZERO","ZERO","ZERO","ZERO",{"$f":"SUM(C56)","v":0},"ZERO",{"$f":"SUM(C56)","v":0},"ZERO",{"$f":"SUM(C56)","v":0},"ZERO","ZERO","ZERO","ZERO","ZERO",{"$f":"SUM(C56)*70","v":0},"ZERO","ZERO","ZERO",null,null,null,null,null,null,{"$f":"SUM(C56)*2","v":0},null,null,"ZERO","ZERO"]
[" FUNMMY NUGGETS  BOX",5300,0,0,null,{"$f":"SUM(C57)","v":0},{"$f":"SUM(C57)","v":0},null,null,null,{"$f":"SUM(C57)","v":0},null,{"$f":"SUM(C57)","v":0},null,{"$f":"SUM(C57)","v":0},{"$f":"SUM(C57)","v":0},null,{"$f":"SUM(C57)","v":0},null,null,null,null,null,{"$f":"SUM(C57)","v":0},null,null,null,null,null,null,{"$f":"SUM(C57)","v":0},{"$f":"SUM(C57)*10","v":0}]
["FARM PRIDE 50 CL",500,0,0,null,"ZERO","ZERO","ZERO","ZERO","ZERO","ZERO","ZERO","ZERO","ZERO","ZERO","ZERO","ZERO","ZERO","ZERO","ZERO","ZERO","ZERO","ZERO","ZERO","ZERO","ZERO",null,null,null,null,null,null,null,{"$f":"SUM(C58)","v":0},null,"ZERO","ZERO"]
["FARM PRIDE 1 LITRE",800,0,0,null,"ZERO","ZERO","ZERO","ZERO","ZERO","ZERO","ZERO","ZERO","ZERO","ZERO","ZERO","ZERO","ZERO","ZERO","ZERO","ZERO","ZERO","ZERO","ZERO","ZERO","ZERO",null,null,null,null,null,null,null,"ZERO",{"$f":"SUM(C59)","v":0},"ZERO","ZERO"]
["GRILLED CHICKEN BURGER",1700,0,{"$f":"SUM(B60*C60)","v":0},null,{"$f":"SUM(C60)","v":0},{"$f":"SUM(C60)","v":0},"ZERO","ZERO","ZERO","ZERO","ZERO","ZERO","ZERO",{"$f":"SUM(C60)","v":0},"ZERO",{"$f":"SUM(C60)*1","v":0},"ZERO","ZERO","ZERO","ZERO","ZERO",{"$f":"SUM(C60)*70","v":0},"ZERO","ZERO","ZERO",null,null,null,null,null,null,null,null,null,"ZERO","ZERO"]
["GRILLED CHICKEN BURGER + JUICE",2200,0,{"$f":"SUM(B61*C61)","v":0},null,{"$f":"SUM(C61)","v":0},{"$f":"SUM(C61)","v":0},"ZERO","ZERO","ZERO","ZERO","ZERO","ZERO","ZERO",{"$f":"SUM(C61)","v":0},"ZERO",{"$f":"SUM(C61)*1","v":0},"ZERO","ZERO","ZERO","ZERO","ZERO",{"$f":"SUM(C61)*70","v":0},"ZERO","ZERO","ZERO",null,null,null,null,null,null,null,{"$f":"SUM(C61)","v":0},null,"ZERO","ZERO"]
["GRILLED BURGER MEAL 1 & 3",4000,0,{"$f":"SUM(B62*C62)","v":0},null,{"$f":"SUM(C62)","v":0},{"$f":"SUM(C62)","v":0},"ZERO","ZERO","ZERO",{"$f":"SUM(C62)","v":0},{"$f":"SUM(C62)*2","v":0},"ZERO","ZERO","ZERO",{"$f":"SUM(C62)","v":0},{"$f":"SUM(C62)","v":0},{"$f":"SUM(C62)","v":0},"ZERO","ZERO","ZERO","ZERO",{"$f":"SUM(C62)*70","v":0},{"$f":"SUM(C62)","v":0},"ZERO","ZERO",null,null,null,null,null,null,null,{"$f":"SUM(C62)","v":0},null,"ZERO","ZERO"]
["GRILLED BURGER MEAL 2",3700,0,{"$f":"SUM(B63*C63)","v":0},null,{"$f":"SUM(C63)","v":0},{"$f":"SUM(C63)","v":0},"ZERO","ZERO","ZERO",{"$f":"SUM(C63)","v":0},{"$f":"SUM(C63)*2","v":0},"ZERO","ZERO","ZERO",{"$f":"SUM(C63)","v":0},{"$f":"SUM(C63)","v":0},{"$f":"SUM(C63)","v":0},"ZERO","ZERO",{"$f":"SUM(C63)","v":0},"ZERO",{"$f":"SUM(C63)*70","v":0},{"$f":"SUM(C63)","v":0},"ZERO","ZERO",null,null,null,null,null,null,null,"ZERO",null,"ZERO","ZERO"]
["MASTERPIECE BURGER ",5000,0,{"$f":"SUM(B64*C64)","v":0},null,{"$f":"SUM(C64)","v":0},"ZERO","ZERO","ZERO","ZERO","ZERO","ZERO",{"$f":"SUM(C64)","v":0},"ZERO","ZERO",{"$f":"SUM(C64)","v":0},{"$f":"SUM(C64)","v":0},"ZERO","ZERO","ZERO",{"$f":"SUM(C64)","v":0},{"$f":"SUM(C64)","v":0},{"$f":"SUM(C64)*70","v":0},"ZERO","ZERO","ZERO",null,null,null,null,null,null,null,null,null,"ZERO",{"$f":"SUM(C64)","v":0}]
["SUYA BURGER BOX 2 (WITH BEEF SUYA BURGER)",6000,0,0,null,0,"ZERO ","ZERO","ZERO",0,0,0,"ZERO","ZERO",0,0,0,"ZERO","ZERO",null,0,"ZERO",0,0,0,"ZERO",0,null,null,null,null,null,null,null,null,"ZERO",0]
["OPENING STOCK",null,null,null,null,{"$f":"SUM('Production DAY 21'!C2)","v":0},{"$f":"SUM('Production DAY 21'!C3)","v":0},{"$f":"SUM('Production DAY 21'!C4)","v":0},{"$f":"SUM('Production DAY 21'!C5)","v":0},{"$f":"SUM('Production DAY 21'!C6)","v":0},{"$f":"SUM('Production DAY 21'!C7)","v":0},{"$f":"SUM('Production DAY 21'!C8)","v":0},{"$f":"SUM('Production DAY 21'!C9)","v":0},{"$f":"SUM('Production DAY 21'!C10)","v":0},{"$f":"SUM('Production DAY 21'!C11)","v":0},{"$f":"SUM('Production DAY 21'!C12)","v":0},{"$f":"SUM('Production DAY 21'!C13)","v":0},{"$f":"SUM('Production DAY 21'!C14)","v":0},{"$f":"SUM('Production DAY 21'!C15)","v":0},{"$f":"SUM('Production DAY 21'!C16)","v":0},{"$f":"SUM('Production DAY 21'!C17)","v":0},{"$f":"SUM('Production DAY 21'!C18)","v":0},{"$f":"SUM('Production DAY 21'!C19)","v":0},{"$f":"SUM('Production DAY 21'!C20)","v":0},{"$f":"SUM('Production DAY 21'!C21)","v":0},{"$f":"SUM('Production DAY 21'!C22)","v":0},{"$f":"SUM('Production DAY 21'!C23)","v":0},{"$f":"SUM('Production DAY 21'!C24)","v":0},{"$f":"SUM('Production DAY 21'!C25)","v":0},{"$f":"SUM('Production DAY 21'!C26)","v":0},{"$f":"SUM('Production DAY 21'!C27)","v":0},{"$f":"SUM('Production DAY 21'!C28)","v":0},{"$f":"SUM('Production DAY 21'!C29)","v":0},{"$f":"SUM('Production DAY 21'!C30)","v":0},{"$f":"SUM('Production DAY 21'!C31)","v":0},{"$f":"SUM('Production DAY 21'!C32)","v":0},{"$f":"SUM('Production DAY 21'!C33)","v":0},{"$f":"SUM('Production DAY 21'!C34)","v":0},{"$f":"SUM('Production DAY 21'!C35)","v":0},{"$f":"SUM('Production DAY 21'!C36)","v":0},{"$f":"SUM('Production DAY 21'!C37)","v":0},{"$f":"SUM('Production DAY 21'!C38)","v":0},{"$f":"SUM('Production DAY 21'!C39)","v":0},{"$f":"SUM('Production DAY 21'!C40)","v":0},{"$f":"SUM('Production DAY 21'!C41)","v":0},{"$f":"SUM('Production DAY 21'!C42)","v":0},{"$f":"SUM('Production DAY 21'!C43)","v":0}]
["RECEIVED",null,null,null,null,{"$f":"SUM('Production DAY 21'!D2)","v":0},{"$f":"SUM('Production DAY 21'!D3)","v":0},{"$f":"SUM('Production DAY 21'!D4)","v":0},{"$f":"SUM('Production DAY 21'!D5)","v":0},{"$f":"SUM('Production DAY 21'!D6)","v":0},{"$f":"SUM('Production DAY 21'!D7)","v":0},{"$f":"SUM('Production DAY 21'!D8)","v":0},{"$f":"SUM('Production DAY 21'!D9)","v":0},{"$f":"SUM('Production DAY 21'!D10)","v":0},{"$f":"SUM('Production DAY 21'!D11)","v":0},{"$f":"SUM('Production DAY 21'!D12)","v":0},{"$f":"SUM('Production DAY 21'!D13)","v":0},{"$f":"SUM('Production DAY 21'!D14)","v":0},{"$f":"SUM('Production DAY 21'!D15)","v":0},{"$f":"SUM('Production DAY 21'!D16)","v":0},{"$f":"SUM('Production DAY 21'!D17)","v":0},{"$f":"SUM('Production DAY 21'!D18)","v":0},{"$f":"SUM('Production DAY 21'!D19)","v":0},{"$f":"SUM('Production DAY 21'!D20)","v":0},{"$f":"SUM('Production DAY 21'!D21)","v":0},{"$f":"SUM('Production DAY 21'!D22)","v":0},{"$f":"SUM('Production DAY 21'!D23)","v":0},{"$f":"SUM('Production DAY 21'!D24)","v":0},{"$f":"SUM('Production DAY 21'!D25)","v":0},{"$f":"SUM('Production DAY 21'!D26)","v":0},{"$f":"SUM('Production DAY 21'!D27)","v":0},{"$f":"SUM('Production DAY 21'!D28)","v":0},{"$f":"SUM('Production DAY 21'!D29)","v":0},{"$f":"SUM('Production DAY 21'!D30)","v":0},{"$f":"SUM('Production DAY 21'!D31)","v":0},{"$f":"SUM('Production DAY 21'!D32)","v":0},{"$f":"SUM('Production DAY 21'!D33)","v":0},{"$f":"SUM('Production DAY 21'!D34)","v":0},{"$f":"SUM('Production DAY 21'!D35)","v":0},{"$f":"SUM('Production DAY 21'!D36)","v":0},{"$f":"SUM('Production DAY 21'!D37)","v":0},{"$f":"SUM('Production DAY 21'!D38)","v":0},{"$f":"SUM('Production DAY 21'!D39)","v":0},{"$f":"SUM('Production DAY 21'!D40)","v":0},{"$f":"SUM('Production DAY 21'!D41)","v":0},{"$f":"SUM('Production DAY 21'!D42)","v":0},{"$f":"SUM('Production DAY 21'!D43)","v":0}]
["TOTAL STOCK",null,null,null,null,{"$f":"SUM(F66:F67)","v":0},{"$f":"SUM(G66:G67)","v":0},{"$f":"SUM(H66:H67)","v":0},{"$f":"SUM(I66:I67)","v":0},0,0,0,0,0,0,{"$f":"SUM(P66:P67)","v":0},0,0,0,0,0,0,0,0,0,0,0,0,0,0,0,0,0,0,0,0,0,0,0,0,0,0,0,0,0,0,0]
["USED",null,null,{"$f":"SUM(D3:D65)","v":0},null,{"$f":"SUM(F3:F65)","v":0},0,0,0,0,0,0,0,0,0,0,0,0,0,0,0,0,0,0,0,0,0,0,0,0,0,0,0,0,0,0,0,{"$f":"SUM(AL3:AL64)","v":0},0,0,0,0,0,0,0,0,0]
["CLOSING STOCK",null,null,null,null,{"$f":"SUM(F68-F69)","v":0},0,0,0,0,0,0,0,0,0,0,0,0,0,0,0,0,0,0,0,0,0,0,0,0,0,0,0,{"$f":"SUM(AH66-AH69)","v":0},{"$f":"SUM(AI68-AI69)","v":0},0,0,0,0,0,0,0,0,0,0,0,0]

{"sheet":"Production DAY 22","index":42,"n_rows":44,"n_cols":8,"rows_kept":44,"cut":false,"hidden":false,"merged":[]}
["Nos#","ITEMS"," < OPENING STOCK","RECEIVED","USED >","SALES CLOSING STOCK >","PHYSICAL STOCK COUNT","COMMENTS"]
[1,"Burger Bread",{"$f":"SUM('Production DAY 21'!G2)","v":0},null,{"$f":"SUM('DAY 22'!F69)","v":0},{"$f":"SUM('DAY 22'!F70)","v":0},0,{"$f":"IF(G2=F2,TRUE,FALSE)","v":true}]
[2,"Chicken Patty",{"$f":"SUM('Production DAY 21'!G3)","v":0},null,{"$f":"SUM('DAY 22'!G69)","v":0},{"$f":"SUM('DAY 22'!G70)","v":0},0,true]
[3,"Shawarma Bread",{"$f":"SUM('Production DAY 21'!G4)","v":0},null,{"$f":"SUM('DAY 22'!H69)","v":0},{"$f":"SUM('DAY 22'!H70)","v":0},0,true]
[4,"Chicken Portion or Shawarma portion",{"$f":"SUM('Production DAY 21'!G5)","v":0},null,{"$f":"SUM('DAY 22'!I69)","v":0},{"$f":"SUM('DAY 22'!I70)","v":0},0,true]
[5,"Sausage",{"$f":"SUM('Production DAY 21'!G6)","v":0},null,{"$f":"SUM('DAY 22'!J69)","v":0},{"$f":"SUM('DAY 22'!J70)","v":0},0,true]
[6,"Portion of Fries",{"$f":"SUM('Production DAY 21'!G7)","v":0},null,{"$f":"SUM('DAY 22'!K69)","v":0},{"$f":"SUM('DAY 22'!K70)","v":0},0,true]
[7,"Pieces of Chicken",{"$f":"SUM('Production DAY 21'!G8)","v":0},null,{"$f":"SUM('DAY 22'!L69)","v":0},{"$f":"SUM('DAY 22'!L70)","v":0},0,true]
[8,"Cheese",{"$f":"SUM('Production DAY 21'!G9)","v":0},null,{"$f":"SUM('DAY 22'!M69)","v":0},{"$f":"SUM('DAY 22'!M70)","v":0},0,true]
[9,"Bacon",{"$f":"SUM('Production DAY 21'!G10)","v":0},null,{"$f":"SUM('DAY 22'!N69)","v":0},{"$f":"SUM('DAY 22'!N70)","v":0},0,true]
[10,"A Paper Bag",{"$f":"SUM('Production DAY 21'!G11)","v":0},null,{"$f":"SUM('DAY 22'!O69)","v":0},{"$f":"SUM('DAY 22'!O70)","v":0},0,true]
[11,"Achicken Box",{"$f":"SUM('Production DAY 21'!G12)","v":0},null,{"$f":"SUM('DAY 22'!P69)","v":0},{"$f":"SUM('DAY 22'!P70)","v":0},0,true]
[12,"Paper Wrap",{"$f":"SUM('Production DAY 21'!G13)","v":0},null,{"$f":"SUM('DAY 22'!Q69)","v":0},{"$f":"SUM('DAY 22'!Q70)","v":0},0,true]
[13,"A Branded Nylon",{"$f":"SUM('Production DAY 21'!G14)","v":0},null,{"$f":"SUM('DAY 22'!R69)","v":0},{"$f":"SUM('DAY 22'!R70)","v":0},0,true]
[14,"Parfait",{"$f":"SUM('Production DAY 21'!G15)","v":0},null,{"$f":"SUM('DAY 22'!S69)","v":0},{"$f":"SUM('DAY 22'!S70)","v":0},0,true]
[15,"A Bottle of SUGAR Juice",{"$f":"SUM('Production DAY 21'!G16)","v":0},null,{"$f":"SUM('DAY 22'!T69)","v":0},{"$f":"SUM('DAY 22'!T70)","v":0},0,true]
[16,"35 CL Soft Drink",{"$f":"SUM('Production DAY 21'!G17)","v":0},null,{"$f":"SUM('DAY 22'!U69)","v":0},{"$f":"SUM('DAY 22'!U70)","v":0},0,true]
[17,"Beef Patty",{"$f":"SUM('Production DAY 21'!G18)","v":0},null,{"$f":"SUM('DAY 22'!V69)","v":0},{"$f":"SUM('DAY 22'!V70)","v":0},0,true]
[18,"Cream in GRAMS",{"$f":"SUM('Production DAY 21'!G19)","v":0},null,{"$f":"SUM('DAY 22'!W69)","v":0},{"$f":"SUM('DAY 22'!W70)","v":0},0,true]
[19,"KETCHUP",{"$f":"SUM('Production DAY 21'!G20)","v":0},null,{"$f":"SUM('DAY 22'!X69)","v":0},{"$f":"SUM('DAY 22'!X70)","v":0},0,true]
[20,"plain Nylon",{"$f":"SUM('Production DAY 21'!G21)","v":0},null,{"$f":"SUM('DAY 22'!Y69)","v":0},{"$f":"SUM('DAY 22'!Y70)","v":0},0,true]
[21,"Barbeque Sauce",{"$f":"SUM('Production DAY 21'!G22)","v":0},null,{"$f":"SUM('DAY 22'!Z69)","v":0},{"$f":"SUM('DAY 22'!Z70)","v":0},0,true]
[22,"Meal Box",{"$f":"SUM('Production DAY 21'!G23)","v":0},null,{"$f":"SUM('DAY 22'!AA69)","v":0},{"$f":"SUM('DAY 22'!AA70)","v":0},0,true]
[23,"COCONUT BREAD",{"$f":"SUM('Production DAY 21'!G24)","v":0},null,{"$f":"SUM('DAY 22'!AB69)","v":0},{"$f":"SUM('DAY 22'!AB70)","v":0},0,true]
[24,"SUPA KOMMANDO",{"$f":"SUM('Production DAY 21'!G25)","v":0},null,{"$f":"SUM('DAY 22'!AC69)","v":0},{"$f":"SUM('DAY 22'!AC70)","v":0},0,true]
[25,"SHAWARMA SUB",{"$f":"SUM('Production DAY 21'!G26)","v":0},null,{"$f":"SUM('DAY 22'!AD69)","v":0},{"$f":"SUM('DAY 22'!AD70)","v":0},0,true]
[26,"CAN COKE / FANTA",{"$f":"SUM('Production DAY 21'!G27)","v":0},null,{"$f":"SUM('DAY 22'!AE69)","v":0},{"$f":"SUM('DAY 22'!AE70)","v":0},0,true]
[27,"NUGGETS ",{"$f":"SUM('Production DAY 21'!G28)","v":0},null,{"$f":"SUM('DAY 22'!AF69)","v":0},{"$f":"SUM('DAY 22'!AF70)","v":0},0,true]
[28,"PRAWN",{"$f":"SUM('Production DAY 21'!G29)","v":0},null,{"$f":"SUM('DAY 22'!AG69)","v":0},{"$f":"SUM('DAY 22'!AG70)","v":0},0,true]
[29,"FARM PRIDE",{"$f":"SUM('Production DAY 21'!G30)","v":0},null,{"$f":"SUM('DAY 22'!AH69)","v":0},{"$f":"SUM('DAY 22'!AH70)","v":0},0,true]
[30,"50CL OR PULPY",{"$f":"SUM('Production DAY 21'!G31)","v":0},null,{"$f":"SUM('DAY 22'!AI69)","v":0},{"$f":"SUM('DAY 22'!AI70)","v":0},0,true]
[31,"FARM PRIDE 1 LT",{"$f":"SUM('Production DAY 21'!G32)","v":0},null,{"$f":"SUM('DAY 22'!AJ69)","v":0},{"$f":"SUM('DAY 22'!AJ70)","v":0},0,true]
[32,"BEEF PORTION FOR SHAWARMA",{"$f":"SUM('Production DAY 21'!G33)","v":0},null,{"$f":"SUM('DAY 22'!AK69)","v":0},{"$f":"SUM('DAY 22'!AK70)","v":0},0,true]
[33,"BEEF SUYA STICK",{"$f":"SUM('Production DAY 21'!G34)","v":0},null,{"$f":"SUM('DAY 22'!AL69)","v":0},{"$f":"SUM('DAY 22'!AL70)","v":0},0,true]
[34,"EMPTY 1",{"$f":"SUM('Production DAY 21'!G35)","v":0},null,{"$f":"SUM('DAY 22'!AM69)","v":0},{"$f":"SUM('DAY 22'!AM70)","v":0},0,true]
[35,"EMPTY 2",{"$f":"SUM('Production DAY 21'!G36)","v":0},null,{"$f":"SUM('DAY 22'!AN69)","v":0},{"$f":"SUM('DAY 22'!AN70)","v":0},0,true]
[36,"EMPTY 3",{"$f":"SUM('Production DAY 21'!G37)","v":0},null,{"$f":"SUM('DAY 22'!AO69)","v":0},{"$f":"SUM('DAY 22'!AO70)","v":0},0,true]
[37,"EMPTY 4",{"$f":"SUM('Production DAY 21'!G38)","v":0},null,{"$f":"SUM('DAY 22'!AP69)","v":0},{"$f":"SUM('DAY 22'!AP70)","v":0},0,true]
[38,"EMPTY 5",{"$f":"SUM('Production DAY 21'!G39)","v":0},null,{"$f":"SUM('DAY 22'!AQ69)","v":0},{"$f":"SUM('DAY 22'!AQ70)","v":0},0,true]
[39,"EMPTY 6",{"$f":"SUM('Production DAY 21'!G40)","v":0},null,{"$f":"SUM('DAY 22'!AR69)","v":0},{"$f":"SUM('DAY 22'!AR70)","v":0},0,true]
[40,"EMPTY 7",{"$f":"SUM('Production DAY 21'!G41)","v":0},null,{"$f":"SUM('DAY 22'!AS69)","v":0},{"$f":"SUM('DAY 22'!AS70)","v":0},0,true]
[41,"EMPTY 8",{"$f":"SUM('Production DAY 21'!G42)","v":0},null,{"$f":"SUM('DAY 22'!AT69)","v":0},{"$f":"SUM('DAY 22'!AT70)","v":0},0,true]
[42,"EMPTY 9",{"$f":"SUM('Production DAY 21'!G43)","v":0},null,{"$f":"SUM('DAY 22'!AU69)","v":0},{"$f":"SUM('DAY 22'!AU70)","v":0},0,true]
[43,"EMPTY 10",{"$f":"SUM('Production DAY 21'!G44)","v":0},null,{"$f":"SUM('DAY 22'!AV69)","v":0},{"$f":"SUM('DAY 22'!AV70)","v":0},0,true]

{"sheet":"DAY 22","index":43,"n_rows":70,"n_cols":47,"rows_kept":70,"cut":false,"hidden":false,"merged":[[0,7,0,28]]}
["FEBRUARY 12th, 2022",null,null,{"$f":"SUM(D3:D50)","v":0},null,null,null,"BURGER PALACE INVENTORY RECORDS"]
["ITEM","AMOUNT","QUANTITY","TOTAL",null,"Burger Bread","Chicken Patty","Shawarma Bread","Chicken Portion or Shawarma portion","Sausage","Portion of Fries","Pieces of Chicken","Cheese","Bacon","A Paper Bag","Achicken Box","Paper Wrap","A Branded Nylon","Parfait","A Bottle of SUGAR Juice","35 CL Soft Drink","Beef Patty","Cream in GRAMS","KETCHUP","plain Nylon","Barbeque Sauce","Meal Box","COCONUT BREAD ","SUPA KOMMANDO ","SHAWARMA SUB","CAN COKE / FANTA","NUGGETS","PRAWN","FARM PRIDE 50CL OR PULPY","FARM PRIDE 1 LT","BEEF PORTION FOR SHAWARMA ","BEEF SUYA STICK","EMPTY 1","EMPTY 2","EMPTY 3","EMPTY 4","EMPTY 5","EMPTY 6","EMPTY 7","EMPTY 8","EMPTY 9","EMPTY 10"]
["DELUXE BURGER MEAL (WITH SOFT DRINK)",5400,0,{"$f":"SUM(B3*C3)","v":0},null,{"$f":"SUM(C3)","v":0},{"$f":"SUM(C3)","v":0},{"$f":"SUM(C3)","v":0},{"$f":"SUM(C3)","v":0},{"$f":"SUM(C3)","v":0},{"$f":"SUM(C3)","v":0},{"$f":"SUM(C3)*2","v":0},"ZERO","ZERO",{"$f":"SUM(C3)*1","v":0},{"$f":"SUM(C3)","v":0},{"$f":"SUM(C3)*2","v":0},{"$f":"SUM(C3)","v":0},null,"ZERO",{"$f":"SUM(C3)","v":0},null,{"$f":"SUM(C3)*140","v":0},{"$f":"SUM(C3)","v":0},{"$f":"SUM(C3)","v":0},"ZERO",null,null,null,null,null,null,null,null,null,{"$f":"SUM(AD3)","v":0},0]
["DELUXE BURGER MEAL (WITH SUGARCANE JUICE)",5600,0,{"$f":"SUM(B4*C4)","v":0},null,{"$f":"SUM(C4)","v":0},{"$f":"SUM(C4)","v":0},{"$f":"SUM(C4)","v":0},{"$f":"SUM(C4)","v":0},{"$f":"SUM(C4)","v":0},0,{"$f":"SUM(C4)*2","v":0},"ZERO","ZERO",{"$f":"SUM(C4)*1","v":0},0,{"$f":"SUM(C4)*2","v":0},0,null,{"$f":"SUM(C4)","v":0},"ZERO",null,{"$f":"SUM(C4)*140","v":0},{"$f":"SUM(C4)","v":0},0,"ZERO",null,null,null,null,null,null,null,null,null,0,0]
["DELUXE MEAL EXTRA (WITH Soft Drink)",null,0,{"$f":"SUM(B5*C5)","v":0},null,{"$f":"SUM(C5)","v":0},{"$f":"SUM(C5)","v":0},{"$f":"SUM(C5)","v":0},{"$f":"SUM(C5)","v":0},{"$f":"SUM(C5)","v":0},0,{"$f":"SUM(C5)*2","v":0},"ZERO","ZERO",{"$f":"SUM(C5)","v":0},0,{"$f":"SUM(C5)*2","v":0},0,{"$f":"SUM(C5)","v":0},"ZERO",{"$f":"SUM(C5)","v":0},null,{"$f":"SUM(C5)*140","v":0},{"$f":"SUM(C5)","v":0},0,"ZERO",null,null,null,null,null,null,null,null,null,0,0]
["DELUXE BURGER MEAL Extra (With Sugarcane juice",null,0,{"$f":"SUM(B6*C6)","v":0},null,{"$f":"SUM(C6)","v":0},{"$f":"SUM(C6)","v":0},{"$f":"SUM(C6)","v":0},{"$f":"SUM(C6)","v":0},{"$f":"SUM(C6)","v":0},0,{"$f":"SUM(C6)*2","v":0},"ZERO","ZERO",{"$f":"SUM(C6)","v":0},0,{"$f":"SUM(C6)*2","v":0},0,{"$f":"SUM(C6)","v":0},{"$f":"SUM(C6)","v":0},"ZERO",null,{"$f":"SUM(C6)*140","v":0},{"$f":"SUM(C6)","v":0},0,"ZERO",null,null,null,null,null,null,null,null,null,0,0]
["PREMIUM BURGER Meal ",5900,0,{"$f":"SUM(B7*C7)","v":0},null,{"$f":"SUM(C7)","v":0},{"$f":"SUM(C7)","v":0},"ZERO","ZERO","ZERO",0,{"$f":"SUM(C7)*5","v":0},"ZERO","ZERO",{"$f":"SUM(C7)","v":0},0,{"$f":"SUM(C7)*1.25","v":0},0,"ZERO","ZERO",{"$f":"SUM(C7)","v":0},"ZERO",{"$f":"SUM(C7)*70","v":0},{"$f":"SUM(C7)*2","v":0},0,{"$f":"SUM(C7)","v":0},null,null,null,null,null,null,null,null,null,"ZERO","ZERO"]
["CRISPY CHICKEN BOX",4300,0,null,null,"ZERO","ZERO","ZERO","ZERO","ZERO",0,{"$f":"SUM(C8)*5","v":0},"ZERO","ZERO","ZERO",0,{"$f":"SUM(C8)*0.25","v":0},0,"ZERO","ZERO",{"$f":"SUM(C8)","v":0},"ZERO","ZERO",{"$f":"SUM(C8)*2","v":0},0,{"$f":"SUM(C8)","v":0},null,null,null,null,null,null,null,null,null,"ZERO","ZERO"]
["ROYAL BURGER MEAL (CHICKEN  PATTY)",null,0,{"$f":"SUM(B9*C9)","v":0},null,{"$f":"SUM(C9)","v":0},{"$f":"SUM(C9)*2","v":0},"ZERO","ZERO","ZERO",0,"ZERO",{"$f":"SUM(C9)*2","v":0},{"$f":"SUM(C9)*2","v":0},"ZERO",0,{"$f":"SUM(C9)","v":0},0,{"$f":"SUM(C9)","v":0},"ZERO","ZERO","ZERO",{"$f":"SUM(C9)*140","v":0},{"$f":"SUM(C9)*2","v":0},0,{"$f":"SUM(C9)","v":0},null,null,null,null,null,null,null,null,null,"ZERO","ZERO"]
["ROYAL BURGER MEAL (BEEF  PATTY)",null,0,{"$f":"SUM(B10*C10)","v":0},null,{"$f":"SUM(C10)","v":0},"ZERO","ZERO","ZERO","ZERO",0,"ZERO",{"$f":"SUM(C10)*2","v":0},{"$f":"SUM(C10)*2","v":0},"ZERO",0,0,0,{"$f":"SUM(C10)","v":0},"ZERO","ZERO",{"$f":"SUM(C10)*2","v":0},{"$f":"SUM(C10)*140","v":0},{"$f":"SUM(C10)*2","v":0},0,{"$f":"SUM(C10)","v":0},null,null,null,null,null,null,null,null,null,"ZERO","ZERO"]
["ROYAL BURGER ONLY (CHICKEN PATTY)",3300,0,{"$f":"SUM(B11*C11:C25,A1,A1,A1,A1,A1)","v":0},null,{"$f":"SUM(C11)","v":0},{"$f":"SUM(C11)*2","v":0},"ZERO","ZERO","ZERO","ZERO","ZERO",{"$f":"SUM(C11)*2","v":0},{"$f":"SUM(C11)*2","v":0},"ZERO",0,0,0,"ZERO","ZERO","ZERO","ZERO",{"$f":"SUM(C11)*140","v":0},{"$f":"SUM(C11)","v":0},"ZERO","ZERO",null,null,null,null,null,null,null,null,null,"ZERO","ZERO"]
["ROYAL BURGER ONLY (BEEF PATTY)",3300,0,{"$f":"SUM(B12*C12)","v":0},null,{"$f":"SUM(C12)","v":0},null,"ZERO","ZERO","ZERO","ZERO","ZERO",{"$f":"SUM(C12)*2","v":0},{"$f":"SUM(C12)*2","v":0},"ZERO",0,0,0,"ZERO","ZERO","ZERO",{"$f":"SUM(C12)*2","v":0},{"$f":"SUM(C12)*140","v":0},{"$f":"SUM(C12)","v":0},"ZERO","ZERO",null,null,null,null,null,null,null,null,null,"ZERO","ZERO"]
["MAYOR'S COCONUT BURGER ",2800,0,0,null,0,{"$f":"SUM(C13)","v":0},"ZERO","ZERO","ZERO","ZERO","ZERO",{"$f":"SUM(C13)","v":0},"ZERO","ZERO",0,0,0,"ZERO","ZERO","ZERO",{"$f":"SUM(C13)","v":0},{"$f":"SUM(C13)*140","v":0},"ZERO","ZERO","ZERO",null,{"$f":"SUM(C13)","v":0},{"$f":"SUM(C13)","v":0},null,null,null,null,null,null,"ZERO","ZERO"]
["DOUBLE DECKER CRISPY CHK. CHEESE BURGER",2500,0,0,null,{"$f":"SUM(C14)","v":0},{"$f":"SUM(C14)*2","v":0},"ZERO","ZERO","ZERO","ZERO","ZERO",{"$f":"SUM(C14)","v":0},"ZERO","ZERO",0,0,"ZERO","ZERO","ZERO","ZERO","ZERO",{"$f":"SUM(C14)*70","v":0},"ZERO","ZERO","ZERO",null,null,null,null,null,null,null,null,null,"ZERO","ZERO"]
["SINGLE BEEF BURGER",1700,0,0,null,0,"ZERO","ZERO","ZERO","ZERO","ZERO","ZERO",null,"ZERO",{"$f":"SUM(C15)","v":0},null,0,"ZERO","ZERO","ZERO","ZERO",{"$f":"SUM(C15)","v":0},{"$f":"SUM(C15)*70","v":0},"ZERO","ZERO","ZERO",null,null,null,null,null,null,null,null,null,"ZERO","ZERO"]
["YANKEE BURGER",2400,0,0,null,0,"ZERO","ZERO","ZERO","ZERO","ZERO","ZERO",null,{"$f":"SUM(C16)*2","v":0},{"$f":"SUM(C16)","v":0},null,0,"ZERO","ZERO","ZERO","ZERO",{"$f":"SUM(C16)","v":0},{"$f":"SUM(C16)*70","v":0},"ZERO","ZERO","ZERO",null,null,null,null,null,null,null,null,null,"ZERO","ZERO"]
["ROYAL BURGER WITH FRIES (Chicken)",4000,0,0,null,0,{"$f":"SUM(C17)*2","v":0},"ZERO","ZERO","ZERO",{"$f":"SUM(C17)","v":0},"ZERO",{"$f":"SUM(C17)*2","v":0},{"$f":"SUM(C17)*2","v":0},"ZERO",{"$f":"SUM(C17)","v":0},0,"ZERO","ZERO","ZERO","ZERO","ZERO",{"$f":"SUM(C17)*140","v":0},{"$f":"SUM(C17)*2","v":0},"ZERO","ZERO",null,null,null,null,null,null,null,null,null,"ZERO","ZERO"]
["ROYAL BURGER WITH FRIES (BEEF)",4000,0,0,null,0,"ZERO","ZERO","ZERO","ZERO",{"$f":"SUM(C18)","v":0},"ZERO",{"$f":"SUM(C18)*2","v":0},{"$f":"SUM(C18)*2","v":0},"ZERO",{"$f":"SUM(C18)","v":0},0,"ZERO","ZERO","ZERO","ZERO",{"$f":"SUM(C18)*2","v":0},{"$f":"SUM(C18)*140","v":0},{"$f":"SUM(C18)*2","v":0},"ZERO","ZERO",null,null,null,null,null,null,null,null,null,"ZERO","ZERO"]
["CRISPY CHICKEN BURGER",1700,0,0,null,0,{"$f":"SUM(C19)","v":0},"ZERO","ZERO","ZERO","ZERO","ZERO","ZERO","ZERO",{"$f":"SUM(C19)","v":0},"ZERO",{"$f":"SUM(C19)*1","v":0},"ZERO","ZERO","ZERO","ZERO","ZERO",{"$f":"SUM(C19)*70","v":0},"ZERO","ZERO","ZERO",null,null,null,null,null,null,null,null,null,"ZERO","ZERO"]
["SUYA BURGER BOX",5500,0,0,null,0,{"$f":"SUM(C20)*2","v":0},"ZERO","ZERO",{"$f":"SUM(C20)*4","v":0},{"$f":"SUM(C20)","v":0},{"$f":"SUM(C20)*4","v":0},"ZERO","ZERO",{"$f":"SUM(C20)","v":0},{"$f":"SUM(C20)","v":0},{"$f":"SUM(C20)","v":0},"ZERO","ZERO",null,{"$f":"SUM(C20)","v":0},"ZERO",0,{"$f":"SUM(C20)*2","v":0},{"$f":"SUM(C20)","v":0},"ZERO",{"$f":"SUM(C20)","v":0},null,null,null,null,null,null,null,null,"ZERO","ZERO"]
["CRISPY CHICKEN BURGER PLUS CHEESE",2100,0,0,null,0,{"$f":"SUM(C21)","v":0},"ZERO","ZERO","ZERO","ZERO","ZERO",{"$f":"SUM(C21)","v":0},"ZERO",{"$f":"SUM(C21)","v":0},"ZERO",0,"ZERO","ZERO","ZERO","ZERO","ZERO",0,"ZERO","ZERO","ZERO",null,null,null,null,null,null,null,null,null,"ZERO","ZERO"]
["SINGLE BEEF CHEESE BURGER ",2100,0,0,null,0,"ZERO","ZERO","ZERO","ZERO","ZERO","ZERO",{"$f":"SUM(C22)","v":0},"ZERO",{"$f":"SUM(C22)","v":0},"ZERO",0,"ZERO","ZERO","ZERO","ZERO",{"$f":"SUM(C22)","v":0},0,"ZERO","ZERO","ZERO",null,null,null,null,null,null,null,null,null,"ZERO","ZERO"]
["DOUBLE DECKER BEEF CHEESE BURGER",2800,0,0,null,0,"ZERO","ZERO","ZERO","ZERO","ZERO","ZERO",{"$f":"SUM(C23)*2","v":0},"ZERO","ZERO",{"$f":"SUM(C23)","v":0},0,"ZERO","ZERO","ZERO","ZERO",{"$f":"SUM(C23)*2","v":0},0,"ZERO","ZERO","ZERO",null,null,null,null,null,null,null,null,null,"ZERO","ZERO"]
["CHICKEN SUYA BURGER ",2200,0,0,null,0,{"$f":"SUM(C24)*2","v":0},"ZERO","ZERO","ZERO","ZERO","ZERO","ZERO","ZERO",{"$f":"SUM(C24)*1","v":0},"ZERO",0,"ZERO","ZERO","ZERO","ZERO","ZERO",0,"ZERO","ZERO","ZERO",null,null,null,null,null,null,null,null,null,"ZERO","ZERO"]
["CHICKEN SHAWARMA",1800,0,0,null,null,"ZERO",{"$f":"SUM(C25)","v":0},{"$f":"SUM(C25)","v":0},{"$f":"SUM(C25)*2","v":0},"ZERO","ZERO","ZERO","ZERO","ZERO","ZERO",0,{"$f":"SUM(C25)","v":0},"ZERO","ZERO","ZERO","ZERO",0,"ZERO","ZERO","ZERO",null,null,null,null,null,null,null,null,null,{"$f":"SUM(AD25)","v":0},{"$f":"SUM(AE25)","v":0}]
["BARBECUE BEEF SHAWARMA",2000,0,0,null,null,"ZERO",{"$f":"SUM(C26)","v":0},"ZERO",{"$f":"SUM(C26)*2","v":0},"ZERO","ZERO","ZERO","ZERO","ZERO","ZERO",0,0,"ZERO","ZERO","ZERO","ZERO",0,"ZERO","ZERO","ZERO",null,null,null,null,null,null,null,null,null,{"$f":"SUM(C26)","v":0},"ZERO"]
["BEEF SUYA SHAWARMA",2200,0,0,null,null,"ZERO",{"$f":"SUM(C27)","v":0},"ZERO",{"$f":"SUM(C27)*2","v":0},"ZERO","ZERO","ZERO","ZERO","ZERO","ZERO",0,0,"ZERO","ZERO","ZERO","ZERO",0,"ZERO","ZERO","ZERO",null,null,null,null,null,null,null,null,null,{"$f":"SUM(AD27)","v":0},{"$f":"SUM(C27)","v":0}]
["BEEF SUYA BURGER ",2200,0,0,null,{"$f":"SUM(C28)","v":0},"ZERO",null,"ZERO","ZERO","ZERO","ZERO","ZERO","ZERO",{"$f":"SUM(C28)","v":0},"ZERO",0,0,"ZERO","ZERO","ZERO","ZERO",0,"ZERO","ZERO","ZERO",null,null,null,null,null,null,null,null,null,{"$f":"SUM(AD28)","v":0},{"$f":"SUM(C28)","v":0}]
["CHICKEN SUYA SHAWARMA",2200,0,0,null,"ZERO",{"$f":"SUM(C29)*2","v":0},{"$f":"SUM(C29)","v":0},null,{"$f":"SUM(C29)*2","v":0},"ZERO","ZERO","ZERO","ZERO","ZERO","ZERO",0,0,"ZERO","ZERO","ZERO","ZERO",0,"ZERO","ZERO","ZERO"]
["CHESSY SHAWARMA",2500,0,0,null,"ZERO","ZERO",{"$f":"SUM(C30)","v":0},{"$f":"SUM(C30)","v":0},{"$f":"SUM(C30)*2","v":0},null,"ZERO",{"$f":"SUM(C30)*2","v":0},"ZERO","ZERO","ZERO",0,0,"ZERO","ZERO","ZERO","ZERO",{"$f":"SUM(C30)*140","v":0},"ZERO","ZERO","ZERO",null,null,null,null,null,null,null,null,null,{"$f":"SUM(AD30)","v":0},{"$f":"SUM(AE30)","v":0}]
["2 CHICKEN AND CHIPS",2300,0,0,null,"ZERO","ZERO","ZERO","ZERO","ZERO",{"$f":"SUM(C31)","v":0},{"$f":"SUM(C31)*2","v":0},"ZERO","ZERO","ZERO",{"$f":"SUM(C31)","v":0},"ZERO",0,"ZERO","ZERO","ZERO","ZERO","ZERO",{"$f":"SUM(C31)","v":0},"ZERO","ZERO",null,null,null,null,null,null,null,null,null,"ZERO","ZERO"]
["4 CHICKEN AND CHIPS",3500,0,0,null,"ZERO","ZERO","ZERO","ZERO","ZERO",{"$f":"SUM(C32)","v":0},{"$f":"SUM(C32)*4","v":0},"ZERO","ZERO","ZERO",{"$f":"SUM(C32)","v":0},"ZERO",0,"ZERO","ZERO","ZERO","ZERO","ZERO",{"$f":"SUM(C32)*2","v":0},"ZERO","ZERO","zero","zero","zero",null,null,null,null,null,null,"ZERO","ZERO"]
["SPICY CHICKEN ONLY",650,0,null,null,"ZERO","ZERO","ZERO","ZERO","ZERO","ZERO",{"$f":"SUM(C33)","v":0},"ZERO","ZERO","ZERO","ZERO","ZERO","ZERO","ZERO","ZERO","ZERO","ZERO","ZERO","ZERO",{"$f":"SUM(C33)","v":0},"ZERO",null,null,null,null,null,null,null,null,null,"ZERO","ZERO"]
["CRISPY CHICKEN ONLY",650,0,{"$f":"SUM(B34*C34)","v":0},null,"ZERO","ZERO","ZERO","ZERO","ZERO","ZERO",{"$f":"SUM(C34)","v":0},"ZERO","ZERO","ZERO","ZERO","ZERO","ZERO","ZERO","ZERO","ZERO","ZERO","ZERO","ZERO",{"$f":"SUM(C34)","v":0},"ZERO",null,null,null,null,null,null,null,null,null,"ZERO","ZERO"]
["POTATO FRIES",700,0,0,null,"ZERO","ZERO","ZERO","ZERO","ZERO",null,"ZERO","ZERO","ZERO","ZERO","ZERO","ZERO","ZERO","ZERO","ZERO","ZERO","ZERO","ZERO","ZERO","ZERO","ZERO",null,null,null,null,null,null,null,null,null,"ZERO","ZERO"]
["FRENCH FRIES ONLY",1000,0,0,null,"ZERO","ZERO","ZERO","ZERO","ZERO",{"$f":"SUM(C36)","v":0},"ZERO","ZERO","ZERO","ZERO","ZERO","ZERO","ZERO","ZERO","ZERO","ZERO","ZERO","ZERO","ZERO",{"$f":"SUM(C36)","v":0},"ZERO",null,null,null,null,null,null,null,null,null,"ZERO","ZERO"]
["SUGERCANNE JUICE",750,0,0,null,"ZERO","ZERO","ZERO","ZERO","ZERO","ZERO","ZERO","ZERO","ZERO","ZERO","ZERO","ZERO","ZERO","ZERO",{"$f":"SUM(C37)","v":0},"ZERO","ZERO","ZERO","ZERO","ZERO","ZERO",null,null,null,null,null,null,null,null,null,"ZERO","ZERO"]
["35 CL SOFT DRINK",200,0,0,null,"ZERO","ZERO","ZERO","ZERO","ZERO","ZERO","ZERO","ZERO","ZERO","ZERO","ZERO","ZERO","ZERO","ZERO","ZERO",{"$f":"SUM(C38)","v":0},"ZERO","ZERO","ZERO","ZERO","ZERO",null,null,null,null,null,null,null,null,null,"ZERO","ZERO"]
["PARFAIT",null,0,0,null,"ZERO","ZERO","ZERO","ZERO","ZERO","ZERO","ZERO","ZERO","ZERO","ZERO","ZERO","ZERO",{"$f":"SUM(C39)","v":0},{"$f":"SUM(C39)","v":0},"ZERO","ZERO","ZERO","ZERO","ZERO","ZERO","ZERO",null,null,null,null,null,null,null,null,null,"ZERO","ZERO"]
["MARINATED WINGS",500,0,0,null,"ZERO","ZERO","ZERO","ZERO","ZERO","ZERO",{"$f":"SUM(C40)","v":0},"ZERO","ZERO","ZERO","ZERO","ZERO","ZERO","ZERO","ZERO","ZERO","ZERO","ZERO","ZERO","ZERO","ZERO",null,null,null,null,null,null,null,null,null,"ZERO","ZERO"]
["CHEESE ",400,0,0,null,"ZERO","ZERO","ZERO","ZERO","ZERO","ZERO","ZERO",{"$f":"SUM(C41)","v":0},"ZERO","ZERO","ZERO","ZERO","ZERO","ZERO","ZERO","ZERO","ZERO","ZERO","ZERO","ZERO","ZERO",null,null,null,null,null,null,null,null,null,"ZERO","ZERO"]
["SAUSAGE",200,0,0,null,null,null,null,null,null,"ZERO"]
["BACON",400,0,0,null,"ZERO","ZERO","ZERO","ZERO","ZERO","ZERO","ZERO","ZERO",{"$f":"SUM(C43)","v":0},"ZERO","ZERO","ZERO","ZERO","ZERO","ZERO","ZERO","ZERO","ZERO","ZERO","ZERO","ZERO",null,null,null,null,null,null,null,null,null,"ZERO","ZERO"]
["FRIENDY BURGER MEAL (WITH SOFT DRINK)",10200,0,0,null,{"$f":"SUM(C44)*2","v":0},{"$f":"SUM(C44)*2","v":0},{"$f":"SUM(C44)*2","v":0},{"$f":"SUM(C44)*2","v":0},{"$f":"SUM(C44)*2","v":0},{"$f":"SUM(C44)*2","v":0},{"$f":"SUM(C44)*2*2","v":0},"ZERO","ZERO",{"$f":"SUM(C44)*1*2","v":0},{"$f":"SUM(C44)*2","v":0},{"$f":"SUM(C44)*2*2","v":0},{"$f":"SUM(C44)*2","v":0},null,"ZERO",{"$f":"SUM(C44)*2","v":0},null,{"$f":"SUM(C44)*140*2","v":0},{"$f":"SUM(C44)*2","v":0},{"$f":"SUM(C44)*2","v":0},"ZERO",null,null,null,null,null,null,null,null,null,{"$f":"SUM(AD44)*2","v":0},{"$f":"SUM(AE44)*2","v":0}]
["FRIENDY BURGER MEAL (WITH SUGARCANE JUICE)",10600,0,0,null,{"$f":"SUM(C45)*2","v":0},{"$f":"SUM(C45)*2","v":0},{"$f":"SUM(C45)*2","v":0},{"$f":"SUM(C45)*2","v":0},{"$f":"SUM(C45)*2","v":0},{"$f":"SUM(C45)*2","v":0},{"$f":"SUM(C45)*2*2","v":0},"ZERO","ZERO",{"$f":"SUM(C45)*1*2","v":0},{"$f":"SUM(C45)*2","v":0},{"$f":"SUM(C45)*2*2","v":0},{"$f":"SUM(C45)*2","v":0},null,{"$f":"SUM(C45)*2","v":0},"ZERO",null,{"$f":"SUM(C45)*140*2","v":0},{"$f":"SUM(C45)*2","v":0},{"$f":"SUM(C45)*2","v":0},"ZERO",null,null,null,null,null,null,null,null,null,{"$f":"SUM(AD45)*2","v":0},{"$f":"SUM(AE45)*2","v":0}]
["SHAWARMA  SUB",1800,0,0,null,null,"ZERO","ZERO",{"$f":"SUM(C46)","v":0},{"$f":"SUM(C46)*2","v":0},"ZERO","ZERO","ZERO","ZERO",{"$f":"SUM(C46)*1","v":0},"ZERO",{"$f":"SUM(C46)","v":0},"ZERO","ZERO","ZERO","ZERO","ZERO",{"$f":"SUM(C46)*70","v":0},"ZERO","ZERO","ZERO",null,null,null,{"$f":"SUM(C46)","v":0},null,null,null,null,null,{"$f":"SUM(AD46)","v":0},{"$f":"SUM(AE46)","v":0}]
["DELISH PACK 1",5300,0,0,null,{"$f":"SUM(C47)","v":0},{"$f":"SUM(C47)","v":0},"ZERO",{"$f":"SUM(C47)","v":0},{"$f":"SUM(C47)*2","v":0},"ZERO",{"$f":"SUM(C47)*4","v":0},"ZERO","ZERO",{"$f":"SUM(C47)*1","v":0},{"$f":"SUM(C47)*1","v":0},{"$f":"SUM(C47)*2","v":0},{"$f":"SUM(C47)","v":0},"ZERO","ZERO","ZERO","ZERO",{"$f":"SUM(C47)*70","v":0},"ZERO","ZERO","ZERO",null,null,null,{"$f":"SUM(C47)","v":0},{"$f":"SUM(C47)*1","v":0},null,null,null,null,{"$f":"SUM(AD47)","v":0},{"$f":"SUM(AE47)","v":0}]
["FAMILY BURGER MEAL (WITH SOFT DRINK)",19800,0,0,null,{"$f":"SUM(C48)*4","v":0},{"$f":"SUM(C48)*4","v":0},{"$f":"SUM(C48)*4","v":0},{"$f":"SUM(C48)*4","v":0},{"$f":"SUM(C48)*4","v":0},{"$f":"SUM(C48)*4","v":0},{"$f":"SUM(C48)*2*4","v":0},"ZERO","ZERO",{"$f":"SUM(C48)*1*4","v":0},{"$f":"SUM(C48)*4","v":0},{"$f":"SUM(C48)*2*4","v":0},{"$f":"SUM(C48)*4","v":0},null,"ZERO",{"$f":"SUM(C48)*4","v":0},null,{"$f":"SUM(C48)*140*4","v":0},{"$f":"SUM(C48)*4","v":0},{"$f":"SUM(C48)*4","v":0},"ZERO",null,null,null,null,null,null,null,null,null,{"$f":"SUM(AD48)*4","v":0},{"$f":"SUM(AE48)*4","v":0}]
["FAMILY BURGER MEAL (WITH SUGARCANE JUICE)",20800,0,0,null,{"$f":"SUM(C49)*4","v":0},{"$f":"SUM(C49)*4","v":0},{"$f":"SUM(C49)*4","v":0},{"$f":"SUM(C49)*4","v":0},{"$f":"SUM(C49)*4","v":0},{"$f":"SUM(C49)*4","v":0},{"$f":"SUM(C49)*2*4","v":0},"ZERO","ZERO",{"$f":"SUM(C49)*1*4","v":0},{"$f":"SUM(C49)*4","v":0},{"$f":"SUM(C49)*2*4","v":0},{"$f":"SUM(C49)*4","v":0},null,{"$f":"SUM(C49)*4","v":0},"ZERO",null,{"$f":"SUM(C49)*140*4","v":0},{"$f":"SUM(C49)*4","v":0},{"$f":"SUM(C49)*4","v":0},"ZERO",null,null,null,null,null,null,null,null,null,{"$f":"SUM(AD49)*4","v":0},{"$f":"SUM(AE49)*4","v":0}]
["CAN COKE/FANTA ONLY",null,0,0,null,"ZERO","ZERO","ZERO","ZERO","ZERO","ZERO","ZERO","ZERO","ZERO","ZERO","ZERO","ZERO","ZERO","ZERO","ZERO","ZERO","ZERO","ZERO","ZERO","ZERO","ZERO",null,null,null,null,{"$f":"SUM(C50)","v":0},null,null,null,null,"ZERO","ZERO"]
["SUPA KOMMANDO ONLY",250,0,0,null,"ZERO","ZERO","ZERO","ZERO","ZERO","ZERO","ZERO","ZERO","ZERO","ZERO","ZERO","ZERO","ZERO","ZERO","ZERO","ZERO","ZERO","ZERO","ZERO","ZERO","ZERO",null,null,{"$f":"SUM(C51)","v":0},null,"ZERO","ZERO",null,null,null,"ZERO","ZERO"]
["10X Chicken Nuggets ",2400,0,0,null,null,null,null,null,null,"ZERO",null,null,null,null,{"$f":"SUM(C52)","v":0},null,{"$f":"SUM(C52)","v":0},null,null,null,null,null,{"$f":"SUM(C52)","v":0},null,null,null,null,null,null,{"$f":"SUM(C52)","v":0},{"$f":"SUM(C52)*10","v":0}]
["20X Chicken Nuggets ",4800,0,0,null,null,null,null,null,null,"ZERO ",null,null,null,null,{"$f":"SUM(C53)","v":0},null,{"$f":"SUM(C53)","v":0},null,null,null,null,null,{"$f":"SUM(C53)","v":0},null,null,null,null,null,null,{"$f":"SUM(C53)","v":0},{"$f":"SUM(C53)*20","v":0}]
["10 CHICKEN NUGGETS & FRIES BOX",3300,0,0,null,null,null,null,null,null,{"$f":"SUM(C54)","v":0},null,null,null,null,{"$f":"SUM(C54)","v":0},null,{"$f":"SUM(C54)","v":0},null,null,null,null,null,{"$f":"SUM(C54)","v":0},null,null,null,null,null,null,{"$f":"SUM(C54)","v":0},{"$f":"SUM(C54)*10","v":0}]
["20 CHICKEN NUGGETS & FRIES BOX",6600,0,0,null,null,null,null,null,null,{"$f":"SUM(C55)","v":0},null,null,null,null,{"$f":"SUM(C55)","v":0},null,{"$f":"SUM(C55)","v":0},null,null,null,null,null,{"$f":"SUM(C55)","v":0},null,null,null,null,null,null,{"$f":"SUM(C55)","v":0},{"$f":"SUM(C55)*20","v":0}]
["PRAWN BURGER ",3000,0,0,null,{"$f":"SUM(C56)","v":0},"ZERO","ZERO","ZERO","ZERO","ZERO","ZERO",{"$f":"SUM(C56)","v":0},"ZERO",{"$f":"SUM(C56)","v":0},"ZERO",{"$f":"SUM(C56)","v":0},"ZERO","ZERO","ZERO","ZERO","ZERO",{"$f":"SUM(C56)*70","v":0},"ZERO","ZERO","ZERO",null,null,null,null,null,null,{"$f":"SUM(C56)*2","v":0},null,null,"ZERO","ZERO"]
[" FUNMMY NUGGETS  BOX",5300,0,0,null,{"$f":"SUM(C57)","v":0},{"$f":"SUM(C57)","v":0},null,null,null,{"$f":"SUM(C57)","v":0},null,{"$f":"SUM(C57)","v":0},null,{"$f":"SUM(C57)","v":0},{"$f":"SUM(C57)","v":0},null,{"$f":"SUM(C57)","v":0},null,null,null,null,null,{"$f":"SUM(C57)","v":0},null,null,null,null,null,null,{"$f":"SUM(C57)","v":0},{"$f":"SUM(C57)*10","v":0}]
["FARM PRIDE 50 CL",500,0,0,null,"ZERO","ZERO","ZERO","ZERO","ZERO","ZERO","ZERO","ZERO","ZERO","ZERO","ZERO","ZERO","ZERO","ZERO","ZERO","ZERO","ZERO","ZERO","ZERO","ZERO","ZERO",null,null,null,null,null,null,null,{"$f":"SUM(C58)","v":0},null,"ZERO","ZERO"]
["FARM PRIDE 1 LITRE",800,0,0,null,"ZERO","ZERO","ZERO","ZERO","ZERO","ZERO","ZERO","ZERO","ZERO","ZERO","ZERO","ZERO","ZERO","ZERO","ZERO","ZERO","ZERO","ZERO","ZERO","ZERO","ZERO",null,null,null,null,null,null,null,"ZERO",{"$f":"SUM(C59)","v":0},"ZERO","ZERO"]
["GRILLED CHICKEN BURGER",1700,0,{"$f":"SUM(B60*C60)","v":0},null,{"$f":"SUM(C60)","v":0},{"$f":"SUM(C60)","v":0},"ZERO","ZERO","ZERO","ZERO","ZERO","ZERO","ZERO",{"$f":"SUM(C60)","v":0},"ZERO",{"$f":"SUM(C60)*1","v":0},"ZERO","ZERO","ZERO","ZERO","ZERO",{"$f":"SUM(C60)*70","v":0},"ZERO","ZERO","ZERO",null,null,null,null,null,null,null,null,null,"ZERO","ZERO"]
["GRILLED CHICKEN BURGER + JUICE",2200,0,{"$f":"SUM(B61*C61)","v":0},null,{"$f":"SUM(C61)","v":0},{"$f":"SUM(C61)","v":0},"ZERO","ZERO","ZERO","ZERO","ZERO","ZERO","ZERO",{"$f":"SUM(C61)","v":0},"ZERO",{"$f":"SUM(C61)*1","v":0},"ZERO","ZERO","ZERO","ZERO","ZERO",{"$f":"SUM(C61)*70","v":0},"ZERO","ZERO","ZERO",null,null,null,null,null,null,null,{"$f":"SUM(C61)","v":0},null,"ZERO","ZERO"]
["GRILLED BURGER MEAL 1 & 3",4000,0,{"$f":"SUM(B62*C62)","v":0},null,{"$f":"SUM(C62)","v":0},{"$f":"SUM(C62)","v":0},"ZERO","ZERO","ZERO",{"$f":"SUM(C62)","v":0},{"$f":"SUM(C62)*2","v":0},"ZERO","ZERO","ZERO",{"$f":"SUM(C62)","v":0},{"$f":"SUM(C62)","v":0},{"$f":"SUM(C62)","v":0},"ZERO","ZERO","ZERO","ZERO",{"$f":"SUM(C62)*70","v":0},{"$f":"SUM(C62)","v":0},"ZERO","ZERO",null,null,null,null,null,null,null,{"$f":"SUM(C62)","v":0},null,"ZERO","ZERO"]
["GRILLED BURGER MEAL 2",3700,0,{"$f":"SUM(B63*C63)","v":0},null,{"$f":"SUM(C63)","v":0},{"$f":"SUM(C63)","v":0},"ZERO","ZERO","ZERO",{"$f":"SUM(C63)","v":0},{"$f":"SUM(C63)*2","v":0},"ZERO","ZERO","ZERO",{"$f":"SUM(C63)","v":0},{"$f":"SUM(C63)","v":0},{"$f":"SUM(C63)","v":0},"ZERO","ZERO",{"$f":"SUM(C63)","v":0},"ZERO",{"$f":"SUM(C63)*70","v":0},{"$f":"SUM(C63)","v":0},"ZERO","ZERO",null,null,null,null,null,null,null,"ZERO",null,"ZERO","ZERO"]
["MASTERPIECE BURGER ",5000,0,{"$f":"SUM(B64*C64)","v":0},null,{"$f":"SUM(C64)","v":0},"ZERO","ZERO","ZERO","ZERO","ZERO","ZERO",{"$f":"SUM(C64)","v":0},"ZERO","ZERO",{"$f":"SUM(C64)","v":0},{"$f":"SUM(C64)","v":0},"ZERO","ZERO","ZERO",{"$f":"SUM(C64)","v":0},{"$f":"SUM(C64)","v":0},{"$f":"SUM(C64)*70","v":0},"ZERO","ZERO","ZERO",null,null,null,null,null,null,null,null,null,"ZERO",{"$f":"SUM(C64)","v":0}]
["SUYA BURGER BOX 2 (WITH BEEF SUYA BURGER)",6000,0,0,null,0,"ZERO ","ZERO","ZERO",0,0,0,"ZERO","ZERO",0,0,0,"ZERO","ZERO",null,0,"ZERO",0,0,0,"ZERO",0,null,null,null,null,null,null,null,null,"ZERO",0]
["OPENING STOCK",null,null,null,null,{"$f":"SUM('Production DAY 22'!C2)","v":0},{"$f":"SUM('Production DAY 22'!C3)","v":0},{"$f":"SUM('Production DAY 22'!C4)","v":0},{"$f":"SUM('Production DAY 22'!C5)","v":0},{"$f":"SUM('Production DAY 22'!C6)","v":0},{"$f":"SUM('Production DAY 22'!C7)","v":0},{"$f":"SUM('Production DAY 22'!C8)","v":0},{"$f":"SUM('Production DAY 22'!C9)","v":0},{"$f":"SUM('Production DAY 22'!C10)","v":0},{"$f":"SUM('Production DAY 22'!C11)","v":0},{"$f":"SUM('Production DAY 22'!C12)","v":0},{"$f":"SUM('Production DAY 22'!C13)","v":0},{"$f":"SUM('Production DAY 22'!C14)","v":0},{"$f":"SUM('Production DAY 22'!C15)","v":0},{"$f":"SUM('Production DAY 22'!C16)","v":0},{"$f":"SUM('Production DAY 22'!C17)","v":0},{"$f":"SUM('Production DAY 22'!C18)","v":0},{"$f":"SUM('Production DAY 22'!C19)","v":0},{"$f":"SUM('Production DAY 22'!C20)","v":0},{"$f":"SUM('Production DAY 22'!C21)","v":0},{"$f":"SUM('Production DAY 22'!C22)","v":0},{"$f":"SUM('Production DAY 22'!C23)","v":0},{"$f":"SUM('Production DAY 22'!C24)","v":0},{"$f":"SUM('Production DAY 22'!C25)","v":0},{"$f":"SUM('Production DAY 22'!C26)","v":0},{"$f":"SUM('Production DAY 22'!C27)","v":0},{"$f":"SUM('Production DAY 22'!C28)","v":0},{"$f":"SUM('Production DAY 22'!C29)","v":0},{"$f":"SUM('Production DAY 22'!C30)","v":0},{"$f":"SUM('Production DAY 22'!C31)","v":0},{"$f":"SUM('Production DAY 22'!C32)","v":0},{"$f":"SUM('Production DAY 22'!C33)","v":0},{"$f":"SUM('Production DAY 22'!C34)","v":0},{"$f":"SUM('Production DAY 22'!C35)","v":0},{"$f":"SUM('Production DAY 22'!C36)","v":0},{"$f":"SUM('Production DAY 22'!C37)","v":0},{"$f":"SUM('Production DAY 22'!C38)","v":0},{"$f":"SUM('Production DAY 22'!C39)","v":0},{"$f":"SUM('Production DAY 22'!C40)","v":0},{"$f":"SUM('Production DAY 22'!C41)","v":0},{"$f":"SUM('Production DAY 22'!C42)","v":0},{"$f":"SUM('Production DAY 22'!C43)","v":0}]
["RECEIVED",null,null,null,null,{"$f":"SUM('Production DAY 22'!D2)","v":0},{"$f":"SUM('Production DAY 22'!D3)","v":0},{"$f":"SUM('Production DAY 22'!D4)","v":0},{"$f":"SUM('Production DAY 22'!D5)","v":0},{"$f":"SUM('Production DAY 22'!D6)","v":0},{"$f":"SUM('Production DAY 22'!D7)","v":0},{"$f":"SUM('Production DAY 22'!D8)","v":0},{"$f":"SUM('Production DAY 22'!D9)","v":0},{"$f":"SUM('Production DAY 22'!D10)","v":0},{"$f":"SUM('Production DAY 22'!D11)","v":0},{"$f":"SUM('Production DAY 22'!D12)","v":0},{"$f":"SUM('Production DAY 22'!D13)","v":0},{"$f":"SUM('Production DAY 22'!D14)","v":0},{"$f":"SUM('Production DAY 22'!D15)","v":0},{"$f":"SUM('Production DAY 22'!D16)","v":0},{"$f":"SUM('Production DAY 22'!D17)","v":0},{"$f":"SUM('Production DAY 22'!D18)","v":0},{"$f":"SUM('Production DAY 22'!D19)","v":0},{"$f":"SUM('Production DAY 22'!D20)","v":0},{"$f":"SUM('Production DAY 22'!D21)","v":0},{"$f":"SUM('Production DAY 22'!D22)","v":0},{"$f":"SUM('Production DAY 22'!D23)","v":0},{"$f":"SUM('Production DAY 22'!D24)","v":0},{"$f":"SUM('Production DAY 22'!D25)","v":0},{"$f":"SUM('Production DAY 22'!D26)","v":0},{"$f":"SUM('Production DAY 22'!D27)","v":0},{"$f":"SUM('Production DAY 22'!D28)","v":0},{"$f":"SUM('Production DAY 22'!D29)","v":0},{"$f":"SUM('Production DAY 22'!D30)","v":0},{"$f":"SUM('Production DAY 22'!D31)","v":0},{"$f":"SUM('Production DAY 22'!D32)","v":0},{"$f":"SUM('Production DAY 22'!D33)","v":0},{"$f":"SUM('Production DAY 22'!D34)","v":0},{"$f":"SUM('Production DAY 22'!D35)","v":0},{"$f":"SUM('Production DAY 22'!D36)","v":0},{"$f":"SUM('Production DAY 22'!D37)","v":0},{"$f":"SUM('Production DAY 22'!D38)","v":0},{"$f":"SUM('Production DAY 22'!D39)","v":0},{"$f":"SUM('Production DAY 22'!D40)","v":0},{"$f":"SUM('Production DAY 22'!D41)","v":0},{"$f":"SUM('Production DAY 22'!D42)","v":0},{"$f":"SUM('Production DAY 22'!D43)","v":0}]
["TOTAL STOCK",null,null,null,null,{"$f":"SUM(F66:F67)","v":0},{"$f":"SUM(G66:G67)","v":0},{"$f":"SUM(H66:H67)","v":0},{"$f":"SUM(I66:I67)","v":0},0,0,0,0,0,0,{"$f":"SUM(P66:P67)","v":0},0,0,0,0,0,0,0,0,0,0,0,0,0,0,0,0,0,0,0,0,0,0,0,0,0,0,0,0,0,0,0]
["USED",null,null,{"$f":"SUM(D3:D65)","v":0},null,{"$f":"SUM(F3:F65)","v":0},0,0,0,0,0,0,0,0,0,0,0,0,0,0,0,0,0,0,0,0,0,0,0,0,0,0,0,0,0,0,0,{"$f":"SUM(AL3:AL64)","v":0},0,0,0,0,0,0,0,0,0]
["CLOSING STOCK",null,null,null,null,{"$f":"SUM(F68-F69)","v":0},0,0,0,0,0,0,0,0,0,0,0,0,0,0,0,0,0,0,0,0,0,0,0,0,0,0,0,{"$f":"SUM(AH66-AH69)","v":0},{"$f":"SUM(AI68-AI69)","v":0},0,0,0,0,0,0,0,0,0,0,0,0]

{"sheet":"Production DAY 23","index":44,"n_rows":44,"n_cols":8,"rows_kept":44,"cut":false,"hidden":false,"merged":[]}
["Nos#","ITEMS"," < OPENING STOCK","RECEIVED","USED >","SALES CLOSING STOCK >","PHYSICAL STOCK COUNT","COMMENTS"]
[1,"Burger Bread",{"$f":"SUM('Production DAY 22'!G2)","v":0},null,{"$f":"SUM('DAY 23'!F69)","v":0},{"$f":"SUM('DAY 23'!F70)","v":0},0,{"$f":"IF(G2=F2,TRUE,FALSE)","v":true}]
[2,"Chicken Patty",{"$f":"SUM('Production DAY 22'!G3)","v":0},null,{"$f":"SUM('DAY 23'!G69)","v":0},{"$f":"SUM('DAY 23'!G70)","v":0},0,true]
[3,"Shawarma Bread",{"$f":"SUM('Production DAY 22'!G4)","v":0},null,{"$f":"SUM('DAY 23'!H69)","v":0},{"$f":"SUM('DAY 23'!H70)","v":0},0,true]
[4,"Chicken Portion or Shawarma portion",{"$f":"SUM('Production DAY 22'!G5)","v":0},null,{"$f":"SUM('DAY 23'!I69)","v":0},{"$f":"SUM('DAY 23'!I70)","v":0},0,true]
[5,"Sausage",{"$f":"SUM('Production DAY 22'!G6)","v":0},null,{"$f":"SUM('DAY 23'!J69)","v":0},{"$f":"SUM('DAY 23'!J70)","v":0},0,true]
[6,"Portion of Fries",{"$f":"SUM('Production DAY 22'!G7)","v":0},null,{"$f":"SUM('DAY 23'!K69)","v":0},{"$f":"SUM('DAY 23'!K70)","v":0},0,true]
[7,"Pieces of Chicken",{"$f":"SUM('Production DAY 22'!G8)","v":0},null,{"$f":"SUM('DAY 23'!L69)","v":0},{"$f":"SUM('DAY 23'!L70)","v":0},0,true]
[8,"Cheese",{"$f":"SUM('Production DAY 22'!G9)","v":0},null,{"$f":"SUM('DAY 23'!M69)","v":0},{"$f":"SUM('DAY 23'!M70)","v":0},0,true]
[9,"Bacon",{"$f":"SUM('Production DAY 22'!G10)","v":0},null,{"$f":"SUM('DAY 23'!N69)","v":0},{"$f":"SUM('DAY 23'!N70)","v":0},0,true]
[10,"A Paper Bag",{"$f":"SUM('Production DAY 22'!G11)","v":0},null,{"$f":"SUM('DAY 23'!O69)","v":0},{"$f":"SUM('DAY 23'!O70)","v":0},0,true]
[11,"Achicken Box",{"$f":"SUM('Production DAY 22'!G12)","v":0},null,{"$f":"SUM('DAY 23'!P69)","v":0},{"$f":"SUM('DAY 23'!P70)","v":0},0,true]
[12,"Paper Wrap",{"$f":"SUM('Production DAY 22'!G13)","v":0},null,{"$f":"SUM('DAY 23'!Q69)","v":0},{"$f":"SUM('DAY 23'!Q70)","v":0},0,true]
[13,"A Branded Nylon",{"$f":"SUM('Production DAY 22'!G14)","v":0},null,{"$f":"SUM('DAY 23'!R69)","v":0},{"$f":"SUM('DAY 23'!R70)","v":0},0,true]
[14,"Parfait",{"$f":"SUM('Production DAY 22'!G15)","v":0},null,{"$f":"SUM('DAY 23'!S69)","v":0},{"$f":"SUM('DAY 23'!S70)","v":0},0,true]
[15,"A Bottle of SUGAR Juice",{"$f":"SUM('Production DAY 22'!G16)","v":0},null,{"$f":"SUM('DAY 23'!T69)","v":0},{"$f":"SUM('DAY 23'!T70)","v":0},0,true]
[16,"35 CL Soft Drink",{"$f":"SUM('Production DAY 22'!G17)","v":0},null,{"$f":"SUM('DAY 23'!U69)","v":0},{"$f":"SUM('DAY 23'!U70)","v":0},0,true]
[17,"Beef Patty",{"$f":"SUM('Production DAY 22'!G18)","v":0},null,{"$f":"SUM('DAY 23'!V69)","v":0},{"$f":"SUM('DAY 23'!V70)","v":0},0,true]
[18,"Cream in GRAMS",{"$f":"SUM('Production DAY 22'!G19)","v":0},null,{"$f":"SUM('DAY 23'!W69)","v":0},{"$f":"SUM('DAY 23'!W70)","v":0},0,true]
[19,"KETCHUP",{"$f":"SUM('Production DAY 22'!G20)","v":0},null,{"$f":"SUM('DAY 23'!X69)","v":0},{"$f":"SUM('DAY 23'!X70)","v":0},0,true]
[20,"plain Nylon",{"$f":"SUM('Production DAY 22'!G21)","v":0},null,{"$f":"SUM('DAY 23'!Y69)","v":0},{"$f":"SUM('DAY 23'!Y70)","v":0},0,true]
[21,"Barbeque Sauce",{"$f":"SUM('Production DAY 22'!G22)","v":0},null,{"$f":"SUM('DAY 23'!Z69)","v":0},{"$f":"SUM('DAY 23'!Z70)","v":0},0,true]
[22,"Meal Box",{"$f":"SUM('Production DAY 22'!G23)","v":0},null,{"$f":"SUM('DAY 23'!AA69)","v":0},{"$f":"SUM('DAY 23'!AA70)","v":0},0,true]
[23,"COCONUT BREAD",{"$f":"SUM('Production DAY 22'!G24)","v":0},null,{"$f":"SUM('DAY 23'!AB69)","v":0},{"$f":"SUM('DAY 23'!AB70)","v":0},0,true]
[24,"SUPA KOMMANDO",{"$f":"SUM('Production DAY 22'!G25)","v":0},null,{"$f":"SUM('DAY 23'!AC69)","v":0},{"$f":"SUM('DAY 23'!AC70)","v":0},0,true]
[25,"SHAWARMA SUB",{"$f":"SUM('Production DAY 22'!G26)","v":0},null,{"$f":"SUM('DAY 23'!AD69)","v":0},{"$f":"SUM('DAY 23'!AD70)","v":0},0,true]
[26,"CAN COKE / FANTA",{"$f":"SUM('Production DAY 22'!G27)","v":0},null,{"$f":"SUM('DAY 23'!AE69)","v":0},{"$f":"SUM('DAY 23'!AE70)","v":0},0,true]
[27,"NUGGETS ",{"$f":"SUM('Production DAY 22'!G28)","v":0},null,{"$f":"SUM('DAY 23'!AF69)","v":0},{"$f":"SUM('DAY 23'!AF70)","v":0},0,true]
[28,"PRAWN",{"$f":"SUM('Production DAY 22'!G29)","v":0},null,{"$f":"SUM('DAY 23'!AG69)","v":0},{"$f":"SUM('DAY 23'!AG70)","v":0},0,true]
[29,"FARM PRIDE",{"$f":"SUM('Production DAY 22'!G30)","v":0},null,{"$f":"SUM('DAY 23'!AH69)","v":0},{"$f":"SUM('DAY 23'!AH70)","v":0},0,true]
[30,"50CL OR PULPY",{"$f":"SUM('Production DAY 22'!G31)","v":0},null,{"$f":"SUM('DAY 23'!AI69)","v":0},{"$f":"SUM('DAY 23'!AI70)","v":0},0,true]
[31,"FARM PRIDE 1 LT",{"$f":"SUM('Production DAY 22'!G32)","v":0},null,{"$f":"SUM('DAY 23'!AJ69)","v":0},{"$f":"SUM('DAY 23'!AJ70)","v":0},0,true]
[32,"BEEF PORTION FOR SHAWARMA",{"$f":"SUM('Production DAY 22'!G33)","v":0},null,{"$f":"SUM('DAY 23'!AK69)","v":0},{"$f":"SUM('DAY 23'!AK70)","v":0},0,true]
[33,"BEEF SUYA STICK",{"$f":"SUM('Production DAY 22'!G34)","v":0},null,{"$f":"SUM('DAY 23'!AL69)","v":0},{"$f":"SUM('DAY 23'!AL70)","v":0},0,true]
[34,"EMPTY 1",{"$f":"SUM('Production DAY 22'!G35)","v":0},null,{"$f":"SUM('DAY 23'!AM69)","v":0},{"$f":"SUM('DAY 23'!AM70)","v":0},0,true]
[35,"EMPTY 2",{"$f":"SUM('Production DAY 22'!G36)","v":0},null,{"$f":"SUM('DAY 23'!AN69)","v":0},{"$f":"SUM('DAY 23'!AN70)","v":0},0,true]
[36,"EMPTY 3",{"$f":"SUM('Production DAY 22'!G37)","v":0},null,{"$f":"SUM('DAY 23'!AO69)","v":0},{"$f":"SUM('DAY 23'!AO70)","v":0},0,true]
[37,"EMPTY 4",{"$f":"SUM('Production DAY 22'!G38)","v":0},null,{"$f":"SUM('DAY 23'!AP69)","v":0},{"$f":"SUM('DAY 23'!AP70)","v":0},0,true]
[38,"EMPTY 5",{"$f":"SUM('Production DAY 22'!G39)","v":0},null,{"$f":"SUM('DAY 23'!AQ69)","v":0},{"$f":"SUM('DAY 23'!AQ70)","v":0},0,true]
[39,"EMPTY 6",{"$f":"SUM('Production DAY 22'!G40)","v":0},null,{"$f":"SUM('DAY 23'!AR69)","v":0},{"$f":"SUM('DAY 23'!AR70)","v":0},0,true]
[40,"EMPTY 7",{"$f":"SUM('Production DAY 22'!G41)","v":0},null,{"$f":"SUM('DAY 23'!AS69)","v":0},{"$f":"SUM('DAY 23'!AS70)","v":0},0,true]
[41,"EMPTY 8",{"$f":"SUM('Production DAY 22'!G42)","v":0},null,{"$f":"SUM('DAY 23'!AT69)","v":0},{"$f":"SUM('DAY 23'!AT70)","v":0},0,true]
[42,"EMPTY 9",{"$f":"SUM('Production DAY 22'!G43)","v":0},null,{"$f":"SUM('DAY 23'!AU69)","v":0},{"$f":"SUM('DAY 23'!AU70)","v":0},0,true]
[43,"EMPTY 10",{"$f":"SUM('Production DAY 22'!G44)","v":0},null,{"$f":"SUM('DAY 23'!AV69)","v":0},{"$f":"SUM('DAY 23'!AV70)","v":0},0,true]

{"sheet":"DAY 23","index":45,"n_rows":70,"n_cols":47,"rows_kept":70,"cut":false,"hidden":false,"merged":[[0,7,0,28]]}
["FEBRUARY 12th, 2022",null,null,{"$f":"SUM(D3:D50)","v":0},null,null,null,"BURGER PALACE INVENTORY RECORDS"]
["ITEM","AMOUNT","QUANTITY","TOTAL",null,"Burger Bread","Chicken Patty","Shawarma Bread","Chicken Portion or Shawarma portion","Sausage","Portion of Fries","Pieces of Chicken","Cheese","Bacon","A Paper Bag","Achicken Box","Paper Wrap","A Branded Nylon","Parfait","A Bottle of SUGAR Juice","35 CL Soft Drink","Beef Patty","Cream in GRAMS","KETCHUP","plain Nylon","Barbeque Sauce","Meal Box","COCONUT BREAD ","SUPA KOMMANDO ","SHAWARMA SUB","CAN COKE / FANTA","NUGGETS","PRAWN","FARM PRIDE 50CL OR PULPY","FARM PRIDE 1 LT","BEEF PORTION FOR SHAWARMA ","BEEF SUYA STICK","EMPTY 1","EMPTY 2","EMPTY 3","EMPTY 4","EMPTY 5","EMPTY 6","EMPTY 7","EMPTY 8","EMPTY 9","EMPTY 10"]
["DELUXE BURGER MEAL (WITH SOFT DRINK)",5400,0,{"$f":"SUM(B3*C3)","v":0},null,{"$f":"SUM(C3)","v":0},{"$f":"SUM(C3)","v":0},{"$f":"SUM(C3)","v":0},{"$f":"SUM(C3)","v":0},{"$f":"SUM(C3)","v":0},{"$f":"SUM(C3)","v":0},{"$f":"SUM(C3)*2","v":0},"ZERO","ZERO",{"$f":"SUM(C3)*1","v":0},{"$f":"SUM(C3)","v":0},{"$f":"SUM(C3)*2","v":0},{"$f":"SUM(C3)","v":0},null,"ZERO",{"$f":"SUM(C3)","v":0},null,{"$f":"SUM(C3)*140","v":0},{"$f":"SUM(C3)","v":0},{"$f":"SUM(C3)","v":0},"ZERO",null,null,null,null,null,null,null,null,null,{"$f":"SUM(AD3)","v":0},0]
["DELUXE BURGER MEAL (WITH SUGARCANE JUICE)",5600,0,{"$f":"SUM(B4*C4)","v":0},null,{"$f":"SUM(C4)","v":0},{"$f":"SUM(C4)","v":0},{"$f":"SUM(C4)","v":0},{"$f":"SUM(C4)","v":0},{"$f":"SUM(C4)","v":0},0,{"$f":"SUM(C4)*2","v":0},"ZERO","ZERO",{"$f":"SUM(C4)*1","v":0},0,{"$f":"SUM(C4)*2","v":0},0,null,{"$f":"SUM(C4)","v":0},"ZERO",null,{"$f":"SUM(C4)*140","v":0},{"$f":"SUM(C4)","v":0},0,"ZERO",null,null,null,null,null,null,null,null,null,0,0]
["DELUXE MEAL EXTRA (WITH Soft Drink)",null,0,{"$f":"SUM(B5*C5)","v":0},null,{"$f":"SUM(C5)","v":0},{"$f":"SUM(C5)","v":0},{"$f":"SUM(C5)","v":0},{"$f":"SUM(C5)","v":0},{"$f":"SUM(C5)","v":0},0,{"$f":"SUM(C5)*2","v":0},"ZERO","ZERO",{"$f":"SUM(C5)","v":0},0,{"$f":"SUM(C5)*2","v":0},0,{"$f":"SUM(C5)","v":0},"ZERO",{"$f":"SUM(C5)","v":0},null,{"$f":"SUM(C5)*140","v":0},{"$f":"SUM(C5)","v":0},0,"ZERO",null,null,null,null,null,null,null,null,null,0,0]
["DELUXE BURGER MEAL Extra (With Sugarcane juice",null,0,{"$f":"SUM(B6*C6)","v":0},null,{"$f":"SUM(C6)","v":0},{"$f":"SUM(C6)","v":0},{"$f":"SUM(C6)","v":0},{"$f":"SUM(C6)","v":0},{"$f":"SUM(C6)","v":0},0,{"$f":"SUM(C6)*2","v":0},"ZERO","ZERO",{"$f":"SUM(C6)","v":0},0,{"$f":"SUM(C6)*2","v":0},0,{"$f":"SUM(C6)","v":0},{"$f":"SUM(C6)","v":0},"ZERO",null,{"$f":"SUM(C6)*140","v":0},{"$f":"SUM(C6)","v":0},0,"ZERO",null,null,null,null,null,null,null,null,null,0,0]
["PREMIUM BURGER Meal ",5900,0,{"$f":"SUM(B7*C7)","v":0},null,{"$f":"SUM(C7)","v":0},{"$f":"SUM(C7)","v":0},"ZERO","ZERO","ZERO",0,{"$f":"SUM(C7)*5","v":0},"ZERO","ZERO",{"$f":"SUM(C7)","v":0},0,{"$f":"SUM(C7)*1.25","v":0},0,"ZERO","ZERO",{"$f":"SUM(C7)","v":0},"ZERO",{"$f":"SUM(C7)*70","v":0},{"$f":"SUM(C7)*2","v":0},0,{"$f":"SUM(C7)","v":0},null,null,null,null,null,null,null,null,null,"ZERO","ZERO"]
["CRISPY CHICKEN BOX",4300,0,null,null,"ZERO","ZERO","ZERO","ZERO","ZERO",0,{"$f":"SUM(C8)*5","v":0},"ZERO","ZERO","ZERO",0,{"$f":"SUM(C8)*0.25","v":0},0,"ZERO","ZERO",{"$f":"SUM(C8)","v":0},"ZERO","ZERO",{"$f":"SUM(C8)*2","v":0},0,{"$f":"SUM(C8)","v":0},null,null,null,null,null,null,null,null,null,"ZERO","ZERO"]
["ROYAL BURGER MEAL (CHICKEN  PATTY)",null,0,{"$f":"SUM(B9*C9)","v":0},null,{"$f":"SUM(C9)","v":0},{"$f":"SUM(C9)*2","v":0},"ZERO","ZERO","ZERO",0,"ZERO",{"$f":"SUM(C9)*2","v":0},{"$f":"SUM(C9)*2","v":0},"ZERO",0,{"$f":"SUM(C9)","v":0},0,{"$f":"SUM(C9)","v":0},"ZERO","ZERO","ZERO",{"$f":"SUM(C9)*140","v":0},{"$f":"SUM(C9)*2","v":0},0,{"$f":"SUM(C9)","v":0},null,null,null,null,null,null,null,null,null,"ZERO","ZERO"]
["ROYAL BURGER MEAL (BEEF  PATTY)",null,0,{"$f":"SUM(B10*C10)","v":0},null,{"$f":"SUM(C10)","v":0},"ZERO","ZERO","ZERO","ZERO",0,"ZERO",{"$f":"SUM(C10)*2","v":0},{"$f":"SUM(C10)*2","v":0},"ZERO",0,0,0,{"$f":"SUM(C10)","v":0},"ZERO","ZERO",{"$f":"SUM(C10)*2","v":0},{"$f":"SUM(C10)*140","v":0},{"$f":"SUM(C10)*2","v":0},0,{"$f":"SUM(C10)","v":0},null,null,null,null,null,null,null,null,null,"ZERO","ZERO"]
["ROYAL BURGER ONLY (CHICKEN PATTY)",3300,0,{"$f":"SUM(B11*C11:C25,A1,A1,A1,A1,A1)","v":0},null,{"$f":"SUM(C11)","v":0},{"$f":"SUM(C11)*2","v":0},"ZERO","ZERO","ZERO","ZERO","ZERO",{"$f":"SUM(C11)*2","v":0},{"$f":"SUM(C11)*2","v":0},"ZERO",0,0,0,"ZERO","ZERO","ZERO","ZERO",{"$f":"SUM(C11)*140","v":0},{"$f":"SUM(C11)","v":0},"ZERO","ZERO",null,null,null,null,null,null,null,null,null,"ZERO","ZERO"]
["ROYAL BURGER ONLY (BEEF PATTY)",3300,0,{"$f":"SUM(B12*C12)","v":0},null,{"$f":"SUM(C12)","v":0},null,"ZERO","ZERO","ZERO","ZERO","ZERO",{"$f":"SUM(C12)*2","v":0},{"$f":"SUM(C12)*2","v":0},"ZERO",0,0,0,"ZERO","ZERO","ZERO",{"$f":"SUM(C12)*2","v":0},{"$f":"SUM(C12)*140","v":0},{"$f":"SUM(C12)","v":0},"ZERO","ZERO",null,null,null,null,null,null,null,null,null,"ZERO","ZERO"]
["MAYOR'S COCONUT BURGER ",2800,0,0,null,0,{"$f":"SUM(C13)","v":0},"ZERO","ZERO","ZERO","ZERO","ZERO",{"$f":"SUM(C13)","v":0},"ZERO","ZERO",0,0,0,"ZERO","ZERO","ZERO",{"$f":"SUM(C13)","v":0},{"$f":"SUM(C13)*140","v":0},"ZERO","ZERO","ZERO",null,{"$f":"SUM(C13)","v":0},{"$f":"SUM(C13)","v":0},null,null,null,null,null,null,"ZERO","ZERO"]
["DOUBLE DECKER CRISPY CHK. CHEESE BURGER",2500,0,0,null,{"$f":"SUM(C14)","v":0},{"$f":"SUM(C14)*2","v":0},"ZERO","ZERO","ZERO","ZERO","ZERO",{"$f":"SUM(C14)","v":0},"ZERO","ZERO",0,0,"ZERO","ZERO","ZERO","ZERO","ZERO",{"$f":"SUM(C14)*70","v":0},"ZERO","ZERO","ZERO",null,null,null,null,null,null,null,null,null,"ZERO","ZERO"]
["SINGLE BEEF BURGER",1700,0,0,null,0,"ZERO","ZERO","ZERO","ZERO","ZERO","ZERO",null,"ZERO",{"$f":"SUM(C15)","v":0},null,0,"ZERO","ZERO","ZERO","ZERO",{"$f":"SUM(C15)","v":0},{"$f":"SUM(C15)*70","v":0},"ZERO","ZERO","ZERO",null,null,null,null,null,null,null,null,null,"ZERO","ZERO"]
["YANKEE BURGER",2400,0,0,null,0,"ZERO","ZERO","ZERO","ZERO","ZERO","ZERO",null,{"$f":"SUM(C16)*2","v":0},{"$f":"SUM(C16)","v":0},null,0,"ZERO","ZERO","ZERO","ZERO",{"$f":"SUM(C16)","v":0},{"$f":"SUM(C16)*70","v":0},"ZERO","ZERO","ZERO",null,null,null,null,null,null,null,null,null,"ZERO","ZERO"]
["ROYAL BURGER WITH FRIES (Chicken)",4000,0,0,null,0,{"$f":"SUM(C17)*2","v":0},"ZERO","ZERO","ZERO",{"$f":"SUM(C17)","v":0},"ZERO",{"$f":"SUM(C17)*2","v":0},{"$f":"SUM(C17)*2","v":0},"ZERO",{"$f":"SUM(C17)","v":0},0,"ZERO","ZERO","ZERO","ZERO","ZERO",{"$f":"SUM(C17)*140","v":0},{"$f":"SUM(C17)*2","v":0},"ZERO","ZERO",null,null,null,null,null,null,null,null,null,"ZERO","ZERO"]
["ROYAL BURGER WITH FRIES (BEEF)",4000,0,0,null,0,"ZERO","ZERO","ZERO","ZERO",{"$f":"SUM(C18)","v":0},"ZERO",{"$f":"SUM(C18)*2","v":0},{"$f":"SUM(C18)*2","v":0},"ZERO",{"$f":"SUM(C18)","v":0},0,"ZERO","ZERO","ZERO","ZERO",{"$f":"SUM(C18)*2","v":0},{"$f":"SUM(C18)*140","v":0},{"$f":"SUM(C18)*2","v":0},"ZERO","ZERO",null,null,null,null,null,null,null,null,null,"ZERO","ZERO"]
["CRISPY CHICKEN BURGER",1700,0,0,null,0,{"$f":"SUM(C19)","v":0},"ZERO","ZERO","ZERO","ZERO","ZERO","ZERO","ZERO",{"$f":"SUM(C19)","v":0},"ZERO",{"$f":"SUM(C19)*1","v":0},"ZERO","ZERO","ZERO","ZERO","ZERO",{"$f":"SUM(C19)*70","v":0},"ZERO","ZERO","ZERO",null,null,null,null,null,null,null,null,null,"ZERO","ZERO"]
["SUYA BURGER BOX",5500,0,0,null,0,{"$f":"SUM(C20)*2","v":0},"ZERO","ZERO",{"$f":"SUM(C20)*4","v":0},{"$f":"SUM(C20)","v":0},{"$f":"SUM(C20)*4","v":0},"ZERO","ZERO",{"$f":"SUM(C20)","v":0},{"$f":"SUM(C20)","v":0},{"$f":"SUM(C20)","v":0},"ZERO","ZERO",null,{"$f":"SUM(C20)","v":0},"ZERO",0,{"$f":"SUM(C20)*2","v":0},{"$f":"SUM(C20)","v":0},"ZERO",{"$f":"SUM(C20)","v":0},null,null,null,null,null,null,null,null,"ZERO","ZERO"]
["CRISPY CHICKEN BURGER PLUS CHEESE",2100,0,0,null,0,{"$f":"SUM(C21)","v":0},"ZERO","ZERO","ZERO","ZERO","ZERO",{"$f":"SUM(C21)","v":0},"ZERO",{"$f":"SUM(C21)","v":0},"ZERO",0,"ZERO","ZERO","ZERO","ZERO","ZERO",0,"ZERO","ZERO","ZERO",null,null,null,null,null,null,null,null,null,"ZERO","ZERO"]
["SINGLE BEEF CHEESE BURGER ",2100,0,0,null,0,"ZERO","ZERO","ZERO","ZERO","ZERO","ZERO",{"$f":"SUM(C22)","v":0},"ZERO",{"$f":"SUM(C22)","v":0},"ZERO",0,"ZERO","ZERO","ZERO","ZERO",{"$f":"SUM(C22)","v":0},0,"ZERO","ZERO","ZERO",null,null,null,null,null,null,null,null,null,"ZERO","ZERO"]
["DOUBLE DECKER BEEF CHEESE BURGER",2800,0,0,null,0,"ZERO","ZERO","ZERO","ZERO","ZERO","ZERO",{"$f":"SUM(C23)*2","v":0},"ZERO","ZERO",{"$f":"SUM(C23)","v":0},0,"ZERO","ZERO","ZERO","ZERO",{"$f":"SUM(C23)*2","v":0},0,"ZERO","ZERO","ZERO",null,null,null,null,null,null,null,null,null,"ZERO","ZERO"]
["CHICKEN SUYA BURGER ",2200,0,0,null,0,{"$f":"SUM(C24)*2","v":0},"ZERO","ZERO","ZERO","ZERO","ZERO","ZERO","ZERO",{"$f":"SUM(C24)*1","v":0},"ZERO",0,"ZERO","ZERO","ZERO","ZERO","ZERO",0,"ZERO","ZERO","ZERO",null,null,null,null,null,null,null,null,null,"ZERO","ZERO"]
["CHICKEN SHAWARMA",1800,0,0,null,null,"ZERO",{"$f":"SUM(C25)","v":0},{"$f":"SUM(C25)","v":0},{"$f":"SUM(C25)*2","v":0},"ZERO","ZERO","ZERO","ZERO","ZERO","ZERO",0,{"$f":"SUM(C25)","v":0},"ZERO","ZERO","ZERO","ZERO",0,"ZERO","ZERO","ZERO",null,null,null,null,null,null,null,null,null,{"$f":"SUM(AD25)","v":0},{"$f":"SUM(AE25)","v":0}]
["BARBECUE BEEF SHAWARMA",2000,0,0,null,null,"ZERO",{"$f":"SUM(C26)","v":0},"ZERO",{"$f":"SUM(C26)*2","v":0},"ZERO","ZERO","ZERO","ZERO","ZERO","ZERO",0,0,"ZERO","ZERO","ZERO","ZERO",0,"ZERO","ZERO","ZERO",null,null,null,null,null,null,null,null,null,{"$f":"SUM(C26)","v":0},"ZERO"]
["BEEF SUYA SHAWARMA",2200,0,0,null,null,"ZERO",{"$f":"SUM(C27)","v":0},"ZERO",{"$f":"SUM(C27)*2","v":0},"ZERO","ZERO","ZERO","ZERO","ZERO","ZERO",0,0,"ZERO","ZERO","ZERO","ZERO",0,"ZERO","ZERO","ZERO",null,null,null,null,null,null,null,null,null,{"$f":"SUM(AD27)","v":0},{"$f":"SUM(C27)","v":0}]
["BEEF SUYA BURGER ",2200,0,0,null,{"$f":"SUM(C28)","v":0},"ZERO",null,"ZERO","ZERO","ZERO","ZERO","ZERO","ZERO",{"$f":"SUM(C28)","v":0},"ZERO",0,0,"ZERO","ZERO","ZERO","ZERO",0,"ZERO","ZERO","ZERO",null,null,null,null,null,null,null,null,null,{"$f":"SUM(AD28)","v":0},{"$f":"SUM(C28)","v":0}]
["CHICKEN SUYA SHAWARMA",2200,0,0,null,"ZERO",{"$f":"SUM(C29)*2","v":0},{"$f":"SUM(C29)","v":0},null,{"$f":"SUM(C29)*2","v":0},"ZERO","ZERO","ZERO","ZERO","ZERO","ZERO",0,0,"ZERO","ZERO","ZERO","ZERO",0,"ZERO","ZERO","ZERO"]
["CHESSY SHAWARMA",2500,0,0,null,"ZERO","ZERO",{"$f":"SUM(C30)","v":0},{"$f":"SUM(C30)","v":0},{"$f":"SUM(C30)*2","v":0},null,"ZERO",{"$f":"SUM(C30)*2","v":0},"ZERO","ZERO","ZERO",0,0,"ZERO","ZERO","ZERO","ZERO",{"$f":"SUM(C30)*140","v":0},"ZERO","ZERO","ZERO",null,null,null,null,null,null,null,null,null,{"$f":"SUM(AD30)","v":0},{"$f":"SUM(AE30)","v":0}]
["2 CHICKEN AND CHIPS",2300,0,0,null,"ZERO","ZERO","ZERO","ZERO","ZERO",{"$f":"SUM(C31)","v":0},{"$f":"SUM(C31)*2","v":0},"ZERO","ZERO","ZERO",{"$f":"SUM(C31)","v":0},"ZERO",0,"ZERO","ZERO","ZERO","ZERO","ZERO",{"$f":"SUM(C31)","v":0},"ZERO","ZERO",null,null,null,null,null,null,null,null,null,"ZERO","ZERO"]
["4 CHICKEN AND CHIPS",3500,0,0,null,"ZERO","ZERO","ZERO","ZERO","ZERO",{"$f":"SUM(C32)","v":0},{"$f":"SUM(C32)*4","v":0},"ZERO","ZERO","ZERO",{"$f":"SUM(C32)","v":0},"ZERO",0,"ZERO","ZERO","ZERO","ZERO","ZERO",{"$f":"SUM(C32)*2","v":0},"ZERO","ZERO","zero","zero","zero",null,null,null,null,null,null,"ZERO","ZERO"]
["SPICY CHICKEN ONLY",650,0,null,null,"ZERO","ZERO","ZERO","ZERO","ZERO","ZERO",{"$f":"SUM(C33)","v":0},"ZERO","ZERO","ZERO","ZERO","ZERO","ZERO","ZERO","ZERO","ZERO","ZERO","ZERO","ZERO",{"$f":"SUM(C33)","v":0},"ZERO",null,null,null,null,null,null,null,null,null,"ZERO","ZERO"]
["CRISPY CHICKEN ONLY",650,0,{"$f":"SUM(B34*C34)","v":0},null,"ZERO","ZERO","ZERO","ZERO","ZERO","ZERO",{"$f":"SUM(C34)","v":0},"ZERO","ZERO","ZERO","ZERO","ZERO","ZERO","ZERO","ZERO","ZERO","ZERO","ZERO","ZERO",{"$f":"SUM(C34)","v":0},"ZERO",null,null,null,null,null,null,null,null,null,"ZERO","ZERO"]
["POTATO FRIES",700,0,0,null,"ZERO","ZERO","ZERO","ZERO","ZERO",null,"ZERO","ZERO","ZERO","ZERO","ZERO","ZERO","ZERO","ZERO","ZERO","ZERO","ZERO","ZERO","ZERO","ZERO","ZERO",null,null,null,null,null,null,null,null,null,"ZERO","ZERO"]
["FRENCH FRIES ONLY",1000,0,0,null,"ZERO","ZERO","ZERO","ZERO","ZERO",{"$f":"SUM(C36)","v":0},"ZERO","ZERO","ZERO","ZERO","ZERO","ZERO","ZERO","ZERO","ZERO","ZERO","ZERO","ZERO","ZERO",{"$f":"SUM(C36)","v":0},"ZERO",null,null,null,null,null,null,null,null,null,"ZERO","ZERO"]
["SUGERCANNE JUICE",750,0,0,null,"ZERO","ZERO","ZERO","ZERO","ZERO","ZERO","ZERO","ZERO","ZERO","ZERO","ZERO","ZERO","ZERO","ZERO",{"$f":"SUM(C37)","v":0},"ZERO","ZERO","ZERO","ZERO","ZERO","ZERO",null,null,null,null,null,null,null,null,null,"ZERO","ZERO"]
["35 CL SOFT DRINK",200,0,0,null,"ZERO","ZERO","ZERO","ZERO","ZERO","ZERO","ZERO","ZERO","ZERO","ZERO","ZERO","ZERO","ZERO","ZERO","ZERO",{"$f":"SUM(C38)","v":0},"ZERO","ZERO","ZERO","ZERO","ZERO",null,null,null,null,null,null,null,null,null,"ZERO","ZERO"]
["PARFAIT",null,0,0,null,"ZERO","ZERO","ZERO","ZERO","ZERO","ZERO","ZERO","ZERO","ZERO","ZERO","ZERO","ZERO",{"$f":"SUM(C39)","v":0},{"$f":"SUM(C39)","v":0},"ZERO","ZERO","ZERO","ZERO","ZERO","ZERO","ZERO",null,null,null,null,null,null,null,null,null,"ZERO","ZERO"]
["MARINATED WINGS",500,0,0,null,"ZERO","ZERO","ZERO","ZERO","ZERO","ZERO",{"$f":"SUM(C40)","v":0},"ZERO","ZERO","ZERO","ZERO","ZERO","ZERO","ZERO","ZERO","ZERO","ZERO","ZERO","ZERO","ZERO","ZERO",null,null,null,null,null,null,null,null,null,"ZERO","ZERO"]
["CHEESE ",400,0,0,null,"ZERO","ZERO","ZERO","ZERO","ZERO","ZERO","ZERO",{"$f":"SUM(C41)","v":0},"ZERO","ZERO","ZERO","ZERO","ZERO","ZERO","ZERO","ZERO","ZERO","ZERO","ZERO","ZERO","ZERO",null,null,null,null,null,null,null,null,null,"ZERO","ZERO"]
["SAUSAGE",200,0,0,null,null,null,null,null,null,"ZERO"]
["BACON",400,0,0,null,"ZERO","ZERO","ZERO","ZERO","ZERO","ZERO","ZERO","ZERO",{"$f":"SUM(C43)","v":0},"ZERO","ZERO","ZERO","ZERO","ZERO","ZERO","ZERO","ZERO","ZERO","ZERO","ZERO","ZERO",null,null,null,null,null,null,null,null,null,"ZERO","ZERO"]
["FRIENDY BURGER MEAL (WITH SOFT DRINK)",10200,0,0,null,{"$f":"SUM(C44)*2","v":0},{"$f":"SUM(C44)*2","v":0},{"$f":"SUM(C44)*2","v":0},{"$f":"SUM(C44)*2","v":0},{"$f":"SUM(C44)*2","v":0},{"$f":"SUM(C44)*2","v":0},{"$f":"SUM(C44)*2*2","v":0},"ZERO","ZERO",{"$f":"SUM(C44)*1*2","v":0},{"$f":"SUM(C44)*2","v":0},{"$f":"SUM(C44)*2*2","v":0},{"$f":"SUM(C44)*2","v":0},null,"ZERO",{"$f":"SUM(C44)*2","v":0},null,{"$f":"SUM(C44)*140*2","v":0},{"$f":"SUM(C44)*2","v":0},{"$f":"SUM(C44)*2","v":0},"ZERO",null,null,null,null,null,null,null,null,null,{"$f":"SUM(AD44)*2","v":0},{"$f":"SUM(AE44)*2","v":0}]
["FRIENDY BURGER MEAL (WITH SUGARCANE JUICE)",10600,0,0,null,{"$f":"SUM(C45)*2","v":0},{"$f":"SUM(C45)*2","v":0},{"$f":"SUM(C45)*2","v":0},{"$f":"SUM(C45)*2","v":0},{"$f":"SUM(C45)*2","v":0},{"$f":"SUM(C45)*2","v":0},{"$f":"SUM(C45)*2*2","v":0},"ZERO","ZERO",{"$f":"SUM(C45)*1*2","v":0},{"$f":"SUM(C45)*2","v":0},{"$f":"SUM(C45)*2*2","v":0},{"$f":"SUM(C45)*2","v":0},null,{"$f":"SUM(C45)*2","v":0},"ZERO",null,{"$f":"SUM(C45)*140*2","v":0},{"$f":"SUM(C45)*2","v":0},{"$f":"SUM(C45)*2","v":0},"ZERO",null,null,null,null,null,null,null,null,null,{"$f":"SUM(AD45)*2","v":0},{"$f":"SUM(AE45)*2","v":0}]
["SHAWARMA  SUB",1800,0,0,null,null,"ZERO","ZERO",{"$f":"SUM(C46)","v":0},{"$f":"SUM(C46)*2","v":0},"ZERO","ZERO","ZERO","ZERO",{"$f":"SUM(C46)*1","v":0},"ZERO",{"$f":"SUM(C46)","v":0},"ZERO","ZERO","ZERO","ZERO","ZERO",{"$f":"SUM(C46)*70","v":0},"ZERO","ZERO","ZERO",null,null,null,{"$f":"SUM(C46)","v":0},null,null,null,null,null,{"$f":"SUM(AD46)","v":0},{"$f":"SUM(AE46)","v":0}]
["DELISH PACK 1",5300,0,0,null,{"$f":"SUM(C47)","v":0},{"$f":"SUM(C47)","v":0},"ZERO",{"$f":"SUM(C47)","v":0},{"$f":"SUM(C47)*2","v":0},"ZERO",{"$f":"SUM(C47)*4","v":0},"ZERO","ZERO",{"$f":"SUM(C47)*1","v":0},{"$f":"SUM(C47)*1","v":0},{"$f":"SUM(C47)*2","v":0},{"$f":"SUM(C47)","v":0},"ZERO","ZERO","ZERO","ZERO",{"$f":"SUM(C47)*70","v":0},"ZERO","ZERO","ZERO",null,null,null,{"$f":"SUM(C47)","v":0},{"$f":"SUM(C47)*1","v":0},null,null,null,null,{"$f":"SUM(AD47)","v":0},{"$f":"SUM(AE47)","v":0}]
["FAMILY BURGER MEAL (WITH SOFT DRINK)",19800,0,0,null,{"$f":"SUM(C48)*4","v":0},{"$f":"SUM(C48)*4","v":0},{"$f":"SUM(C48)*4","v":0},{"$f":"SUM(C48)*4","v":0},{"$f":"SUM(C48)*4","v":0},{"$f":"SUM(C48)*4","v":0},{"$f":"SUM(C48)*2*4","v":0},"ZERO","ZERO",{"$f":"SUM(C48)*1*4","v":0},{"$f":"SUM(C48)*4","v":0},{"$f":"SUM(C48)*2*4","v":0},{"$f":"SUM(C48)*4","v":0},null,"ZERO",{"$f":"SUM(C48)*4","v":0},null,{"$f":"SUM(C48)*140*4","v":0},{"$f":"SUM(C48)*4","v":0},{"$f":"SUM(C48)*4","v":0},"ZERO",null,null,null,null,null,null,null,null,null,{"$f":"SUM(AD48)*4","v":0},{"$f":"SUM(AE48)*4","v":0}]
["FAMILY BURGER MEAL (WITH SUGARCANE JUICE)",20800,0,0,null,{"$f":"SUM(C49)*4","v":0},{"$f":"SUM(C49)*4","v":0},{"$f":"SUM(C49)*4","v":0},{"$f":"SUM(C49)*4","v":0},{"$f":"SUM(C49)*4","v":0},{"$f":"SUM(C49)*4","v":0},{"$f":"SUM(C49)*2*4","v":0},"ZERO","ZERO",{"$f":"SUM(C49)*1*4","v":0},{"$f":"SUM(C49)*4","v":0},{"$f":"SUM(C49)*2*4","v":0},{"$f":"SUM(C49)*4","v":0},null,{"$f":"SUM(C49)*4","v":0},"ZERO",null,{"$f":"SUM(C49)*140*4","v":0},{"$f":"SUM(C49)*4","v":0},{"$f":"SUM(C49)*4","v":0},"ZERO",null,null,null,null,null,null,null,null,null,{"$f":"SUM(AD49)*4","v":0},{"$f":"SUM(AE49)*4","v":0}]
["CAN COKE/FANTA ONLY",null,0,0,null,"ZERO","ZERO","ZERO","ZERO","ZERO","ZERO","ZERO","ZERO","ZERO","ZERO","ZERO","ZERO","ZERO","ZERO","ZERO","ZERO","ZERO","ZERO","ZERO","ZERO","ZERO",null,null,null,null,{"$f":"SUM(C50)","v":0},null,null,null,null,"ZERO","ZERO"]
["SUPA KOMMANDO ONLY",250,0,0,null,"ZERO","ZERO","ZERO","ZERO","ZERO","ZERO","ZERO","ZERO","ZERO","ZERO","ZERO","ZERO","ZERO","ZERO","ZERO","ZERO","ZERO","ZERO","ZERO","ZERO","ZERO",null,null,{"$f":"SUM(C51)","v":0},null,"ZERO","ZERO",null,null,null,"ZERO","ZERO"]
["10X Chicken Nuggets ",2400,0,0,null,null,null,null,null,null,"ZERO",null,null,null,null,{"$f":"SUM(C52)","v":0},null,{"$f":"SUM(C52)","v":0},null,null,null,null,null,{"$f":"SUM(C52)","v":0},null,null,null,null,null,null,{"$f":"SUM(C52)","v":0},{"$f":"SUM(C52)*10","v":0}]
["20X Chicken Nuggets ",4800,0,0,null,null,null,null,null,null,"ZERO ",null,null,null,null,{"$f":"SUM(C53)","v":0},null,{"$f":"SUM(C53)","v":0},null,null,null,null,null,{"$f":"SUM(C53)","v":0},null,null,null,null,null,null,{"$f":"SUM(C53)","v":0},{"$f":"SUM(C53)*20","v":0}]
["10 CHICKEN NUGGETS & FRIES BOX",3300,0,0,null,null,null,null,null,null,{"$f":"SUM(C54)","v":0},null,null,null,null,{"$f":"SUM(C54)","v":0},null,{"$f":"SUM(C54)","v":0},null,null,null,null,null,{"$f":"SUM(C54)","v":0},null,null,null,null,null,null,{"$f":"SUM(C54)","v":0},{"$f":"SUM(C54)*10","v":0}]
["20 CHICKEN NUGGETS & FRIES BOX",6600,0,0,null,null,null,null,null,null,{"$f":"SUM(C55)","v":0},null,null,null,null,{"$f":"SUM(C55)","v":0},null,{"$f":"SUM(C55)","v":0},null,null,null,null,null,{"$f":"SUM(C55)","v":0},null,null,null,null,null,null,{"$f":"SUM(C55)","v":0},{"$f":"SUM(C55)*20","v":0}]
["PRAWN BURGER ",3000,0,0,null,{"$f":"SUM(C56)","v":0},"ZERO","ZERO","ZERO","ZERO","ZERO","ZERO",{"$f":"SUM(C56)","v":0},"ZERO",{"$f":"SUM(C56)","v":0},"ZERO",{"$f":"SUM(C56)","v":0},"ZERO","ZERO","ZERO","ZERO","ZERO",{"$f":"SUM(C56)*70","v":0},"ZERO","ZERO","ZERO",null,null,null,null,null,null,{"$f":"SUM(C56)*2","v":0},null,null,"ZERO","ZERO"]
[" FUNMMY NUGGETS  BOX",5300,0,0,null,{"$f":"SUM(C57)","v":0},{"$f":"SUM(C57)","v":0},null,null,null,{"$f":"SUM(C57)","v":0},null,{"$f":"SUM(C57)","v":0},null,{"$f":"SUM(C57)","v":0},{"$f":"SUM(C57)","v":0},null,{"$f":"SUM(C57)","v":0},null,null,null,null,null,{"$f":"SUM(C57)","v":0},null,null,null,null,null,null,{"$f":"SUM(C57)","v":0},{"$f":"SUM(C57)*10","v":0}]
["FARM PRIDE 50 CL",500,0,0,null,"ZERO","ZERO","ZERO","ZERO","ZERO","ZERO","ZERO","ZERO","ZERO","ZERO","ZERO","ZERO","ZERO","ZERO","ZERO","ZERO","ZERO","ZERO","ZERO","ZERO","ZERO",null,null,null,null,null,null,null,{"$f":"SUM(C58)","v":0},null,"ZERO","ZERO"]
["FARM PRIDE 1 LITRE",800,0,0,null,"ZERO","ZERO","ZERO","ZERO","ZERO","ZERO","ZERO","ZERO","ZERO","ZERO","ZERO","ZERO","ZERO","ZERO","ZERO","ZERO","ZERO","ZERO","ZERO","ZERO","ZERO",null,null,null,null,null,null,null,"ZERO",{"$f":"SUM(C59)","v":0},"ZERO","ZERO"]
["GRILLED CHICKEN BURGER",1700,0,{"$f":"SUM(B60*C60)","v":0},null,{"$f":"SUM(C60)","v":0},{"$f":"SUM(C60)","v":0},"ZERO","ZERO","ZERO","ZERO","ZERO","ZERO","ZERO",{"$f":"SUM(C60)","v":0},"ZERO",{"$f":"SUM(C60)*1","v":0},"ZERO","ZERO","ZERO","ZERO","ZERO",{"$f":"SUM(C60)*70","v":0},"ZERO","ZERO","ZERO",null,null,null,null,null,null,null,null,null,"ZERO","ZERO"]
["GRILLED CHICKEN BURGER + JUICE",2200,0,{"$f":"SUM(B61*C61)","v":0},null,{"$f":"SUM(C61)","v":0},{"$f":"SUM(C61)","v":0},"ZERO","ZERO","ZERO","ZERO","ZERO","ZERO","ZERO",{"$f":"SUM(C61)","v":0},"ZERO",{"$f":"SUM(C61)*1","v":0},"ZERO","ZERO","ZERO","ZERO","ZERO",{"$f":"SUM(C61)*70","v":0},"ZERO","ZERO","ZERO",null,null,null,null,null,null,null,{"$f":"SUM(C61)","v":0},null,"ZERO","ZERO"]
["GRILLED BURGER MEAL 1 & 3",4000,0,{"$f":"SUM(B62*C62)","v":0},null,{"$f":"SUM(C62)","v":0},{"$f":"SUM(C62)","v":0},"ZERO","ZERO","ZERO",{"$f":"SUM(C62)","v":0},{"$f":"SUM(C62)*2","v":0},"ZERO","ZERO","ZERO",{"$f":"SUM(C62)","v":0},{"$f":"SUM(C62)","v":0},{"$f":"SUM(C62)","v":0},"ZERO","ZERO","ZERO","ZERO",{"$f":"SUM(C62)*70","v":0},{"$f":"SUM(C62)","v":0},"ZERO","ZERO",null,null,null,null,null,null,null,{"$f":"SUM(C62)","v":0},null,"ZERO","ZERO"]
["GRILLED BURGER MEAL 2",3700,0,{"$f":"SUM(B63*C63)","v":0},null,{"$f":"SUM(C63)","v":0},{"$f":"SUM(C63)","v":0},"ZERO","ZERO","ZERO",{"$f":"SUM(C63)","v":0},{"$f":"SUM(C63)*2","v":0},"ZERO","ZERO","ZERO",{"$f":"SUM(C63)","v":0},{"$f":"SUM(C63)","v":0},{"$f":"SUM(C63)","v":0},"ZERO","ZERO",{"$f":"SUM(C63)","v":0},"ZERO",{"$f":"SUM(C63)*70","v":0},{"$f":"SUM(C63)","v":0},"ZERO","ZERO",null,null,null,null,null,null,null,"ZERO",null,"ZERO","ZERO"]
["MASTERPIECE BURGER ",5000,0,{"$f":"SUM(B64*C64)","v":0},null,{"$f":"SUM(C64)","v":0},"ZERO","ZERO","ZERO","ZERO","ZERO","ZERO",{"$f":"SUM(C64)","v":0},"ZERO","ZERO",{"$f":"SUM(C64)","v":0},{"$f":"SUM(C64)","v":0},"ZERO","ZERO","ZERO",{"$f":"SUM(C64)","v":0},{"$f":"SUM(C64)","v":0},{"$f":"SUM(C64)*70","v":0},"ZERO","ZERO","ZERO",null,null,null,null,null,null,null,null,null,"ZERO",{"$f":"SUM(C64)","v":0}]
["SUYA BURGER BOX 2 (WITH BEEF SUYA BURGER)",6000,0,0,null,0,"ZERO ","ZERO","ZERO",0,0,0,"ZERO","ZERO",0,0,0,"ZERO","ZERO",null,0,"ZERO",0,0,0,"ZERO",0,null,null,null,null,null,null,null,null,"ZERO",0]
["OPENING STOCK",null,null,null,null,{"$f":"SUM('Production DAY 23'!C2)","v":0},{"$f":"SUM('Production DAY 23'!C3)","v":0},{"$f":"SUM('Production DAY 23'!C4)","v":0},{"$f":"SUM('Production DAY 23'!C5)","v":0},{"$f":"SUM('Production DAY 23'!C6)","v":0},{"$f":"SUM('Production DAY 23'!C7)","v":0},{"$f":"SUM('Production DAY 23'!C8)","v":0},{"$f":"SUM('Production DAY 23'!C9)","v":0},{"$f":"SUM('Production DAY 23'!C10)","v":0},{"$f":"SUM('Production DAY 23'!C11)","v":0},{"$f":"SUM('Production DAY 23'!C12)","v":0},{"$f":"SUM('Production DAY 23'!C13)","v":0},{"$f":"SUM('Production DAY 23'!C14)","v":0},{"$f":"SUM('Production DAY 23'!C15)","v":0},{"$f":"SUM('Production DAY 23'!C16)","v":0},{"$f":"SUM('Production DAY 23'!C17)","v":0},{"$f":"SUM('Production DAY 23'!C18)","v":0},{"$f":"SUM('Production DAY 23'!C19)","v":0},{"$f":"SUM('Production DAY 23'!C20)","v":0},{"$f":"SUM('Production DAY 23'!C21)","v":0},{"$f":"SUM('Production DAY 23'!C22)","v":0},{"$f":"SUM('Production DAY 23'!C23)","v":0},{"$f":"SUM('Production DAY 23'!C24)","v":0},{"$f":"SUM('Production DAY 23'!C25)","v":0},{"$f":"SUM('Production DAY 23'!C26)","v":0},{"$f":"SUM('Production DAY 23'!C27)","v":0},{"$f":"SUM('Production DAY 23'!C28)","v":0},{"$f":"SUM('Production DAY 23'!C29)","v":0},{"$f":"SUM('Production DAY 23'!C30)","v":0},{"$f":"SUM('Production DAY 23'!C31)","v":0},{"$f":"SUM('Production DAY 23'!C32)","v":0},{"$f":"SUM('Production DAY 23'!C33)","v":0},{"$f":"SUM('Production DAY 23'!C34)","v":0},{"$f":"SUM('Production DAY 23'!C35)","v":0},{"$f":"SUM('Production DAY 23'!C36)","v":0},{"$f":"SUM('Production DAY 23'!C37)","v":0},{"$f":"SUM('Production DAY 23'!C38)","v":0},{"$f":"SUM('Production DAY 23'!C39)","v":0},{"$f":"SUM('Production DAY 23'!C40)","v":0},{"$f":"SUM('Production DAY 23'!C41)","v":0},{"$f":"SUM('Production DAY 23'!C42)","v":0},{"$f":"SUM('Production DAY 23'!C43)","v":0}]
["RECEIVED",null,null,null,null,{"$f":"SUM('Production DAY 23'!D2)","v":0},{"$f":"SUM('Production DAY 23'!D3)","v":0},{"$f":"SUM('Production DAY 23'!D4)","v":0},{"$f":"SUM('Production DAY 23'!D5)","v":0},{"$f":"SUM('Production DAY 23'!D6)","v":0},{"$f":"SUM('Production DAY 23'!D7)","v":0},{"$f":"SUM('Production DAY 23'!D8)","v":0},{"$f":"SUM('Production DAY 23'!D9)","v":0},{"$f":"SUM('Production DAY 23'!D10)","v":0},{"$f":"SUM('Production DAY 23'!D11)","v":0},{"$f":"SUM('Production DAY 23'!D12)","v":0},{"$f":"SUM('Production DAY 23'!D13)","v":0},{"$f":"SUM('Production DAY 23'!D14)","v":0},{"$f":"SUM('Production DAY 23'!D15)","v":0},{"$f":"SUM('Production DAY 23'!D16)","v":0},{"$f":"SUM('Production DAY 23'!D17)","v":0},{"$f":"SUM('Production DAY 23'!D18)","v":0},{"$f":"SUM('Production DAY 23'!D19)","v":0},{"$f":"SUM('Production DAY 23'!D20)","v":0},{"$f":"SUM('Production DAY 23'!D21)","v":0},{"$f":"SUM('Production DAY 23'!D22)","v":0},{"$f":"SUM('Production DAY 23'!D23)","v":0},{"$f":"SUM('Production DAY 23'!D24)","v":0},{"$f":"SUM('Production DAY 23'!D25)","v":0},{"$f":"SUM('Production DAY 23'!D26)","v":0},{"$f":"SUM('Production DAY 23'!D27)","v":0},{"$f":"SUM('Production DAY 23'!D28)","v":0},{"$f":"SUM('Production DAY 23'!D29)","v":0},{"$f":"SUM('Production DAY 23'!D30)","v":0},{"$f":"SUM('Production DAY 23'!D31)","v":0},{"$f":"SUM('Production DAY 23'!D32)","v":0},{"$f":"SUM('Production DAY 23'!D33)","v":0},{"$f":"SUM('Production DAY 23'!D34)","v":0},{"$f":"SUM('Production DAY 23'!D35)","v":0},{"$f":"SUM('Production DAY 23'!D36)","v":0},{"$f":"SUM('Production DAY 23'!D37)","v":0},{"$f":"SUM('Production DAY 23'!D38)","v":0},{"$f":"SUM('Production DAY 23'!D39)","v":0},{"$f":"SUM('Production DAY 23'!D40)","v":0},{"$f":"SUM('Production DAY 23'!D41)","v":0},{"$f":"SUM('Production DAY 23'!D42)","v":0},{"$f":"SUM('Production DAY 23'!D43)","v":0}]
["TOTAL STOCK",null,null,null,null,{"$f":"SUM(F66:F67)","v":0},{"$f":"SUM(G66:G67)","v":0},{"$f":"SUM(H66:H67)","v":0},{"$f":"SUM(I66:I67)","v":0},0,0,0,0,0,0,{"$f":"SUM(P66:P67)","v":0},0,0,0,0,0,0,0,0,0,0,0,0,0,0,0,0,0,0,0,0,0,0,0,0,0,0,0,0,0,0,0]
["USED",null,null,{"$f":"SUM(D3:D65)","v":0},null,{"$f":"SUM(F3:F65)","v":0},0,0,0,0,0,0,0,0,0,0,0,0,0,0,0,0,0,0,0,0,0,0,0,0,0,0,0,0,0,0,0,{"$f":"SUM(AL3:AL64)","v":0},0,0,0,0,0,0,0,0,0]
["CLOSING STOCK",null,null,null,null,{"$f":"SUM(F68-F69)","v":0},0,0,0,0,0,0,0,0,0,0,0,0,0,0,0,0,0,0,0,0,0,0,0,0,0,0,0,{"$f":"SUM(AH66-AH69)","v":0},{"$f":"SUM(AI68-AI69)","v":0},0,0,0,0,0,0,0,0,0,0,0,0]

{"sheet":"Production DAY 24","index":46,"n_rows":44,"n_cols":8,"rows_kept":44,"cut":false,"hidden":false,"merged":[]}
["Nos#","ITEMS"," < OPENING STOCK","RECEIVED","USED >","SALES CLOSING STOCK >","PHYSICAL STOCK COUNT","COMMENTS"]
[1,"Burger Bread",{"$f":"SUM('Production DAY 23'!G2)","v":0},null,{"$f":"SUM('DAY 24'!F69)","v":0},{"$f":"SUM('DAY 24'!F70)","v":0},0,{"$f":"IF(G2=F2,TRUE,FALSE)","v":true}]
[2,"Chicken Patty",{"$f":"SUM('Production DAY 23'!G3)","v":0},null,{"$f":"SUM('DAY 24'!G69)","v":0},{"$f":"SUM('DAY 24'!G70)","v":0},0,{"$f":"IF(G3=F3,TRUE,FALSE)","v":true}]
[3,"Shawarma Bread",{"$f":"SUM('Production DAY 23'!G4)","v":0},null,{"$f":"SUM('DAY 24'!H69)","v":0},{"$f":"SUM('DAY 24'!H70)","v":0},0,true]
[4,"Chicken Portion or Shawarma portion",{"$f":"SUM('Production DAY 23'!G5)","v":0},null,{"$f":"SUM('DAY 24'!I69)","v":0},{"$f":"SUM('DAY 24'!I70)","v":0},0,true]
[5,"Sausage",{"$f":"SUM('Production DAY 23'!G6)","v":0},null,{"$f":"SUM('DAY 24'!J69)","v":0},{"$f":"SUM('DAY 24'!J70)","v":0},0,true]
[6,"Portion of Fries",{"$f":"SUM('Production DAY 23'!G7)","v":0},null,{"$f":"SUM('DAY 24'!K69)","v":0},{"$f":"SUM('DAY 24'!K70)","v":0},0,true]
[7,"Pieces of Chicken",{"$f":"SUM('Production DAY 23'!G8)","v":0},null,{"$f":"SUM('DAY 24'!L69)","v":0},{"$f":"SUM('DAY 24'!L70)","v":0},0,true]
[8,"Cheese",{"$f":"SUM('Production DAY 23'!G9)","v":0},null,{"$f":"SUM('DAY 24'!M69)","v":0},{"$f":"SUM('DAY 24'!M70)","v":0},0,true]
[9,"Bacon",{"$f":"SUM('Production DAY 23'!G10)","v":0},null,{"$f":"SUM('DAY 24'!N69)","v":0},{"$f":"SUM('DAY 24'!N70)","v":0},0,true]
[10,"A Paper Bag",{"$f":"SUM('Production DAY 23'!G11)","v":0},null,{"$f":"SUM('DAY 24'!O69)","v":0},{"$f":"SUM('DAY 24'!O70)","v":0},0,true]
[11,"Achicken Box",{"$f":"SUM('Production DAY 23'!G12)","v":0},null,{"$f":"SUM('DAY 24'!P69)","v":0},{"$f":"SUM('DAY 24'!P70)","v":0},0,true]
[12,"Paper Wrap",{"$f":"SUM('Production DAY 23'!G13)","v":0},null,{"$f":"SUM('DAY 24'!Q69)","v":0},{"$f":"SUM('DAY 24'!Q70)","v":0},0,true]
[13,"A Branded Nylon",{"$f":"SUM('Production DAY 23'!G14)","v":0},null,{"$f":"SUM('DAY 24'!R69)","v":0},{"$f":"SUM('DAY 24'!R70)","v":0},0,true]
[14,"Parfait",{"$f":"SUM('Production DAY 23'!G15)","v":0},null,{"$f":"SUM('DAY 24'!S69)","v":0},{"$f":"SUM('DAY 24'!S70)","v":0},0,true]
[15,"A Bottle of SUGAR Juice",{"$f":"SUM('Production DAY 23'!G16)","v":0},null,{"$f":"SUM('DAY 24'!T69)","v":0},{"$f":"SUM('DAY 24'!T70)","v":0},0,true]
[16,"35 CL Soft Drink",{"$f":"SUM('Production DAY 23'!G17)","v":0},null,{"$f":"SUM('DAY 24'!U69)","v":0},{"$f":"SUM('DAY 24'!U70)","v":0},0,true]
[17,"Beef Patty",{"$f":"SUM('Production DAY 23'!G18)","v":0},null,{"$f":"SUM('DAY 24'!V69)","v":0},{"$f":"SUM('DAY 24'!V70)","v":0},0,true]
[18,"Cream in GRAMS",{"$f":"SUM('Production DAY 23'!G19)","v":0},null,{"$f":"SUM('DAY 24'!W69)","v":0},{"$f":"SUM('DAY 24'!W70)","v":0},0,true]
[19,"KETCHUP",{"$f":"SUM('Production DAY 23'!G20)","v":0},null,{"$f":"SUM('DAY 24'!X69)","v":0},{"$f":"SUM('DAY 24'!X70)","v":0},0,true]
[20,"plain Nylon",{"$f":"SUM('Production DAY 23'!G21)","v":0},null,{"$f":"SUM('DAY 24'!Y69)","v":0},{"$f":"SUM('DAY 24'!Y70)","v":0},0,true]
[21,"Barbeque Sauce",{"$f":"SUM('Production DAY 23'!G22)","v":0},null,{"$f":"SUM('DAY 24'!Z69)","v":0},{"$f":"SUM('DAY 24'!Z70)","v":0},0,true]
[22,"Meal Box",{"$f":"SUM('Production DAY 23'!G23)","v":0},null,{"$f":"SUM('DAY 24'!AA69)","v":0},{"$f":"SUM('DAY 24'!AA70)","v":0},0,true]
[23,"COCONUT BREAD",{"$f":"SUM('Production DAY 23'!G24)","v":0},null,{"$f":"SUM('DAY 24'!AB69)","v":0},{"$f":"SUM('DAY 24'!AB70)","v":0},0,true]
[24,"SUPA KOMMANDO",{"$f":"SUM('Production DAY 23'!G25)","v":0},null,{"$f":"SUM('DAY 24'!AC69)","v":0},{"$f":"SUM('DAY 24'!AC70)","v":0},0,true]
[25,"SHAWARMA SUB",{"$f":"SUM('Production DAY 23'!G26)","v":0},null,{"$f":"SUM('DAY 24'!AD69)","v":0},{"$f":"SUM('DAY 24'!AD70)","v":0},0,true]
[26,"CAN COKE / FANTA",{"$f":"SUM('Production DAY 23'!G27)","v":0},null,{"$f":"SUM('DAY 24'!AE69)","v":0},{"$f":"SUM('DAY 24'!AE70)","v":0},0,true]
[27,"NUGGETS ",{"$f":"SUM('Production DAY 23'!G28)","v":0},null,{"$f":"SUM('DAY 24'!AF69)","v":0},{"$f":"SUM('DAY 24'!AF70)","v":0},0,true]
[28,"PRAWN",{"$f":"SUM('Production DAY 23'!G29)","v":0},null,{"$f":"SUM('DAY 24'!AG69)","v":0},{"$f":"SUM('DAY 24'!AG70)","v":0},0,true]
[29,"FARM PRIDE",{"$f":"SUM('Production DAY 23'!G30)","v":0},null,{"$f":"SUM('DAY 24'!AH69)","v":0},{"$f":"SUM('DAY 24'!AH70)","v":0},0,true]
[30,"50CL OR PULPY",{"$f":"SUM('Production DAY 23'!G31)","v":0},null,{"$f":"SUM('DAY 24'!AI69)","v":0},{"$f":"SUM('DAY 24'!AI70)","v":0},0,true]
[31,"FARM PRIDE 1 LT",{"$f":"SUM('Production DAY 23'!G32)","v":0},null,{"$f":"SUM('DAY 24'!AJ69)","v":0},{"$f":"SUM('DAY 24'!AJ70)","v":0},0,true]
[32,"BEEF PORTION FOR SHAWARMA",{"$f":"SUM('Production DAY 23'!G33)","v":0},null,{"$f":"SUM('DAY 24'!AK69)","v":0},{"$f":"SUM('DAY 24'!AK70)","v":0},0,true]
[33,"BEEF SUYA STICK",{"$f":"SUM('Production DAY 23'!G34)","v":0},null,{"$f":"SUM('DAY 24'!AL69)","v":0},{"$f":"SUM('DAY 24'!AL70)","v":0},0,true]
[34,"EMPTY 1",{"$f":"SUM('Production DAY 23'!G35)","v":0},null,{"$f":"SUM('DAY 24'!AM69)","v":0},{"$f":"SUM('DAY 24'!AM70)","v":0},0,true]
[35,"EMPTY 2",{"$f":"SUM('Production DAY 23'!G36)","v":0},null,{"$f":"SUM('DAY 24'!AN69)","v":0},{"$f":"SUM('DAY 24'!AN70)","v":0},0,true]
[36,"EMPTY 3",{"$f":"SUM('Production DAY 23'!G37)","v":0},null,{"$f":"SUM('DAY 24'!AO69)","v":0},{"$f":"SUM('DAY 24'!AO70)","v":0},0,true]
[37,"EMPTY 4",{"$f":"SUM('Production DAY 23'!G38)","v":0},null,{"$f":"SUM('DAY 24'!AP69)","v":0},{"$f":"SUM('DAY 24'!AP70)","v":0},0,true]
[38,"EMPTY 5",{"$f":"SUM('Production DAY 23'!G39)","v":0},null,{"$f":"SUM('DAY 24'!AQ69)","v":0},{"$f":"SUM('DAY 24'!AQ70)","v":0},0,true]
[39,"EMPTY 6",{"$f":"SUM('Production DAY 23'!G40)","v":0},null,{"$f":"SUM('DAY 24'!AR69)","v":0},{"$f":"SUM('DAY 24'!AR70)","v":0},0,true]
[40,"EMPTY 7",{"$f":"SUM('Production DAY 23'!G41)","v":0},null,{"$f":"SUM('DAY 24'!AS69)","v":0},{"$f":"SUM('DAY 24'!AS70)","v":0},0,true]
[41,"EMPTY 8",{"$f":"SUM('Production DAY 23'!G42)","v":0},null,{"$f":"SUM('DAY 24'!AT69)","v":0},{"$f":"SUM('DAY 24'!AT70)","v":0},0,true]
[42,"EMPTY 9",{"$f":"SUM('Production DAY 23'!G43)","v":0},null,{"$f":"SUM('DAY 24'!AU69)","v":0},{"$f":"SUM('DAY 24'!AU70)","v":0},0,true]
[43,"EMPTY 10",{"$f":"SUM('Production DAY 23'!G44)","v":0},null,{"$f":"SUM('DAY 24'!AV69)","v":0},{"$f":"SUM('DAY 24'!AV70)","v":0},0,true]

{"sheet":"DAY 24","index":47,"n_rows":70,"n_cols":47,"rows_kept":70,"cut":false,"hidden":false,"merged":[[0,7,0,28]]}
["FEBRUARY 12th, 2022",null,null,{"$f":"SUM(D3:D50)","v":0},null,null,null,"BURGER PALACE INVENTORY RECORDS"]
["ITEM","AMOUNT","QUANTITY","TOTAL",null,"Burger Bread","Chicken Patty","Shawarma Bread","Chicken Portion or Shawarma portion","Sausage","Portion of Fries","Pieces of Chicken","Cheese","Bacon","A Paper Bag","Achicken Box","Paper Wrap","A Branded Nylon","Parfait","A Bottle of SUGAR Juice","35 CL Soft Drink","Beef Patty","Cream in GRAMS","KETCHUP","plain Nylon","Barbeque Sauce","Meal Box","COCONUT BREAD ","SUPA KOMMANDO ","SHAWARMA SUB","CAN COKE / FANTA","NUGGETS","PRAWN","FARM PRIDE 50CL OR PULPY","FARM PRIDE 1 LT","BEEF PORTION FOR SHAWARMA ","BEEF SUYA STICK","EMPTY 1","EMPTY 2","EMPTY 3","EMPTY 4","EMPTY 5","EMPTY 6","EMPTY 7","EMPTY 8","EMPTY 9","EMPTY 10"]
["DELUXE BURGER MEAL (WITH SOFT DRINK)",5400,0,{"$f":"SUM(B3*C3)","v":0},null,{"$f":"SUM(C3)","v":0},{"$f":"SUM(C3)","v":0},{"$f":"SUM(C3)","v":0},{"$f":"SUM(C3)","v":0},{"$f":"SUM(C3)","v":0},{"$f":"SUM(C3)","v":0},{"$f":"SUM(C3)*2","v":0},"ZERO","ZERO",{"$f":"SUM(C3)*1","v":0},{"$f":"SUM(C3)","v":0},{"$f":"SUM(C3)*2","v":0},{"$f":"SUM(C3)","v":0},null,"ZERO",{"$f":"SUM(C3)","v":0},null,{"$f":"SUM(C3)*140","v":0},{"$f":"SUM(C3)","v":0},{"$f":"SUM(C3)","v":0},"ZERO",null,null,null,null,null,null,null,null,null,{"$f":"SUM(AD3)","v":0},0]
["DELUXE BURGER MEAL (WITH SUGARCANE JUICE)",5600,0,{"$f":"SUM(B4*C4)","v":0},null,{"$f":"SUM(C4)","v":0},{"$f":"SUM(C4)","v":0},{"$f":"SUM(C4)","v":0},{"$f":"SUM(C4)","v":0},{"$f":"SUM(C4)","v":0},0,{"$f":"SUM(C4)*2","v":0},"ZERO","ZERO",{"$f":"SUM(C4)*1","v":0},0,{"$f":"SUM(C4)*2","v":0},0,null,{"$f":"SUM(C4)","v":0},"ZERO",null,{"$f":"SUM(C4)*140","v":0},{"$f":"SUM(C4)","v":0},0,"ZERO",null,null,null,null,null,null,null,null,null,0,0]
["DELUXE MEAL EXTRA (WITH Soft Drink)",null,0,{"$f":"SUM(B5*C5)","v":0},null,{"$f":"SUM(C5)","v":0},{"$f":"SUM(C5)","v":0},{"$f":"SUM(C5)","v":0},{"$f":"SUM(C5)","v":0},{"$f":"SUM(C5)","v":0},0,{"$f":"SUM(C5)*2","v":0},"ZERO","ZERO",{"$f":"SUM(C5)","v":0},0,{"$f":"SUM(C5)*2","v":0},0,{"$f":"SUM(C5)","v":0},"ZERO",{"$f":"SUM(C5)","v":0},null,{"$f":"SUM(C5)*140","v":0},{"$f":"SUM(C5)","v":0},0,"ZERO",null,null,null,null,null,null,null,null,null,0,0]
["DELUXE BURGER MEAL Extra (With Sugarcane juice",null,0,{"$f":"SUM(B6*C6)","v":0},null,{"$f":"SUM(C6)","v":0},{"$f":"SUM(C6)","v":0},{"$f":"SUM(C6)","v":0},{"$f":"SUM(C6)","v":0},{"$f":"SUM(C6)","v":0},0,{"$f":"SUM(C6)*2","v":0},"ZERO","ZERO",{"$f":"SUM(C6)","v":0},0,{"$f":"SUM(C6)*2","v":0},0,{"$f":"SUM(C6)","v":0},{"$f":"SUM(C6)","v":0},"ZERO",null,{"$f":"SUM(C6)*140","v":0},{"$f":"SUM(C6)","v":0},0,"ZERO",null,null,null,null,null,null,null,null,null,0,0]
["PREMIUM BURGER Meal ",5900,0,{"$f":"SUM(B7*C7)","v":0},null,{"$f":"SUM(C7)","v":0},{"$f":"SUM(C7)","v":0},"ZERO","ZERO","ZERO",0,{"$f":"SUM(C7)*5","v":0},"ZERO","ZERO",{"$f":"SUM(C7)","v":0},0,{"$f":"SUM(C7)*1.25","v":0},0,"ZERO","ZERO",{"$f":"SUM(C7)","v":0},"ZERO",{"$f":"SUM(C7)*70","v":0},{"$f":"SUM(C7)*2","v":0},0,{"$f":"SUM(C7)","v":0},null,null,null,null,null,null,null,null,null,"ZERO","ZERO"]
["CRISPY CHICKEN BOX",4300,0,null,null,"ZERO","ZERO","ZERO","ZERO","ZERO",0,{"$f":"SUM(C8)*5","v":0},"ZERO","ZERO","ZERO",0,{"$f":"SUM(C8)*0.25","v":0},0,"ZERO","ZERO",{"$f":"SUM(C8)","v":0},"ZERO","ZERO",{"$f":"SUM(C8)*2","v":0},0,{"$f":"SUM(C8)","v":0},null,null,null,null,null,null,null,null,null,"ZERO","ZERO"]
["ROYAL BURGER MEAL (CHICKEN  PATTY)",null,0,{"$f":"SUM(B9*C9)","v":0},null,{"$f":"SUM(C9)","v":0},{"$f":"SUM(C9)*2","v":0},"ZERO","ZERO","ZERO",0,"ZERO",{"$f":"SUM(C9)*2","v":0},{"$f":"SUM(C9)*2","v":0},"ZERO",0,{"$f":"SUM(C9)","v":0},0,{"$f":"SUM(C9)","v":0},"ZERO","ZERO","ZERO",{"$f":"SUM(C9)*140","v":0},{"$f":"SUM(C9)*2","v":0},0,{"$f":"SUM(C9)","v":0},null,null,null,null,null,null,null,null,null,"ZERO","ZERO"]
["ROYAL BURGER MEAL (BEEF  PATTY)",null,0,{"$f":"SUM(B10*C10)","v":0},null,{"$f":"SUM(C10)","v":0},"ZERO","ZERO","ZERO","ZERO",0,"ZERO",{"$f":"SUM(C10)*2","v":0},{"$f":"SUM(C10)*2","v":0},"ZERO",0,0,0,{"$f":"SUM(C10)","v":0},"ZERO","ZERO",{"$f":"SUM(C10)*2","v":0},{"$f":"SUM(C10)*140","v":0},{"$f":"SUM(C10)*2","v":0},0,{"$f":"SUM(C10)","v":0},null,null,null,null,null,null,null,null,null,"ZERO","ZERO"]
["ROYAL BURGER ONLY (CHICKEN PATTY)",3300,0,{"$f":"SUM(B11*C11:C25,A1,A1,A1,A1,A1)","v":0},null,{"$f":"SUM(C11)","v":0},{"$f":"SUM(C11)*2","v":0},"ZERO","ZERO","ZERO","ZERO","ZERO",{"$f":"SUM(C11)*2","v":0},{"$f":"SUM(C11)*2","v":0},"ZERO",0,0,0,"ZERO","ZERO","ZERO","ZERO",{"$f":"SUM(C11)*140","v":0},{"$f":"SUM(C11)","v":0},"ZERO","ZERO",null,null,null,null,null,null,null,null,null,"ZERO","ZERO"]
["ROYAL BURGER ONLY (BEEF PATTY)",3300,0,{"$f":"SUM(B12*C12)","v":0},null,{"$f":"SUM(C12)","v":0},null,"ZERO","ZERO","ZERO","ZERO","ZERO",{"$f":"SUM(C12)*2","v":0},{"$f":"SUM(C12)*2","v":0},"ZERO",0,0,0,"ZERO","ZERO","ZERO",{"$f":"SUM(C12)*2","v":0},{"$f":"SUM(C12)*140","v":0},{"$f":"SUM(C12)","v":0},"ZERO","ZERO",null,null,null,null,null,null,null,null,null,"ZERO","ZERO"]
["MAYOR'S COCONUT BURGER ",2800,0,0,null,0,{"$f":"SUM(C13)","v":0},"ZERO","ZERO","ZERO","ZERO","ZERO",{"$f":"SUM(C13)","v":0},"ZERO","ZERO",0,0,0,"ZERO","ZERO","ZERO",{"$f":"SUM(C13)","v":0},{"$f":"SUM(C13)*140","v":0},"ZERO","ZERO","ZERO",null,{"$f":"SUM(C13)","v":0},{"$f":"SUM(C13)","v":0},null,null,null,null,null,null,"ZERO","ZERO"]
["DOUBLE DECKER CRISPY CHK. CHEESE BURGER",2500,0,0,null,{"$f":"SUM(C14)","v":0},{"$f":"SUM(C14)*2","v":0},"ZERO","ZERO","ZERO","ZERO","ZERO",{"$f":"SUM(C14)","v":0},"ZERO","ZERO",0,0,"ZERO","ZERO","ZERO","ZERO","ZERO",{"$f":"SUM(C14)*70","v":0},"ZERO","ZERO","ZERO",null,null,null,null,null,null,null,null,null,"ZERO","ZERO"]
["SINGLE BEEF BURGER",1700,0,0,null,0,"ZERO","ZERO","ZERO","ZERO","ZERO","ZERO",null,"ZERO",{"$f":"SUM(C15)","v":0},null,0,"ZERO","ZERO","ZERO","ZERO",{"$f":"SUM(C15)","v":0},{"$f":"SUM(C15)*70","v":0},"ZERO","ZERO","ZERO",null,null,null,null,null,null,null,null,null,"ZERO","ZERO"]
["YANKEE BURGER",2400,0,0,null,0,"ZERO","ZERO","ZERO","ZERO","ZERO","ZERO",null,{"$f":"SUM(C16)*2","v":0},{"$f":"SUM(C16)","v":0},null,0,"ZERO","ZERO","ZERO","ZERO",{"$f":"SUM(C16)","v":0},{"$f":"SUM(C16)*70","v":0},"ZERO","ZERO","ZERO",null,null,null,null,null,null,null,null,null,"ZERO","ZERO"]
["ROYAL BURGER WITH FRIES (Chicken)",4000,0,0,null,0,{"$f":"SUM(C17)*2","v":0},"ZERO","ZERO","ZERO",{"$f":"SUM(C17)","v":0},"ZERO",{"$f":"SUM(C17)*2","v":0},{"$f":"SUM(C17)*2","v":0},"ZERO",{"$f":"SUM(C17)","v":0},0,"ZERO","ZERO","ZERO","ZERO","ZERO",{"$f":"SUM(C17)*140","v":0},{"$f":"SUM(C17)*2","v":0},"ZERO","ZERO",null,null,null,null,null,null,null,null,null,"ZERO","ZERO"]
["ROYAL BURGER WITH FRIES (BEEF)",4000,0,0,null,0,"ZERO","ZERO","ZERO","ZERO",{"$f":"SUM(C18)","v":0},"ZERO",{"$f":"SUM(C18)*2","v":0},{"$f":"SUM(C18)*2","v":0},"ZERO",{"$f":"SUM(C18)","v":0},0,"ZERO","ZERO","ZERO","ZERO",{"$f":"SUM(C18)*2","v":0},{"$f":"SUM(C18)*140","v":0},{"$f":"SUM(C18)*2","v":0},"ZERO","ZERO",null,null,null,null,null,null,null,null,null,"ZERO","ZERO"]
["CRISPY CHICKEN BURGER",1700,0,0,null,0,{"$f":"SUM(C19)","v":0},"ZERO","ZERO","ZERO","ZERO","ZERO","ZERO","ZERO",{"$f":"SUM(C19)","v":0},"ZERO",{"$f":"SUM(C19)*1","v":0},"ZERO","ZERO","ZERO","ZERO","ZERO",{"$f":"SUM(C19)*70","v":0},"ZERO","ZERO","ZERO",null,null,null,null,null,null,null,null,null,"ZERO","ZERO"]
["SUYA BURGER BOX",5500,0,0,null,0,{"$f":"SUM(C20)*2","v":0},"ZERO","ZERO",{"$f":"SUM(C20)*4","v":0},{"$f":"SUM(C20)","v":0},{"$f":"SUM(C20)*4","v":0},"ZERO","ZERO",{"$f":"SUM(C20)","v":0},{"$f":"SUM(C20)","v":0},{"$f":"SUM(C20)","v":0},"ZERO","ZERO",null,{"$f":"SUM(C20)","v":0},"ZERO",0,{"$f":"SUM(C20)*2","v":0},{"$f":"SUM(C20)","v":0},"ZERO",{"$f":"SUM(C20)","v":0},null,null,null,null,null,null,null,null,"ZERO","ZERO"]
["CRISPY CHICKEN BURGER PLUS CHEESE",2100,0,0,null,0,{"$f":"SUM(C21)","v":0},"ZERO","ZERO","ZERO","ZERO","ZERO",{"$f":"SUM(C21)","v":0},"ZERO",{"$f":"SUM(C21)","v":0},"ZERO",0,"ZERO","ZERO","ZERO","ZERO","ZERO",0,"ZERO","ZERO","ZERO",null,null,null,null,null,null,null,null,null,"ZERO","ZERO"]
["SINGLE BEEF CHEESE BURGER ",2100,0,0,null,0,"ZERO","ZERO","ZERO","ZERO","ZERO","ZERO",{"$f":"SUM(C22)","v":0},"ZERO",{"$f":"SUM(C22)","v":0},"ZERO",0,"ZERO","ZERO","ZERO","ZERO",{"$f":"SUM(C22)","v":0},0,"ZERO","ZERO","ZERO",null,null,null,null,null,null,null,null,null,"ZERO","ZERO"]
["DOUBLE DECKER BEEF CHEESE BURGER",2800,0,0,null,0,"ZERO","ZERO","ZERO","ZERO","ZERO","ZERO",{"$f":"SUM(C23)*2","v":0},"ZERO","ZERO",{"$f":"SUM(C23)","v":0},0,"ZERO","ZERO","ZERO","ZERO",{"$f":"SUM(C23)*2","v":0},0,"ZERO","ZERO","ZERO",null,null,null,null,null,null,null,null,null,"ZERO","ZERO"]
["CHICKEN SUYA BURGER ",2200,0,0,null,0,{"$f":"SUM(C24)*2","v":0},"ZERO","ZERO","ZERO","ZERO","ZERO","ZERO","ZERO",{"$f":"SUM(C24)*1","v":0},"ZERO",0,"ZERO","ZERO","ZERO","ZERO","ZERO",0,"ZERO","ZERO","ZERO",null,null,null,null,null,null,null,null,null,"ZERO","ZERO"]
["CHICKEN SHAWARMA",1800,0,0,null,null,"ZERO",{"$f":"SUM(C25)","v":0},{"$f":"SUM(C25)","v":0},{"$f":"SUM(C25)*2","v":0},"ZERO","ZERO","ZERO","ZERO","ZERO","ZERO",0,{"$f":"SUM(C25)","v":0},"ZERO","ZERO","ZERO","ZERO",0,"ZERO","ZERO","ZERO",null,null,null,null,null,null,null,null,null,{"$f":"SUM(AD25)","v":0},{"$f":"SUM(AE25)","v":0}]
["BARBECUE BEEF SHAWARMA",2000,0,0,null,null,"ZERO",{"$f":"SUM(C26)","v":0},"ZERO",{"$f":"SUM(C26)*2","v":0},"ZERO","ZERO","ZERO","ZERO","ZERO","ZERO",0,0,"ZERO","ZERO","ZERO","ZERO",0,"ZERO","ZERO","ZERO",null,null,null,null,null,null,null,null,null,{"$f":"SUM(C26)","v":0},"ZERO"]
["BEEF SUYA SHAWARMA",2200,0,0,null,null,"ZERO",{"$f":"SUM(C27)","v":0},"ZERO",{"$f":"SUM(C27)*2","v":0},"ZERO","ZERO","ZERO","ZERO","ZERO","ZERO",0,0,"ZERO","ZERO","ZERO","ZERO",0,"ZERO","ZERO","ZERO",null,null,null,null,null,null,null,null,null,{"$f":"SUM(AD27)","v":0},{"$f":"SUM(C27)","v":0}]
["BEEF SUYA BURGER ",2200,0,0,null,{"$f":"SUM(C28)","v":0},"ZERO",null,"ZERO","ZERO","ZERO","ZERO","ZERO","ZERO",{"$f":"SUM(C28)","v":0},"ZERO",0,0,"ZERO","ZERO","ZERO","ZERO",0,"ZERO","ZERO","ZERO",null,null,null,null,null,null,null,null,null,{"$f":"SUM(AD28)","v":0},{"$f":"SUM(C28)","v":0}]
["CHICKEN SUYA SHAWARMA",2200,0,0,null,"ZERO",{"$f":"SUM(C29)*2","v":0},{"$f":"SUM(C29)","v":0},null,{"$f":"SUM(C29)*2","v":0},"ZERO","ZERO","ZERO","ZERO","ZERO","ZERO",0,0,"ZERO","ZERO","ZERO","ZERO",0,"ZERO","ZERO","ZERO"]
["CHESSY SHAWARMA",2500,0,0,null,"ZERO","ZERO",{"$f":"SUM(C30)","v":0},{"$f":"SUM(C30)","v":0},{"$f":"SUM(C30)*2","v":0},null,"ZERO",{"$f":"SUM(C30)*2","v":0},"ZERO","ZERO","ZERO",0,0,"ZERO","ZERO","ZERO","ZERO",{"$f":"SUM(C30)*140","v":0},"ZERO","ZERO","ZERO",null,null,null,null,null,null,null,null,null,{"$f":"SUM(AD30)","v":0},{"$f":"SUM(AE30)","v":0}]
["2 CHICKEN AND CHIPS",2300,0,0,null,"ZERO","ZERO","ZERO","ZERO","ZERO",{"$f":"SUM(C31)","v":0},{"$f":"SUM(C31)*2","v":0},"ZERO","ZERO","ZERO",{"$f":"SUM(C31)","v":0},"ZERO",0,"ZERO","ZERO","ZERO","ZERO","ZERO",{"$f":"SUM(C31)","v":0},"ZERO","ZERO",null,null,null,null,null,null,null,null,null,"ZERO","ZERO"]
["4 CHICKEN AND CHIPS",3500,0,0,null,"ZERO","ZERO","ZERO","ZERO","ZERO",{"$f":"SUM(C32)","v":0},{"$f":"SUM(C32)*4","v":0},"ZERO","ZERO","ZERO",{"$f":"SUM(C32)","v":0},"ZERO",0,"ZERO","ZERO","ZERO","ZERO","ZERO",{"$f":"SUM(C32)*2","v":0},"ZERO","ZERO","zero","zero","zero",null,null,null,null,null,null,"ZERO","ZERO"]
["SPICY CHICKEN ONLY",650,0,null,null,"ZERO","ZERO","ZERO","ZERO","ZERO","ZERO",{"$f":"SUM(C33)","v":0},"ZERO","ZERO","ZERO","ZERO","ZERO","ZERO","ZERO","ZERO","ZERO","ZERO","ZERO","ZERO",{"$f":"SUM(C33)","v":0},"ZERO",null,null,null,null,null,null,null,null,null,"ZERO","ZERO"]
["CRISPY CHICKEN ONLY",650,0,{"$f":"SUM(B34*C34)","v":0},null,"ZERO","ZERO","ZERO","ZERO","ZERO","ZERO",{"$f":"SUM(C34)","v":0},"ZERO","ZERO","ZERO","ZERO","ZERO","ZERO","ZERO","ZERO","ZERO","ZERO","ZERO","ZERO",{"$f":"SUM(C34)","v":0},"ZERO",null,null,null,null,null,null,null,null,null,"ZERO","ZERO"]
["POTATO FRIES",700,0,0,null,"ZERO","ZERO","ZERO","ZERO","ZERO",null,"ZERO","ZERO","ZERO","ZERO","ZERO","ZERO","ZERO","ZERO","ZERO","ZERO","ZERO","ZERO","ZERO","ZERO","ZERO",null,null,null,null,null,null,null,null,null,"ZERO","ZERO"]
["FRENCH FRIES ONLY",1000,0,0,null,"ZERO","ZERO","ZERO","ZERO","ZERO",{"$f":"SUM(C36)","v":0},"ZERO","ZERO","ZERO","ZERO","ZERO","ZERO","ZERO","ZERO","ZERO","ZERO","ZERO","ZERO","ZERO",{"$f":"SUM(C36)","v":0},"ZERO",null,null,null,null,null,null,null,null,null,"ZERO","ZERO"]
["SUGERCANNE JUICE",750,0,0,null,"ZERO","ZERO","ZERO","ZERO","ZERO","ZERO","ZERO","ZERO","ZERO","ZERO","ZERO","ZERO","ZERO","ZERO",{"$f":"SUM(C37)","v":0},"ZERO","ZERO","ZERO","ZERO","ZERO","ZERO",null,null,null,null,null,null,null,null,null,"ZERO","ZERO"]
["35 CL SOFT DRINK",200,0,0,null,"ZERO","ZERO","ZERO","ZERO","ZERO","ZERO","ZERO","ZERO","ZERO","ZERO","ZERO","ZERO","ZERO","ZERO","ZERO",{"$f":"SUM(C38)","v":0},"ZERO","ZERO","ZERO","ZERO","ZERO",null,null,null,null,null,null,null,null,null,"ZERO","ZERO"]
["PARFAIT",null,0,0,null,"ZERO","ZERO","ZERO","ZERO","ZERO","ZERO","ZERO","ZERO","ZERO","ZERO","ZERO","ZERO",{"$f":"SUM(C39)","v":0},{"$f":"SUM(C39)","v":0},"ZERO","ZERO","ZERO","ZERO","ZERO","ZERO","ZERO",null,null,null,null,null,null,null,null,null,"ZERO","ZERO"]
["MARINATED WINGS",500,0,0,null,"ZERO","ZERO","ZERO","ZERO","ZERO","ZERO",{"$f":"SUM(C40)","v":0},"ZERO","ZERO","ZERO","ZERO","ZERO","ZERO","ZERO","ZERO","ZERO","ZERO","ZERO","ZERO","ZERO","ZERO",null,null,null,null,null,null,null,null,null,"ZERO","ZERO"]
["CHEESE ",400,0,0,null,"ZERO","ZERO","ZERO","ZERO","ZERO","ZERO","ZERO",{"$f":"SUM(C41)","v":0},"ZERO","ZERO","ZERO","ZERO","ZERO","ZERO","ZERO","ZERO","ZERO","ZERO","ZERO","ZERO","ZERO",null,null,null,null,null,null,null,null,null,"ZERO","ZERO"]
["SAUSAGE",200,0,0,null,null,null,null,null,null,"ZERO"]
["BACON",400,0,0,null,"ZERO","ZERO","ZERO","ZERO","ZERO","ZERO","ZERO","ZERO",{"$f":"SUM(C43)","v":0},"ZERO","ZERO","ZERO","ZERO","ZERO","ZERO","ZERO","ZERO","ZERO","ZERO","ZERO","ZERO",null,null,null,null,null,null,null,null,null,"ZERO","ZERO"]
["FRIENDY BURGER MEAL (WITH SOFT DRINK)",10200,0,0,null,{"$f":"SUM(C44)*2","v":0},{"$f":"SUM(C44)*2","v":0},{"$f":"SUM(C44)*2","v":0},{"$f":"SUM(C44)*2","v":0},{"$f":"SUM(C44)*2","v":0},{"$f":"SUM(C44)*2","v":0},{"$f":"SUM(C44)*2*2","v":0},"ZERO","ZERO",{"$f":"SUM(C44)*1*2","v":0},{"$f":"SUM(C44)*2","v":0},{"$f":"SUM(C44)*2*2","v":0},{"$f":"SUM(C44)*2","v":0},null,"ZERO",{"$f":"SUM(C44)*2","v":0},null,{"$f":"SUM(C44)*140*2","v":0},{"$f":"SUM(C44)*2","v":0},{"$f":"SUM(C44)*2","v":0},"ZERO",null,null,null,null,null,null,null,null,null,{"$f":"SUM(AD44)*2","v":0},{"$f":"SUM(AE44)*2","v":0}]
["FRIENDY BURGER MEAL (WITH SUGARCANE JUICE)",10600,0,0,null,{"$f":"SUM(C45)*2","v":0},{"$f":"SUM(C45)*2","v":0},{"$f":"SUM(C45)*2","v":0},{"$f":"SUM(C45)*2","v":0},{"$f":"SUM(C45)*2","v":0},{"$f":"SUM(C45)*2","v":0},{"$f":"SUM(C45)*2*2","v":0},"ZERO","ZERO",{"$f":"SUM(C45)*1*2","v":0},{"$f":"SUM(C45)*2","v":0},{"$f":"SUM(C45)*2*2","v":0},{"$f":"SUM(C45)*2","v":0},null,{"$f":"SUM(C45)*2","v":0},"ZERO",null,{"$f":"SUM(C45)*140*2","v":0},{"$f":"SUM(C45)*2","v":0},{"$f":"SUM(C45)*2","v":0},"ZERO",null,null,null,null,null,null,null,null,null,{"$f":"SUM(AD45)*2","v":0},{"$f":"SUM(AE45)*2","v":0}]
["SHAWARMA  SUB",1800,0,0,null,null,"ZERO","ZERO",{"$f":"SUM(C46)","v":0},{"$f":"SUM(C46)*2","v":0},"ZERO","ZERO","ZERO","ZERO",{"$f":"SUM(C46)*1","v":0},"ZERO",{"$f":"SUM(C46)","v":0},"ZERO","ZERO","ZERO","ZERO","ZERO",{"$f":"SUM(C46)*70","v":0},"ZERO","ZERO","ZERO",null,null,null,{"$f":"SUM(C46)","v":0},null,null,null,null,null,{"$f":"SUM(AD46)","v":0},{"$f":"SUM(AE46)","v":0}]
["DELISH PACK 1",5300,0,0,null,{"$f":"SUM(C47)","v":0},{"$f":"SUM(C47)","v":0},"ZERO",{"$f":"SUM(C47)","v":0},{"$f":"SUM(C47)*2","v":0},"ZERO",{"$f":"SUM(C47)*4","v":0},"ZERO","ZERO",{"$f":"SUM(C47)*1","v":0},{"$f":"SUM(C47)*1","v":0},{"$f":"SUM(C47)*2","v":0},{"$f":"SUM(C47)","v":0},"ZERO","ZERO","ZERO","ZERO",{"$f":"SUM(C47)*70","v":0},"ZERO","ZERO","ZERO",null,null,null,{"$f":"SUM(C47)","v":0},{"$f":"SUM(C47)*1","v":0},null,null,null,null,{"$f":"SUM(AD47)","v":0},{"$f":"SUM(AE47)","v":0}]
["FAMILY BURGER MEAL (WITH SOFT DRINK)",19800,0,0,null,{"$f":"SUM(C48)*4","v":0},{"$f":"SUM(C48)*4","v":0},{"$f":"SUM(C48)*4","v":0},{"$f":"SUM(C48)*4","v":0},{"$f":"SUM(C48)*4","v":0},{"$f":"SUM(C48)*4","v":0},{"$f":"SUM(C48)*2*4","v":0},"ZERO","ZERO",{"$f":"SUM(C48)*1*4","v":0},{"$f":"SUM(C48)*4","v":0},{"$f":"SUM(C48)*2*4","v":0},{"$f":"SUM(C48)*4","v":0},null,"ZERO",{"$f":"SUM(C48)*4","v":0},null,{"$f":"SUM(C48)*140*4","v":0},{"$f":"SUM(C48)*4","v":0},{"$f":"SUM(C48)*4","v":0},"ZERO",null,null,null,null,null,null,null,null,null,{"$f":"SUM(AD48)*4","v":0},{"$f":"SUM(AE48)*4","v":0}]
["FAMILY BURGER MEAL (WITH SUGARCANE JUICE)",20800,0,0,null,{"$f":"SUM(C49)*4","v":0},{"$f":"SUM(C49)*4","v":0},{"$f":"SUM(C49)*4","v":0},{"$f":"SUM(C49)*4","v":0},{"$f":"SUM(C49)*4","v":0},{"$f":"SUM(C49)*4","v":0},{"$f":"SUM(C49)*2*4","v":0},"ZERO","ZERO",{"$f":"SUM(C49)*1*4","v":0},{"$f":"SUM(C49)*4","v":0},{"$f":"SUM(C49)*2*4","v":0},{"$f":"SUM(C49)*4","v":0},null,{"$f":"SUM(C49)*4","v":0},"ZERO",null,{"$f":"SUM(C49)*140*4","v":0},{"$f":"SUM(C49)*4","v":0},{"$f":"SUM(C49)*4","v":0},"ZERO",null,null,null,null,null,null,null,null,null,{"$f":"SUM(AD49)*4","v":0},{"$f":"SUM(AE49)*4","v":0}]
["CAN COKE/FANTA ONLY",null,0,0,null,"ZERO","ZERO","ZERO","ZERO","ZERO","ZERO","ZERO","ZERO","ZERO","ZERO","ZERO","ZERO","ZERO","ZERO","ZERO","ZERO","ZERO","ZERO","ZERO","ZERO","ZERO",null,null,null,null,{"$f":"SUM(C50)","v":0},null,null,null,null,"ZERO","ZERO"]
["SUPA KOMMANDO ONLY",250,0,0,null,"ZERO","ZERO","ZERO","ZERO","ZERO","ZERO","ZERO","ZERO","ZERO","ZERO","ZERO","ZERO","ZERO","ZERO","ZERO","ZERO","ZERO","ZERO","ZERO","ZERO","ZERO",null,null,{"$f":"SUM(C51)","v":0},null,"ZERO","ZERO",null,null,null,"ZERO","ZERO"]
["10X Chicken Nuggets ",2400,0,0,null,null,null,null,null,null,"ZERO",null,null,null,null,{"$f":"SUM(C52)","v":0},null,{"$f":"SUM(C52)","v":0},null,null,null,null,null,{"$f":"SUM(C52)","v":0},null,null,null,null,null,null,{"$f":"SUM(C52)","v":0},{"$f":"SUM(C52)*10","v":0}]
["20X Chicken Nuggets ",4800,0,0,null,null,null,null,null,null,"ZERO ",null,null,null,null,{"$f":"SUM(C53)","v":0},null,{"$f":"SUM(C53)","v":0},null,null,null,null,null,{"$f":"SUM(C53)","v":0},null,null,null,null,null,null,{"$f":"SUM(C53)","v":0},{"$f":"SUM(C53)*20","v":0}]
["10 CHICKEN NUGGETS & FRIES BOX",3300,0,0,null,null,null,null,null,null,{"$f":"SUM(C54)","v":0},null,null,null,null,{"$f":"SUM(C54)","v":0},null,{"$f":"SUM(C54)","v":0},null,null,null,null,null,{"$f":"SUM(C54)","v":0},null,null,null,null,null,null,{"$f":"SUM(C54)","v":0},{"$f":"SUM(C54)*10","v":0}]
["20 CHICKEN NUGGETS & FRIES BOX",6600,0,0,null,null,null,null,null,null,{"$f":"SUM(C55)","v":0},null,null,null,null,{"$f":"SUM(C55)","v":0},null,{"$f":"SUM(C55)","v":0},null,null,null,null,null,{"$f":"SUM(C55)","v":0},null,null,null,null,null,null,{"$f":"SUM(C55)","v":0},{"$f":"SUM(C55)*20","v":0}]
["PRAWN BURGER ",3000,0,0,null,{"$f":"SUM(C56)","v":0},"ZERO","ZERO","ZERO","ZERO","ZERO","ZERO",{"$f":"SUM(C56)","v":0},"ZERO",{"$f":"SUM(C56)","v":0},"ZERO",{"$f":"SUM(C56)","v":0},"ZERO","ZERO","ZERO","ZERO","ZERO",{"$f":"SUM(C56)*70","v":0},"ZERO","ZERO","ZERO",null,null,null,null,null,null,{"$f":"SUM(C56)*2","v":0},null,null,"ZERO","ZERO"]
[" FUNMMY NUGGETS  BOX",5300,0,0,null,{"$f":"SUM(C57)","v":0},{"$f":"SUM(C57)","v":0},null,null,null,{"$f":"SUM(C57)","v":0},null,{"$f":"SUM(C57)","v":0},null,{"$f":"SUM(C57)","v":0},{"$f":"SUM(C57)","v":0},null,{"$f":"SUM(C57)","v":0},null,null,null,null,null,{"$f":"SUM(C57)","v":0},null,null,null,null,null,null,{"$f":"SUM(C57)","v":0},{"$f":"SUM(C57)*10","v":0}]
["FARM PRIDE 50 CL",500,0,0,null,"ZERO","ZERO","ZERO","ZERO","ZERO","ZERO","ZERO","ZERO","ZERO","ZERO","ZERO","ZERO","ZERO","ZERO","ZERO","ZERO","ZERO","ZERO","ZERO","ZERO","ZERO",null,null,null,null,null,null,null,{"$f":"SUM(C58)","v":0},null,"ZERO","ZERO"]
["FARM PRIDE 1 LITRE",800,0,0,null,"ZERO","ZERO","ZERO","ZERO","ZERO","ZERO","ZERO","ZERO","ZERO","ZERO","ZERO","ZERO","ZERO","ZERO","ZERO","ZERO","ZERO","ZERO","ZERO","ZERO","ZERO",null,null,null,null,null,null,null,"ZERO",{"$f":"SUM(C59)","v":0},"ZERO","ZERO"]
["GRILLED CHICKEN BURGER",1700,0,{"$f":"SUM(B60*C60)","v":0},null,{"$f":"SUM(C60)","v":0},{"$f":"SUM(C60)","v":0},"ZERO","ZERO","ZERO","ZERO","ZERO","ZERO","ZERO",{"$f":"SUM(C60)","v":0},"ZERO",{"$f":"SUM(C60)*1","v":0},"ZERO","ZERO","ZERO","ZERO","ZERO",{"$f":"SUM(C60)*70","v":0},"ZERO","ZERO","ZERO",null,null,null,null,null,null,null,null,null,"ZERO","ZERO"]
["GRILLED CHICKEN BURGER + JUICE",2200,0,{"$f":"SUM(B61*C61)","v":0},null,{"$f":"SUM(C61)","v":0},{"$f":"SUM(C61)","v":0},"ZERO","ZERO","ZERO","ZERO","ZERO","ZERO","ZERO",{"$f":"SUM(C61)","v":0},"ZERO",{"$f":"SUM(C61)*1","v":0},"ZERO","ZERO","ZERO","ZERO","ZERO",{"$f":"SUM(C61)*70","v":0},"ZERO","ZERO","ZERO",null,null,null,null,null,null,null,{"$f":"SUM(C61)","v":0},null,"ZERO","ZERO"]
["GRILLED BURGER MEAL 1 & 3",4000,0,{"$f":"SUM(B62*C62)","v":0},null,{"$f":"SUM(C62)","v":0},{"$f":"SUM(C62)","v":0},"ZERO","ZERO","ZERO",{"$f":"SUM(C62)","v":0},{"$f":"SUM(C62)*2","v":0},"ZERO","ZERO","ZERO",{"$f":"SUM(C62)","v":0},{"$f":"SUM(C62)","v":0},{"$f":"SUM(C62)","v":0},"ZERO","ZERO","ZERO","ZERO",{"$f":"SUM(C62)*70","v":0},{"$f":"SUM(C62)","v":0},"ZERO","ZERO",null,null,null,null,null,null,null,{"$f":"SUM(C62)","v":0},null,"ZERO","ZERO"]
["GRILLED BURGER MEAL 2",3700,0,{"$f":"SUM(B63*C63)","v":0},null,{"$f":"SUM(C63)","v":0},{"$f":"SUM(C63)","v":0},"ZERO","ZERO","ZERO",{"$f":"SUM(C63)","v":0},{"$f":"SUM(C63)*2","v":0},"ZERO","ZERO","ZERO",{"$f":"SUM(C63)","v":0},{"$f":"SUM(C63)","v":0},{"$f":"SUM(C63)","v":0},"ZERO","ZERO",{"$f":"SUM(C63)","v":0},"ZERO",{"$f":"SUM(C63)*70","v":0},{"$f":"SUM(C63)","v":0},"ZERO","ZERO",null,null,null,null,null,null,null,"ZERO",null,"ZERO","ZERO"]
["MASTERPIECE BURGER ",5000,0,{"$f":"SUM(B64*C64)","v":0},null,{"$f":"SUM(C64)","v":0},"ZERO","ZERO","ZERO","ZERO","ZERO","ZERO",{"$f":"SUM(C64)","v":0},"ZERO","ZERO",{"$f":"SUM(C64)","v":0},{"$f":"SUM(C64)","v":0},"ZERO","ZERO","ZERO",{"$f":"SUM(C64)","v":0},{"$f":"SUM(C64)","v":0},{"$f":"SUM(C64)*70","v":0},"ZERO","ZERO","ZERO",null,null,null,null,null,null,null,null,null,"ZERO",{"$f":"SUM(C64)","v":0}]
["SUYA BURGER BOX 2 (WITH BEEF SUYA BURGER)",6000,0,0,null,0,"ZERO ","ZERO","ZERO",0,0,0,"ZERO","ZERO",0,0,0,"ZERO","ZERO",null,0,"ZERO",0,0,0,"ZERO",0,null,null,null,null,null,null,null,null,"ZERO",0]
["OPENING STOCK",null,null,null,null,{"$f":"SUM('Production DAY 24'!C2)","v":0},{"$f":"SUM('Production DAY 24'!C3)","v":0},{"$f":"SUM('Production DAY 24'!C4)","v":0},{"$f":"SUM('Production DAY 24'!C5)","v":0},{"$f":"SUM('Production DAY 24'!C6)","v":0},{"$f":"SUM('Production DAY 24'!C7)","v":0},{"$f":"SUM('Production DAY 24'!C8)","v":0},{"$f":"SUM('Production DAY 24'!C9)","v":0},{"$f":"SUM('Production DAY 24'!C10)","v":0},{"$f":"SUM('Production DAY 24'!C11)","v":0},{"$f":"SUM('Production DAY 24'!C12)","v":0},{"$f":"SUM('Production DAY 24'!C13)","v":0},{"$f":"SUM('Production DAY 24'!C14)","v":0},{"$f":"SUM('Production DAY 24'!C15)","v":0},{"$f":"SUM('Production DAY 24'!C16)","v":0},{"$f":"SUM('Production DAY 24'!C17)","v":0},{"$f":"SUM('Production DAY 24'!C18)","v":0},{"$f":"SUM('Production DAY 24'!C19)","v":0},{"$f":"SUM('Production DAY 24'!C20)","v":0},{"$f":"SUM('Production DAY 24'!C21)","v":0},{"$f":"SUM('Production DAY 24'!C22)","v":0},{"$f":"SUM('Production DAY 24'!C23)","v":0},{"$f":"SUM('Production DAY 24'!C24)","v":0},{"$f":"SUM('Production DAY 24'!C25)","v":0},{"$f":"SUM('Production DAY 24'!C26)","v":0},{"$f":"SUM('Production DAY 24'!C27)","v":0},{"$f":"SUM('Production DAY 24'!C28)","v":0},{"$f":"SUM('Production DAY 24'!C29)","v":0},{"$f":"SUM('Production DAY 24'!C30)","v":0},{"$f":"SUM('Production DAY 24'!C31)","v":0},{"$f":"SUM('Production DAY 24'!C32)","v":0},{"$f":"SUM('Production DAY 24'!C33)","v":0},{"$f":"SUM('Production DAY 24'!C34)","v":0},{"$f":"SUM('Production DAY 24'!C35)","v":0},{"$f":"SUM('Production DAY 24'!C36)","v":0},{"$f":"SUM('Production DAY 24'!C37)","v":0},{"$f":"SUM('Production DAY 24'!C38)","v":0},{"$f":"SUM('Production DAY 24'!C39)","v":0},{"$f":"SUM('Production DAY 24'!C40)","v":0},{"$f":"SUM('Production DAY 24'!C41)","v":0},{"$f":"SUM('Production DAY 24'!C42)","v":0},{"$f":"SUM('Production DAY 24'!C43)","v":0}]
["RECEIVED",null,null,null,null,{"$f":"SUM('Production DAY 24'!D2)","v":0},{"$f":"SUM('Production DAY 24'!D3)","v":0},{"$f":"SUM('Production DAY 24'!D4)","v":0},{"$f":"SUM('Production DAY 24'!D5)","v":0},{"$f":"SUM('Production DAY 24'!D6)","v":0},{"$f":"SUM('Production DAY 24'!D7)","v":0},{"$f":"SUM('Production DAY 24'!D8)","v":0},{"$f":"SUM('Production DAY 24'!D9)","v":0},{"$f":"SUM('Production DAY 24'!D10)","v":0},{"$f":"SUM('Production DAY 24'!D11)","v":0},{"$f":"SUM('Production DAY 24'!D12)","v":0},{"$f":"SUM('Production DAY 24'!D13)","v":0},{"$f":"SUM('Production DAY 24'!D14)","v":0},{"$f":"SUM('Production DAY 24'!D15)","v":0},{"$f":"SUM('Production DAY 24'!D16)","v":0},{"$f":"SUM('Production DAY 24'!D17)","v":0},{"$f":"SUM('Production DAY 24'!D18)","v":0},{"$f":"SUM('Production DAY 24'!D19)","v":0},{"$f":"SUM('Production DAY 24'!D20)","v":0},{"$f":"SUM('Production DAY 24'!D21)","v":0},{"$f":"SUM('Production DAY 24'!D22)","v":0},{"$f":"SUM('Production DAY 24'!D23)","v":0},{"$f":"SUM('Production DAY 24'!D24)","v":0},{"$f":"SUM('Production DAY 24'!D25)","v":0},{"$f":"SUM('Production DAY 24'!D26)","v":0},{"$f":"SUM('Production DAY 24'!D27)","v":0},{"$f":"SUM('Production DAY 24'!D28)","v":0},{"$f":"SUM('Production DAY 24'!D29)","v":0},{"$f":"SUM('Production DAY 24'!D30)","v":0},{"$f":"SUM('Production DAY 24'!D31)","v":0},{"$f":"SUM('Production DAY 24'!D32)","v":0},{"$f":"SUM('Production DAY 24'!D33)","v":0},{"$f":"SUM('Production DAY 24'!D34)","v":0},{"$f":"SUM('Production DAY 24'!D35)","v":0},{"$f":"SUM('Production DAY 24'!D36)","v":0},{"$f":"SUM('Production DAY 24'!D37)","v":0},{"$f":"SUM('Production DAY 24'!D38)","v":0},{"$f":"SUM('Production DAY 24'!D39)","v":0},{"$f":"SUM('Production DAY 24'!D40)","v":0},{"$f":"SUM('Production DAY 24'!D41)","v":0},{"$f":"SUM('Production DAY 24'!D42)","v":0},{"$f":"SUM('Production DAY 24'!D43)","v":0}]
["TOTAL STOCK",null,null,null,null,{"$f":"SUM(F66:F67)","v":0},{"$f":"SUM(G66:G67)","v":0},{"$f":"SUM(H66:H67)","v":0},{"$f":"SUM(I66:I67)","v":0},0,0,0,0,0,0,{"$f":"SUM(P66:P67)","v":0},0,0,0,0,0,0,0,0,0,0,0,0,0,0,0,0,0,0,0,0,0,0,0,0,0,0,0,0,0,0,0]
["USED",null,null,{"$f":"SUM(D3:D65)","v":0},null,{"$f":"SUM(F3:F65)","v":0},0,0,0,0,0,0,0,0,0,0,0,0,0,0,0,0,0,0,0,0,0,0,0,0,0,0,0,0,0,0,0,{"$f":"SUM(AL3:AL64)","v":0},0,0,0,0,0,0,0,0,0]
["CLOSING STOCK",null,null,null,null,{"$f":"SUM(F68-F69)","v":0},0,0,0,0,0,0,0,0,0,0,0,0,0,0,0,0,0,0,0,0,0,0,0,0,0,0,0,{"$f":"SUM(AH66-AH69)","v":0},{"$f":"SUM(AI68-AI69)","v":0},0,0,0,0,0,0,0,0,0,0,0,0]

{"sheet":"Production DAY 25","index":48,"n_rows":44,"n_cols":8,"rows_kept":44,"cut":false,"hidden":false,"merged":[]}
["Nos#","ITEMS"," < OPENING STOCK","RECEIVED","USED >","SALES CLOSING STOCK >","PHYSICAL STOCK COUNT","COMMENTS"]
[1,"Burger Bread",{"$f":"SUM('Production DAY 24'!G2)","v":0},null,{"$f":"SUM('DAY 25'!F69)","v":0},{"$f":"SUM('DAY 25'!F70)","v":0},0,{"$f":"IF(G2=F2,TRUE,FALSE)","v":true}]
[2,"Chicken Patty",{"$f":"SUM('Production DAY 24'!G3)","v":0},null,{"$f":"SUM('DAY 25'!G69)","v":0},{"$f":"SUM('DAY 25'!G70)","v":0},0,true]
[3,"Shawarma Bread",{"$f":"SUM('Production DAY 24'!G4)","v":0},null,{"$f":"SUM('DAY 25'!H69)","v":0},{"$f":"SUM('DAY 25'!H70)","v":0},0,true]
[4,"Chicken Portion or Shawarma portion",{"$f":"SUM('Production DAY 24'!G5)","v":0},null,{"$f":"SUM('DAY 25'!I69)","v":0},{"$f":"SUM('DAY 25'!I70)","v":0},0,true]
[5,"Sausage",{"$f":"SUM('Production DAY 24'!G6)","v":0},null,{"$f":"SUM('DAY 25'!J69)","v":0},{"$f":"SUM('DAY 25'!J70)","v":0},0,true]
[6,"Portion of Fries",{"$f":"SUM('Production DAY 24'!G7)","v":0},null,{"$f":"SUM('DAY 25'!K69)","v":0},{"$f":"SUM('DAY 25'!K70)","v":0},0,true]
[7,"Pieces of Chicken",{"$f":"SUM('Production DAY 24'!G8)","v":0},null,{"$f":"SUM('DAY 25'!L69)","v":0},{"$f":"SUM('DAY 25'!L70)","v":0},0,true]
[8,"Cheese",{"$f":"SUM('Production DAY 24'!G9)","v":0},null,{"$f":"SUM('DAY 25'!M69)","v":0},{"$f":"SUM('DAY 25'!M70)","v":0},0,true]
[9,"Bacon",{"$f":"SUM('Production DAY 24'!G10)","v":0},null,{"$f":"SUM('DAY 25'!N69)","v":0},{"$f":"SUM('DAY 25'!N70)","v":0},0,true]
[10,"A Paper Bag",{"$f":"SUM('Production DAY 24'!G11)","v":0},null,{"$f":"SUM('DAY 25'!O69)","v":0},{"$f":"SUM('DAY 25'!O70)","v":0},0,true]
[11,"Achicken Box",{"$f":"SUM('Production DAY 24'!G12)","v":0},null,{"$f":"SUM('DAY 25'!P69)","v":0},{"$f":"SUM('DAY 25'!P70)","v":0},0,true]
[12,"Paper Wrap",{"$f":"SUM('Production DAY 24'!G13)","v":0},null,{"$f":"SUM('DAY 25'!Q69)","v":0},{"$f":"SUM('DAY 25'!Q70)","v":0},0,true]
[13,"A Branded Nylon",{"$f":"SUM('Production DAY 24'!G14)","v":0},null,{"$f":"SUM('DAY 25'!R69)","v":0},{"$f":"SUM('DAY 25'!R70)","v":0},0,true]
[14,"Parfait",{"$f":"SUM('Production DAY 24'!G15)","v":0},null,{"$f":"SUM('DAY 25'!S69)","v":0},{"$f":"SUM('DAY 25'!S70)","v":0},0,true]
[15,"A Bottle of SUGAR Juice",{"$f":"SUM('Production DAY 24'!G16)","v":0},null,{"$f":"SUM('DAY 25'!T69)","v":0},{"$f":"SUM('DAY 25'!T70)","v":0},0,true]
[16,"35 CL Soft Drink",{"$f":"SUM('Production DAY 24'!G17)","v":0},null,{"$f":"SUM('DAY 25'!U69)","v":0},{"$f":"SUM('DAY 25'!U70)","v":0},0,true]
[17,"Beef Patty",{"$f":"SUM('Production DAY 24'!G18)","v":0},null,{"$f":"SUM('DAY 25'!V69)","v":0},{"$f":"SUM('DAY 25'!V70)","v":0},0,true]
[18,"Cream in GRAMS",{"$f":"SUM('Production DAY 24'!G19)","v":0},null,{"$f":"SUM('DAY 25'!W69)","v":0},{"$f":"SUM('DAY 25'!W70)","v":0},0,true]
[19,"KETCHUP",{"$f":"SUM('Production DAY 24'!G20)","v":0},null,{"$f":"SUM('DAY 25'!X69)","v":0},{"$f":"SUM('DAY 25'!X70)","v":0},0,true]
[20,"plain Nylon",{"$f":"SUM('Production DAY 24'!G21)","v":0},null,{"$f":"SUM('DAY 25'!Y69)","v":0},{"$f":"SUM('DAY 25'!Y70)","v":0},0,true]
[21,"Barbeque Sauce",{"$f":"SUM('Production DAY 24'!G22)","v":0},null,{"$f":"SUM('DAY 25'!Z69)","v":0},{"$f":"SUM('DAY 25'!Z70)","v":0},0,true]
[22,"Meal Box",{"$f":"SUM('Production DAY 24'!G23)","v":0},null,{"$f":"SUM('DAY 25'!AA69)","v":0},{"$f":"SUM('DAY 25'!AA70)","v":0},0,true]
[23,"COCONUT BREAD",{"$f":"SUM('Production DAY 24'!G24)","v":0},null,{"$f":"SUM('DAY 25'!AB69)","v":0},{"$f":"SUM('DAY 25'!AB70)","v":0},0,true]
[24,"SUPA KOMMANDO",{"$f":"SUM('Production DAY 24'!G25)","v":0},null,{"$f":"SUM('DAY 25'!AC69)","v":0},{"$f":"SUM('DAY 25'!AC70)","v":0},0,true]
[25,"SHAWARMA SUB",{"$f":"SUM('Production DAY 24'!G26)","v":0},null,{"$f":"SUM('DAY 25'!AD69)","v":0},{"$f":"SUM('DAY 25'!AD70)","v":0},0,true]
[26,"CAN COKE / FANTA",{"$f":"SUM('Production DAY 24'!G27)","v":0},null,{"$f":"SUM('DAY 25'!AE69)","v":0},{"$f":"SUM('DAY 25'!AE70)","v":0},0,true]
[27,"NUGGETS ",{"$f":"SUM('Production DAY 24'!G28)","v":0},null,{"$f":"SUM('DAY 25'!AF69)","v":0},{"$f":"SUM('DAY 25'!AF70)","v":0},0,true]
[28,"PRAWN",{"$f":"SUM('Production DAY 24'!G29)","v":0},null,{"$f":"SUM('DAY 25'!AG69)","v":0},{"$f":"SUM('DAY 25'!AG70)","v":0},0,true]
[29,"FARM PRIDE",{"$f":"SUM('Production DAY 24'!G30)","v":0},null,{"$f":"SUM('DAY 25'!AH69)","v":0},{"$f":"SUM('DAY 25'!AH70)","v":0},0,true]
[30,"50CL OR PULPY",{"$f":"SUM('Production DAY 24'!G31)","v":0},null,{"$f":"SUM('DAY 25'!AI69)","v":0},{"$f":"SUM('DAY 25'!AI70)","v":0},0,true]
[31,"FARM PRIDE 1 LT",{"$f":"SUM('Production DAY 24'!G32)","v":0},null,{"$f":"SUM('DAY 25'!AJ69)","v":0},{"$f":"SUM('DAY 25'!AJ70)","v":0},0,true]
[32,"BEEF PORTION FOR SHAWARMA",{"$f":"SUM('Production DAY 24'!G33)","v":0},null,{"$f":"SUM('DAY 25'!AK69)","v":0},{"$f":"SUM('DAY 25'!AK70)","v":0},0,true]
[33,"BEEF SUYA STICK",{"$f":"SUM('Production DAY 24'!G34)","v":0},null,{"$f":"SUM('DAY 25'!AL69)","v":0},{"$f":"SUM('DAY 25'!AL70)","v":0},0,true]
[34,"EMPTY 1",{"$f":"SUM('Production DAY 24'!G35)","v":0},null,{"$f":"SUM('DAY 25'!AM69)","v":0},{"$f":"SUM('DAY 25'!AM70)","v":0},0,true]
[35,"EMPTY 2",{"$f":"SUM('Production DAY 24'!G36)","v":0},null,{"$f":"SUM('DAY 25'!AN69)","v":0},{"$f":"SUM('DAY 25'!AN70)","v":0},0,true]
[36,"EMPTY 3",{"$f":"SUM('Production DAY 24'!G37)","v":0},null,{"$f":"SUM('DAY 25'!AO69)","v":0},{"$f":"SUM('DAY 25'!AO70)","v":0},0,true]
[37,"EMPTY 4",{"$f":"SUM('Production DAY 24'!G38)","v":0},null,{"$f":"SUM('DAY 25'!AP69)","v":0},{"$f":"SUM('DAY 25'!AP70)","v":0},0,true]
[38,"EMPTY 5",{"$f":"SUM('Production DAY 24'!G39)","v":0},null,{"$f":"SUM('DAY 25'!AQ69)","v":0},{"$f":"SUM('DAY 25'!AQ70)","v":0},0,true]
[39,"EMPTY 6",{"$f":"SUM('Production DAY 24'!G40)","v":0},null,{"$f":"SUM('DAY 25'!AR69)","v":0},{"$f":"SUM('DAY 25'!AR70)","v":0},0,true]
[40,"EMPTY 7",{"$f":"SUM('Production DAY 24'!G41)","v":0},null,{"$f":"SUM('DAY 25'!AS69)","v":0},{"$f":"SUM('DAY 25'!AS70)","v":0},0,true]
[41,"EMPTY 8",{"$f":"SUM('Production DAY 24'!G42)","v":0},null,{"$f":"SUM('DAY 25'!AT69)","v":0},{"$f":"SUM('DAY 25'!AT70)","v":0},0,true]
[42,"EMPTY 9",{"$f":"SUM('Production DAY 24'!G43)","v":0},null,{"$f":"SUM('DAY 25'!AU69)","v":0},{"$f":"SUM('DAY 25'!AU70)","v":0},0,true]
[43,"EMPTY 10",{"$f":"SUM('Production DAY 24'!G44)","v":0},null,{"$f":"SUM('DAY 25'!AV69)","v":0},{"$f":"SUM('DAY 25'!AV70)","v":0},0,true]

{"sheet":"DAY 25","index":49,"n_rows":70,"n_cols":47,"rows_kept":70,"cut":false,"hidden":false,"merged":[[0,7,0,28]]}
["FEBRUARY 12th, 2022",null,null,{"$f":"SUM(D3:D50)","v":0},null,null,null,"BURGER PALACE INVENTORY RECORDS"]
["ITEM","AMOUNT","QUANTITY","TOTAL",null,"Burger Bread","Chicken Patty","Shawarma Bread","Chicken Portion or Shawarma portion","Sausage","Portion of Fries","Pieces of Chicken","Cheese","Bacon","A Paper Bag","Achicken Box","Paper Wrap","A Branded Nylon","Parfait","A Bottle of SUGAR Juice","35 CL Soft Drink","Beef Patty","Cream in GRAMS","KETCHUP","plain Nylon","Barbeque Sauce","Meal Box","COCONUT BREAD ","SUPA KOMMANDO ","SHAWARMA SUB","CAN COKE / FANTA","NUGGETS","PRAWN","FARM PRIDE 50CL OR PULPY","FARM PRIDE 1 LT","BEEF PORTION FOR SHAWARMA ","BEEF SUYA STICK","EMPTY 1","EMPTY 2","EMPTY 3","EMPTY 4","EMPTY 5","EMPTY 6","EMPTY 7","EMPTY 8","EMPTY 9","EMPTY 10"]
["DELUXE BURGER MEAL (WITH SOFT DRINK)",5400,0,{"$f":"SUM(B3*C3)","v":0},null,{"$f":"SUM(C3)","v":0},{"$f":"SUM(C3)","v":0},{"$f":"SUM(C3)","v":0},{"$f":"SUM(C3)","v":0},{"$f":"SUM(C3)","v":0},{"$f":"SUM(C3)","v":0},{"$f":"SUM(C3)*2","v":0},"ZERO","ZERO",{"$f":"SUM(C3)*1","v":0},{"$f":"SUM(C3)","v":0},{"$f":"SUM(C3)*2","v":0},{"$f":"SUM(C3)","v":0},null,"ZERO",{"$f":"SUM(C3)","v":0},null,{"$f":"SUM(C3)*140","v":0},{"$f":"SUM(C3)","v":0},{"$f":"SUM(C3)","v":0},"ZERO",null,null,null,null,null,null,null,null,null,{"$f":"SUM(AD3)","v":0},0]
["DELUXE BURGER MEAL (WITH SUGARCANE JUICE)",5600,0,{"$f":"SUM(B4*C4)","v":0},null,{"$f":"SUM(C4)","v":0},{"$f":"SUM(C4)","v":0},{"$f":"SUM(C4)","v":0},{"$f":"SUM(C4)","v":0},{"$f":"SUM(C4)","v":0},0,{"$f":"SUM(C4)*2","v":0},"ZERO","ZERO",{"$f":"SUM(C4)*1","v":0},0,{"$f":"SUM(C4)*2","v":0},0,null,{"$f":"SUM(C4)","v":0},"ZERO",null,{"$f":"SUM(C4)*140","v":0},{"$f":"SUM(C4)","v":0},0,"ZERO",null,null,null,null,null,null,null,null,null,0,0]
["DELUXE MEAL EXTRA (WITH Soft Drink)",null,0,{"$f":"SUM(B5*C5)","v":0},null,{"$f":"SUM(C5)","v":0},{"$f":"SUM(C5)","v":0},{"$f":"SUM(C5)","v":0},{"$f":"SUM(C5)","v":0},{"$f":"SUM(C5)","v":0},0,{"$f":"SUM(C5)*2","v":0},"ZERO","ZERO",{"$f":"SUM(C5)","v":0},0,{"$f":"SUM(C5)*2","v":0},0,{"$f":"SUM(C5)","v":0},"ZERO",{"$f":"SUM(C5)","v":0},null,{"$f":"SUM(C5)*140","v":0},{"$f":"SUM(C5)","v":0},0,"ZERO",null,null,null,null,null,null,null,null,null,0,0]
["DELUXE BURGER MEAL Extra (With Sugarcane juice",null,0,{"$f":"SUM(B6*C6)","v":0},null,{"$f":"SUM(C6)","v":0},{"$f":"SUM(C6)","v":0},{"$f":"SUM(C6)","v":0},{"$f":"SUM(C6)","v":0},{"$f":"SUM(C6)","v":0},0,{"$f":"SUM(C6)*2","v":0},"ZERO","ZERO",{"$f":"SUM(C6)","v":0},0,{"$f":"SUM(C6)*2","v":0},0,{"$f":"SUM(C6)","v":0},{"$f":"SUM(C6)","v":0},"ZERO",null,{"$f":"SUM(C6)*140","v":0},{"$f":"SUM(C6)","v":0},0,"ZERO",null,null,null,null,null,null,null,null,null,0,0]
["PREMIUM BURGER Meal ",5900,0,{"$f":"SUM(B7*C7)","v":0},null,{"$f":"SUM(C7)","v":0},{"$f":"SUM(C7)","v":0},"ZERO","ZERO","ZERO",0,{"$f":"SUM(C7)*5","v":0},"ZERO","ZERO",{"$f":"SUM(C7)","v":0},0,{"$f":"SUM(C7)*1.25","v":0},0,"ZERO","ZERO",{"$f":"SUM(C7)","v":0},"ZERO",{"$f":"SUM(C7)*70","v":0},{"$f":"SUM(C7)*2","v":0},0,{"$f":"SUM(C7)","v":0},null,null,null,null,null,null,null,null,null,"ZERO","ZERO"]
["CRISPY CHICKEN BOX",4300,0,null,null,"ZERO","ZERO","ZERO","ZERO","ZERO",0,{"$f":"SUM(C8)*5","v":0},"ZERO","ZERO","ZERO",0,{"$f":"SUM(C8)*0.25","v":0},0,"ZERO","ZERO",{"$f":"SUM(C8)","v":0},"ZERO","ZERO",{"$f":"SUM(C8)*2","v":0},0,{"$f":"SUM(C8)","v":0},null,null,null,null,null,null,null,null,null,"ZERO","ZERO"]
["ROYAL BURGER MEAL (CHICKEN  PATTY)",null,0,{"$f":"SUM(B9*C9)","v":0},null,{"$f":"SUM(C9)","v":0},{"$f":"SUM(C9)*2","v":0},"ZERO","ZERO","ZERO",0,"ZERO",{"$f":"SUM(C9)*2","v":0},{"$f":"SUM(C9)*2","v":0},"ZERO",0,{"$f":"SUM(C9)","v":0},0,{"$f":"SUM(C9)","v":0},"ZERO","ZERO","ZERO",{"$f":"SUM(C9)*140","v":0},{"$f":"SUM(C9)*2","v":0},0,{"$f":"SUM(C9)","v":0},null,null,null,null,null,null,null,null,null,"ZERO","ZERO"]
["ROYAL BURGER MEAL (BEEF  PATTY)",null,0,{"$f":"SUM(B10*C10)","v":0},null,{"$f":"SUM(C10)","v":0},"ZERO","ZERO","ZERO","ZERO",0,"ZERO",{"$f":"SUM(C10)*2","v":0},{"$f":"SUM(C10)*2","v":0},"ZERO",0,0,0,{"$f":"SUM(C10)","v":0},"ZERO","ZERO",{"$f":"SUM(C10)*2","v":0},{"$f":"SUM(C10)*140","v":0},{"$f":"SUM(C10)*2","v":0},0,{"$f":"SUM(C10)","v":0},null,null,null,null,null,null,null,null,null,"ZERO","ZERO"]
["ROYAL BURGER ONLY (CHICKEN PATTY)",3300,0,{"$f":"SUM(B11*C11:C25,A1,A1,A1,A1,A1)","v":0},null,{"$f":"SUM(C11)","v":0},{"$f":"SUM(C11)*2","v":0},"ZERO","ZERO","ZERO","ZERO","ZERO",{"$f":"SUM(C11)*2","v":0},{"$f":"SUM(C11)*2","v":0},"ZERO",0,0,0,"ZERO","ZERO","ZERO","ZERO",{"$f":"SUM(C11)*140","v":0},{"$f":"SUM(C11)","v":0},"ZERO","ZERO",null,null,null,null,null,null,null,null,null,"ZERO","ZERO"]
["ROYAL BURGER ONLY (BEEF PATTY)",3300,0,{"$f":"SUM(B12*C12)","v":0},null,{"$f":"SUM(C12)","v":0},null,"ZERO","ZERO","ZERO","ZERO","ZERO",{"$f":"SUM(C12)*2","v":0},{"$f":"SUM(C12)*2","v":0},"ZERO",0,0,0,"ZERO","ZERO","ZERO",{"$f":"SUM(C12)*2","v":0},{"$f":"SUM(C12)*140","v":0},{"$f":"SUM(C12)","v":0},"ZERO","ZERO",null,null,null,null,null,null,null,null,null,"ZERO","ZERO"]
["MAYOR'S COCONUT BURGER ",2800,0,0,null,0,{"$f":"SUM(C13)","v":0},"ZERO","ZERO","ZERO","ZERO","ZERO",{"$f":"SUM(C13)","v":0},"ZERO","ZERO",0,0,0,"ZERO","ZERO","ZERO",{"$f":"SUM(C13)","v":0},{"$f":"SUM(C13)*140","v":0},"ZERO","ZERO","ZERO",null,{"$f":"SUM(C13)","v":0},{"$f":"SUM(C13)","v":0},null,null,null,null,null,null,"ZERO","ZERO"]
["DOUBLE DECKER CRISPY CHK. CHEESE BURGER",2500,0,0,null,{"$f":"SUM(C14)","v":0},{"$f":"SUM(C14)*2","v":0},"ZERO","ZERO","ZERO","ZERO","ZERO",{"$f":"SUM(C14)","v":0},"ZERO","ZERO",0,0,"ZERO","ZERO","ZERO","ZERO","ZERO",{"$f":"SUM(C14)*70","v":0},"ZERO","ZERO","ZERO",null,null,null,null,null,null,null,null,null,"ZERO","ZERO"]
["SINGLE BEEF BURGER",1700,0,0,null,0,"ZERO","ZERO","ZERO","ZERO","ZERO","ZERO",null,"ZERO",{"$f":"SUM(C15)","v":0},null,0,"ZERO","ZERO","ZERO","ZERO",{"$f":"SUM(C15)","v":0},{"$f":"SUM(C15)*70","v":0},"ZERO","ZERO","ZERO",null,null,null,null,null,null,null,null,null,"ZERO","ZERO"]
["YANKEE BURGER",2400,0,0,null,0,"ZERO","ZERO","ZERO","ZERO","ZERO","ZERO",null,{"$f":"SUM(C16)*2","v":0},{"$f":"SUM(C16)","v":0},null,0,"ZERO","ZERO","ZERO","ZERO",{"$f":"SUM(C16)","v":0},{"$f":"SUM(C16)*70","v":0},"ZERO","ZERO","ZERO",null,null,null,null,null,null,null,null,null,"ZERO","ZERO"]
["ROYAL BURGER WITH FRIES (Chicken)",4000,0,0,null,0,{"$f":"SUM(C17)*2","v":0},"ZERO","ZERO","ZERO",{"$f":"SUM(C17)","v":0},"ZERO",{"$f":"SUM(C17)*2","v":0},{"$f":"SUM(C17)*2","v":0},"ZERO",{"$f":"SUM(C17)","v":0},0,"ZERO","ZERO","ZERO","ZERO","ZERO",{"$f":"SUM(C17)*140","v":0},{"$f":"SUM(C17)*2","v":0},"ZERO","ZERO",null,null,null,null,null,null,null,null,null,"ZERO","ZERO"]
["ROYAL BURGER WITH FRIES (BEEF)",4000,0,0,null,0,"ZERO","ZERO","ZERO","ZERO",{"$f":"SUM(C18)","v":0},"ZERO",{"$f":"SUM(C18)*2","v":0},{"$f":"SUM(C18)*2","v":0},"ZERO",{"$f":"SUM(C18)","v":0},0,"ZERO","ZERO","ZERO","ZERO",{"$f":"SUM(C18)*2","v":0},{"$f":"SUM(C18)*140","v":0},{"$f":"SUM(C18)*2","v":0},"ZERO","ZERO",null,null,null,null,null,null,null,null,null,"ZERO","ZERO"]
["CRISPY CHICKEN BURGER",1700,0,0,null,0,{"$f":"SUM(C19)","v":0},"ZERO","ZERO","ZERO","ZERO","ZERO","ZERO","ZERO",{"$f":"SUM(C19)","v":0},"ZERO",{"$f":"SUM(C19)*1","v":0},"ZERO","ZERO","ZERO","ZERO","ZERO",{"$f":"SUM(C19)*70","v":0},"ZERO","ZERO","ZERO",null,null,null,null,null,null,null,null,null,"ZERO","ZERO"]
["SUYA BURGER BOX",5500,0,0,null,0,{"$f":"SUM(C20)*2","v":0},"ZERO","ZERO",{"$f":"SUM(C20)*4","v":0},{"$f":"SUM(C20)","v":0},{"$f":"SUM(C20)*4","v":0},"ZERO","ZERO",{"$f":"SUM(C20)","v":0},{"$f":"SUM(C20)","v":0},{"$f":"SUM(C20)","v":0},"ZERO","ZERO",null,{"$f":"SUM(C20)","v":0},"ZERO",0,{"$f":"SUM(C20)*2","v":0},{"$f":"SUM(C20)","v":0},"ZERO",{"$f":"SUM(C20)","v":0},null,null,null,null,null,null,null,null,"ZERO","ZERO"]
["CRISPY CHICKEN BURGER PLUS CHEESE",2100,0,0,null,0,{"$f":"SUM(C21)","v":0},"ZERO","ZERO","ZERO","ZERO","ZERO",{"$f":"SUM(C21)","v":0},"ZERO",{"$f":"SUM(C21)","v":0},"ZERO",0,"ZERO","ZERO","ZERO","ZERO","ZERO",0,"ZERO","ZERO","ZERO",null,null,null,null,null,null,null,null,null,"ZERO","ZERO"]
["SINGLE BEEF CHEESE BURGER ",2100,0,0,null,0,"ZERO","ZERO","ZERO","ZERO","ZERO","ZERO",{"$f":"SUM(C22)","v":0},"ZERO",{"$f":"SUM(C22)","v":0},"ZERO",0,"ZERO","ZERO","ZERO","ZERO",{"$f":"SUM(C22)","v":0},0,"ZERO","ZERO","ZERO",null,null,null,null,null,null,null,null,null,"ZERO","ZERO"]
["DOUBLE DECKER BEEF CHEESE BURGER",2800,0,0,null,0,"ZERO","ZERO","ZERO","ZERO","ZERO","ZERO",{"$f":"SUM(C23)*2","v":0},"ZERO","ZERO",{"$f":"SUM(C23)","v":0},0,"ZERO","ZERO","ZERO","ZERO",{"$f":"SUM(C23)*2","v":0},0,"ZERO","ZERO","ZERO",null,null,null,null,null,null,null,null,null,"ZERO","ZERO"]
["CHICKEN SUYA BURGER ",2200,0,0,null,0,{"$f":"SUM(C24)*2","v":0},"ZERO","ZERO","ZERO","ZERO","ZERO","ZERO","ZERO",{"$f":"SUM(C24)*1","v":0},"ZERO",0,"ZERO","ZERO","ZERO","ZERO","ZERO",0,"ZERO","ZERO","ZERO",null,null,null,null,null,null,null,null,null,"ZERO","ZERO"]
["CHICKEN SHAWARMA",1800,0,0,null,null,"ZERO",{"$f":"SUM(C25)","v":0},{"$f":"SUM(C25)","v":0},{"$f":"SUM(C25)*2","v":0},"ZERO","ZERO","ZERO","ZERO","ZERO","ZERO",0,{"$f":"SUM(C25)","v":0},"ZERO","ZERO","ZERO","ZERO",0,"ZERO","ZERO","ZERO",null,null,null,null,null,null,null,null,null,{"$f":"SUM(AD25)","v":0},{"$f":"SUM(AE25)","v":0}]
["BARBECUE BEEF SHAWARMA",2000,0,0,null,null,"ZERO",{"$f":"SUM(C26)","v":0},"ZERO",{"$f":"SUM(C26)*2","v":0},"ZERO","ZERO","ZERO","ZERO","ZERO","ZERO",0,0,"ZERO","ZERO","ZERO","ZERO",0,"ZERO","ZERO","ZERO",null,null,null,null,null,null,null,null,null,{"$f":"SUM(C26)","v":0},"ZERO"]
["BEEF SUYA SHAWARMA",2200,0,0,null,null,"ZERO",{"$f":"SUM(C27)","v":0},"ZERO",{"$f":"SUM(C27)*2","v":0},"ZERO","ZERO","ZERO","ZERO","ZERO","ZERO",0,0,"ZERO","ZERO","ZERO","ZERO",0,"ZERO","ZERO","ZERO",null,null,null,null,null,null,null,null,null,{"$f":"SUM(AD27)","v":0},{"$f":"SUM(C27)","v":0}]
["BEEF SUYA BURGER ",2200,0,0,null,{"$f":"SUM(C28)","v":0},"ZERO",null,"ZERO","ZERO","ZERO","ZERO","ZERO","ZERO",{"$f":"SUM(C28)","v":0},"ZERO",0,0,"ZERO","ZERO","ZERO","ZERO",0,"ZERO","ZERO","ZERO",null,null,null,null,null,null,null,null,null,{"$f":"SUM(AD28)","v":0},{"$f":"SUM(C28)","v":0}]
["CHICKEN SUYA SHAWARMA",2200,0,0,null,"ZERO",{"$f":"SUM(C29)*2","v":0},{"$f":"SUM(C29)","v":0},null,{"$f":"SUM(C29)*2","v":0},"ZERO","ZERO","ZERO","ZERO","ZERO","ZERO",0,0,"ZERO","ZERO","ZERO","ZERO",0,"ZERO","ZERO","ZERO"]
["CHESSY SHAWARMA",2500,0,0,null,"ZERO","ZERO",{"$f":"SUM(C30)","v":0},{"$f":"SUM(C30)","v":0},{"$f":"SUM(C30)*2","v":0},null,"ZERO",{"$f":"SUM(C30)*2","v":0},"ZERO","ZERO","ZERO",0,0,"ZERO","ZERO","ZERO","ZERO",{"$f":"SUM(C30)*140","v":0},"ZERO","ZERO","ZERO",null,null,null,null,null,null,null,null,null,{"$f":"SUM(AD30)","v":0},{"$f":"SUM(AE30)","v":0}]
["2 CHICKEN AND CHIPS",2300,0,0,null,"ZERO","ZERO","ZERO","ZERO","ZERO",{"$f":"SUM(C31)","v":0},{"$f":"SUM(C31)*2","v":0},"ZERO","ZERO","ZERO",{"$f":"SUM(C31)","v":0},"ZERO",0,"ZERO","ZERO","ZERO","ZERO","ZERO",{"$f":"SUM(C31)","v":0},"ZERO","ZERO",null,null,null,null,null,null,null,null,null,"ZERO","ZERO"]
["4 CHICKEN AND CHIPS",3500,0,0,null,"ZERO","ZERO","ZERO","ZERO","ZERO",{"$f":"SUM(C32)","v":0},{"$f":"SUM(C32)*4","v":0},"ZERO","ZERO","ZERO",{"$f":"SUM(C32)","v":0},"ZERO",0,"ZERO","ZERO","ZERO","ZERO","ZERO",{"$f":"SUM(C32)*2","v":0},"ZERO","ZERO","zero","zero","zero",null,null,null,null,null,null,"ZERO","ZERO"]
["SPICY CHICKEN ONLY",650,0,null,null,"ZERO","ZERO","ZERO","ZERO","ZERO","ZERO",{"$f":"SUM(C33)","v":0},"ZERO","ZERO","ZERO","ZERO","ZERO","ZERO","ZERO","ZERO","ZERO","ZERO","ZERO","ZERO",{"$f":"SUM(C33)","v":0},"ZERO",null,null,null,null,null,null,null,null,null,"ZERO","ZERO"]
["CRISPY CHICKEN ONLY",650,0,{"$f":"SUM(B34*C34)","v":0},null,"ZERO","ZERO","ZERO","ZERO","ZERO","ZERO",{"$f":"SUM(C34)","v":0},"ZERO","ZERO","ZERO","ZERO","ZERO","ZERO","ZERO","ZERO","ZERO","ZERO","ZERO","ZERO",{"$f":"SUM(C34)","v":0},"ZERO",null,null,null,null,null,null,null,null,null,"ZERO","ZERO"]
["POTATO FRIES",700,0,0,null,"ZERO","ZERO","ZERO","ZERO","ZERO",null,"ZERO","ZERO","ZERO","ZERO","ZERO","ZERO","ZERO","ZERO","ZERO","ZERO","ZERO","ZERO","ZERO","ZERO","ZERO",null,null,null,null,null,null,null,null,null,"ZERO","ZERO"]
["FRENCH FRIES ONLY",1000,0,0,null,"ZERO","ZERO","ZERO","ZERO","ZERO",{"$f":"SUM(C36)","v":0},"ZERO","ZERO","ZERO","ZERO","ZERO","ZERO","ZERO","ZERO","ZERO","ZERO","ZERO","ZERO","ZERO",{"$f":"SUM(C36)","v":0},"ZERO",null,null,null,null,null,null,null,null,null,"ZERO","ZERO"]
["SUGERCANNE JUICE",750,0,0,null,"ZERO","ZERO","ZERO","ZERO","ZERO","ZERO","ZERO","ZERO","ZERO","ZERO","ZERO","ZERO","ZERO","ZERO",{"$f":"SUM(C37)","v":0},"ZERO","ZERO","ZERO","ZERO","ZERO","ZERO",null,null,null,null,null,null,null,null,null,"ZERO","ZERO"]
["35 CL SOFT DRINK",200,0,0,null,"ZERO","ZERO","ZERO","ZERO","ZERO","ZERO","ZERO","ZERO","ZERO","ZERO","ZERO","ZERO","ZERO","ZERO","ZERO",{"$f":"SUM(C38)","v":0},"ZERO","ZERO","ZERO","ZERO","ZERO",null,null,null,null,null,null,null,null,null,"ZERO","ZERO"]
["PARFAIT",null,0,0,null,"ZERO","ZERO","ZERO","ZERO","ZERO","ZERO","ZERO","ZERO","ZERO","ZERO","ZERO","ZERO",{"$f":"SUM(C39)","v":0},{"$f":"SUM(C39)","v":0},"ZERO","ZERO","ZERO","ZERO","ZERO","ZERO","ZERO",null,null,null,null,null,null,null,null,null,"ZERO","ZERO"]
["MARINATED WINGS",500,0,0,null,"ZERO","ZERO","ZERO","ZERO","ZERO","ZERO",{"$f":"SUM(C40)","v":0},"ZERO","ZERO","ZERO","ZERO","ZERO","ZERO","ZERO","ZERO","ZERO","ZERO","ZERO","ZERO","ZERO","ZERO",null,null,null,null,null,null,null,null,null,"ZERO","ZERO"]
["CHEESE ",400,0,0,null,"ZERO","ZERO","ZERO","ZERO","ZERO","ZERO","ZERO",{"$f":"SUM(C41)","v":0},"ZERO","ZERO","ZERO","ZERO","ZERO","ZERO","ZERO","ZERO","ZERO","ZERO","ZERO","ZERO","ZERO",null,null,null,null,null,null,null,null,null,"ZERO","ZERO"]
["SAUSAGE",200,0,0,null,null,null,null,null,null,"ZERO"]
["BACON",400,0,0,null,"ZERO","ZERO","ZERO","ZERO","ZERO","ZERO","ZERO","ZERO",{"$f":"SUM(C43)","v":0},"ZERO","ZERO","ZERO","ZERO","ZERO","ZERO","ZERO","ZERO","ZERO","ZERO","ZERO","ZERO",null,null,null,null,null,null,null,null,null,"ZERO","ZERO"]
["FRIENDY BURGER MEAL (WITH SOFT DRINK)",10200,0,0,null,{"$f":"SUM(C44)*2","v":0},{"$f":"SUM(C44)*2","v":0},{"$f":"SUM(C44)*2","v":0},{"$f":"SUM(C44)*2","v":0},{"$f":"SUM(C44)*2","v":0},{"$f":"SUM(C44)*2","v":0},{"$f":"SUM(C44)*2*2","v":0},"ZERO","ZERO",{"$f":"SUM(C44)*1*2","v":0},{"$f":"SUM(C44)*2","v":0},{"$f":"SUM(C44)*2*2","v":0},{"$f":"SUM(C44)*2","v":0},null,"ZERO",{"$f":"SUM(C44)*2","v":0},null,{"$f":"SUM(C44)*140*2","v":0},{"$f":"SUM(C44)*2","v":0},{"$f":"SUM(C44)*2","v":0},"ZERO",null,null,null,null,null,null,null,null,null,{"$f":"SUM(AD44)*2","v":0},{"$f":"SUM(AE44)*2","v":0}]
["FRIENDY BURGER MEAL (WITH SUGARCANE JUICE)",10600,0,0,null,{"$f":"SUM(C45)*2","v":0},{"$f":"SUM(C45)*2","v":0},{"$f":"SUM(C45)*2","v":0},{"$f":"SUM(C45)*2","v":0},{"$f":"SUM(C45)*2","v":0},{"$f":"SUM(C45)*2","v":0},{"$f":"SUM(C45)*2*2","v":0},"ZERO","ZERO",{"$f":"SUM(C45)*1*2","v":0},{"$f":"SUM(C45)*2","v":0},{"$f":"SUM(C45)*2*2","v":0},{"$f":"SUM(C45)*2","v":0},null,{"$f":"SUM(C45)*2","v":0},"ZERO",null,{"$f":"SUM(C45)*140*2","v":0},{"$f":"SUM(C45)*2","v":0},{"$f":"SUM(C45)*2","v":0},"ZERO",null,null,null,null,null,null,null,null,null,{"$f":"SUM(AD45)*2","v":0},{"$f":"SUM(AE45)*2","v":0}]
["SHAWARMA  SUB",1800,0,0,null,null,"ZERO","ZERO",{"$f":"SUM(C46)","v":0},{"$f":"SUM(C46)*2","v":0},"ZERO","ZERO","ZERO","ZERO",{"$f":"SUM(C46)*1","v":0},"ZERO",{"$f":"SUM(C46)","v":0},"ZERO","ZERO","ZERO","ZERO","ZERO",{"$f":"SUM(C46)*70","v":0},"ZERO","ZERO","ZERO",null,null,null,{"$f":"SUM(C46)","v":0},null,null,null,null,null,{"$f":"SUM(AD46)","v":0},{"$f":"SUM(AE46)","v":0}]
["DELISH PACK 1",5300,0,0,null,{"$f":"SUM(C47)","v":0},{"$f":"SUM(C47)","v":0},"ZERO",{"$f":"SUM(C47)","v":0},{"$f":"SUM(C47)*2","v":0},"ZERO",{"$f":"SUM(C47)*4","v":0},"ZERO","ZERO",{"$f":"SUM(C47)*1","v":0},{"$f":"SUM(C47)*1","v":0},{"$f":"SUM(C47)*2","v":0},{"$f":"SUM(C47)","v":0},"ZERO","ZERO","ZERO","ZERO",{"$f":"SUM(C47)*70","v":0},"ZERO","ZERO","ZERO",null,null,null,{"$f":"SUM(C47)","v":0},{"$f":"SUM(C47)*1","v":0},null,null,null,null,{"$f":"SUM(AD47)","v":0},{"$f":"SUM(AE47)","v":0}]
["FAMILY BURGER MEAL (WITH SOFT DRINK)",19800,0,0,null,{"$f":"SUM(C48)*4","v":0},{"$f":"SUM(C48)*4","v":0},{"$f":"SUM(C48)*4","v":0},{"$f":"SUM(C48)*4","v":0},{"$f":"SUM(C48)*4","v":0},{"$f":"SUM(C48)*4","v":0},{"$f":"SUM(C48)*2*4","v":0},"ZERO","ZERO",{"$f":"SUM(C48)*1*4","v":0},{"$f":"SUM(C48)*4","v":0},{"$f":"SUM(C48)*2*4","v":0},{"$f":"SUM(C48)*4","v":0},null,"ZERO",{"$f":"SUM(C48)*4","v":0},null,{"$f":"SUM(C48)*140*4","v":0},{"$f":"SUM(C48)*4","v":0},{"$f":"SUM(C48)*4","v":0},"ZERO",null,null,null,null,null,null,null,null,null,{"$f":"SUM(AD48)*4","v":0},{"$f":"SUM(AE48)*4","v":0}]
["FAMILY BURGER MEAL (WITH SUGARCANE JUICE)",20800,0,0,null,{"$f":"SUM(C49)*4","v":0},{"$f":"SUM(C49)*4","v":0},{"$f":"SUM(C49)*4","v":0},{"$f":"SUM(C49)*4","v":0},{"$f":"SUM(C49)*4","v":0},{"$f":"SUM(C49)*4","v":0},{"$f":"SUM(C49)*2*4","v":0},"ZERO","ZERO",{"$f":"SUM(C49)*1*4","v":0},{"$f":"SUM(C49)*4","v":0},{"$f":"SUM(C49)*2*4","v":0},{"$f":"SUM(C49)*4","v":0},null,{"$f":"SUM(C49)*4","v":0},"ZERO",null,{"$f":"SUM(C49)*140*4","v":0},{"$f":"SUM(C49)*4","v":0},{"$f":"SUM(C49)*4","v":0},"ZERO",null,null,null,null,null,null,null,null,null,{"$f":"SUM(AD49)*4","v":0},{"$f":"SUM(AE49)*4","v":0}]
["CAN COKE/FANTA ONLY",null,0,0,null,"ZERO","ZERO","ZERO","ZERO","ZERO","ZERO","ZERO","ZERO","ZERO","ZERO","ZERO","ZERO","ZERO","ZERO","ZERO","ZERO","ZERO","ZERO","ZERO","ZERO","ZERO",null,null,null,null,{"$f":"SUM(C50)","v":0},null,null,null,null,"ZERO","ZERO"]
["SUPA KOMMANDO ONLY",250,0,0,null,"ZERO","ZERO","ZERO","ZERO","ZERO","ZERO","ZERO","ZERO","ZERO","ZERO","ZERO","ZERO","ZERO","ZERO","ZERO","ZERO","ZERO","ZERO","ZERO","ZERO","ZERO",null,null,{"$f":"SUM(C51)","v":0},null,"ZERO","ZERO",null,null,null,"ZERO","ZERO"]
["10X Chicken Nuggets ",2400,0,0,null,null,null,null,null,null,"ZERO",null,null,null,null,{"$f":"SUM(C52)","v":0},null,{"$f":"SUM(C52)","v":0},null,null,null,null,null,{"$f":"SUM(C52)","v":0},null,null,null,null,null,null,{"$f":"SUM(C52)","v":0},{"$f":"SUM(C52)*10","v":0}]
["20X Chicken Nuggets ",4800,0,0,null,null,null,null,null,null,"ZERO ",null,null,null,null,{"$f":"SUM(C53)","v":0},null,{"$f":"SUM(C53)","v":0},null,null,null,null,null,{"$f":"SUM(C53)","v":0},null,null,null,null,null,null,{"$f":"SUM(C53)","v":0},{"$f":"SUM(C53)*20","v":0}]
["10 CHICKEN NUGGETS & FRIES BOX",3300,0,0,null,null,null,null,null,null,{"$f":"SUM(C54)","v":0},null,null,null,null,{"$f":"SUM(C54)","v":0},null,{"$f":"SUM(C54)","v":0},null,null,null,null,null,{"$f":"SUM(C54)","v":0},null,null,null,null,null,null,{"$f":"SUM(C54)","v":0},{"$f":"SUM(C54)*10","v":0}]
["20 CHICKEN NUGGETS & FRIES BOX",6600,0,0,null,null,null,null,null,null,{"$f":"SUM(C55)","v":0},null,null,null,null,{"$f":"SUM(C55)","v":0},null,{"$f":"SUM(C55)","v":0},null,null,null,null,null,{"$f":"SUM(C55)","v":0},null,null,null,null,null,null,{"$f":"SUM(C55)","v":0},{"$f":"SUM(C55)*20","v":0}]
["PRAWN BURGER ",3000,0,0,null,{"$f":"SUM(C56)","v":0},"ZERO","ZERO","ZERO","ZERO","ZERO","ZERO",{"$f":"SUM(C56)","v":0},"ZERO",{"$f":"SUM(C56)","v":0},"ZERO",{"$f":"SUM(C56)","v":0},"ZERO","ZERO","ZERO","ZERO","ZERO",{"$f":"SUM(C56)*70","v":0},"ZERO","ZERO","ZERO",null,null,null,null,null,null,{"$f":"SUM(C56)*2","v":0},null,null,"ZERO","ZERO"]
[" FUNMMY NUGGETS  BOX",5300,0,0,null,{"$f":"SUM(C57)","v":0},{"$f":"SUM(C57)","v":0},null,null,null,{"$f":"SUM(C57)","v":0},null,{"$f":"SUM(C57)","v":0},null,{"$f":"SUM(C57)","v":0},{"$f":"SUM(C57)","v":0},null,{"$f":"SUM(C57)","v":0},null,null,null,null,null,{"$f":"SUM(C57)","v":0},null,null,null,null,null,null,{"$f":"SUM(C57)","v":0},{"$f":"SUM(C57)*10","v":0}]
["FARM PRIDE 50 CL",500,0,0,null,"ZERO","ZERO","ZERO","ZERO","ZERO","ZERO","ZERO","ZERO","ZERO","ZERO","ZERO","ZERO","ZERO","ZERO","ZERO","ZERO","ZERO","ZERO","ZERO","ZERO","ZERO",null,null,null,null,null,null,null,{"$f":"SUM(C58)","v":0},null,"ZERO","ZERO"]
["FARM PRIDE 1 LITRE",800,0,0,null,"ZERO","ZERO","ZERO","ZERO","ZERO","ZERO","ZERO","ZERO","ZERO","ZERO","ZERO","ZERO","ZERO","ZERO","ZERO","ZERO","ZERO","ZERO","ZERO","ZERO","ZERO",null,null,null,null,null,null,null,"ZERO",{"$f":"SUM(C59)","v":0},"ZERO","ZERO"]
["GRILLED CHICKEN BURGER",1700,0,{"$f":"SUM(B60*C60)","v":0},null,{"$f":"SUM(C60)","v":0},{"$f":"SUM(C60)","v":0},"ZERO","ZERO","ZERO","ZERO","ZERO","ZERO","ZERO",{"$f":"SUM(C60)","v":0},"ZERO",{"$f":"SUM(C60)*1","v":0},"ZERO","ZERO","ZERO","ZERO","ZERO",{"$f":"SUM(C60)*70","v":0},"ZERO","ZERO","ZERO",null,null,null,null,null,null,null,null,null,"ZERO","ZERO"]
["GRILLED CHICKEN BURGER + JUICE",2200,0,{"$f":"SUM(B61*C61)","v":0},null,{"$f":"SUM(C61)","v":0},{"$f":"SUM(C61)","v":0},"ZERO","ZERO","ZERO","ZERO","ZERO","ZERO","ZERO",{"$f":"SUM(C61)","v":0},"ZERO",{"$f":"SUM(C61)*1","v":0},"ZERO","ZERO","ZERO","ZERO","ZERO",{"$f":"SUM(C61)*70","v":0},"ZERO","ZERO","ZERO",null,null,null,null,null,null,null,{"$f":"SUM(C61)","v":0},null,"ZERO","ZERO"]
["GRILLED BURGER MEAL 1 & 3",4000,0,{"$f":"SUM(B62*C62)","v":0},null,{"$f":"SUM(C62)","v":0},{"$f":"SUM(C62)","v":0},"ZERO","ZERO","ZERO",{"$f":"SUM(C62)","v":0},{"$f":"SUM(C62)*2","v":0},"ZERO","ZERO","ZERO",{"$f":"SUM(C62)","v":0},{"$f":"SUM(C62)","v":0},{"$f":"SUM(C62)","v":0},"ZERO","ZERO","ZERO","ZERO",{"$f":"SUM(C62)*70","v":0},{"$f":"SUM(C62)","v":0},"ZERO","ZERO",null,null,null,null,null,null,null,{"$f":"SUM(C62)","v":0},null,"ZERO","ZERO"]
["GRILLED BURGER MEAL 2",3700,0,{"$f":"SUM(B63*C63)","v":0},null,{"$f":"SUM(C63)","v":0},{"$f":"SUM(C63)","v":0},"ZERO","ZERO","ZERO",{"$f":"SUM(C63)","v":0},{"$f":"SUM(C63)*2","v":0},"ZERO","ZERO","ZERO",{"$f":"SUM(C63)","v":0},{"$f":"SUM(C63)","v":0},{"$f":"SUM(C63)","v":0},"ZERO","ZERO",{"$f":"SUM(C63)","v":0},"ZERO",{"$f":"SUM(C63)*70","v":0},{"$f":"SUM(C63)","v":0},"ZERO","ZERO",null,null,null,null,null,null,null,"ZERO",null,"ZERO","ZERO"]
["MASTERPIECE BURGER ",5000,0,{"$f":"SUM(B64*C64)","v":0},null,{"$f":"SUM(C64)","v":0},"ZERO","ZERO","ZERO","ZERO","ZERO","ZERO",{"$f":"SUM(C64)","v":0},"ZERO","ZERO",{"$f":"SUM(C64)","v":0},{"$f":"SUM(C64)","v":0},"ZERO","ZERO","ZERO",{"$f":"SUM(C64)","v":0},{"$f":"SUM(C64)","v":0},{"$f":"SUM(C64)*70","v":0},"ZERO","ZERO","ZERO",null,null,null,null,null,null,null,null,null,"ZERO",{"$f":"SUM(C64)","v":0}]
["SUYA BURGER BOX 2 (WITH BEEF SUYA BURGER)",6000,0,0,null,0,"ZERO ","ZERO","ZERO",0,0,0,"ZERO","ZERO",0,0,0,"ZERO","ZERO",null,0,"ZERO",0,0,0,"ZERO",0,null,null,null,null,null,null,null,null,"ZERO",0]
["OPENING STOCK",null,null,null,null,{"$f":"SUM('Production DAY 25'!C2)","v":0},{"$f":"SUM('Production DAY 25'!C3)","v":0},{"$f":"SUM('Production DAY 25'!C4)","v":0},{"$f":"SUM('Production DAY 25'!C5)","v":0},{"$f":"SUM('Production DAY 25'!C6)","v":0},{"$f":"SUM('Production DAY 25'!C7)","v":0},{"$f":"SUM('Production DAY 25'!C8)","v":0},{"$f":"SUM('Production DAY 25'!C9)","v":0},{"$f":"SUM('Production DAY 25'!C10)","v":0},{"$f":"SUM('Production DAY 25'!C11)","v":0},{"$f":"SUM('Production DAY 25'!C12)","v":0},{"$f":"SUM('Production DAY 25'!C13)","v":0},{"$f":"SUM('Production DAY 25'!C14)","v":0},{"$f":"SUM('Production DAY 25'!C15)","v":0},{"$f":"SUM('Production DAY 25'!C16)","v":0},{"$f":"SUM('Production DAY 25'!C17)","v":0},{"$f":"SUM('Production DAY 25'!C18)","v":0},{"$f":"SUM('Production DAY 25'!C19)","v":0},{"$f":"SUM('Production DAY 25'!C20)","v":0},{"$f":"SUM('Production DAY 25'!C21)","v":0},{"$f":"SUM('Production DAY 25'!C22)","v":0},{"$f":"SUM('Production DAY 25'!C23)","v":0},{"$f":"SUM('Production DAY 25'!C24)","v":0},{"$f":"SUM('Production DAY 25'!C25)","v":0},{"$f":"SUM('Production DAY 25'!C26)","v":0},{"$f":"SUM('Production DAY 25'!C27)","v":0},{"$f":"SUM('Production DAY 25'!C28)","v":0},{"$f":"SUM('Production DAY 25'!C29)","v":0},{"$f":"SUM('Production DAY 25'!C30)","v":0},{"$f":"SUM('Production DAY 25'!C31)","v":0},{"$f":"SUM('Production DAY 25'!C32)","v":0},{"$f":"SUM('Production DAY 25'!C33)","v":0},{"$f":"SUM('Production DAY 25'!C34)","v":0},{"$f":"SUM('Production DAY 25'!C35)","v":0},{"$f":"SUM('Production DAY 25'!C36)","v":0},{"$f":"SUM('Production DAY 25'!C37)","v":0},{"$f":"SUM('Production DAY 25'!C38)","v":0},{"$f":"SUM('Production DAY 25'!C39)","v":0},{"$f":"SUM('Production DAY 25'!C40)","v":0},{"$f":"SUM('Production DAY 25'!C41)","v":0},{"$f":"SUM('Production DAY 25'!C42)","v":0},{"$f":"SUM('Production DAY 25'!C43)","v":0}]
["RECEIVED",null,null,null,null,{"$f":"SUM('Production DAY 25'!D2)","v":0},{"$f":"SUM('Production DAY 25'!D3)","v":0},{"$f":"SUM('Production DAY 25'!D4)","v":0},{"$f":"SUM('Production DAY 25'!D5)","v":0},{"$f":"SUM('Production DAY 25'!D6)","v":0},{"$f":"SUM('Production DAY 25'!D7)","v":0},{"$f":"SUM('Production DAY 25'!D8)","v":0},{"$f":"SUM('Production DAY 25'!D9)","v":0},{"$f":"SUM('Production DAY 25'!D10)","v":0},{"$f":"SUM('Production DAY 25'!D11)","v":0},{"$f":"SUM('Production DAY 25'!D12)","v":0},{"$f":"SUM('Production DAY 25'!D13)","v":0},{"$f":"SUM('Production DAY 25'!D14)","v":0},{"$f":"SUM('Production DAY 25'!D15)","v":0},{"$f":"SUM('Production DAY 25'!D16)","v":0},{"$f":"SUM('Production DAY 25'!D17)","v":0},{"$f":"SUM('Production DAY 25'!D18)","v":0},{"$f":"SUM('Production DAY 25'!D19)","v":0},{"$f":"SUM('Production DAY 25'!D20)","v":0},{"$f":"SUM('Production DAY 25'!D21)","v":0},{"$f":"SUM('Production DAY 25'!D22)","v":0},{"$f":"SUM('Production DAY 25'!D23)","v":0},{"$f":"SUM('Production DAY 25'!D24)","v":0},{"$f":"SUM('Production DAY 25'!D25)","v":0},{"$f":"SUM('Production DAY 25'!D26)","v":0},{"$f":"SUM('Production DAY 25'!D27)","v":0},{"$f":"SUM('Production DAY 25'!D28)","v":0},{"$f":"SUM('Production DAY 25'!D29)","v":0},{"$f":"SUM('Production DAY 25'!D30)","v":0},{"$f":"SUM('Production DAY 25'!D31)","v":0},{"$f":"SUM('Production DAY 25'!D32)","v":0},{"$f":"SUM('Production DAY 25'!D33)","v":0},{"$f":"SUM('Production DAY 25'!D34)","v":0},{"$f":"SUM('Production DAY 25'!D35)","v":0},{"$f":"SUM('Production DAY 25'!D36)","v":0},{"$f":"SUM('Production DAY 25'!D37)","v":0},{"$f":"SUM('Production DAY 25'!D38)","v":0},{"$f":"SUM('Production DAY 25'!D39)","v":0},{"$f":"SUM('Production DAY 25'!D40)","v":0},{"$f":"SUM('Production DAY 25'!D41)","v":0},{"$f":"SUM('Production DAY 25'!D42)","v":0},{"$f":"SUM('Production DAY 25'!D43)","v":0}]
["TOTAL STOCK",null,null,null,null,{"$f":"SUM(F66:F67)","v":0},{"$f":"SUM(G66:G67)","v":0},{"$f":"SUM(H66:H67)","v":0},{"$f":"SUM(I66:I67)","v":0},0,0,0,0,0,0,{"$f":"SUM(P66:P67)","v":0},0,0,0,0,0,0,0,0,0,0,0,0,0,0,0,0,0,0,0,0,0,0,0,0,0,0,0,0,0,0,0]
["USED",null,null,{"$f":"SUM(D3:D65)","v":0},null,{"$f":"SUM(F3:F65)","v":0},0,0,0,0,0,0,0,0,0,0,0,0,0,0,0,0,0,0,0,0,0,0,0,0,0,0,0,0,0,0,0,{"$f":"SUM(AL3:AL64)","v":0},0,0,0,0,0,0,0,0,0]
["CLOSING STOCK",null,null,null,null,{"$f":"SUM(F68-F69)","v":0},0,0,0,0,0,0,0,0,0,0,0,0,0,0,0,0,0,0,0,0,0,0,0,0,0,0,0,{"$f":"SUM(AH66-AH69)","v":0},{"$f":"SUM(AI68-AI69)","v":0},0,0,0,0,0,0,0,0,0,0,0,0]

{"sheet":"Production DAY 26","index":50,"n_rows":44,"n_cols":8,"rows_kept":44,"cut":false,"hidden":false,"merged":[]}
["Nos#","ITEMS"," < OPENING STOCK","RECEIVED","USED >","SALES CLOSING STOCK >","PHYSICAL STOCK COUNT","COMMENTS"]
[1,"Burger Bread",{"$f":"SUM('Production DAY 25'!G2)","v":0},null,{"$f":"SUM('DAY 26'!F69)","v":0},{"$f":"SUM('DAY 26'!F70)","v":0},0,{"$f":"IF(G2=F2,TRUE,FALSE)","v":true}]
[2,"Chicken Patty",{"$f":"SUM('Production DAY 25'!G3)","v":0},null,{"$f":"SUM('DAY 26'!G69)","v":0},{"$f":"SUM('DAY 26'!G70)","v":0},0,true]
[3,"Shawarma Bread",{"$f":"SUM('Production DAY 25'!G4)","v":0},null,{"$f":"SUM('DAY 26'!H69)","v":0},{"$f":"SUM('DAY 26'!H70)","v":0},0,true]
[4,"Chicken Portion or Shawarma portion",{"$f":"SUM('Production DAY 25'!G5)","v":0},null,{"$f":"SUM('DAY 26'!I69)","v":0},{"$f":"SUM('DAY 26'!I70)","v":0},0,true]
[5,"Sausage",{"$f":"SUM('Production DAY 25'!G6)","v":0},null,{"$f":"SUM('DAY 26'!J69)","v":0},{"$f":"SUM('DAY 26'!J70)","v":0},0,true]
[6,"Portion of Fries",{"$f":"SUM('Production DAY 25'!G7)","v":0},null,{"$f":"SUM('DAY 26'!K69)","v":0},{"$f":"SUM('DAY 26'!K70)","v":0},0,true]
[7,"Pieces of Chicken",{"$f":"SUM('Production DAY 25'!G8)","v":0},null,{"$f":"SUM('DAY 26'!L69)","v":0},{"$f":"SUM('DAY 26'!L70)","v":0},0,true]
[8,"Cheese",{"$f":"SUM('Production DAY 25'!G9)","v":0},null,{"$f":"SUM('DAY 26'!M69)","v":0},{"$f":"SUM('DAY 26'!M70)","v":0},0,true]
[9,"Bacon",{"$f":"SUM('Production DAY 25'!G10)","v":0},null,{"$f":"SUM('DAY 26'!N69)","v":0},{"$f":"SUM('DAY 26'!N70)","v":0},0,true]
[10,"A Paper Bag",{"$f":"SUM('Production DAY 25'!G11)","v":0},null,{"$f":"SUM('DAY 26'!O69)","v":0},{"$f":"SUM('DAY 26'!O70)","v":0},0,true]
[11,"Achicken Box",{"$f":"SUM('Production DAY 25'!G12)","v":0},null,{"$f":"SUM('DAY 26'!P69)","v":0},{"$f":"SUM('DAY 26'!P70)","v":0},0,true]
[12,"Paper Wrap",{"$f":"SUM('Production DAY 25'!G13)","v":0},null,{"$f":"SUM('DAY 26'!Q69)","v":0},{"$f":"SUM('DAY 26'!Q70)","v":0},0,true]
[13,"A Branded Nylon",{"$f":"SUM('Production DAY 25'!G14)","v":0},null,{"$f":"SUM('DAY 26'!R69)","v":0},{"$f":"SUM('DAY 26'!R70)","v":0},0,true]
[14,"Parfait",{"$f":"SUM('Production DAY 25'!G15)","v":0},null,{"$f":"SUM('DAY 26'!S69)","v":0},{"$f":"SUM('DAY 26'!S70)","v":0},0,true]
[15,"A Bottle of SUGAR Juice",{"$f":"SUM('Production DAY 25'!G16)","v":0},null,{"$f":"SUM('DAY 26'!T69)","v":0},{"$f":"SUM('DAY 26'!T70)","v":0},0,true]
[16,"35 CL Soft Drink",{"$f":"SUM('Production DAY 25'!G17)","v":0},null,{"$f":"SUM('DAY 26'!U69)","v":0},{"$f":"SUM('DAY 26'!U70)","v":0},0,true]
[17,"Beef Patty",{"$f":"SUM('Production DAY 25'!G18)","v":0},null,{"$f":"SUM('DAY 26'!V69)","v":0},{"$f":"SUM('DAY 26'!V70)","v":0},0,true]
[18,"Cream in GRAMS",{"$f":"SUM('Production DAY 25'!G19)","v":0},null,{"$f":"SUM('DAY 26'!W69)","v":0},{"$f":"SUM('DAY 26'!W70)","v":0},0,true]
[19,"KETCHUP",{"$f":"SUM('Production DAY 25'!G20)","v":0},null,{"$f":"SUM('DAY 26'!X69)","v":0},{"$f":"SUM('DAY 26'!X70)","v":0},0,true]
[20,"plain Nylon",{"$f":"SUM('Production DAY 25'!G21)","v":0},null,{"$f":"SUM('DAY 26'!Y69)","v":0},{"$f":"SUM('DAY 26'!Y70)","v":0},0,true]
[21,"Barbeque Sauce",{"$f":"SUM('Production DAY 25'!G22)","v":0},null,{"$f":"SUM('DAY 26'!Z69)","v":0},{"$f":"SUM('DAY 26'!Z70)","v":0},0,true]
[22,"Meal Box",{"$f":"SUM('Production DAY 25'!G23)","v":0},null,{"$f":"SUM('DAY 26'!AA69)","v":0},{"$f":"SUM('DAY 26'!AA70)","v":0},0,true]
[23,"COCONUT BREAD",{"$f":"SUM('Production DAY 25'!G24)","v":0},null,{"$f":"SUM('DAY 26'!AB69)","v":0},{"$f":"SUM('DAY 26'!AB70)","v":0},0,true]
[24,"SUPA KOMMANDO",{"$f":"SUM('Production DAY 25'!G25)","v":0},null,{"$f":"SUM('DAY 26'!AC69)","v":0},{"$f":"SUM('DAY 26'!AC70)","v":0},0,true]
[25,"SHAWARMA SUB",{"$f":"SUM('Production DAY 25'!G26)","v":0},null,{"$f":"SUM('DAY 26'!AD69)","v":0},{"$f":"SUM('DAY 26'!AD70)","v":0},0,true]
[26,"CAN COKE / FANTA",{"$f":"SUM('Production DAY 25'!G27)","v":0},null,{"$f":"SUM('DAY 26'!AE69)","v":0},{"$f":"SUM('DAY 26'!AE70)","v":0},0,true]
[27,"NUGGETS ",{"$f":"SUM('Production DAY 25'!G28)","v":0},null,{"$f":"SUM('DAY 26'!AF69)","v":0},{"$f":"SUM('DAY 26'!AF70)","v":0},0,true]
[28,"PRAWN",{"$f":"SUM('Production DAY 25'!G29)","v":0},null,{"$f":"SUM('DAY 26'!AG69)","v":0},{"$f":"SUM('DAY 26'!AG70)","v":0},0,true]
[29,"FARM PRIDE",{"$f":"SUM('Production DAY 25'!G30)","v":0},null,{"$f":"SUM('DAY 26'!AH69)","v":0},{"$f":"SUM('DAY 26'!AH70)","v":0},0,true]
[30,"50CL OR PULPY",{"$f":"SUM('Production DAY 25'!G31)","v":0},null,{"$f":"SUM('DAY 26'!AI69)","v":0},{"$f":"SUM('DAY 26'!AI70)","v":0},0,true]
[31,"FARM PRIDE 1 LT",{"$f":"SUM('Production DAY 25'!G32)","v":0},null,{"$f":"SUM('DAY 26'!AJ69)","v":0},{"$f":"SUM('DAY 26'!AJ70)","v":0},0,true]
[32,"BEEF PORTION FOR SHAWARMA",{"$f":"SUM('Production DAY 25'!G33)","v":0},null,{"$f":"SUM('DAY 26'!AK69)","v":0},{"$f":"SUM('DAY 26'!AK70)","v":0},0,true]
[33,"BEEF SUYA STICK",{"$f":"SUM('Production DAY 25'!G34)","v":0},null,{"$f":"SUM('DAY 26'!AL69)","v":0},{"$f":"SUM('DAY 26'!AL70)","v":0},0,true]
[34,"EMPTY 1",{"$f":"SUM('Production DAY 25'!G35)","v":0},null,{"$f":"SUM('DAY 26'!AM69)","v":0},{"$f":"SUM('DAY 26'!AM70)","v":0},0,true]
[35,"EMPTY 2",{"$f":"SUM('Production DAY 25'!G36)","v":0},null,{"$f":"SUM('DAY 26'!AN69)","v":0},{"$f":"SUM('DAY 26'!AN70)","v":0},0,true]
[36,"EMPTY 3",{"$f":"SUM('Production DAY 25'!G37)","v":0},null,{"$f":"SUM('DAY 26'!AO69)","v":0},{"$f":"SUM('DAY 26'!AO70)","v":0},0,true]
[37,"EMPTY 4",{"$f":"SUM('Production DAY 25'!G38)","v":0},null,{"$f":"SUM('DAY 26'!AP69)","v":0},{"$f":"SUM('DAY 26'!AP70)","v":0},0,true]
[38,"EMPTY 5",{"$f":"SUM('Production DAY 25'!G39)","v":0},null,{"$f":"SUM('DAY 26'!AQ69)","v":0},{"$f":"SUM('DAY 26'!AQ70)","v":0},0,true]
[39,"EMPTY 6",{"$f":"SUM('Production DAY 25'!G40)","v":0},null,{"$f":"SUM('DAY 26'!AR69)","v":0},{"$f":"SUM('DAY 26'!AR70)","v":0},0,true]
[40,"EMPTY 7",{"$f":"SUM('Production DAY 25'!G41)","v":0},null,{"$f":"SUM('DAY 26'!AS69)","v":0},{"$f":"SUM('DAY 26'!AS70)","v":0},0,true]
[41,"EMPTY 8",{"$f":"SUM('Production DAY 25'!G42)","v":0},null,{"$f":"SUM('DAY 26'!AT69)","v":0},{"$f":"SUM('DAY 26'!AT70)","v":0},0,true]
[42,"EMPTY 9",{"$f":"SUM('Production DAY 25'!G43)","v":0},null,{"$f":"SUM('DAY 26'!AU69)","v":0},{"$f":"SUM('DAY 26'!AU70)","v":0},0,true]
[43,"EMPTY 10",{"$f":"SUM('Production DAY 25'!G44)","v":0},null,{"$f":"SUM('DAY 26'!AV69)","v":0},{"$f":"SUM('DAY 26'!AV70)","v":0},0,true]

{"sheet":"DAY 26","index":51,"n_rows":70,"n_cols":47,"rows_kept":70,"cut":false,"hidden":false,"merged":[[0,7,0,28]]}
["FEBRUARY 12th, 2022",null,null,{"$f":"SUM(D3:D50)","v":0},null,null,null,"BURGER PALACE INVENTORY RECORDS"]
["ITEM","AMOUNT","QUANTITY","TOTAL",null,"Burger Bread","Chicken Patty","Shawarma Bread","Chicken Portion or Shawarma portion","Sausage","Portion of Fries","Pieces of Chicken","Cheese","Bacon","A Paper Bag","Achicken Box","Paper Wrap","A Branded Nylon","Parfait","A Bottle of SUGAR Juice","35 CL Soft Drink","Beef Patty","Cream in GRAMS","KETCHUP","plain Nylon","Barbeque Sauce","Meal Box","COCONUT BREAD ","SUPA KOMMANDO ","SHAWARMA SUB","CAN COKE / FANTA","NUGGETS","PRAWN","FARM PRIDE 50CL OR PULPY","FARM PRIDE 1 LT","BEEF PORTION FOR SHAWARMA ","BEEF SUYA STICK","EMPTY 1","EMPTY 2","EMPTY 3","EMPTY 4","EMPTY 5","EMPTY 6","EMPTY 7","EMPTY 8","EMPTY 9","EMPTY 10"]
["DELUXE BURGER MEAL (WITH SOFT DRINK)",5400,0,{"$f":"SUM(B3*C3)","v":0},null,{"$f":"SUM(C3)","v":0},{"$f":"SUM(C3)","v":0},{"$f":"SUM(C3)","v":0},{"$f":"SUM(C3)","v":0},{"$f":"SUM(C3)","v":0},{"$f":"SUM(C3)","v":0},{"$f":"SUM(C3)*2","v":0},"ZERO","ZERO",{"$f":"SUM(C3)*1","v":0},{"$f":"SUM(C3)","v":0},{"$f":"SUM(C3)*2","v":0},{"$f":"SUM(C3)","v":0},null,"ZERO",{"$f":"SUM(C3)","v":0},null,{"$f":"SUM(C3)*140","v":0},{"$f":"SUM(C3)","v":0},{"$f":"SUM(C3)","v":0},"ZERO",null,null,null,null,null,null,null,null,null,{"$f":"SUM(AD3)","v":0},0]
["DELUXE BURGER MEAL (WITH SUGARCANE JUICE)",5600,0,{"$f":"SUM(B4*C4)","v":0},null,{"$f":"SUM(C4)","v":0},{"$f":"SUM(C4)","v":0},{"$f":"SUM(C4)","v":0},{"$f":"SUM(C4)","v":0},{"$f":"SUM(C4)","v":0},0,{"$f":"SUM(C4)*2","v":0},"ZERO","ZERO",{"$f":"SUM(C4)*1","v":0},0,{"$f":"SUM(C4)*2","v":0},0,null,{"$f":"SUM(C4)","v":0},"ZERO",null,{"$f":"SUM(C4)*140","v":0},{"$f":"SUM(C4)","v":0},0,"ZERO",null,null,null,null,null,null,null,null,null,0,0]
["DELUXE MEAL EXTRA (WITH Soft Drink)",null,0,{"$f":"SUM(B5*C5)","v":0},null,{"$f":"SUM(C5)","v":0},{"$f":"SUM(C5)","v":0},{"$f":"SUM(C5)","v":0},{"$f":"SUM(C5)","v":0},{"$f":"SUM(C5)","v":0},0,{"$f":"SUM(C5)*2","v":0},"ZERO","ZERO",{"$f":"SUM(C5)","v":0},0,{"$f":"SUM(C5)*2","v":0},0,{"$f":"SUM(C5)","v":0},"ZERO",{"$f":"SUM(C5)","v":0},null,{"$f":"SUM(C5)*140","v":0},{"$f":"SUM(C5)","v":0},0,"ZERO",null,null,null,null,null,null,null,null,null,0,0]
["DELUXE BURGER MEAL Extra (With Sugarcane juice",null,0,{"$f":"SUM(B6*C6)","v":0},null,{"$f":"SUM(C6)","v":0},{"$f":"SUM(C6)","v":0},{"$f":"SUM(C6)","v":0},{"$f":"SUM(C6)","v":0},{"$f":"SUM(C6)","v":0},0,{"$f":"SUM(C6)*2","v":0},"ZERO","ZERO",{"$f":"SUM(C6)","v":0},0,{"$f":"SUM(C6)*2","v":0},0,{"$f":"SUM(C6)","v":0},{"$f":"SUM(C6)","v":0},"ZERO",null,{"$f":"SUM(C6)*140","v":0},{"$f":"SUM(C6)","v":0},0,"ZERO",null,null,null,null,null,null,null,null,null,0,0]
["PREMIUM BURGER Meal ",5900,0,{"$f":"SUM(B7*C7)","v":0},null,{"$f":"SUM(C7)","v":0},{"$f":"SUM(C7)","v":0},"ZERO","ZERO","ZERO",0,{"$f":"SUM(C7)*5","v":0},"ZERO","ZERO",{"$f":"SUM(C7)","v":0},0,{"$f":"SUM(C7)*1.25","v":0},0,"ZERO","ZERO",{"$f":"SUM(C7)","v":0},"ZERO",{"$f":"SUM(C7)*70","v":0},{"$f":"SUM(C7)*2","v":0},0,{"$f":"SUM(C7)","v":0},null,null,null,null,null,null,null,null,null,"ZERO","ZERO"]
["CRISPY CHICKEN BOX",4300,0,null,null,"ZERO","ZERO","ZERO","ZERO","ZERO",0,{"$f":"SUM(C8)*5","v":0},"ZERO","ZERO","ZERO",0,{"$f":"SUM(C8)*0.25","v":0},0,"ZERO","ZERO",{"$f":"SUM(C8)","v":0},"ZERO","ZERO",{"$f":"SUM(C8)*2","v":0},0,{"$f":"SUM(C8)","v":0},null,null,null,null,null,null,null,null,null,"ZERO","ZERO"]
["ROYAL BURGER MEAL (CHICKEN  PATTY)",null,0,{"$f":"SUM(B9*C9)","v":0},null,{"$f":"SUM(C9)","v":0},{"$f":"SUM(C9)*2","v":0},"ZERO","ZERO","ZERO",0,"ZERO",{"$f":"SUM(C9)*2","v":0},{"$f":"SUM(C9)*2","v":0},"ZERO",0,{"$f":"SUM(C9)","v":0},0,{"$f":"SUM(C9)","v":0},"ZERO","ZERO","ZERO",{"$f":"SUM(C9)*140","v":0},{"$f":"SUM(C9)*2","v":0},0,{"$f":"SUM(C9)","v":0},null,null,null,null,null,null,null,null,null,"ZERO","ZERO"]
["ROYAL BURGER MEAL (BEEF  PATTY)",null,0,{"$f":"SUM(B10*C10)","v":0},null,{"$f":"SUM(C10)","v":0},"ZERO","ZERO","ZERO","ZERO",0,"ZERO",{"$f":"SUM(C10)*2","v":0},{"$f":"SUM(C10)*2","v":0},"ZERO",0,0,0,{"$f":"SUM(C10)","v":0},"ZERO","ZERO",{"$f":"SUM(C10)*2","v":0},{"$f":"SUM(C10)*140","v":0},{"$f":"SUM(C10)*2","v":0},0,{"$f":"SUM(C10)","v":0},null,null,null,null,null,null,null,null,null,"ZERO","ZERO"]
["ROYAL BURGER ONLY (CHICKEN PATTY)",3300,0,{"$f":"SUM(B11*C11:C25,A1,A1,A1,A1,A1)","v":0},null,{"$f":"SUM(C11)","v":0},{"$f":"SUM(C11)*2","v":0},"ZERO","ZERO","ZERO","ZERO","ZERO",{"$f":"SUM(C11)*2","v":0},{"$f":"SUM(C11)*2","v":0},"ZERO",0,0,0,"ZERO","ZERO","ZERO","ZERO",{"$f":"SUM(C11)*140","v":0},{"$f":"SUM(C11)","v":0},"ZERO","ZERO",null,null,null,null,null,null,null,null,null,"ZERO","ZERO"]
["ROYAL BURGER ONLY (BEEF PATTY)",3300,0,{"$f":"SUM(B12*C12)","v":0},null,{"$f":"SUM(C12)","v":0},null,"ZERO","ZERO","ZERO","ZERO","ZERO",{"$f":"SUM(C12)*2","v":0},{"$f":"SUM(C12)*2","v":0},"ZERO",0,0,0,"ZERO","ZERO","ZERO",{"$f":"SUM(C12)*2","v":0},{"$f":"SUM(C12)*140","v":0},{"$f":"SUM(C12)","v":0},"ZERO","ZERO",null,null,null,null,null,null,null,null,null,"ZERO","ZERO"]
["MAYOR'S COCONUT BURGER ",2800,0,0,null,0,{"$f":"SUM(C13)","v":0},"ZERO","ZERO","ZERO","ZERO","ZERO",{"$f":"SUM(C13)","v":0},"ZERO","ZERO",0,0,0,"ZERO","ZERO","ZERO",{"$f":"SUM(C13)","v":0},{"$f":"SUM(C13)*140","v":0},"ZERO","ZERO","ZERO",null,{"$f":"SUM(C13)","v":0},{"$f":"SUM(C13)","v":0},null,null,null,null,null,null,"ZERO","ZERO"]
["DOUBLE DECKER CRISPY CHK. CHEESE BURGER",2500,0,0,null,{"$f":"SUM(C14)","v":0},{"$f":"SUM(C14)*2","v":0},"ZERO","ZERO","ZERO","ZERO","ZERO",{"$f":"SUM(C14)","v":0},"ZERO","ZERO",0,0,"ZERO","ZERO","ZERO","ZERO","ZERO",{"$f":"SUM(C14)*70","v":0},"ZERO","ZERO","ZERO",null,null,null,null,null,null,null,null,null,"ZERO","ZERO"]
["SINGLE BEEF BURGER",1700,0,0,null,0,"ZERO","ZERO","ZERO","ZERO","ZERO","ZERO",null,"ZERO",{"$f":"SUM(C15)","v":0},null,0,"ZERO","ZERO","ZERO","ZERO",{"$f":"SUM(C15)","v":0},{"$f":"SUM(C15)*70","v":0},"ZERO","ZERO","ZERO",null,null,null,null,null,null,null,null,null,"ZERO","ZERO"]
["YANKEE BURGER",2400,0,0,null,0,"ZERO","ZERO","ZERO","ZERO","ZERO","ZERO",null,{"$f":"SUM(C16)*2","v":0},{"$f":"SUM(C16)","v":0},null,0,"ZERO","ZERO","ZERO","ZERO",{"$f":"SUM(C16)","v":0},{"$f":"SUM(C16)*70","v":0},"ZERO","ZERO","ZERO",null,null,null,null,null,null,null,null,null,"ZERO","ZERO"]
["ROYAL BURGER WITH FRIES (Chicken)",4000,0,0,null,0,{"$f":"SUM(C17)*2","v":0},"ZERO","ZERO","ZERO",{"$f":"SUM(C17)","v":0},"ZERO",{"$f":"SUM(C17)*2","v":0},{"$f":"SUM(C17)*2","v":0},"ZERO",{"$f":"SUM(C17)","v":0},0,"ZERO","ZERO","ZERO","ZERO","ZERO",{"$f":"SUM(C17)*140","v":0},{"$f":"SUM(C17)*2","v":0},"ZERO","ZERO",null,null,null,null,null,null,null,null,null,"ZERO","ZERO"]
["ROYAL BURGER WITH FRIES (BEEF)",4000,0,0,null,0,"ZERO","ZERO","ZERO","ZERO",{"$f":"SUM(C18)","v":0},"ZERO",{"$f":"SUM(C18)*2","v":0},{"$f":"SUM(C18)*2","v":0},"ZERO",{"$f":"SUM(C18)","v":0},0,"ZERO","ZERO","ZERO","ZERO",{"$f":"SUM(C18)*2","v":0},{"$f":"SUM(C18)*140","v":0},{"$f":"SUM(C18)*2","v":0},"ZERO","ZERO",null,null,null,null,null,null,null,null,null,"ZERO","ZERO"]
["CRISPY CHICKEN BURGER",1700,0,0,null,0,{"$f":"SUM(C19)","v":0},"ZERO","ZERO","ZERO","ZERO","ZERO","ZERO","ZERO",{"$f":"SUM(C19)","v":0},"ZERO",{"$f":"SUM(C19)*1","v":0},"ZERO","ZERO","ZERO","ZERO","ZERO",{"$f":"SUM(C19)*70","v":0},"ZERO","ZERO","ZERO",null,null,null,null,null,null,null,null,null,"ZERO","ZERO"]
["SUYA BURGER BOX",5500,0,0,null,0,{"$f":"SUM(C20)*2","v":0},"ZERO","ZERO",{"$f":"SUM(C20)*4","v":0},{"$f":"SUM(C20)","v":0},{"$f":"SUM(C20)*4","v":0},"ZERO","ZERO",{"$f":"SUM(C20)","v":0},{"$f":"SUM(C20)","v":0},{"$f":"SUM(C20)","v":0},"ZERO","ZERO",null,{"$f":"SUM(C20)","v":0},"ZERO",0,{"$f":"SUM(C20)*2","v":0},{"$f":"SUM(C20)","v":0},"ZERO",{"$f":"SUM(C20)","v":0},null,null,null,null,null,null,null,null,"ZERO","ZERO"]
["CRISPY CHICKEN BURGER PLUS CHEESE",2100,0,0,null,0,{"$f":"SUM(C21)","v":0},"ZERO","ZERO","ZERO","ZERO","ZERO",{"$f":"SUM(C21)","v":0},"ZERO",{"$f":"SUM(C21)","v":0},"ZERO",0,"ZERO","ZERO","ZERO","ZERO","ZERO",0,"ZERO","ZERO","ZERO",null,null,null,null,null,null,null,null,null,"ZERO","ZERO"]
["SINGLE BEEF CHEESE BURGER ",2100,0,0,null,0,"ZERO","ZERO","ZERO","ZERO","ZERO","ZERO",{"$f":"SUM(C22)","v":0},"ZERO",{"$f":"SUM(C22)","v":0},"ZERO",0,"ZERO","ZERO","ZERO","ZERO",{"$f":"SUM(C22)","v":0},0,"ZERO","ZERO","ZERO",null,null,null,null,null,null,null,null,null,"ZERO","ZERO"]
["DOUBLE DECKER BEEF CHEESE BURGER",2800,0,0,null,0,"ZERO","ZERO","ZERO","ZERO","ZERO","ZERO",{"$f":"SUM(C23)*2","v":0},"ZERO","ZERO",{"$f":"SUM(C23)","v":0},0,"ZERO","ZERO","ZERO","ZERO",{"$f":"SUM(C23)*2","v":0},0,"ZERO","ZERO","ZERO",null,null,null,null,null,null,null,null,null,"ZERO","ZERO"]
["CHICKEN SUYA BURGER ",2200,0,0,null,0,{"$f":"SUM(C24)*2","v":0},"ZERO","ZERO","ZERO","ZERO","ZERO","ZERO","ZERO",{"$f":"SUM(C24)*1","v":0},"ZERO",0,"ZERO","ZERO","ZERO","ZERO","ZERO",0,"ZERO","ZERO","ZERO",null,null,null,null,null,null,null,null,null,"ZERO","ZERO"]
["CHICKEN SHAWARMA",1800,0,0,null,null,"ZERO",{"$f":"SUM(C25)","v":0},{"$f":"SUM(C25)","v":0},{"$f":"SUM(C25)*2","v":0},"ZERO","ZERO","ZERO","ZERO","ZERO","ZERO",0,{"$f":"SUM(C25)","v":0},"ZERO","ZERO","ZERO","ZERO",0,"ZERO","ZERO","ZERO",null,null,null,null,null,null,null,null,null,{"$f":"SUM(AD25)","v":0},{"$f":"SUM(AE25)","v":0}]
["BARBECUE BEEF SHAWARMA",2000,0,0,null,null,"ZERO",{"$f":"SUM(C26)","v":0},"ZERO",{"$f":"SUM(C26)*2","v":0},"ZERO","ZERO","ZERO","ZERO","ZERO","ZERO",0,0,"ZERO","ZERO","ZERO","ZERO",0,"ZERO","ZERO","ZERO",null,null,null,null,null,null,null,null,null,{"$f":"SUM(C26)","v":0},"ZERO"]
["BEEF SUYA SHAWARMA",2200,0,0,null,null,"ZERO",{"$f":"SUM(C27)","v":0},"ZERO",{"$f":"SUM(C27)*2","v":0},"ZERO","ZERO","ZERO","ZERO","ZERO","ZERO",0,0,"ZERO","ZERO","ZERO","ZERO",0,"ZERO","ZERO","ZERO",null,null,null,null,null,null,null,null,null,{"$f":"SUM(AD27)","v":0},{"$f":"SUM(C27)","v":0}]
["BEEF SUYA BURGER ",2200,0,0,null,{"$f":"SUM(C28)","v":0},"ZERO",null,"ZERO","ZERO","ZERO","ZERO","ZERO","ZERO",{"$f":"SUM(C28)","v":0},"ZERO",0,0,"ZERO","ZERO","ZERO","ZERO",0,"ZERO","ZERO","ZERO",null,null,null,null,null,null,null,null,null,{"$f":"SUM(AD28)","v":0},{"$f":"SUM(C28)","v":0}]
["CHICKEN SUYA SHAWARMA",2200,0,0,null,"ZERO",{"$f":"SUM(C29)*2","v":0},{"$f":"SUM(C29)","v":0},null,{"$f":"SUM(C29)*2","v":0},"ZERO","ZERO","ZERO","ZERO","ZERO","ZERO",0,0,"ZERO","ZERO","ZERO","ZERO",0,"ZERO","ZERO","ZERO"]
["CHESSY SHAWARMA",2500,0,0,null,"ZERO","ZERO",{"$f":"SUM(C30)","v":0},{"$f":"SUM(C30)","v":0},{"$f":"SUM(C30)*2","v":0},null,"ZERO",{"$f":"SUM(C30)*2","v":0},"ZERO","ZERO","ZERO",0,0,"ZERO","ZERO","ZERO","ZERO",{"$f":"SUM(C30)*140","v":0},"ZERO","ZERO","ZERO",null,null,null,null,null,null,null,null,null,{"$f":"SUM(AD30)","v":0},{"$f":"SUM(AE30)","v":0}]
["2 CHICKEN AND CHIPS",2300,0,0,null,"ZERO","ZERO","ZERO","ZERO","ZERO",{"$f":"SUM(C31)","v":0},{"$f":"SUM(C31)*2","v":0},"ZERO","ZERO","ZERO",{"$f":"SUM(C31)","v":0},"ZERO",0,"ZERO","ZERO","ZERO","ZERO","ZERO",{"$f":"SUM(C31)","v":0},"ZERO","ZERO",null,null,null,null,null,null,null,null,null,"ZERO","ZERO"]
["4 CHICKEN AND CHIPS",3500,0,0,null,"ZERO","ZERO","ZERO","ZERO","ZERO",{"$f":"SUM(C32)","v":0},{"$f":"SUM(C32)*4","v":0},"ZERO","ZERO","ZERO",{"$f":"SUM(C32)","v":0},"ZERO",0,"ZERO","ZERO","ZERO","ZERO","ZERO",{"$f":"SUM(C32)*2","v":0},"ZERO","ZERO","zero","zero","zero",null,null,null,null,null,null,"ZERO","ZERO"]
["SPICY CHICKEN ONLY",650,0,null,null,"ZERO","ZERO","ZERO","ZERO","ZERO","ZERO",{"$f":"SUM(C33)","v":0},"ZERO","ZERO","ZERO","ZERO","ZERO","ZERO","ZERO","ZERO","ZERO","ZERO","ZERO","ZERO",{"$f":"SUM(C33)","v":0},"ZERO",null,null,null,null,null,null,null,null,null,"ZERO","ZERO"]
["CRISPY CHICKEN ONLY",650,0,{"$f":"SUM(B34*C34)","v":0},null,"ZERO","ZERO","ZERO","ZERO","ZERO","ZERO",{"$f":"SUM(C34)","v":0},"ZERO","ZERO","ZERO","ZERO","ZERO","ZERO","ZERO","ZERO","ZERO","ZERO","ZERO","ZERO",{"$f":"SUM(C34)","v":0},"ZERO",null,null,null,null,null,null,null,null,null,"ZERO","ZERO"]
["POTATO FRIES",700,0,0,null,"ZERO","ZERO","ZERO","ZERO","ZERO",null,"ZERO","ZERO","ZERO","ZERO","ZERO","ZERO","ZERO","ZERO","ZERO","ZERO","ZERO","ZERO","ZERO","ZERO","ZERO",null,null,null,null,null,null,null,null,null,"ZERO","ZERO"]
["FRENCH FRIES ONLY",1000,0,0,null,"ZERO","ZERO","ZERO","ZERO","ZERO",{"$f":"SUM(C36)","v":0},"ZERO","ZERO","ZERO","ZERO","ZERO","ZERO","ZERO","ZERO","ZERO","ZERO","ZERO","ZERO","ZERO",{"$f":"SUM(C36)","v":0},"ZERO",null,null,null,null,null,null,null,null,null,"ZERO","ZERO"]
["SUGERCANNE JUICE",750,0,0,null,"ZERO","ZERO","ZERO","ZERO","ZERO","ZERO","ZERO","ZERO","ZERO","ZERO","ZERO","ZERO","ZERO","ZERO",{"$f":"SUM(C37)","v":0},"ZERO","ZERO","ZERO","ZERO","ZERO","ZERO",null,null,null,null,null,null,null,null,null,"ZERO","ZERO"]
["35 CL SOFT DRINK",200,0,0,null,"ZERO","ZERO","ZERO","ZERO","ZERO","ZERO","ZERO","ZERO","ZERO","ZERO","ZERO","ZERO","ZERO","ZERO","ZERO",{"$f":"SUM(C38)","v":0},"ZERO","ZERO","ZERO","ZERO","ZERO",null,null,null,null,null,null,null,null,null,"ZERO","ZERO"]
["PARFAIT",null,0,0,null,"ZERO","ZERO","ZERO","ZERO","ZERO","ZERO","ZERO","ZERO","ZERO","ZERO","ZERO","ZERO",{"$f":"SUM(C39)","v":0},{"$f":"SUM(C39)","v":0},"ZERO","ZERO","ZERO","ZERO","ZERO","ZERO","ZERO",null,null,null,null,null,null,null,null,null,"ZERO","ZERO"]
["MARINATED WINGS",500,0,0,null,"ZERO","ZERO","ZERO","ZERO","ZERO","ZERO",{"$f":"SUM(C40)","v":0},"ZERO","ZERO","ZERO","ZERO","ZERO","ZERO","ZERO","ZERO","ZERO","ZERO","ZERO","ZERO","ZERO","ZERO",null,null,null,null,null,null,null,null,null,"ZERO","ZERO"]
["CHEESE ",400,0,0,null,"ZERO","ZERO","ZERO","ZERO","ZERO","ZERO","ZERO",{"$f":"SUM(C41)","v":0},"ZERO","ZERO","ZERO","ZERO","ZERO","ZERO","ZERO","ZERO","ZERO","ZERO","ZERO","ZERO","ZERO",null,null,null,null,null,null,null,null,null,"ZERO","ZERO"]
["SAUSAGE",200,0,0,null,null,null,null,null,null,"ZERO"]
["BACON",400,0,0,null,"ZERO","ZERO","ZERO","ZERO","ZERO","ZERO","ZERO","ZERO",{"$f":"SUM(C43)","v":0},"ZERO","ZERO","ZERO","ZERO","ZERO","ZERO","ZERO","ZERO","ZERO","ZERO","ZERO","ZERO",null,null,null,null,null,null,null,null,null,"ZERO","ZERO"]
["FRIENDY BURGER MEAL (WITH SOFT DRINK)",10200,0,0,null,{"$f":"SUM(C44)*2","v":0},{"$f":"SUM(C44)*2","v":0},{"$f":"SUM(C44)*2","v":0},{"$f":"SUM(C44)*2","v":0},{"$f":"SUM(C44)*2","v":0},{"$f":"SUM(C44)*2","v":0},{"$f":"SUM(C44)*2*2","v":0},"ZERO","ZERO",{"$f":"SUM(C44)*1*2","v":0},{"$f":"SUM(C44)*2","v":0},{"$f":"SUM(C44)*2*2","v":0},{"$f":"SUM(C44)*2","v":0},null,"ZERO",{"$f":"SUM(C44)*2","v":0},null,{"$f":"SUM(C44)*140*2","v":0},{"$f":"SUM(C44)*2","v":0},{"$f":"SUM(C44)*2","v":0},"ZERO",null,null,null,null,null,null,null,null,null,{"$f":"SUM(AD44)*2","v":0},{"$f":"SUM(AE44)*2","v":0}]
["FRIENDY BURGER MEAL (WITH SUGARCANE JUICE)",10600,0,0,null,{"$f":"SUM(C45)*2","v":0},{"$f":"SUM(C45)*2","v":0},{"$f":"SUM(C45)*2","v":0},{"$f":"SUM(C45)*2","v":0},{"$f":"SUM(C45)*2","v":0},{"$f":"SUM(C45)*2","v":0},{"$f":"SUM(C45)*2*2","v":0},"ZERO","ZERO",{"$f":"SUM(C45)*1*2","v":0},{"$f":"SUM(C45)*2","v":0},{"$f":"SUM(C45)*2*2","v":0},{"$f":"SUM(C45)*2","v":0},null,{"$f":"SUM(C45)*2","v":0},"ZERO",null,{"$f":"SUM(C45)*140*2","v":0},{"$f":"SUM(C45)*2","v":0},{"$f":"SUM(C45)*2","v":0},"ZERO",null,null,null,null,null,null,null,null,null,{"$f":"SUM(AD45)*2","v":0},{"$f":"SUM(AE45)*2","v":0}]
["SHAWARMA  SUB",1800,0,0,null,null,"ZERO","ZERO",{"$f":"SUM(C46)","v":0},{"$f":"SUM(C46)*2","v":0},"ZERO","ZERO","ZERO","ZERO",{"$f":"SUM(C46)*1","v":0},"ZERO",{"$f":"SUM(C46)","v":0},"ZERO","ZERO","ZERO","ZERO","ZERO",{"$f":"SUM(C46)*70","v":0},"ZERO","ZERO","ZERO",null,null,null,{"$f":"SUM(C46)","v":0},null,null,null,null,null,{"$f":"SUM(AD46)","v":0},{"$f":"SUM(AE46)","v":0}]
["DELISH PACK 1",5300,0,0,null,{"$f":"SUM(C47)","v":0},{"$f":"SUM(C47)","v":0},"ZERO",{"$f":"SUM(C47)","v":0},{"$f":"SUM(C47)*2","v":0},"ZERO",{"$f":"SUM(C47)*4","v":0},"ZERO","ZERO",{"$f":"SUM(C47)*1","v":0},{"$f":"SUM(C47)*1","v":0},{"$f":"SUM(C47)*2","v":0},{"$f":"SUM(C47)","v":0},"ZERO","ZERO","ZERO","ZERO",{"$f":"SUM(C47)*70","v":0},"ZERO","ZERO","ZERO",null,null,null,{"$f":"SUM(C47)","v":0},{"$f":"SUM(C47)*1","v":0},null,null,null,null,{"$f":"SUM(AD47)","v":0},{"$f":"SUM(AE47)","v":0}]
["FAMILY BURGER MEAL (WITH SOFT DRINK)",19800,0,0,null,{"$f":"SUM(C48)*4","v":0},{"$f":"SUM(C48)*4","v":0},{"$f":"SUM(C48)*4","v":0},{"$f":"SUM(C48)*4","v":0},{"$f":"SUM(C48)*4","v":0},{"$f":"SUM(C48)*4","v":0},{"$f":"SUM(C48)*2*4","v":0},"ZERO","ZERO",{"$f":"SUM(C48)*1*4","v":0},{"$f":"SUM(C48)*4","v":0},{"$f":"SUM(C48)*2*4","v":0},{"$f":"SUM(C48)*4","v":0},null,"ZERO",{"$f":"SUM(C48)*4","v":0},null,{"$f":"SUM(C48)*140*4","v":0},{"$f":"SUM(C48)*4","v":0},{"$f":"SUM(C48)*4","v":0},"ZERO",null,null,null,null,null,null,null,null,null,{"$f":"SUM(AD48)*4","v":0},{"$f":"SUM(AE48)*4","v":0}]
["FAMILY BURGER MEAL (WITH SUGARCANE JUICE)",20800,0,0,null,{"$f":"SUM(C49)*4","v":0},{"$f":"SUM(C49)*4","v":0},{"$f":"SUM(C49)*4","v":0},{"$f":"SUM(C49)*4","v":0},{"$f":"SUM(C49)*4","v":0},{"$f":"SUM(C49)*4","v":0},{"$f":"SUM(C49)*2*4","v":0},"ZERO","ZERO",{"$f":"SUM(C49)*1*4","v":0},{"$f":"SUM(C49)*4","v":0},{"$f":"SUM(C49)*2*4","v":0},{"$f":"SUM(C49)*4","v":0},null,{"$f":"SUM(C49)*4","v":0},"ZERO",null,{"$f":"SUM(C49)*140*4","v":0},{"$f":"SUM(C49)*4","v":0},{"$f":"SUM(C49)*4","v":0},"ZERO",null,null,null,null,null,null,null,null,null,{"$f":"SUM(AD49)*4","v":0},{"$f":"SUM(AE49)*4","v":0}]
["CAN COKE/FANTA ONLY",null,0,0,null,"ZERO","ZERO","ZERO","ZERO","ZERO","ZERO","ZERO","ZERO","ZERO","ZERO","ZERO","ZERO","ZERO","ZERO","ZERO","ZERO","ZERO","ZERO","ZERO","ZERO","ZERO",null,null,null,null,{"$f":"SUM(C50)","v":0},null,null,null,null,"ZERO","ZERO"]
["SUPA KOMMANDO ONLY",250,0,0,null,"ZERO","ZERO","ZERO","ZERO","ZERO","ZERO","ZERO","ZERO","ZERO","ZERO","ZERO","ZERO","ZERO","ZERO","ZERO","ZERO","ZERO","ZERO","ZERO","ZERO","ZERO",null,null,{"$f":"SUM(C51)","v":0},null,"ZERO","ZERO",null,null,null,"ZERO","ZERO"]
["10X Chicken Nuggets ",2400,0,0,null,null,null,null,null,null,"ZERO",null,null,null,null,{"$f":"SUM(C52)","v":0},null,{"$f":"SUM(C52)","v":0},null,null,null,null,null,{"$f":"SUM(C52)","v":0},null,null,null,null,null,null,{"$f":"SUM(C52)","v":0},{"$f":"SUM(C52)*10","v":0}]
["20X Chicken Nuggets ",4800,0,0,null,null,null,null,null,null,"ZERO ",null,null,null,null,{"$f":"SUM(C53)","v":0},null,{"$f":"SUM(C53)","v":0},null,null,null,null,null,{"$f":"SUM(C53)","v":0},null,null,null,null,null,null,{"$f":"SUM(C53)","v":0},{"$f":"SUM(C53)*20","v":0}]
["10 CHICKEN NUGGETS & FRIES BOX",3300,0,0,null,null,null,null,null,null,{"$f":"SUM(C54)","v":0},null,null,null,null,{"$f":"SUM(C54)","v":0},null,{"$f":"SUM(C54)","v":0},null,null,null,null,null,{"$f":"SUM(C54)","v":0},null,null,null,null,null,null,{"$f":"SUM(C54)","v":0},{"$f":"SUM(C54)*10","v":0}]
["20 CHICKEN NUGGETS & FRIES BOX",6600,0,0,null,null,null,null,null,null,{"$f":"SUM(C55)","v":0},null,null,null,null,{"$f":"SUM(C55)","v":0},null,{"$f":"SUM(C55)","v":0},null,null,null,null,null,{"$f":"SUM(C55)","v":0},null,null,null,null,null,null,{"$f":"SUM(C55)","v":0},{"$f":"SUM(C55)*20","v":0}]
["PRAWN BURGER ",3000,0,0,null,{"$f":"SUM(C56)","v":0},"ZERO","ZERO","ZERO","ZERO","ZERO","ZERO",{"$f":"SUM(C56)","v":0},"ZERO",{"$f":"SUM(C56)","v":0},"ZERO",{"$f":"SUM(C56)","v":0},"ZERO","ZERO","ZERO","ZERO","ZERO",{"$f":"SUM(C56)*70","v":0},"ZERO","ZERO","ZERO",null,null,null,null,null,null,{"$f":"SUM(C56)*2","v":0},null,null,"ZERO","ZERO"]
[" FUNMMY NUGGETS  BOX",5300,0,0,null,{"$f":"SUM(C57)","v":0},{"$f":"SUM(C57)","v":0},null,null,null,{"$f":"SUM(C57)","v":0},null,{"$f":"SUM(C57)","v":0},null,{"$f":"SUM(C57)","v":0},{"$f":"SUM(C57)","v":0},null,{"$f":"SUM(C57)","v":0},null,null,null,null,null,{"$f":"SUM(C57)","v":0},null,null,null,null,null,null,{"$f":"SUM(C57)","v":0},{"$f":"SUM(C57)*10","v":0}]
["FARM PRIDE 50 CL",500,0,0,null,"ZERO","ZERO","ZERO","ZERO","ZERO","ZERO","ZERO","ZERO","ZERO","ZERO","ZERO","ZERO","ZERO","ZERO","ZERO","ZERO","ZERO","ZERO","ZERO","ZERO","ZERO",null,null,null,null,null,null,null,{"$f":"SUM(C58)","v":0},null,"ZERO","ZERO"]
["FARM PRIDE 1 LITRE",800,0,0,null,"ZERO","ZERO","ZERO","ZERO","ZERO","ZERO","ZERO","ZERO","ZERO","ZERO","ZERO","ZERO","ZERO","ZERO","ZERO","ZERO","ZERO","ZERO","ZERO","ZERO","ZERO",null,null,null,null,null,null,null,"ZERO",{"$f":"SUM(C59)","v":0},"ZERO","ZERO"]
["GRILLED CHICKEN BURGER",1700,0,{"$f":"SUM(B60*C60)","v":0},null,{"$f":"SUM(C60)","v":0},{"$f":"SUM(C60)","v":0},"ZERO","ZERO","ZERO","ZERO","ZERO","ZERO","ZERO",{"$f":"SUM(C60)","v":0},"ZERO",{"$f":"SUM(C60)*1","v":0},"ZERO","ZERO","ZERO","ZERO","ZERO",{"$f":"SUM(C60)*70","v":0},"ZERO","ZERO","ZERO",null,null,null,null,null,null,null,null,null,"ZERO","ZERO"]
["GRILLED CHICKEN BURGER + JUICE",2200,0,{"$f":"SUM(B61*C61)","v":0},null,{"$f":"SUM(C61)","v":0},{"$f":"SUM(C61)","v":0},"ZERO","ZERO","ZERO","ZERO","ZERO","ZERO","ZERO",{"$f":"SUM(C61)","v":0},"ZERO",{"$f":"SUM(C61)*1","v":0},"ZERO","ZERO","ZERO","ZERO","ZERO",{"$f":"SUM(C61)*70","v":0},"ZERO","ZERO","ZERO",null,null,null,null,null,null,null,{"$f":"SUM(C61)","v":0},null,"ZERO","ZERO"]
["GRILLED BURGER MEAL 1 & 3",4000,0,{"$f":"SUM(B62*C62)","v":0},null,{"$f":"SUM(C62)","v":0},{"$f":"SUM(C62)","v":0},"ZERO","ZERO","ZERO",{"$f":"SUM(C62)","v":0},{"$f":"SUM(C62)*2","v":0},"ZERO","ZERO","ZERO",{"$f":"SUM(C62)","v":0},{"$f":"SUM(C62)","v":0},{"$f":"SUM(C62)","v":0},"ZERO","ZERO","ZERO","ZERO",{"$f":"SUM(C62)*70","v":0},{"$f":"SUM(C62)","v":0},"ZERO","ZERO",null,null,null,null,null,null,null,{"$f":"SUM(C62)","v":0},null,"ZERO","ZERO"]
["GRILLED BURGER MEAL 2",3700,0,{"$f":"SUM(B63*C63)","v":0},null,{"$f":"SUM(C63)","v":0},{"$f":"SUM(C63)","v":0},"ZERO","ZERO","ZERO",{"$f":"SUM(C63)","v":0},{"$f":"SUM(C63)*2","v":0},"ZERO","ZERO","ZERO",{"$f":"SUM(C63)","v":0},{"$f":"SUM(C63)","v":0},{"$f":"SUM(C63)","v":0},"ZERO","ZERO",{"$f":"SUM(C63)","v":0},"ZERO",{"$f":"SUM(C63)*70","v":0},{"$f":"SUM(C63)","v":0},"ZERO","ZERO",null,null,null,null,null,null,null,"ZERO",null,"ZERO","ZERO"]
["MASTERPIECE BURGER ",5000,0,{"$f":"SUM(B64*C64)","v":0},null,{"$f":"SUM(C64)","v":0},"ZERO","ZERO","ZERO","ZERO","ZERO","ZERO",{"$f":"SUM(C64)","v":0},"ZERO","ZERO",{"$f":"SUM(C64)","v":0},{"$f":"SUM(C64)","v":0},"ZERO","ZERO","ZERO",{"$f":"SUM(C64)","v":0},{"$f":"SUM(C64)","v":0},{"$f":"SUM(C64)*70","v":0},"ZERO","ZERO","ZERO",null,null,null,null,null,null,null,null,null,"ZERO",{"$f":"SUM(C64)","v":0}]
["SUYA BURGER BOX 2 (WITH BEEF SUYA BURGER)",6000,0,0,null,0,"ZERO ","ZERO","ZERO",0,0,0,"ZERO","ZERO",0,0,0,"ZERO","ZERO",null,0,"ZERO",0,0,0,"ZERO",0,null,null,null,null,null,null,null,null,"ZERO",0]
["OPENING STOCK",null,null,null,null,{"$f":"SUM('Production DAY 26'!C2)","v":0},{"$f":"SUM('Production DAY 26'!C3)","v":0},{"$f":"SUM('Production DAY 26'!C4)","v":0},{"$f":"SUM('Production DAY 26'!C5)","v":0},{"$f":"SUM('Production DAY 26'!C6)","v":0},{"$f":"SUM('Production DAY 26'!C7)","v":0},{"$f":"SUM('Production DAY 26'!C8)","v":0},{"$f":"SUM('Production DAY 26'!C9)","v":0},{"$f":"SUM('Production DAY 26'!C10)","v":0},{"$f":"SUM('Production DAY 26'!C11)","v":0},{"$f":"SUM('Production DAY 26'!C12)","v":0},{"$f":"SUM('Production DAY 26'!C13)","v":0},{"$f":"SUM('Production DAY 26'!C14)","v":0},{"$f":"SUM('Production DAY 26'!C15)","v":0},{"$f":"SUM('Production DAY 26'!C16)","v":0},{"$f":"SUM('Production DAY 26'!C17)","v":0},{"$f":"SUM('Production DAY 26'!C18)","v":0},{"$f":"SUM('Production DAY 26'!C19)","v":0},{"$f":"SUM('Production DAY 26'!C20)","v":0},{"$f":"SUM('Production DAY 26'!C21)","v":0},{"$f":"SUM('Production DAY 26'!C22)","v":0},{"$f":"SUM('Production DAY 26'!C23)","v":0},{"$f":"SUM('Production DAY 26'!C24)","v":0},{"$f":"SUM('Production DAY 26'!C25)","v":0},{"$f":"SUM('Production DAY 26'!C26)","v":0},{"$f":"SUM('Production DAY 26'!C27)","v":0},{"$f":"SUM('Production DAY 26'!C28)","v":0},{"$f":"SUM('Production DAY 26'!C29)","v":0},{"$f":"SUM('Production DAY 26'!C30)","v":0},{"$f":"SUM('Production DAY 26'!C31)","v":0},{"$f":"SUM('Production DAY 26'!C32)","v":0},{"$f":"SUM('Production DAY 26'!C33)","v":0},{"$f":"SUM('Production DAY 26'!C34)","v":0},{"$f":"SUM('Production DAY 26'!C35)","v":0},{"$f":"SUM('Production DAY 26'!C36)","v":0},{"$f":"SUM('Production DAY 26'!C37)","v":0},{"$f":"SUM('Production DAY 26'!C38)","v":0},{"$f":"SUM('Production DAY 26'!C39)","v":0},{"$f":"SUM('Production DAY 26'!C40)","v":0},{"$f":"SUM('Production DAY 26'!C41)","v":0},{"$f":"SUM('Production DAY 26'!C42)","v":0},{"$f":"SUM('Production DAY 26'!C43)","v":0}]
["RECEIVED",null,null,null,null,{"$f":"SUM('Production DAY 26'!D2)","v":0},{"$f":"SUM('Production DAY 26'!D3)","v":0},{"$f":"SUM('Production DAY 26'!D4)","v":0},{"$f":"SUM('Production DAY 26'!D5)","v":0},{"$f":"SUM('Production DAY 26'!D6)","v":0},{"$f":"SUM('Production DAY 26'!D7)","v":0},{"$f":"SUM('Production DAY 26'!D8)","v":0},{"$f":"SUM('Production DAY 26'!D9)","v":0},{"$f":"SUM('Production DAY 26'!D10)","v":0},{"$f":"SUM('Production DAY 26'!D11)","v":0},{"$f":"SUM('Production DAY 26'!D12)","v":0},{"$f":"SUM('Production DAY 26'!D13)","v":0},{"$f":"SUM('Production DAY 26'!D14)","v":0},{"$f":"SUM('Production DAY 26'!D15)","v":0},{"$f":"SUM('Production DAY 26'!D16)","v":0},{"$f":"SUM('Production DAY 26'!D17)","v":0},{"$f":"SUM('Production DAY 26'!D18)","v":0},{"$f":"SUM('Production DAY 26'!D19)","v":0},{"$f":"SUM('Production DAY 26'!D20)","v":0},{"$f":"SUM('Production DAY 26'!D21)","v":0},{"$f":"SUM('Production DAY 26'!D22)","v":0},{"$f":"SUM('Production DAY 26'!D23)","v":0},{"$f":"SUM('Production DAY 26'!D24)","v":0},{"$f":"SUM('Production DAY 26'!D25)","v":0},{"$f":"SUM('Production DAY 26'!D26)","v":0},{"$f":"SUM('Production DAY 26'!D27)","v":0},{"$f":"SUM('Production DAY 26'!D28)","v":0},{"$f":"SUM('Production DAY 26'!D29)","v":0},{"$f":"SUM('Production DAY 26'!D30)","v":0},{"$f":"SUM('Production DAY 26'!D31)","v":0},{"$f":"SUM('Production DAY 26'!D32)","v":0},{"$f":"SUM('Production DAY 26'!D33)","v":0},{"$f":"SUM('Production DAY 26'!D34)","v":0},{"$f":"SUM('Production DAY 26'!D35)","v":0},{"$f":"SUM('Production DAY 26'!D36)","v":0},{"$f":"SUM('Production DAY 26'!D37)","v":0},{"$f":"SUM('Production DAY 26'!D38)","v":0},{"$f":"SUM('Production DAY 26'!D39)","v":0},{"$f":"SUM('Production DAY 26'!D40)","v":0},{"$f":"SUM('Production DAY 26'!D41)","v":0},{"$f":"SUM('Production DAY 26'!D42)","v":0},{"$f":"SUM('Production DAY 26'!D43)","v":0}]
["TOTAL STOCK",null,null,null,null,{"$f":"SUM(F66:F67)","v":0},{"$f":"SUM(G66:G67)","v":0},{"$f":"SUM(H66:H67)","v":0},{"$f":"SUM(I66:I67)","v":0},0,0,0,0,0,0,{"$f":"SUM(P66:P67)","v":0},0,0,0,0,0,0,0,0,0,0,0,0,0,0,0,0,0,0,0,0,0,0,0,0,0,0,0,0,0,0,0]
["USED",null,null,{"$f":"SUM(D3:D65)","v":0},null,{"$f":"SUM(F3:F65)","v":0},0,0,0,0,0,0,0,0,0,0,0,0,0,0,0,0,0,0,0,0,0,0,0,0,0,0,0,0,0,0,0,{"$f":"SUM(AL3:AL64)","v":0},0,0,0,0,0,0,0,0,0]
["CLOSING STOCK",null,null,null,null,{"$f":"SUM(F68-F69)","v":0},0,0,0,0,0,0,0,0,0,0,0,0,0,0,0,0,0,0,0,0,0,0,0,0,0,0,0,{"$f":"SUM(AH66-AH69)","v":0},{"$f":"SUM(AI68-AI69)","v":0},0,0,0,0,0,0,0,0,0,0,0,0]

{"sheet":"Production DAY 27","index":52,"n_rows":44,"n_cols":8,"rows_kept":44,"cut":false,"hidden":false,"merged":[]}
["Nos#","ITEMS"," < OPENING STOCK","RECEIVED","USED >","SALES CLOSING STOCK >","PHYSICAL STOCK COUNT","COMMENTS"]
[1,"Burger Bread",{"$f":"SUM('Production DAY 26'!G2)","v":0},null,{"$f":"SUM('DAY 27'!F69)","v":0},{"$f":"SUM('DAY 27'!F70)","v":0},0,{"$f":"IF(G2=F2,TRUE,FALSE)","v":true}]
[2,"Chicken Patty",{"$f":"SUM('Production DAY 26'!G3)","v":0},null,{"$f":"SUM('DAY 27'!G69)","v":0},{"$f":"SUM('DAY 27'!G70)","v":0},0,true]
[3,"Shawarma Bread",{"$f":"SUM('Production DAY 26'!G4)","v":0},null,{"$f":"SUM('DAY 27'!H69)","v":0},{"$f":"SUM('DAY 27'!H70)","v":0},0,true]
[4,"Chicken Portion or Shawarma portion",{"$f":"SUM('Production DAY 26'!G5)","v":0},null,{"$f":"SUM('DAY 27'!I69)","v":0},{"$f":"SUM('DAY 27'!I70)","v":0},0,true]
[5,"Sausage",{"$f":"SUM('Production DAY 26'!G6)","v":0},null,{"$f":"SUM('DAY 27'!J69)","v":0},{"$f":"SUM('DAY 27'!J70)","v":0},0,true]
[6,"Portion of Fries",{"$f":"SUM('Production DAY 26'!G7)","v":0},null,{"$f":"SUM('DAY 27'!K69)","v":0},{"$f":"SUM('DAY 27'!K70)","v":0},0,true]
[7,"Pieces of Chicken",{"$f":"SUM('Production DAY 26'!G8)","v":0},null,{"$f":"SUM('DAY 27'!L69)","v":0},{"$f":"SUM('DAY 27'!L70)","v":0},0,true]
[8,"Cheese",{"$f":"SUM('Production DAY 26'!G9)","v":0},null,{"$f":"SUM('DAY 27'!M69)","v":0},{"$f":"SUM('DAY 27'!M70)","v":0},0,true]
[9,"Bacon",{"$f":"SUM('Production DAY 26'!G10)","v":0},null,{"$f":"SUM('DAY 27'!N69)","v":0},{"$f":"SUM('DAY 27'!N70)","v":0},0,true]
[10,"A Paper Bag",{"$f":"SUM('Production DAY 26'!G11)","v":0},null,{"$f":"SUM('DAY 27'!O69)","v":0},{"$f":"SUM('DAY 27'!O70)","v":0},0,true]
[11,"Achicken Box",{"$f":"SUM('Production DAY 26'!G12)","v":0},null,{"$f":"SUM('DAY 27'!P69)","v":0},{"$f":"SUM('DAY 27'!P70)","v":0},0,true]
[12,"Paper Wrap",{"$f":"SUM('Production DAY 26'!G13)","v":0},null,{"$f":"SUM('DAY 27'!Q69)","v":0},{"$f":"SUM('DAY 27'!Q70)","v":0},0,true]
[13,"A Branded Nylon",{"$f":"SUM('Production DAY 26'!G14)","v":0},null,{"$f":"SUM('DAY 27'!R69)","v":0},{"$f":"SUM('DAY 27'!R70)","v":0},0,true]
[14,"Parfait",{"$f":"SUM('Production DAY 26'!G15)","v":0},null,{"$f":"SUM('DAY 27'!S69)","v":0},{"$f":"SUM('DAY 27'!S70)","v":0},0,true]
[15,"A Bottle of SUGAR Juice",{"$f":"SUM('Production DAY 26'!G16)","v":0},null,{"$f":"SUM('DAY 27'!T69)","v":0},{"$f":"SUM('DAY 27'!T70)","v":0},0,true]
[16,"35 CL Soft Drink",{"$f":"SUM('Production DAY 26'!G17)","v":0},null,{"$f":"SUM('DAY 27'!U69)","v":0},{"$f":"SUM('DAY 27'!U70)","v":0},0,true]
[17,"Beef Patty",{"$f":"SUM('Production DAY 26'!G18)","v":0},null,{"$f":"SUM('DAY 27'!V69)","v":0},{"$f":"SUM('DAY 27'!V70)","v":0},0,true]
[18,"Cream in GRAMS",{"$f":"SUM('Production DAY 26'!G19)","v":0},null,{"$f":"SUM('DAY 27'!W69)","v":0},{"$f":"SUM('DAY 27'!W70)","v":0},0,true]
[19,"KETCHUP",{"$f":"SUM('Production DAY 26'!G20)","v":0},null,{"$f":"SUM('DAY 27'!X69)","v":0},{"$f":"SUM('DAY 27'!X70)","v":0},0,true]
[20,"plain Nylon",{"$f":"SUM('Production DAY 26'!G21)","v":0},null,{"$f":"SUM('DAY 27'!Y69)","v":0},{"$f":"SUM('DAY 27'!Y70)","v":0},0,true]
[21,"Barbeque Sauce",{"$f":"SUM('Production DAY 26'!G22)","v":0},null,{"$f":"SUM('DAY 27'!Z69)","v":0},{"$f":"SUM('DAY 27'!Z70)","v":0},0,true]
[22,"Meal Box",{"$f":"SUM('Production DAY 26'!G23)","v":0},null,{"$f":"SUM('DAY 27'!AA69)","v":0},{"$f":"SUM('DAY 27'!AA70)","v":0},0,true]
[23,"COCONUT BREAD",{"$f":"SUM('Production DAY 26'!G24)","v":0},null,{"$f":"SUM('DAY 27'!AB69)","v":0},{"$f":"SUM('DAY 27'!AB70)","v":0},0,true]
[24,"SUPA KOMMANDO",{"$f":"SUM('Production DAY 26'!G25)","v":0},null,{"$f":"SUM('DAY 27'!AC69)","v":0},{"$f":"SUM('DAY 27'!AC70)","v":0},0,true]
[25,"SHAWARMA SUB",{"$f":"SUM('Production DAY 26'!G26)","v":0},null,{"$f":"SUM('DAY 27'!AD69)","v":0},{"$f":"SUM('DAY 27'!AD70)","v":0},0,true]
[26,"CAN COKE / FANTA",{"$f":"SUM('Production DAY 26'!G27)","v":0},null,{"$f":"SUM('DAY 27'!AE69)","v":0},{"$f":"SUM('DAY 27'!AE70)","v":0},0,true]
[27,"NUGGETS ",{"$f":"SUM('Production DAY 26'!G28)","v":0},null,{"$f":"SUM('DAY 27'!AF69)","v":0},{"$f":"SUM('DAY 27'!AF70)","v":0},0,true]
[28,"PRAWN",{"$f":"SUM('Production DAY 26'!G29)","v":0},null,{"$f":"SUM('DAY 27'!AG69)","v":0},{"$f":"SUM('DAY 27'!AG70)","v":0},0,true]
[29,"FARM PRIDE",{"$f":"SUM('Production DAY 26'!G30)","v":0},null,{"$f":"SUM('DAY 27'!AH69)","v":0},{"$f":"SUM('DAY 27'!AH70)","v":0},0,true]
[30,"50CL OR PULPY",{"$f":"SUM('Production DAY 26'!G31)","v":0},null,{"$f":"SUM('DAY 27'!AI69)","v":0},{"$f":"SUM('DAY 27'!AI70)","v":0},0,true]
[31,"FARM PRIDE 1 LT",{"$f":"SUM('Production DAY 26'!G32)","v":0},null,{"$f":"SUM('DAY 27'!AJ69)","v":0},{"$f":"SUM('DAY 27'!AJ70)","v":0},0,true]
[32,"BEEF PORTION FOR SHAWARMA",{"$f":"SUM('Production DAY 26'!G33)","v":0},null,{"$f":"SUM('DAY 27'!AK69)","v":0},{"$f":"SUM('DAY 27'!AK70)","v":0},0,true]
[33,"BEEF SUYA STICK",{"$f":"SUM('Production DAY 26'!G34)","v":0},null,{"$f":"SUM('DAY 27'!AL69)","v":0},{"$f":"SUM('DAY 27'!AL70)","v":0},0,true]
[34,"EMPTY 1",{"$f":"SUM('Production DAY 26'!G35)","v":0},null,{"$f":"SUM('DAY 27'!AM69)","v":0},{"$f":"SUM('DAY 27'!AM70)","v":0},0,true]
[35,"EMPTY 2",{"$f":"SUM('Production DAY 26'!G36)","v":0},null,{"$f":"SUM('DAY 27'!AN69)","v":0},{"$f":"SUM('DAY 27'!AN70)","v":0},0,true]
[36,"EMPTY 3",{"$f":"SUM('Production DAY 26'!G37)","v":0},null,{"$f":"SUM('DAY 27'!AO69)","v":0},{"$f":"SUM('DAY 27'!AO70)","v":0},0,true]
[37,"EMPTY 4",{"$f":"SUM('Production DAY 26'!G38)","v":0},null,{"$f":"SUM('DAY 27'!AP69)","v":0},{"$f":"SUM('DAY 27'!AP70)","v":0},0,true]
[38,"EMPTY 5",{"$f":"SUM('Production DAY 26'!G39)","v":0},null,{"$f":"SUM('DAY 27'!AQ69)","v":0},{"$f":"SUM('DAY 27'!AQ70)","v":0},0,true]
[39,"EMPTY 6",{"$f":"SUM('Production DAY 26'!G40)","v":0},null,{"$f":"SUM('DAY 27'!AR69)","v":0},{"$f":"SUM('DAY 27'!AR70)","v":0},0,true]
[40,"EMPTY 7",{"$f":"SUM('Production DAY 26'!G41)","v":0},null,{"$f":"SUM('DAY 27'!AS69)","v":0},{"$f":"SUM('DAY 27'!AS70)","v":0},0,true]
[41,"EMPTY 8",{"$f":"SUM('Production DAY 26'!G42)","v":0},null,{"$f":"SUM('DAY 27'!AT69)","v":0},{"$f":"SUM('DAY 27'!AT70)","v":0},0,true]
[42,"EMPTY 9",{"$f":"SUM('Production DAY 26'!G43)","v":0},null,{"$f":"SUM('DAY 27'!AU69)","v":0},{"$f":"SUM('DAY 27'!AU70)","v":0},0,true]
[43,"EMPTY 10",{"$f":"SUM('Production DAY 26'!G44)","v":0},null,{"$f":"SUM('DAY 27'!AV69)","v":0},{"$f":"SUM('DAY 27'!AV70)","v":0},0,true]

{"sheet":"DAY 27","index":53,"n_rows":70,"n_cols":47,"rows_kept":70,"cut":false,"hidden":false,"merged":[[0,7,0,28]]}
["FEBRUARY 12th, 2022",null,null,{"$f":"SUM(D3:D50)","v":0},null,null,null,"BURGER PALACE INVENTORY RECORDS"]
["ITEM","AMOUNT","QUANTITY","TOTAL",null,"Burger Bread","Chicken Patty","Shawarma Bread","Chicken Portion or Shawarma portion","Sausage","Portion of Fries","Pieces of Chicken","Cheese","Bacon","A Paper Bag","Achicken Box","Paper Wrap","A Branded Nylon","Parfait","A Bottle of SUGAR Juice","35 CL Soft Drink","Beef Patty","Cream in GRAMS","KETCHUP","plain Nylon","Barbeque Sauce","Meal Box","COCONUT BREAD ","SUPA KOMMANDO ","SHAWARMA SUB","CAN COKE / FANTA","NUGGETS","PRAWN","FARM PRIDE 50CL OR PULPY","FARM PRIDE 1 LT","BEEF PORTION FOR SHAWARMA ","BEEF SUYA STICK","EMPTY 1","EMPTY 2","EMPTY 3","EMPTY 4","EMPTY 5","EMPTY 6","EMPTY 7","EMPTY 8","EMPTY 9","EMPTY 10"]
["DELUXE BURGER MEAL (WITH SOFT DRINK)",5400,0,{"$f":"SUM(B3*C3)","v":0},null,{"$f":"SUM(C3)","v":0},{"$f":"SUM(C3)","v":0},{"$f":"SUM(C3)","v":0},{"$f":"SUM(C3)","v":0},{"$f":"SUM(C3)","v":0},{"$f":"SUM(C3)","v":0},{"$f":"SUM(C3)*2","v":0},"ZERO","ZERO",{"$f":"SUM(C3)*1","v":0},{"$f":"SUM(C3)","v":0},{"$f":"SUM(C3)*2","v":0},{"$f":"SUM(C3)","v":0},null,"ZERO",{"$f":"SUM(C3)","v":0},null,{"$f":"SUM(C3)*140","v":0},{"$f":"SUM(C3)","v":0},{"$f":"SUM(C3)","v":0},"ZERO",null,null,null,null,null,null,null,null,null,{"$f":"SUM(AD3)","v":0},0]
["DELUXE BURGER MEAL (WITH SUGARCANE JUICE)",5600,0,{"$f":"SUM(B4*C4)","v":0},null,{"$f":"SUM(C4)","v":0},{"$f":"SUM(C4)","v":0},{"$f":"SUM(C4)","v":0},{"$f":"SUM(C4)","v":0},{"$f":"SUM(C4)","v":0},0,{"$f":"SUM(C4)*2","v":0},"ZERO","ZERO",{"$f":"SUM(C4)*1","v":0},0,{"$f":"SUM(C4)*2","v":0},0,null,{"$f":"SUM(C4)","v":0},"ZERO",null,{"$f":"SUM(C4)*140","v":0},{"$f":"SUM(C4)","v":0},0,"ZERO",null,null,null,null,null,null,null,null,null,0,0]
["DELUXE MEAL EXTRA (WITH Soft Drink)",null,0,{"$f":"SUM(B5*C5)","v":0},null,{"$f":"SUM(C5)","v":0},{"$f":"SUM(C5)","v":0},{"$f":"SUM(C5)","v":0},{"$f":"SUM(C5)","v":0},{"$f":"SUM(C5)","v":0},0,{"$f":"SUM(C5)*2","v":0},"ZERO","ZERO",{"$f":"SUM(C5)","v":0},0,{"$f":"SUM(C5)*2","v":0},0,{"$f":"SUM(C5)","v":0},"ZERO",{"$f":"SUM(C5)","v":0},null,{"$f":"SUM(C5)*140","v":0},{"$f":"SUM(C5)","v":0},0,"ZERO",null,null,null,null,null,null,null,null,null,0,0]
["DELUXE BURGER MEAL Extra (With Sugarcane juice",null,0,{"$f":"SUM(B6*C6)","v":0},null,{"$f":"SUM(C6)","v":0},{"$f":"SUM(C6)","v":0},{"$f":"SUM(C6)","v":0},{"$f":"SUM(C6)","v":0},{"$f":"SUM(C6)","v":0},0,{"$f":"SUM(C6)*2","v":0},"ZERO","ZERO",{"$f":"SUM(C6)","v":0},0,{"$f":"SUM(C6)*2","v":0},0,{"$f":"SUM(C6)","v":0},{"$f":"SUM(C6)","v":0},"ZERO",null,{"$f":"SUM(C6)*140","v":0},{"$f":"SUM(C6)","v":0},0,"ZERO",null,null,null,null,null,null,null,null,null,0,0]
["PREMIUM BURGER Meal ",5900,0,{"$f":"SUM(B7*C7)","v":0},null,{"$f":"SUM(C7)","v":0},{"$f":"SUM(C7)","v":0},"ZERO","ZERO","ZERO",0,{"$f":"SUM(C7)*5","v":0},"ZERO","ZERO",{"$f":"SUM(C7)","v":0},0,{"$f":"SUM(C7)*1.25","v":0},0,"ZERO","ZERO",{"$f":"SUM(C7)","v":0},"ZERO",{"$f":"SUM(C7)*70","v":0},{"$f":"SUM(C7)*2","v":0},0,{"$f":"SUM(C7)","v":0},null,null,null,null,null,null,null,null,null,"ZERO","ZERO"]
["CRISPY CHICKEN BOX",4300,0,null,null,"ZERO","ZERO","ZERO","ZERO","ZERO",0,{"$f":"SUM(C8)*5","v":0},"ZERO","ZERO","ZERO",0,{"$f":"SUM(C8)*0.25","v":0},0,"ZERO","ZERO",{"$f":"SUM(C8)","v":0},"ZERO","ZERO",{"$f":"SUM(C8)*2","v":0},0,{"$f":"SUM(C8)","v":0},null,null,null,null,null,null,null,null,null,"ZERO","ZERO"]
["ROYAL BURGER MEAL (CHICKEN  PATTY)",null,0,{"$f":"SUM(B9*C9)","v":0},null,{"$f":"SUM(C9)","v":0},{"$f":"SUM(C9)*2","v":0},"ZERO","ZERO","ZERO",0,"ZERO",{"$f":"SUM(C9)*2","v":0},{"$f":"SUM(C9)*2","v":0},"ZERO",0,{"$f":"SUM(C9)","v":0},0,{"$f":"SUM(C9)","v":0},"ZERO","ZERO","ZERO",{"$f":"SUM(C9)*140","v":0},{"$f":"SUM(C9)*2","v":0},0,{"$f":"SUM(C9)","v":0},null,null,null,null,null,null,null,null,null,"ZERO","ZERO"]
["ROYAL BURGER MEAL (BEEF  PATTY)",null,0,{"$f":"SUM(B10*C10)","v":0},null,{"$f":"SUM(C10)","v":0},"ZERO","ZERO","ZERO","ZERO",0,"ZERO",{"$f":"SUM(C10)*2","v":0},{"$f":"SUM(C10)*2","v":0},"ZERO",0,0,0,{"$f":"SUM(C10)","v":0},"ZERO","ZERO",{"$f":"SUM(C10)*2","v":0},{"$f":"SUM(C10)*140","v":0},{"$f":"SUM(C10)*2","v":0},0,{"$f":"SUM(C10)","v":0},null,null,null,null,null,null,null,null,null,"ZERO","ZERO"]
["ROYAL BURGER ONLY (CHICKEN PATTY)",3300,0,{"$f":"SUM(B11*C11:C25,A1,A1,A1,A1,A1)","v":0},null,{"$f":"SUM(C11)","v":0},{"$f":"SUM(C11)*2","v":0},"ZERO","ZERO","ZERO","ZERO","ZERO",{"$f":"SUM(C11)*2","v":0},{"$f":"SUM(C11)*2","v":0},"ZERO",0,0,0,"ZERO","ZERO","ZERO","ZERO",{"$f":"SUM(C11)*140","v":0},{"$f":"SUM(C11)","v":0},"ZERO","ZERO",null,null,null,null,null,null,null,null,null,"ZERO","ZERO"]
["ROYAL BURGER ONLY (BEEF PATTY)",3300,0,{"$f":"SUM(B12*C12)","v":0},null,{"$f":"SUM(C12)","v":0},null,"ZERO","ZERO","ZERO","ZERO","ZERO",{"$f":"SUM(C12)*2","v":0},{"$f":"SUM(C12)*2","v":0},"ZERO",0,0,0,"ZERO","ZERO","ZERO",{"$f":"SUM(C12)*2","v":0},{"$f":"SUM(C12)*140","v":0},{"$f":"SUM(C12)","v":0},"ZERO","ZERO",null,null,null,null,null,null,null,null,null,"ZERO","ZERO"]
["MAYOR'S COCONUT BURGER ",2800,0,0,null,0,{"$f":"SUM(C13)","v":0},"ZERO","ZERO","ZERO","ZERO","ZERO",{"$f":"SUM(C13)","v":0},"ZERO","ZERO",0,0,0,"ZERO","ZERO","ZERO",{"$f":"SUM(C13)","v":0},{"$f":"SUM(C13)*140","v":0},"ZERO","ZERO","ZERO",null,{"$f":"SUM(C13)","v":0},{"$f":"SUM(C13)","v":0},null,null,null,null,null,null,"ZERO","ZERO"]
["DOUBLE DECKER CRISPY CHK. CHEESE BURGER",2500,0,0,null,{"$f":"SUM(C14)","v":0},{"$f":"SUM(C14)*2","v":0},"ZERO","ZERO","ZERO","ZERO","ZERO",{"$f":"SUM(C14)","v":0},"ZERO","ZERO",0,0,"ZERO","ZERO","ZERO","ZERO","ZERO",{"$f":"SUM(C14)*70","v":0},"ZERO","ZERO","ZERO",null,null,null,null,null,null,null,null,null,"ZERO","ZERO"]
["SINGLE BEEF BURGER",1700,0,0,null,0,"ZERO","ZERO","ZERO","ZERO","ZERO","ZERO",null,"ZERO",{"$f":"SUM(C15)","v":0},null,0,"ZERO","ZERO","ZERO","ZERO",{"$f":"SUM(C15)","v":0},{"$f":"SUM(C15)*70","v":0},"ZERO","ZERO","ZERO",null,null,null,null,null,null,null,null,null,"ZERO","ZERO"]
["YANKEE BURGER",2400,0,0,null,0,"ZERO","ZERO","ZERO","ZERO","ZERO","ZERO",null,{"$f":"SUM(C16)*2","v":0},{"$f":"SUM(C16)","v":0},null,0,"ZERO","ZERO","ZERO","ZERO",{"$f":"SUM(C16)","v":0},{"$f":"SUM(C16)*70","v":0},"ZERO","ZERO","ZERO",null,null,null,null,null,null,null,null,null,"ZERO","ZERO"]
["ROYAL BURGER WITH FRIES (Chicken)",4000,0,0,null,0,{"$f":"SUM(C17)*2","v":0},"ZERO","ZERO","ZERO",{"$f":"SUM(C17)","v":0},"ZERO",{"$f":"SUM(C17)*2","v":0},{"$f":"SUM(C17)*2","v":0},"ZERO",{"$f":"SUM(C17)","v":0},0,"ZERO","ZERO","ZERO","ZERO","ZERO",{"$f":"SUM(C17)*140","v":0},{"$f":"SUM(C17)*2","v":0},"ZERO","ZERO",null,null,null,null,null,null,null,null,null,"ZERO","ZERO"]
["ROYAL BURGER WITH FRIES (BEEF)",4000,0,0,null,0,"ZERO","ZERO","ZERO","ZERO",{"$f":"SUM(C18)","v":0},"ZERO",{"$f":"SUM(C18)*2","v":0},{"$f":"SUM(C18)*2","v":0},"ZERO",{"$f":"SUM(C18)","v":0},0,"ZERO","ZERO","ZERO","ZERO",{"$f":"SUM(C18)*2","v":0},{"$f":"SUM(C18)*140","v":0},{"$f":"SUM(C18)*2","v":0},"ZERO","ZERO",null,null,null,null,null,null,null,null,null,"ZERO","ZERO"]
["CRISPY CHICKEN BURGER",1700,0,0,null,0,{"$f":"SUM(C19)","v":0},"ZERO","ZERO","ZERO","ZERO","ZERO","ZERO","ZERO",{"$f":"SUM(C19)","v":0},"ZERO",{"$f":"SUM(C19)*1","v":0},"ZERO","ZERO","ZERO","ZERO","ZERO",{"$f":"SUM(C19)*70","v":0},"ZERO","ZERO","ZERO",null,null,null,null,null,null,null,null,null,"ZERO","ZERO"]
["SUYA BURGER BOX",5500,0,0,null,0,{"$f":"SUM(C20)*2","v":0},"ZERO","ZERO",{"$f":"SUM(C20)*4","v":0},{"$f":"SUM(C20)","v":0},{"$f":"SUM(C20)*4","v":0},"ZERO","ZERO",{"$f":"SUM(C20)","v":0},{"$f":"SUM(C20)","v":0},{"$f":"SUM(C20)","v":0},"ZERO","ZERO",null,{"$f":"SUM(C20)","v":0},"ZERO",0,{"$f":"SUM(C20)*2","v":0},{"$f":"SUM(C20)","v":0},"ZERO",{"$f":"SUM(C20)","v":0},null,null,null,null,null,null,null,null,"ZERO","ZERO"]
["CRISPY CHICKEN BURGER PLUS CHEESE",2100,0,0,null,0,{"$f":"SUM(C21)","v":0},"ZERO","ZERO","ZERO","ZERO","ZERO",{"$f":"SUM(C21)","v":0},"ZERO",{"$f":"SUM(C21)","v":0},"ZERO",0,"ZERO","ZERO","ZERO","ZERO","ZERO",0,"ZERO","ZERO","ZERO",null,null,null,null,null,null,null,null,null,"ZERO","ZERO"]
["SINGLE BEEF CHEESE BURGER ",2100,0,0,null,0,"ZERO","ZERO","ZERO","ZERO","ZERO","ZERO",{"$f":"SUM(C22)","v":0},"ZERO",{"$f":"SUM(C22)","v":0},"ZERO",0,"ZERO","ZERO","ZERO","ZERO",{"$f":"SUM(C22)","v":0},0,"ZERO","ZERO","ZERO",null,null,null,null,null,null,null,null,null,"ZERO","ZERO"]
["DOUBLE DECKER BEEF CHEESE BURGER",2800,0,0,null,0,"ZERO","ZERO","ZERO","ZERO","ZERO","ZERO",{"$f":"SUM(C23)*2","v":0},"ZERO","ZERO",{"$f":"SUM(C23)","v":0},0,"ZERO","ZERO","ZERO","ZERO",{"$f":"SUM(C23)*2","v":0},0,"ZERO","ZERO","ZERO",null,null,null,null,null,null,null,null,null,"ZERO","ZERO"]
["CHICKEN SUYA BURGER ",2200,0,0,null,0,{"$f":"SUM(C24)*2","v":0},"ZERO","ZERO","ZERO","ZERO","ZERO","ZERO","ZERO",{"$f":"SUM(C24)*1","v":0},"ZERO",0,"ZERO","ZERO","ZERO","ZERO","ZERO",0,"ZERO","ZERO","ZERO",null,null,null,null,null,null,null,null,null,"ZERO","ZERO"]
["CHICKEN SHAWARMA",1800,0,0,null,null,"ZERO",{"$f":"SUM(C25)","v":0},{"$f":"SUM(C25)","v":0},{"$f":"SUM(C25)*2","v":0},"ZERO","ZERO","ZERO","ZERO","ZERO","ZERO",0,{"$f":"SUM(C25)","v":0},"ZERO","ZERO","ZERO","ZERO",0,"ZERO","ZERO","ZERO",null,null,null,null,null,null,null,null,null,{"$f":"SUM(AD25)","v":0},{"$f":"SUM(AE25)","v":0}]
["BARBECUE BEEF SHAWARMA",2000,0,0,null,null,"ZERO",{"$f":"SUM(C26)","v":0},"ZERO",{"$f":"SUM(C26)*2","v":0},"ZERO","ZERO","ZERO","ZERO","ZERO","ZERO",0,0,"ZERO","ZERO","ZERO","ZERO",0,"ZERO","ZERO","ZERO",null,null,null,null,null,null,null,null,null,{"$f":"SUM(C26)","v":0},"ZERO"]
["BEEF SUYA SHAWARMA",2200,0,0,null,null,"ZERO",{"$f":"SUM(C27)","v":0},"ZERO",{"$f":"SUM(C27)*2","v":0},"ZERO","ZERO","ZERO","ZERO","ZERO","ZERO",0,0,"ZERO","ZERO","ZERO","ZERO",0,"ZERO","ZERO","ZERO",null,null,null,null,null,null,null,null,null,{"$f":"SUM(AD27)","v":0},{"$f":"SUM(C27)","v":0}]
["BEEF SUYA BURGER ",2200,0,0,null,{"$f":"SUM(C28)","v":0},"ZERO",null,"ZERO","ZERO","ZERO","ZERO","ZERO","ZERO",{"$f":"SUM(C28)","v":0},"ZERO",0,0,"ZERO","ZERO","ZERO","ZERO",0,"ZERO","ZERO","ZERO",null,null,null,null,null,null,null,null,null,{"$f":"SUM(AD28)","v":0},{"$f":"SUM(C28)","v":0}]
["CHICKEN SUYA SHAWARMA",2200,0,0,null,"ZERO",{"$f":"SUM(C29)*2","v":0},{"$f":"SUM(C29)","v":0},null,{"$f":"SUM(C29)*2","v":0},"ZERO","ZERO","ZERO","ZERO","ZERO","ZERO",0,0,"ZERO","ZERO","ZERO","ZERO",0,"ZERO","ZERO","ZERO"]
["CHESSY SHAWARMA",2500,0,0,null,"ZERO","ZERO",{"$f":"SUM(C30)","v":0},{"$f":"SUM(C30)","v":0},{"$f":"SUM(C30)*2","v":0},null,"ZERO",{"$f":"SUM(C30)*2","v":0},"ZERO","ZERO","ZERO",0,0,"ZERO","ZERO","ZERO","ZERO",{"$f":"SUM(C30)*140","v":0},"ZERO","ZERO","ZERO",null,null,null,null,null,null,null,null,null,{"$f":"SUM(AD30)","v":0},{"$f":"SUM(AE30)","v":0}]
["2 CHICKEN AND CHIPS",2300,0,0,null,"ZERO","ZERO","ZERO","ZERO","ZERO",{"$f":"SUM(C31)","v":0},{"$f":"SUM(C31)*2","v":0},"ZERO","ZERO","ZERO",{"$f":"SUM(C31)","v":0},"ZERO",0,"ZERO","ZERO","ZERO","ZERO","ZERO",{"$f":"SUM(C31)","v":0},"ZERO","ZERO",null,null,null,null,null,null,null,null,null,"ZERO","ZERO"]
["4 CHICKEN AND CHIPS",3500,0,0,null,"ZERO","ZERO","ZERO","ZERO","ZERO",{"$f":"SUM(C32)","v":0},{"$f":"SUM(C32)*4","v":0},"ZERO","ZERO","ZERO",{"$f":"SUM(C32)","v":0},"ZERO",0,"ZERO","ZERO","ZERO","ZERO","ZERO",{"$f":"SUM(C32)*2","v":0},"ZERO","ZERO","zero","zero","zero",null,null,null,null,null,null,"ZERO","ZERO"]
["SPICY CHICKEN ONLY",650,0,null,null,"ZERO","ZERO","ZERO","ZERO","ZERO","ZERO",{"$f":"SUM(C33)","v":0},"ZERO","ZERO","ZERO","ZERO","ZERO","ZERO","ZERO","ZERO","ZERO","ZERO","ZERO","ZERO",{"$f":"SUM(C33)","v":0},"ZERO",null,null,null,null,null,null,null,null,null,"ZERO","ZERO"]
["CRISPY CHICKEN ONLY",650,0,{"$f":"SUM(B34*C34)","v":0},null,"ZERO","ZERO","ZERO","ZERO","ZERO","ZERO",{"$f":"SUM(C34)","v":0},"ZERO","ZERO","ZERO","ZERO","ZERO","ZERO","ZERO","ZERO","ZERO","ZERO","ZERO","ZERO",{"$f":"SUM(C34)","v":0},"ZERO",null,null,null,null,null,null,null,null,null,"ZERO","ZERO"]
["POTATO FRIES",700,0,0,null,"ZERO","ZERO","ZERO","ZERO","ZERO",null,"ZERO","ZERO","ZERO","ZERO","ZERO","ZERO","ZERO","ZERO","ZERO","ZERO","ZERO","ZERO","ZERO","ZERO","ZERO",null,null,null,null,null,null,null,null,null,"ZERO","ZERO"]
["FRENCH FRIES ONLY",1000,0,0,null,"ZERO","ZERO","ZERO","ZERO","ZERO",{"$f":"SUM(C36)","v":0},"ZERO","ZERO","ZERO","ZERO","ZERO","ZERO","ZERO","ZERO","ZERO","ZERO","ZERO","ZERO","ZERO",{"$f":"SUM(C36)","v":0},"ZERO",null,null,null,null,null,null,null,null,null,"ZERO","ZERO"]
["SUGERCANNE JUICE",750,0,0,null,"ZERO","ZERO","ZERO","ZERO","ZERO","ZERO","ZERO","ZERO","ZERO","ZERO","ZERO","ZERO","ZERO","ZERO",{"$f":"SUM(C37)","v":0},"ZERO","ZERO","ZERO","ZERO","ZERO","ZERO",null,null,null,null,null,null,null,null,null,"ZERO","ZERO"]
["35 CL SOFT DRINK",200,0,0,null,"ZERO","ZERO","ZERO","ZERO","ZERO","ZERO","ZERO","ZERO","ZERO","ZERO","ZERO","ZERO","ZERO","ZERO","ZERO",{"$f":"SUM(C38)","v":0},"ZERO","ZERO","ZERO","ZERO","ZERO",null,null,null,null,null,null,null,null,null,"ZERO","ZERO"]
["PARFAIT",null,0,0,null,"ZERO","ZERO","ZERO","ZERO","ZERO","ZERO","ZERO","ZERO","ZERO","ZERO","ZERO","ZERO",{"$f":"SUM(C39)","v":0},{"$f":"SUM(C39)","v":0},"ZERO","ZERO","ZERO","ZERO","ZERO","ZERO","ZERO",null,null,null,null,null,null,null,null,null,"ZERO","ZERO"]
["MARINATED WINGS",500,0,0,null,"ZERO","ZERO","ZERO","ZERO","ZERO","ZERO",{"$f":"SUM(C40)","v":0},"ZERO","ZERO","ZERO","ZERO","ZERO","ZERO","ZERO","ZERO","ZERO","ZERO","ZERO","ZERO","ZERO","ZERO",null,null,null,null,null,null,null,null,null,"ZERO","ZERO"]
["CHEESE ",400,0,0,null,"ZERO","ZERO","ZERO","ZERO","ZERO","ZERO","ZERO",{"$f":"SUM(C41)","v":0},"ZERO","ZERO","ZERO","ZERO","ZERO","ZERO","ZERO","ZERO","ZERO","ZERO","ZERO","ZERO","ZERO",null,null,null,null,null,null,null,null,null,"ZERO","ZERO"]
["SAUSAGE",200,0,0,null,null,null,null,null,null,"ZERO"]
["BACON",400,0,0,null,"ZERO","ZERO","ZERO","ZERO","ZERO","ZERO","ZERO","ZERO",{"$f":"SUM(C43)","v":0},"ZERO","ZERO","ZERO","ZERO","ZERO","ZERO","ZERO","ZERO","ZERO","ZERO","ZERO","ZERO",null,null,null,null,null,null,null,null,null,"ZERO","ZERO"]
["FRIENDY BURGER MEAL (WITH SOFT DRINK)",10200,0,0,null,{"$f":"SUM(C44)*2","v":0},{"$f":"SUM(C44)*2","v":0},{"$f":"SUM(C44)*2","v":0},{"$f":"SUM(C44)*2","v":0},{"$f":"SUM(C44)*2","v":0},{"$f":"SUM(C44)*2","v":0},{"$f":"SUM(C44)*2*2","v":0},"ZERO","ZERO",{"$f":"SUM(C44)*1*2","v":0},{"$f":"SUM(C44)*2","v":0},{"$f":"SUM(C44)*2*2","v":0},{"$f":"SUM(C44)*2","v":0},null,"ZERO",{"$f":"SUM(C44)*2","v":0},null,{"$f":"SUM(C44)*140*2","v":0},{"$f":"SUM(C44)*2","v":0},{"$f":"SUM(C44)*2","v":0},"ZERO",null,null,null,null,null,null,null,null,null,{"$f":"SUM(AD44)*2","v":0},{"$f":"SUM(AE44)*2","v":0}]
["FRIENDY BURGER MEAL (WITH SUGARCANE JUICE)",10600,0,0,null,{"$f":"SUM(C45)*2","v":0},{"$f":"SUM(C45)*2","v":0},{"$f":"SUM(C45)*2","v":0},{"$f":"SUM(C45)*2","v":0},{"$f":"SUM(C45)*2","v":0},{"$f":"SUM(C45)*2","v":0},{"$f":"SUM(C45)*2*2","v":0},"ZERO","ZERO",{"$f":"SUM(C45)*1*2","v":0},{"$f":"SUM(C45)*2","v":0},{"$f":"SUM(C45)*2*2","v":0},{"$f":"SUM(C45)*2","v":0},null,{"$f":"SUM(C45)*2","v":0},"ZERO",null,{"$f":"SUM(C45)*140*2","v":0},{"$f":"SUM(C45)*2","v":0},{"$f":"SUM(C45)*2","v":0},"ZERO",null,null,null,null,null,null,null,null,null,{"$f":"SUM(AD45)*2","v":0},{"$f":"SUM(AE45)*2","v":0}]
["SHAWARMA  SUB",1800,0,0,null,null,"ZERO","ZERO",{"$f":"SUM(C46)","v":0},{"$f":"SUM(C46)*2","v":0},"ZERO","ZERO","ZERO","ZERO",{"$f":"SUM(C46)*1","v":0},"ZERO",{"$f":"SUM(C46)","v":0},"ZERO","ZERO","ZERO","ZERO","ZERO",{"$f":"SUM(C46)*70","v":0},"ZERO","ZERO","ZERO",null,null,null,{"$f":"SUM(C46)","v":0},null,null,null,null,null,{"$f":"SUM(AD46)","v":0},{"$f":"SUM(AE46)","v":0}]
["DELISH PACK 1",5300,0,0,null,{"$f":"SUM(C47)","v":0},{"$f":"SUM(C47)","v":0},"ZERO",{"$f":"SUM(C47)","v":0},{"$f":"SUM(C47)*2","v":0},"ZERO",{"$f":"SUM(C47)*4","v":0},"ZERO","ZERO",{"$f":"SUM(C47)*1","v":0},{"$f":"SUM(C47)*1","v":0},{"$f":"SUM(C47)*2","v":0},{"$f":"SUM(C47)","v":0},"ZERO","ZERO","ZERO","ZERO",{"$f":"SUM(C47)*70","v":0},"ZERO","ZERO","ZERO",null,null,null,{"$f":"SUM(C47)","v":0},{"$f":"SUM(C47)*1","v":0},null,null,null,null,{"$f":"SUM(AD47)","v":0},{"$f":"SUM(AE47)","v":0}]
["FAMILY BURGER MEAL (WITH SOFT DRINK)",19800,0,0,null,{"$f":"SUM(C48)*4","v":0},{"$f":"SUM(C48)*4","v":0},{"$f":"SUM(C48)*4","v":0},{"$f":"SUM(C48)*4","v":0},{"$f":"SUM(C48)*4","v":0},{"$f":"SUM(C48)*4","v":0},{"$f":"SUM(C48)*2*4","v":0},"ZERO","ZERO",{"$f":"SUM(C48)*1*4","v":0},{"$f":"SUM(C48)*4","v":0},{"$f":"SUM(C48)*2*4","v":0},{"$f":"SUM(C48)*4","v":0},null,"ZERO",{"$f":"SUM(C48)*4","v":0},null,{"$f":"SUM(C48)*140*4","v":0},{"$f":"SUM(C48)*4","v":0},{"$f":"SUM(C48)*4","v":0},"ZERO",null,null,null,null,null,null,null,null,null,{"$f":"SUM(AD48)*4","v":0},{"$f":"SUM(AE48)*4","v":0}]
["FAMILY BURGER MEAL (WITH SUGARCANE JUICE)",20800,0,0,null,{"$f":"SUM(C49)*4","v":0},{"$f":"SUM(C49)*4","v":0},{"$f":"SUM(C49)*4","v":0},{"$f":"SUM(C49)*4","v":0},{"$f":"SUM(C49)*4","v":0},{"$f":"SUM(C49)*4","v":0},{"$f":"SUM(C49)*2*4","v":0},"ZERO","ZERO",{"$f":"SUM(C49)*1*4","v":0},{"$f":"SUM(C49)*4","v":0},{"$f":"SUM(C49)*2*4","v":0},{"$f":"SUM(C49)*4","v":0},null,{"$f":"SUM(C49)*4","v":0},"ZERO",null,{"$f":"SUM(C49)*140*4","v":0},{"$f":"SUM(C49)*4","v":0},{"$f":"SUM(C49)*4","v":0},"ZERO",null,null,null,null,null,null,null,null,null,{"$f":"SUM(AD49)*4","v":0},{"$f":"SUM(AE49)*4","v":0}]
["CAN COKE/FANTA ONLY",null,0,0,null,"ZERO","ZERO","ZERO","ZERO","ZERO","ZERO","ZERO","ZERO","ZERO","ZERO","ZERO","ZERO","ZERO","ZERO","ZERO","ZERO","ZERO","ZERO","ZERO","ZERO","ZERO",null,null,null,null,{"$f":"SUM(C50)","v":0},null,null,null,null,"ZERO","ZERO"]
["SUPA KOMMANDO ONLY",250,0,0,null,"ZERO","ZERO","ZERO","ZERO","ZERO","ZERO","ZERO","ZERO","ZERO","ZERO","ZERO","ZERO","ZERO","ZERO","ZERO","ZERO","ZERO","ZERO","ZERO","ZERO","ZERO",null,null,{"$f":"SUM(C51)","v":0},null,"ZERO","ZERO",null,null,null,"ZERO","ZERO"]
["10X Chicken Nuggets ",2400,0,0,null,null,null,null,null,null,"ZERO",null,null,null,null,{"$f":"SUM(C52)","v":0},null,{"$f":"SUM(C52)","v":0},null,null,null,null,null,{"$f":"SUM(C52)","v":0},null,null,null,null,null,null,{"$f":"SUM(C52)","v":0},{"$f":"SUM(C52)*10","v":0}]
["20X Chicken Nuggets ",4800,0,0,null,null,null,null,null,null,"ZERO ",null,null,null,null,{"$f":"SUM(C53)","v":0},null,{"$f":"SUM(C53)","v":0},null,null,null,null,null,{"$f":"SUM(C53)","v":0},null,null,null,null,null,null,{"$f":"SUM(C53)","v":0},{"$f":"SUM(C53)*20","v":0}]
["10 CHICKEN NUGGETS & FRIES BOX",3300,0,0,null,null,null,null,null,null,{"$f":"SUM(C54)","v":0},null,null,null,null,{"$f":"SUM(C54)","v":0},null,{"$f":"SUM(C54)","v":0},null,null,null,null,null,{"$f":"SUM(C54)","v":0},null,null,null,null,null,null,{"$f":"SUM(C54)","v":0},{"$f":"SUM(C54)*10","v":0}]
["20 CHICKEN NUGGETS & FRIES BOX",6600,0,0,null,null,null,null,null,null,{"$f":"SUM(C55)","v":0},null,null,null,null,{"$f":"SUM(C55)","v":0},null,{"$f":"SUM(C55)","v":0},null,null,null,null,null,{"$f":"SUM(C55)","v":0},null,null,null,null,null,null,{"$f":"SUM(C55)","v":0},{"$f":"SUM(C55)*20","v":0}]
["PRAWN BURGER ",3000,0,0,null,{"$f":"SUM(C56)","v":0},"ZERO","ZERO","ZERO","ZERO","ZERO","ZERO",{"$f":"SUM(C56)","v":0},"ZERO",{"$f":"SUM(C56)","v":0},"ZERO",{"$f":"SUM(C56)","v":0},"ZERO","ZERO","ZERO","ZERO","ZERO",{"$f":"SUM(C56)*70","v":0},"ZERO","ZERO","ZERO",null,null,null,null,null,null,{"$f":"SUM(C56)*2","v":0},null,null,"ZERO","ZERO"]
[" FUNMMY NUGGETS  BOX",5300,0,0,null,{"$f":"SUM(C57)","v":0},{"$f":"SUM(C57)","v":0},null,null,null,{"$f":"SUM(C57)","v":0},null,{"$f":"SUM(C57)","v":0},null,{"$f":"SUM(C57)","v":0},{"$f":"SUM(C57)","v":0},null,{"$f":"SUM(C57)","v":0},null,null,null,null,null,{"$f":"SUM(C57)","v":0},null,null,null,null,null,null,{"$f":"SUM(C57)","v":0},{"$f":"SUM(C57)*10","v":0}]
["FARM PRIDE 50 CL",500,0,0,null,"ZERO","ZERO","ZERO","ZERO","ZERO","ZERO","ZERO","ZERO","ZERO","ZERO","ZERO","ZERO","ZERO","ZERO","ZERO","ZERO","ZERO","ZERO","ZERO","ZERO","ZERO",null,null,null,null,null,null,null,{"$f":"SUM(C58)","v":0},null,"ZERO","ZERO"]
["FARM PRIDE 1 LITRE",800,0,0,null,"ZERO","ZERO","ZERO","ZERO","ZERO","ZERO","ZERO","ZERO","ZERO","ZERO","ZERO","ZERO","ZERO","ZERO","ZERO","ZERO","ZERO","ZERO","ZERO","ZERO","ZERO",null,null,null,null,null,null,null,"ZERO",{"$f":"SUM(C59)","v":0},"ZERO","ZERO"]
["GRILLED CHICKEN BURGER",1700,0,{"$f":"SUM(B60*C60)","v":0},null,{"$f":"SUM(C60)","v":0},{"$f":"SUM(C60)","v":0},"ZERO","ZERO","ZERO","ZERO","ZERO","ZERO","ZERO",{"$f":"SUM(C60)","v":0},"ZERO",{"$f":"SUM(C60)*1","v":0},"ZERO","ZERO","ZERO","ZERO","ZERO",{"$f":"SUM(C60)*70","v":0},"ZERO","ZERO","ZERO",null,null,null,null,null,null,null,null,null,"ZERO","ZERO"]
["GRILLED CHICKEN BURGER + JUICE",2200,0,{"$f":"SUM(B61*C61)","v":0},null,{"$f":"SUM(C61)","v":0},{"$f":"SUM(C61)","v":0},"ZERO","ZERO","ZERO","ZERO","ZERO","ZERO","ZERO",{"$f":"SUM(C61)","v":0},"ZERO",{"$f":"SUM(C61)*1","v":0},"ZERO","ZERO","ZERO","ZERO","ZERO",{"$f":"SUM(C61)*70","v":0},"ZERO","ZERO","ZERO",null,null,null,null,null,null,null,{"$f":"SUM(C61)","v":0},null,"ZERO","ZERO"]
["GRILLED BURGER MEAL 1 & 3",4000,0,{"$f":"SUM(B62*C62)","v":0},null,{"$f":"SUM(C62)","v":0},{"$f":"SUM(C62)","v":0},"ZERO","ZERO","ZERO",{"$f":"SUM(C62)","v":0},{"$f":"SUM(C62)*2","v":0},"ZERO","ZERO","ZERO",{"$f":"SUM(C62)","v":0},{"$f":"SUM(C62)","v":0},{"$f":"SUM(C62)","v":0},"ZERO","ZERO","ZERO","ZERO",{"$f":"SUM(C62)*70","v":0},{"$f":"SUM(C62)","v":0},"ZERO","ZERO",null,null,null,null,null,null,null,{"$f":"SUM(C62)","v":0},null,"ZERO","ZERO"]
["GRILLED BURGER MEAL 2",3700,0,{"$f":"SUM(B63*C63)","v":0},null,{"$f":"SUM(C63)","v":0},{"$f":"SUM(C63)","v":0},"ZERO","ZERO","ZERO",{"$f":"SUM(C63)","v":0},{"$f":"SUM(C63)*2","v":0},"ZERO","ZERO","ZERO",{"$f":"SUM(C63)","v":0},{"$f":"SUM(C63)","v":0},{"$f":"SUM(C63)","v":0},"ZERO","ZERO",{"$f":"SUM(C63)","v":0},"ZERO",{"$f":"SUM(C63)*70","v":0},{"$f":"SUM(C63)","v":0},"ZERO","ZERO",null,null,null,null,null,null,null,"ZERO",null,"ZERO","ZERO"]
["MASTERPIECE BURGER ",5000,0,{"$f":"SUM(B64*C64)","v":0},null,{"$f":"SUM(C64)","v":0},"ZERO","ZERO","ZERO","ZERO","ZERO","ZERO",{"$f":"SUM(C64)","v":0},"ZERO","ZERO",{"$f":"SUM(C64)","v":0},{"$f":"SUM(C64)","v":0},"ZERO","ZERO","ZERO",{"$f":"SUM(C64)","v":0},{"$f":"SUM(C64)","v":0},{"$f":"SUM(C64)*70","v":0},"ZERO","ZERO","ZERO",null,null,null,null,null,null,null,null,null,"ZERO",{"$f":"SUM(C64)","v":0}]
["SUYA BURGER BOX 2 (WITH BEEF SUYA BURGER)",6000,0,0,null,0,"ZERO ","ZERO","ZERO",0,0,0,"ZERO","ZERO",0,0,0,"ZERO","ZERO",null,0,"ZERO",0,0,0,"ZERO",0,null,null,null,null,null,null,null,null,"ZERO",0]
["OPENING STOCK",null,null,null,null,{"$f":"SUM('Production DAY 27'!C2)","v":0},{"$f":"SUM('Production DAY 27'!C3)","v":0},{"$f":"SUM('Production DAY 27'!C4)","v":0},{"$f":"SUM('Production DAY 27'!C5)","v":0},{"$f":"SUM('Production DAY 27'!C6)","v":0},{"$f":"SUM('Production DAY 27'!C7)","v":0},{"$f":"SUM('Production DAY 27'!C8)","v":0},{"$f":"SUM('Production DAY 27'!C9)","v":0},{"$f":"SUM('Production DAY 27'!C10)","v":0},{"$f":"SUM('Production DAY 27'!C11)","v":0},{"$f":"SUM('Production DAY 27'!C12)","v":0},{"$f":"SUM('Production DAY 27'!C13)","v":0},{"$f":"SUM('Production DAY 27'!C14)","v":0},{"$f":"SUM('Production DAY 27'!C15)","v":0},{"$f":"SUM('Production DAY 27'!C16)","v":0},{"$f":"SUM('Production DAY 27'!C17)","v":0},{"$f":"SUM('Production DAY 27'!C18)","v":0},{"$f":"SUM('Production DAY 27'!C19)","v":0},{"$f":"SUM('Production DAY 27'!C20)","v":0},{"$f":"SUM('Production DAY 27'!C21)","v":0},{"$f":"SUM('Production DAY 27'!C22)","v":0},{"$f":"SUM('Production DAY 27'!C23)","v":0},{"$f":"SUM('Production DAY 27'!C24)","v":0},{"$f":"SUM('Production DAY 27'!C25)","v":0},{"$f":"SUM('Production DAY 27'!C26)","v":0},{"$f":"SUM('Production DAY 27'!C27)","v":0},{"$f":"SUM('Production DAY 27'!C28)","v":0},{"$f":"SUM('Production DAY 27'!C29)","v":0},{"$f":"SUM('Production DAY 27'!C30)","v":0},{"$f":"SUM('Production DAY 27'!C31)","v":0},{"$f":"SUM('Production DAY 27'!C32)","v":0},{"$f":"SUM('Production DAY 27'!C33)","v":0},{"$f":"SUM('Production DAY 27'!C34)","v":0},{"$f":"SUM('Production DAY 27'!C35)","v":0},{"$f":"SUM('Production DAY 27'!C36)","v":0},{"$f":"SUM('Production DAY 27'!C37)","v":0},{"$f":"SUM('Production DAY 27'!C38)","v":0},{"$f":"SUM('Production DAY 27'!C39)","v":0},{"$f":"SUM('Production DAY 27'!C40)","v":0},{"$f":"SUM('Production DAY 27'!C41)","v":0},{"$f":"SUM('Production DAY 27'!C42)","v":0},{"$f":"SUM('Production DAY 27'!C43)","v":0}]
["RECEIVED",null,null,null,null,{"$f":"SUM('Production DAY 27'!D2)","v":0},{"$f":"SUM('Production DAY 27'!D3)","v":0},{"$f":"SUM('Production DAY 27'!D4)","v":0},{"$f":"SUM('Production DAY 27'!D5)","v":0},{"$f":"SUM('Production DAY 27'!D6)","v":0},{"$f":"SUM('Production DAY 27'!D7)","v":0},{"$f":"SUM('Production DAY 27'!D8)","v":0},{"$f":"SUM('Production DAY 27'!D9)","v":0},{"$f":"SUM('Production DAY 27'!D10)","v":0},{"$f":"SUM('Production DAY 27'!D11)","v":0},{"$f":"SUM('Production DAY 27'!D12)","v":0},{"$f":"SUM('Production DAY 27'!D13)","v":0},{"$f":"SUM('Production DAY 27'!D14)","v":0},{"$f":"SUM('Production DAY 27'!D15)","v":0},{"$f":"SUM('Production DAY 27'!D16)","v":0},{"$f":"SUM('Production DAY 27'!D17)","v":0},{"$f":"SUM('Production DAY 27'!D18)","v":0},{"$f":"SUM('Production DAY 27'!D19)","v":0},{"$f":"SUM('Production DAY 27'!D20)","v":0},{"$f":"SUM('Production DAY 27'!D21)","v":0},{"$f":"SUM('Production DAY 27'!D22)","v":0},{"$f":"SUM('Production DAY 27'!D23)","v":0},{"$f":"SUM('Production DAY 27'!D24)","v":0},{"$f":"SUM('Production DAY 27'!D25)","v":0},{"$f":"SUM('Production DAY 27'!D26)","v":0},{"$f":"SUM('Production DAY 27'!D27)","v":0},{"$f":"SUM('Production DAY 27'!D28)","v":0},{"$f":"SUM('Production DAY 27'!D29)","v":0},{"$f":"SUM('Production DAY 27'!D30)","v":0},{"$f":"SUM('Production DAY 27'!D31)","v":0},{"$f":"SUM('Production DAY 27'!D32)","v":0},{"$f":"SUM('Production DAY 27'!D33)","v":0},{"$f":"SUM('Production DAY 27'!D34)","v":0},{"$f":"SUM('Production DAY 27'!D35)","v":0},{"$f":"SUM('Production DAY 27'!D36)","v":0},{"$f":"SUM('Production DAY 27'!D37)","v":0},{"$f":"SUM('Production DAY 27'!D38)","v":0},{"$f":"SUM('Production DAY 27'!D39)","v":0},{"$f":"SUM('Production DAY 27'!D40)","v":0},{"$f":"SUM('Production DAY 27'!D41)","v":0},{"$f":"SUM('Production DAY 27'!D42)","v":0},{"$f":"SUM('Production DAY 27'!D43)","v":0}]
["TOTAL STOCK",null,null,null,null,{"$f":"SUM(F66:F67)","v":0},{"$f":"SUM(G66:G67)","v":0},{"$f":"SUM(H66:H67)","v":0},{"$f":"SUM(I66:I67)","v":0},0,0,0,0,0,0,{"$f":"SUM(P66:P67)","v":0},0,0,0,0,0,0,0,0,0,0,0,0,0,0,0,0,0,0,0,0,0,0,0,0,0,0,0,0,0,0,0]
["USED",null,null,{"$f":"SUM(D3:D65)","v":0},null,{"$f":"SUM(F3:F65)","v":0},0,0,0,0,0,0,0,0,0,0,0,0,0,0,0,0,0,0,0,0,0,0,0,0,0,0,0,0,0,0,0,{"$f":"SUM(AL3:AL64)","v":0},0,0,0,0,0,0,0,0,0]
["CLOSING STOCK",null,null,null,null,{"$f":"SUM(F68-F69)","v":0},0,0,0,0,0,0,0,0,0,0,0,0,0,0,0,0,0,0,0,0,0,0,0,0,0,0,0,{"$f":"SUM(AH66-AH69)","v":0},{"$f":"SUM(AI68-AI69)","v":0},0,0,0,0,0,0,0,0,0,0,0,0]

{"sheet":"Production DAY 28","index":54,"n_rows":44,"n_cols":8,"rows_kept":44,"cut":false,"hidden":false,"merged":[]}
["Nos#","ITEMS"," < OPENING STOCK","RECEIVED","USED >","SALES CLOSING STOCK >","PHYSICAL STOCK COUNT","COMMENTS"]
[1,"Burger Bread",{"$f":"SUM('Production DAY 27'!G2)","v":0},null,{"$f":"SUM('DAY 28'!F69)","v":0},{"$f":"SUM('DAY 28'!F70)","v":0},0,{"$f":"IF(G2=F2,TRUE,FALSE)","v":true}]
[2,"Chicken Patty",{"$f":"SUM('Production DAY 27'!G3)","v":0},null,{"$f":"SUM('DAY 28'!G69)","v":0},{"$f":"SUM('DAY 28'!G70)","v":0},0,true]
[3,"Shawarma Bread",{"$f":"SUM('Production DAY 27'!G4)","v":0},null,{"$f":"SUM('DAY 28'!H69)","v":0},{"$f":"SUM('DAY 28'!H70)","v":0},0,true]
[4,"Chicken Portion or Shawarma portion",{"$f":"SUM('Production DAY 27'!G5)","v":0},null,{"$f":"SUM('DAY 28'!I69)","v":0},{"$f":"SUM('DAY 28'!I70)","v":0},0,true]
[5,"Sausage",{"$f":"SUM('Production DAY 27'!G6)","v":0},null,{"$f":"SUM('DAY 28'!J69)","v":0},{"$f":"SUM('DAY 28'!J70)","v":0},0,true]
[6,"Portion of Fries",{"$f":"SUM('Production DAY 27'!G7)","v":0},null,{"$f":"SUM('DAY 28'!K69)","v":0},{"$f":"SUM('DAY 28'!K70)","v":0},0,true]
[7,"Pieces of Chicken",{"$f":"SUM('Production DAY 27'!G8)","v":0},null,{"$f":"SUM('DAY 28'!L69)","v":0},{"$f":"SUM('DAY 28'!L70)","v":0},0,true]
[8,"Cheese",{"$f":"SUM('Production DAY 27'!G9)","v":0},null,{"$f":"SUM('DAY 28'!M69)","v":0},{"$f":"SUM('DAY 28'!M70)","v":0},0,true]
[9,"Bacon",{"$f":"SUM('Production DAY 27'!G10)","v":0},null,{"$f":"SUM('DAY 28'!N69)","v":0},{"$f":"SUM('DAY 28'!N70)","v":0},0,true]
[10,"A Paper Bag",{"$f":"SUM('Production DAY 27'!G11)","v":0},null,{"$f":"SUM('DAY 28'!O69)","v":0},{"$f":"SUM('DAY 28'!O70)","v":0},0,true]
[11,"Achicken Box",{"$f":"SUM('Production DAY 27'!G12)","v":0},null,{"$f":"SUM('DAY 28'!P69)","v":0},{"$f":"SUM('DAY 28'!P70)","v":0},0,true]
[12,"Paper Wrap",{"$f":"SUM('Production DAY 27'!G13)","v":0},null,{"$f":"SUM('DAY 28'!Q69)","v":0},{"$f":"SUM('DAY 28'!Q70)","v":0},0,true]
[13,"A Branded Nylon",{"$f":"SUM('Production DAY 27'!G14)","v":0},null,{"$f":"SUM('DAY 28'!R69)","v":0},{"$f":"SUM('DAY 28'!R70)","v":0},0,true]
[14,"Parfait",{"$f":"SUM('Production DAY 27'!G15)","v":0},null,{"$f":"SUM('DAY 28'!S69)","v":0},{"$f":"SUM('DAY 28'!S70)","v":0},0,true]
[15,"A Bottle of SUGAR Juice",{"$f":"SUM('Production DAY 27'!G16)","v":0},null,{"$f":"SUM('DAY 28'!T69)","v":0},{"$f":"SUM('DAY 28'!T70)","v":0},0,true]
[16,"35 CL Soft Drink",{"$f":"SUM('Production DAY 27'!G17)","v":0},null,{"$f":"SUM('DAY 28'!U69)","v":0},{"$f":"SUM('DAY 28'!U70)","v":0},0,true]
[17,"Beef Patty",{"$f":"SUM('Production DAY 27'!G18)","v":0},null,{"$f":"SUM('DAY 28'!V69)","v":0},{"$f":"SUM('DAY 28'!V70)","v":0},0,true]
[18,"Cream in GRAMS",{"$f":"SUM('Production DAY 27'!G19)","v":0},null,{"$f":"SUM('DAY 28'!W69)","v":0},{"$f":"SUM('DAY 28'!W70)","v":0},0,true]
[19,"KETCHUP",{"$f":"SUM('Production DAY 27'!G20)","v":0},null,{"$f":"SUM('DAY 28'!X69)","v":0},{"$f":"SUM('DAY 28'!X70)","v":0},0,true]
[20,"plain Nylon",{"$f":"SUM('Production DAY 27'!G21)","v":0},null,{"$f":"SUM('DAY 28'!Y69)","v":0},{"$f":"SUM('DAY 28'!Y70)","v":0},0,true]
[21,"Barbeque Sauce",{"$f":"SUM('Production DAY 27'!G22)","v":0},null,{"$f":"SUM('DAY 28'!Z69)","v":0},{"$f":"SUM('DAY 28'!Z70)","v":0},0,true]
[22,"Meal Box",{"$f":"SUM('Production DAY 27'!G23)","v":0},null,{"$f":"SUM('DAY 28'!AA69)","v":0},{"$f":"SUM('DAY 28'!AA70)","v":0},0,true]
[23,"COCONUT BREAD",{"$f":"SUM('Production DAY 27'!G24)","v":0},null,{"$f":"SUM('DAY 28'!AB69)","v":0},{"$f":"SUM('DAY 28'!AB70)","v":0},0,true]
[24,"SUPA KOMMANDO",{"$f":"SUM('Production DAY 27'!G25)","v":0},null,{"$f":"SUM('DAY 28'!AC69)","v":0},{"$f":"SUM('DAY 28'!AC70)","v":0},0,true]
[25,"SHAWARMA SUB",{"$f":"SUM('Production DAY 27'!G26)","v":0},null,{"$f":"SUM('DAY 28'!AD69)","v":0},{"$f":"SUM('DAY 28'!AD70)","v":0},0,true]
[26,"CAN COKE / FANTA",{"$f":"SUM('Production DAY 27'!G27)","v":0},null,{"$f":"SUM('DAY 28'!AE69)","v":0},{"$f":"SUM('DAY 28'!AE70)","v":0},0,true]
[27,"NUGGETS ",{"$f":"SUM('Production DAY 27'!G28)","v":0},null,{"$f":"SUM('DAY 28'!AF69)","v":0},{"$f":"SUM('DAY 28'!AF70)","v":0},0,true]
[28,"PRAWN",{"$f":"SUM('Production DAY 27'!G29)","v":0},null,{"$f":"SUM('DAY 28'!AG69)","v":0},{"$f":"SUM('DAY 28'!AG70)","v":0},0,true]
[29,"FARM PRIDE",{"$f":"SUM('Production DAY 27'!G30)","v":0},null,{"$f":"SUM('DAY 28'!AH69)","v":0},{"$f":"SUM('DAY 28'!AH70)","v":0},0,true]
[30,"50CL OR PULPY",{"$f":"SUM('Production DAY 27'!G31)","v":0},null,{"$f":"SUM('DAY 28'!AI69)","v":0},{"$f":"SUM('DAY 28'!AI70)","v":0},0,true]
[31,"FARM PRIDE 1 LT",{"$f":"SUM('Production DAY 27'!G32)","v":0},null,{"$f":"SUM('DAY 28'!AJ69)","v":0},{"$f":"SUM('DAY 28'!AJ70)","v":0},0,true]
[32,"BEEF PORTION FOR SHAWARMA",{"$f":"SUM('Production DAY 27'!G33)","v":0},null,{"$f":"SUM('DAY 28'!AK69)","v":0},{"$f":"SUM('DAY 28'!AK70)","v":0},0,true]
[33,"BEEF SUYA STICK",{"$f":"SUM('Production DAY 27'!G34)","v":0},null,{"$f":"SUM('DAY 28'!AL69)","v":0},{"$f":"SUM('DAY 28'!AL70)","v":0},0,true]
[34,"EMPTY 1",{"$f":"SUM('Production DAY 27'!G35)","v":0},null,{"$f":"SUM('DAY 28'!AM69)","v":0},{"$f":"SUM('DAY 28'!AM70)","v":0},0,true]
[35,"EMPTY 2",{"$f":"SUM('Production DAY 27'!G36)","v":0},null,{"$f":"SUM('DAY 28'!AN69)","v":0},{"$f":"SUM('DAY 28'!AN70)","v":0},0,true]
[36,"EMPTY 3",{"$f":"SUM('Production DAY 27'!G37)","v":0},null,{"$f":"SUM('DAY 28'!AO69)","v":0},{"$f":"SUM('DAY 28'!AO70)","v":0},0,true]
[37,"EMPTY 4",{"$f":"SUM('Production DAY 27'!G38)","v":0},null,{"$f":"SUM('DAY 28'!AP69)","v":0},{"$f":"SUM('DAY 28'!AP70)","v":0},0,true]
[38,"EMPTY 5",{"$f":"SUM('Production DAY 27'!G39)","v":0},null,{"$f":"SUM('DAY 28'!AQ69)","v":0},{"$f":"SUM('DAY 28'!AQ70)","v":0},0,true]
[39,"EMPTY 6",{"$f":"SUM('Production DAY 27'!G40)","v":0},null,{"$f":"SUM('DAY 28'!AR69)","v":0},{"$f":"SUM('DAY 28'!AR70)","v":0},0,true]
[40,"EMPTY 7",{"$f":"SUM('Production DAY 27'!G41)","v":0},null,{"$f":"SUM('DAY 28'!AS69)","v":0},{"$f":"SUM('DAY 28'!AS70)","v":0},0,true]
[41,"EMPTY 8",{"$f":"SUM('Production DAY 27'!G42)","v":0},null,{"$f":"SUM('DAY 28'!AT69)","v":0},{"$f":"SUM('DAY 28'!AT70)","v":0},0,true]
[42,"EMPTY 9",{"$f":"SUM('Production DAY 27'!G43)","v":0},null,{"$f":"SUM('DAY 28'!AU69)","v":0},{"$f":"SUM('DAY 28'!AU70)","v":0},0,true]
[43,"EMPTY 10",{"$f":"SUM('Production DAY 27'!G44)","v":0},null,{"$f":"SUM('DAY 28'!AV69)","v":0},{"$f":"SUM('DAY 28'!AV70)","v":0},0,true]

{"sheet":"DAY 28","index":55,"n_rows":70,"n_cols":47,"rows_kept":70,"cut":false,"hidden":false,"merged":[[0,7,0,28]]}
["FEBRUARY 12th, 2022",null,null,{"$f":"SUM(D3:D50)","v":0},null,null,null,"BURGER PALACE INVENTORY RECORDS"]
["ITEM","AMOUNT","QUANTITY","TOTAL",null,"Burger Bread","Chicken Patty","Shawarma Bread","Chicken Portion or Shawarma portion","Sausage","Portion of Fries","Pieces of Chicken","Cheese","Bacon","A Paper Bag","Achicken Box","Paper Wrap","A Branded Nylon","Parfait","A Bottle of SUGAR Juice","35 CL Soft Drink","Beef Patty","Cream in GRAMS","KETCHUP","plain Nylon","Barbeque Sauce","Meal Box","COCONUT BREAD ","SUPA KOMMANDO ","SHAWARMA SUB","CAN COKE / FANTA","NUGGETS","PRAWN","FARM PRIDE 50CL OR PULPY","FARM PRIDE 1 LT","BEEF PORTION FOR SHAWARMA ","BEEF SUYA STICK","EMPTY 1","EMPTY 2","EMPTY 3","EMPTY 4","EMPTY 5","EMPTY 6","EMPTY 7","EMPTY 8","EMPTY 9","EMPTY 10"]
["DELUXE BURGER MEAL (WITH SOFT DRINK)",5400,0,{"$f":"SUM(B3*C3)","v":0},null,{"$f":"SUM(C3)","v":0},{"$f":"SUM(C3)","v":0},{"$f":"SUM(C3)","v":0},{"$f":"SUM(C3)","v":0},{"$f":"SUM(C3)","v":0},{"$f":"SUM(C3)","v":0},{"$f":"SUM(C3)*2","v":0},"ZERO","ZERO",{"$f":"SUM(C3)*1","v":0},{"$f":"SUM(C3)","v":0},{"$f":"SUM(C3)*2","v":0},{"$f":"SUM(C3)","v":0},null,"ZERO",{"$f":"SUM(C3)","v":0},null,{"$f":"SUM(C3)*140","v":0},{"$f":"SUM(C3)","v":0},{"$f":"SUM(C3)","v":0},"ZERO",null,null,null,null,null,null,null,null,null,{"$f":"SUM(AD3)","v":0},0]
["DELUXE BURGER MEAL (WITH SUGARCANE JUICE)",5600,0,{"$f":"SUM(B4*C4)","v":0},null,{"$f":"SUM(C4)","v":0},{"$f":"SUM(C4)","v":0},{"$f":"SUM(C4)","v":0},{"$f":"SUM(C4)","v":0},{"$f":"SUM(C4)","v":0},0,{"$f":"SUM(C4)*2","v":0},"ZERO","ZERO",{"$f":"SUM(C4)*1","v":0},0,{"$f":"SUM(C4)*2","v":0},0,null,{"$f":"SUM(C4)","v":0},"ZERO",null,{"$f":"SUM(C4)*140","v":0},{"$f":"SUM(C4)","v":0},0,"ZERO",null,null,null,null,null,null,null,null,null,0,0]
["DELUXE MEAL EXTRA (WITH Soft Drink)",null,0,{"$f":"SUM(B5*C5)","v":0},null,{"$f":"SUM(C5)","v":0},{"$f":"SUM(C5)","v":0},{"$f":"SUM(C5)","v":0},{"$f":"SUM(C5)","v":0},{"$f":"SUM(C5)","v":0},0,{"$f":"SUM(C5)*2","v":0},"ZERO","ZERO",{"$f":"SUM(C5)","v":0},0,{"$f":"SUM(C5)*2","v":0},0,{"$f":"SUM(C5)","v":0},"ZERO",{"$f":"SUM(C5)","v":0},null,{"$f":"SUM(C5)*140","v":0},{"$f":"SUM(C5)","v":0},0,"ZERO",null,null,null,null,null,null,null,null,null,0,0]
["DELUXE BURGER MEAL Extra (With Sugarcane juice",null,0,{"$f":"SUM(B6*C6)","v":0},null,{"$f":"SUM(C6)","v":0},{"$f":"SUM(C6)","v":0},{"$f":"SUM(C6)","v":0},{"$f":"SUM(C6)","v":0},{"$f":"SUM(C6)","v":0},0,{"$f":"SUM(C6)*2","v":0},"ZERO","ZERO",{"$f":"SUM(C6)","v":0},0,{"$f":"SUM(C6)*2","v":0},0,{"$f":"SUM(C6)","v":0},{"$f":"SUM(C6)","v":0},"ZERO",null,{"$f":"SUM(C6)*140","v":0},{"$f":"SUM(C6)","v":0},0,"ZERO",null,null,null,null,null,null,null,null,null,0,0]
["PREMIUM BURGER Meal ",5900,0,{"$f":"SUM(B7*C7)","v":0},null,{"$f":"SUM(C7)","v":0},{"$f":"SUM(C7)","v":0},"ZERO","ZERO","ZERO",0,{"$f":"SUM(C7)*5","v":0},"ZERO","ZERO",{"$f":"SUM(C7)","v":0},0,{"$f":"SUM(C7)*1.25","v":0},0,"ZERO","ZERO",{"$f":"SUM(C7)","v":0},"ZERO",{"$f":"SUM(C7)*70","v":0},{"$f":"SUM(C7)*2","v":0},0,{"$f":"SUM(C7)","v":0},null,null,null,null,null,null,null,null,null,"ZERO","ZERO"]
["CRISPY CHICKEN BOX",4300,0,null,null,"ZERO","ZERO","ZERO","ZERO","ZERO",0,{"$f":"SUM(C8)*5","v":0},"ZERO","ZERO","ZERO",0,{"$f":"SUM(C8)*0.25","v":0},0,"ZERO","ZERO",{"$f":"SUM(C8)","v":0},"ZERO","ZERO",{"$f":"SUM(C8)*2","v":0},0,{"$f":"SUM(C8)","v":0},null,null,null,null,null,null,null,null,null,"ZERO","ZERO"]
["ROYAL BURGER MEAL (CHICKEN  PATTY)",null,0,{"$f":"SUM(B9*C9)","v":0},null,{"$f":"SUM(C9)","v":0},{"$f":"SUM(C9)*2","v":0},"ZERO","ZERO","ZERO",0,"ZERO",{"$f":"SUM(C9)*2","v":0},{"$f":"SUM(C9)*2","v":0},"ZERO",0,{"$f":"SUM(C9)","v":0},0,{"$f":"SUM(C9)","v":0},"ZERO","ZERO","ZERO",{"$f":"SUM(C9)*140","v":0},{"$f":"SUM(C9)*2","v":0},0,{"$f":"SUM(C9)","v":0},null,null,null,null,null,null,null,null,null,"ZERO","ZERO"]
["ROYAL BURGER MEAL (BEEF  PATTY)",null,0,{"$f":"SUM(B10*C10)","v":0},null,{"$f":"SUM(C10)","v":0},"ZERO","ZERO","ZERO","ZERO",0,"ZERO",{"$f":"SUM(C10)*2","v":0},{"$f":"SUM(C10)*2","v":0},"ZERO",0,0,0,{"$f":"SUM(C10)","v":0},"ZERO","ZERO",{"$f":"SUM(C10)*2","v":0},{"$f":"SUM(C10)*140","v":0},{"$f":"SUM(C10)*2","v":0},0,{"$f":"SUM(C10)","v":0},null,null,null,null,null,null,null,null,null,"ZERO","ZERO"]
["ROYAL BURGER ONLY (CHICKEN PATTY)",3300,0,{"$f":"SUM(B11*C11:C25,A1,A1,A1,A1,A1)","v":0},null,{"$f":"SUM(C11)","v":0},{"$f":"SUM(C11)*2","v":0},"ZERO","ZERO","ZERO","ZERO","ZERO",{"$f":"SUM(C11)*2","v":0},{"$f":"SUM(C11)*2","v":0},"ZERO",0,0,0,"ZERO","ZERO","ZERO","ZERO",{"$f":"SUM(C11)*140","v":0},{"$f":"SUM(C11)","v":0},"ZERO","ZERO",null,null,null,null,null,null,null,null,null,"ZERO","ZERO"]
["ROYAL BURGER ONLY (BEEF PATTY)",3300,0,{"$f":"SUM(B12*C12)","v":0},null,{"$f":"SUM(C12)","v":0},null,"ZERO","ZERO","ZERO","ZERO","ZERO",{"$f":"SUM(C12)*2","v":0},{"$f":"SUM(C12)*2","v":0},"ZERO",0,0,0,"ZERO","ZERO","ZERO",{"$f":"SUM(C12)*2","v":0},{"$f":"SUM(C12)*140","v":0},{"$f":"SUM(C12)","v":0},"ZERO","ZERO",null,null,null,null,null,null,null,null,null,"ZERO","ZERO"]
["MAYOR'S COCONUT BURGER ",2800,0,0,null,0,{"$f":"SUM(C13)","v":0},"ZERO","ZERO","ZERO","ZERO","ZERO",{"$f":"SUM(C13)","v":0},"ZERO","ZERO",0,0,0,"ZERO","ZERO","ZERO",{"$f":"SUM(C13)","v":0},{"$f":"SUM(C13)*140","v":0},"ZERO","ZERO","ZERO",null,{"$f":"SUM(C13)","v":0},{"$f":"SUM(C13)","v":0},null,null,null,null,null,null,"ZERO","ZERO"]
["DOUBLE DECKER CRISPY CHK. CHEESE BURGER",2500,0,0,null,{"$f":"SUM(C14)","v":0},{"$f":"SUM(C14)*2","v":0},"ZERO","ZERO","ZERO","ZERO","ZERO",{"$f":"SUM(C14)","v":0},"ZERO","ZERO",0,0,"ZERO","ZERO","ZERO","ZERO","ZERO",{"$f":"SUM(C14)*70","v":0},"ZERO","ZERO","ZERO",null,null,null,null,null,null,null,null,null,"ZERO","ZERO"]
["SINGLE BEEF BURGER",1700,0,0,null,0,"ZERO","ZERO","ZERO","ZERO","ZERO","ZERO",null,"ZERO",{"$f":"SUM(C15)","v":0},null,0,"ZERO","ZERO","ZERO","ZERO",{"$f":"SUM(C15)","v":0},{"$f":"SUM(C15)*70","v":0},"ZERO","ZERO","ZERO",null,null,null,null,null,null,null,null,null,"ZERO","ZERO"]
["YANKEE BURGER",2400,0,0,null,0,"ZERO","ZERO","ZERO","ZERO","ZERO","ZERO",null,{"$f":"SUM(C16)*2","v":0},{"$f":"SUM(C16)","v":0},null,0,"ZERO","ZERO","ZERO","ZERO",{"$f":"SUM(C16)","v":0},{"$f":"SUM(C16)*70","v":0},"ZERO","ZERO","ZERO",null,null,null,null,null,null,null,null,null,"ZERO","ZERO"]
["ROYAL BURGER WITH FRIES (Chicken)",4000,0,0,null,0,{"$f":"SUM(C17)*2","v":0},"ZERO","ZERO","ZERO",{"$f":"SUM(C17)","v":0},"ZERO",{"$f":"SUM(C17)*2","v":0},{"$f":"SUM(C17)*2","v":0},"ZERO",{"$f":"SUM(C17)","v":0},0,"ZERO","ZERO","ZERO","ZERO","ZERO",{"$f":"SUM(C17)*140","v":0},{"$f":"SUM(C17)*2","v":0},"ZERO","ZERO",null,null,null,null,null,null,null,null,null,"ZERO","ZERO"]
["ROYAL BURGER WITH FRIES (BEEF)",4000,0,0,null,0,"ZERO","ZERO","ZERO","ZERO",{"$f":"SUM(C18)","v":0},"ZERO",{"$f":"SUM(C18)*2","v":0},{"$f":"SUM(C18)*2","v":0},"ZERO",{"$f":"SUM(C18)","v":0},0,"ZERO","ZERO","ZERO","ZERO",{"$f":"SUM(C18)*2","v":0},{"$f":"SUM(C18)*140","v":0},{"$f":"SUM(C18)*2","v":0},"ZERO","ZERO",null,null,null,null,null,null,null,null,null,"ZERO","ZERO"]
["CRISPY CHICKEN BURGER",1700,0,0,null,0,{"$f":"SUM(C19)","v":0},"ZERO","ZERO","ZERO","ZERO","ZERO","ZERO","ZERO",{"$f":"SUM(C19)","v":0},"ZERO",{"$f":"SUM(C19)*1","v":0},"ZERO","ZERO","ZERO","ZERO","ZERO",{"$f":"SUM(C19)*70","v":0},"ZERO","ZERO","ZERO",null,null,null,null,null,null,null,null,null,"ZERO","ZERO"]
["SUYA BURGER BOX",5500,0,0,null,0,{"$f":"SUM(C20)*2","v":0},"ZERO","ZERO",{"$f":"SUM(C20)*4","v":0},{"$f":"SUM(C20)","v":0},{"$f":"SUM(C20)*4","v":0},"ZERO","ZERO",{"$f":"SUM(C20)","v":0},{"$f":"SUM(C20)","v":0},{"$f":"SUM(C20)","v":0},"ZERO","ZERO",null,{"$f":"SUM(C20)","v":0},"ZERO",0,{"$f":"SUM(C20)*2","v":0},{"$f":"SUM(C20)","v":0},"ZERO",{"$f":"SUM(C20)","v":0},null,null,null,null,null,null,null,null,"ZERO","ZERO"]
["CRISPY CHICKEN BURGER PLUS CHEESE",2100,0,0,null,0,{"$f":"SUM(C21)","v":0},"ZERO","ZERO","ZERO","ZERO","ZERO",{"$f":"SUM(C21)","v":0},"ZERO",{"$f":"SUM(C21)","v":0},"ZERO",0,"ZERO","ZERO","ZERO","ZERO","ZERO",0,"ZERO","ZERO","ZERO",null,null,null,null,null,null,null,null,null,"ZERO","ZERO"]
["SINGLE BEEF CHEESE BURGER ",2100,0,0,null,0,"ZERO","ZERO","ZERO","ZERO","ZERO","ZERO",{"$f":"SUM(C22)","v":0},"ZERO",{"$f":"SUM(C22)","v":0},"ZERO",0,"ZERO","ZERO","ZERO","ZERO",{"$f":"SUM(C22)","v":0},0,"ZERO","ZERO","ZERO",null,null,null,null,null,null,null,null,null,"ZERO","ZERO"]
["DOUBLE DECKER BEEF CHEESE BURGER",2800,0,0,null,0,"ZERO","ZERO","ZERO","ZERO","ZERO","ZERO",{"$f":"SUM(C23)*2","v":0},"ZERO","ZERO",{"$f":"SUM(C23)","v":0},0,"ZERO","ZERO","ZERO","ZERO",{"$f":"SUM(C23)*2","v":0},0,"ZERO","ZERO","ZERO",null,null,null,null,null,null,null,null,null,"ZERO","ZERO"]
["CHICKEN SUYA BURGER ",2200,0,0,null,0,{"$f":"SUM(C24)*2","v":0},"ZERO","ZERO","ZERO","ZERO","ZERO","ZERO","ZERO",{"$f":"SUM(C24)*1","v":0},"ZERO",0,"ZERO","ZERO","ZERO","ZERO","ZERO",0,"ZERO","ZERO","ZERO",null,null,null,null,null,null,null,null,null,"ZERO","ZERO"]
["CHICKEN SHAWARMA",1800,0,0,null,null,"ZERO",{"$f":"SUM(C25)","v":0},{"$f":"SUM(C25)","v":0},{"$f":"SUM(C25)*2","v":0},"ZERO","ZERO","ZERO","ZERO","ZERO","ZERO",0,{"$f":"SUM(C25)","v":0},"ZERO","ZERO","ZERO","ZERO",0,"ZERO","ZERO","ZERO",null,null,null,null,null,null,null,null,null,{"$f":"SUM(AD25)","v":0},{"$f":"SUM(AE25)","v":0}]
["BARBECUE BEEF SHAWARMA",2000,0,0,null,null,"ZERO",{"$f":"SUM(C26)","v":0},"ZERO",{"$f":"SUM(C26)*2","v":0},"ZERO","ZERO","ZERO","ZERO","ZERO","ZERO",0,0,"ZERO","ZERO","ZERO","ZERO",0,"ZERO","ZERO","ZERO",null,null,null,null,null,null,null,null,null,{"$f":"SUM(C26)","v":0},"ZERO"]
["BEEF SUYA SHAWARMA",2200,0,0,null,null,"ZERO",{"$f":"SUM(C27)","v":0},"ZERO",{"$f":"SUM(C27)*2","v":0},"ZERO","ZERO","ZERO","ZERO","ZERO","ZERO",0,0,"ZERO","ZERO","ZERO","ZERO",0,"ZERO","ZERO","ZERO",null,null,null,null,null,null,null,null,null,{"$f":"SUM(AD27)","v":0},{"$f":"SUM(C27)","v":0}]
["BEEF SUYA BURGER ",2200,0,0,null,{"$f":"SUM(C28)","v":0},"ZERO",null,"ZERO","ZERO","ZERO","ZERO","ZERO","ZERO",{"$f":"SUM(C28)","v":0},"ZERO",0,0,"ZERO","ZERO","ZERO","ZERO",0,"ZERO","ZERO","ZERO",null,null,null,null,null,null,null,null,null,{"$f":"SUM(AD28)","v":0},{"$f":"SUM(C28)","v":0}]
["CHICKEN SUYA SHAWARMA",2200,0,0,null,"ZERO",{"$f":"SUM(C29)*2","v":0},{"$f":"SUM(C29)","v":0},null,{"$f":"SUM(C29)*2","v":0},"ZERO","ZERO","ZERO","ZERO","ZERO","ZERO",0,0,"ZERO","ZERO","ZERO","ZERO",0,"ZERO","ZERO","ZERO"]
["CHESSY SHAWARMA",2500,0,0,null,"ZERO","ZERO",{"$f":"SUM(C30)","v":0},{"$f":"SUM(C30)","v":0},{"$f":"SUM(C30)*2","v":0},null,"ZERO",{"$f":"SUM(C30)*2","v":0},"ZERO","ZERO","ZERO",0,0,"ZERO","ZERO","ZERO","ZERO",{"$f":"SUM(C30)*140","v":0},"ZERO","ZERO","ZERO",null,null,null,null,null,null,null,null,null,{"$f":"SUM(AD30)","v":0},{"$f":"SUM(AE30)","v":0}]
["2 CHICKEN AND CHIPS",2300,0,0,null,"ZERO","ZERO","ZERO","ZERO","ZERO",{"$f":"SUM(C31)","v":0},{"$f":"SUM(C31)*2","v":0},"ZERO","ZERO","ZERO",{"$f":"SUM(C31)","v":0},"ZERO",0,"ZERO","ZERO","ZERO","ZERO","ZERO",{"$f":"SUM(C31)","v":0},"ZERO","ZERO",null,null,null,null,null,null,null,null,null,"ZERO","ZERO"]
["4 CHICKEN AND CHIPS",3500,0,0,null,"ZERO","ZERO","ZERO","ZERO","ZERO",{"$f":"SUM(C32)","v":0},{"$f":"SUM(C32)*4","v":0},"ZERO","ZERO","ZERO",{"$f":"SUM(C32)","v":0},"ZERO",0,"ZERO","ZERO","ZERO","ZERO","ZERO",{"$f":"SUM(C32)*2","v":0},"ZERO","ZERO","zero","zero","zero",null,null,null,null,null,null,"ZERO","ZERO"]
["SPICY CHICKEN ONLY",650,0,null,null,"ZERO","ZERO","ZERO","ZERO","ZERO","ZERO",{"$f":"SUM(C33)","v":0},"ZERO","ZERO","ZERO","ZERO","ZERO","ZERO","ZERO","ZERO","ZERO","ZERO","ZERO","ZERO",{"$f":"SUM(C33)","v":0},"ZERO",null,null,null,null,null,null,null,null,null,"ZERO","ZERO"]
["CRISPY CHICKEN ONLY",650,0,{"$f":"SUM(B34*C34)","v":0},null,"ZERO","ZERO","ZERO","ZERO","ZERO","ZERO",{"$f":"SUM(C34)","v":0},"ZERO","ZERO","ZERO","ZERO","ZERO","ZERO","ZERO","ZERO","ZERO","ZERO","ZERO","ZERO",{"$f":"SUM(C34)","v":0},"ZERO",null,null,null,null,null,null,null,null,null,"ZERO","ZERO"]
["POTATO FRIES",700,0,0,null,"ZERO","ZERO","ZERO","ZERO","ZERO",null,"ZERO","ZERO","ZERO","ZERO","ZERO","ZERO","ZERO","ZERO","ZERO","ZERO","ZERO","ZERO","ZERO","ZERO","ZERO",null,null,null,null,null,null,null,null,null,"ZERO","ZERO"]
["FRENCH FRIES ONLY",1000,0,0,null,"ZERO","ZERO","ZERO","ZERO","ZERO",{"$f":"SUM(C36)","v":0},"ZERO","ZERO","ZERO","ZERO","ZERO","ZERO","ZERO","ZERO","ZERO","ZERO","ZERO","ZERO","ZERO",{"$f":"SUM(C36)","v":0},"ZERO",null,null,null,null,null,null,null,null,null,"ZERO","ZERO"]
["SUGERCANNE JUICE",750,0,0,null,"ZERO","ZERO","ZERO","ZERO","ZERO","ZERO","ZERO","ZERO","ZERO","ZERO","ZERO","ZERO","ZERO","ZERO",{"$f":"SUM(C37)","v":0},"ZERO","ZERO","ZERO","ZERO","ZERO","ZERO",null,null,null,null,null,null,null,null,null,"ZERO","ZERO"]
["35 CL SOFT DRINK",200,0,0,null,"ZERO","ZERO","ZERO","ZERO","ZERO","ZERO","ZERO","ZERO","ZERO","ZERO","ZERO","ZERO","ZERO","ZERO","ZERO",{"$f":"SUM(C38)","v":0},"ZERO","ZERO","ZERO","ZERO","ZERO",null,null,null,null,null,null,null,null,null,"ZERO","ZERO"]
["PARFAIT",null,0,0,null,"ZERO","ZERO","ZERO","ZERO","ZERO","ZERO","ZERO","ZERO","ZERO","ZERO","ZERO","ZERO",{"$f":"SUM(C39)","v":0},{"$f":"SUM(C39)","v":0},"ZERO","ZERO","ZERO","ZERO","ZERO","ZERO","ZERO",null,null,null,null,null,null,null,null,null,"ZERO","ZERO"]
["MARINATED WINGS",500,0,0,null,"ZERO","ZERO","ZERO","ZERO","ZERO","ZERO",{"$f":"SUM(C40)","v":0},"ZERO","ZERO","ZERO","ZERO","ZERO","ZERO","ZERO","ZERO","ZERO","ZERO","ZERO","ZERO","ZERO","ZERO",null,null,null,null,null,null,null,null,null,"ZERO","ZERO"]
["CHEESE ",400,0,0,null,"ZERO","ZERO","ZERO","ZERO","ZERO","ZERO","ZERO",{"$f":"SUM(C41)","v":0},"ZERO","ZERO","ZERO","ZERO","ZERO","ZERO","ZERO","ZERO","ZERO","ZERO","ZERO","ZERO","ZERO",null,null,null,null,null,null,null,null,null,"ZERO","ZERO"]
["SAUSAGE",200,0,0,null,null,null,null,null,null,"ZERO"]
["BACON",400,0,0,null,"ZERO","ZERO","ZERO","ZERO","ZERO","ZERO","ZERO","ZERO",{"$f":"SUM(C43)","v":0},"ZERO","ZERO","ZERO","ZERO","ZERO","ZERO","ZERO","ZERO","ZERO","ZERO","ZERO","ZERO",null,null,null,null,null,null,null,null,null,"ZERO","ZERO"]
["FRIENDY BURGER MEAL (WITH SOFT DRINK)",10200,0,0,null,{"$f":"SUM(C44)*2","v":0},{"$f":"SUM(C44)*2","v":0},{"$f":"SUM(C44)*2","v":0},{"$f":"SUM(C44)*2","v":0},{"$f":"SUM(C44)*2","v":0},{"$f":"SUM(C44)*2","v":0},{"$f":"SUM(C44)*2*2","v":0},"ZERO","ZERO",{"$f":"SUM(C44)*1*2","v":0},{"$f":"SUM(C44)*2","v":0},{"$f":"SUM(C44)*2*2","v":0},{"$f":"SUM(C44)*2","v":0},null,"ZERO",{"$f":"SUM(C44)*2","v":0},null,{"$f":"SUM(C44)*140*2","v":0},{"$f":"SUM(C44)*2","v":0},{"$f":"SUM(C44)*2","v":0},"ZERO",null,null,null,null,null,null,null,null,null,{"$f":"SUM(AD44)*2","v":0},{"$f":"SUM(AE44)*2","v":0}]
["FRIENDY BURGER MEAL (WITH SUGARCANE JUICE)",10600,0,0,null,{"$f":"SUM(C45)*2","v":0},{"$f":"SUM(C45)*2","v":0},{"$f":"SUM(C45)*2","v":0},{"$f":"SUM(C45)*2","v":0},{"$f":"SUM(C45)*2","v":0},{"$f":"SUM(C45)*2","v":0},{"$f":"SUM(C45)*2*2","v":0},"ZERO","ZERO",{"$f":"SUM(C45)*1*2","v":0},{"$f":"SUM(C45)*2","v":0},{"$f":"SUM(C45)*2*2","v":0},{"$f":"SUM(C45)*2","v":0},null,{"$f":"SUM(C45)*2","v":0},"ZERO",null,{"$f":"SUM(C45)*140*2","v":0},{"$f":"SUM(C45)*2","v":0},{"$f":"SUM(C45)*2","v":0},"ZERO",null,null,null,null,null,null,null,null,null,{"$f":"SUM(AD45)*2","v":0},{"$f":"SUM(AE45)*2","v":0}]
["SHAWARMA  SUB",1800,0,0,null,null,"ZERO","ZERO",{"$f":"SUM(C46)","v":0},{"$f":"SUM(C46)*2","v":0},"ZERO","ZERO","ZERO","ZERO",{"$f":"SUM(C46)*1","v":0},"ZERO",{"$f":"SUM(C46)","v":0},"ZERO","ZERO","ZERO","ZERO","ZERO",{"$f":"SUM(C46)*70","v":0},"ZERO","ZERO","ZERO",null,null,null,{"$f":"SUM(C46)","v":0},null,null,null,null,null,{"$f":"SUM(AD46)","v":0},{"$f":"SUM(AE46)","v":0}]
["DELISH PACK 1",5300,0,0,null,{"$f":"SUM(C47)","v":0},{"$f":"SUM(C47)","v":0},"ZERO",{"$f":"SUM(C47)","v":0},{"$f":"SUM(C47)*2","v":0},"ZERO",{"$f":"SUM(C47)*4","v":0},"ZERO","ZERO",{"$f":"SUM(C47)*1","v":0},{"$f":"SUM(C47)*1","v":0},{"$f":"SUM(C47)*2","v":0},{"$f":"SUM(C47)","v":0},"ZERO","ZERO","ZERO","ZERO",{"$f":"SUM(C47)*70","v":0},"ZERO","ZERO","ZERO",null,null,null,{"$f":"SUM(C47)","v":0},{"$f":"SUM(C47)*1","v":0},null,null,null,null,{"$f":"SUM(AD47)","v":0},{"$f":"SUM(AE47)","v":0}]
["FAMILY BURGER MEAL (WITH SOFT DRINK)",19800,0,0,null,{"$f":"SUM(C48)*4","v":0},{"$f":"SUM(C48)*4","v":0},{"$f":"SUM(C48)*4","v":0},{"$f":"SUM(C48)*4","v":0},{"$f":"SUM(C48)*4","v":0},{"$f":"SUM(C48)*4","v":0},{"$f":"SUM(C48)*2*4","v":0},"ZERO","ZERO",{"$f":"SUM(C48)*1*4","v":0},{"$f":"SUM(C48)*4","v":0},{"$f":"SUM(C48)*2*4","v":0},{"$f":"SUM(C48)*4","v":0},null,"ZERO",{"$f":"SUM(C48)*4","v":0},null,{"$f":"SUM(C48)*140*4","v":0},{"$f":"SUM(C48)*4","v":0},{"$f":"SUM(C48)*4","v":0},"ZERO",null,null,null,null,null,null,null,null,null,{"$f":"SUM(AD48)*4","v":0},{"$f":"SUM(AE48)*4","v":0}]
["FAMILY BURGER MEAL (WITH SUGARCANE JUICE)",20800,0,0,null,{"$f":"SUM(C49)*4","v":0},{"$f":"SUM(C49)*4","v":0},{"$f":"SUM(C49)*4","v":0},{"$f":"SUM(C49)*4","v":0},{"$f":"SUM(C49)*4","v":0},{"$f":"SUM(C49)*4","v":0},{"$f":"SUM(C49)*2*4","v":0},"ZERO","ZERO",{"$f":"SUM(C49)*1*4","v":0},{"$f":"SUM(C49)*4","v":0},{"$f":"SUM(C49)*2*4","v":0},{"$f":"SUM(C49)*4","v":0},null,{"$f":"SUM(C49)*4","v":0},"ZERO",null,{"$f":"SUM(C49)*140*4","v":0},{"$f":"SUM(C49)*4","v":0},{"$f":"SUM(C49)*4","v":0},"ZERO",null,null,null,null,null,null,null,null,null,{"$f":"SUM(AD49)*4","v":0},{"$f":"SUM(AE49)*4","v":0}]
["CAN COKE/FANTA ONLY",null,0,0,null,"ZERO","ZERO","ZERO","ZERO","ZERO","ZERO","ZERO","ZERO","ZERO","ZERO","ZERO","ZERO","ZERO","ZERO","ZERO","ZERO","ZERO","ZERO","ZERO","ZERO","ZERO",null,null,null,null,{"$f":"SUM(C50)","v":0},null,null,null,null,"ZERO","ZERO"]
["SUPA KOMMANDO ONLY",250,0,0,null,"ZERO","ZERO","ZERO","ZERO","ZERO","ZERO","ZERO","ZERO","ZERO","ZERO","ZERO","ZERO","ZERO","ZERO","ZERO","ZERO","ZERO","ZERO","ZERO","ZERO","ZERO",null,null,{"$f":"SUM(C51)","v":0},null,"ZERO","ZERO",null,null,null,"ZERO","ZERO"]
["10X Chicken Nuggets ",2400,0,0,null,null,null,null,null,null,"ZERO",null,null,null,null,{"$f":"SUM(C52)","v":0},null,{"$f":"SUM(C52)","v":0},null,null,null,null,null,{"$f":"SUM(C52)","v":0},null,null,null,null,null,null,{"$f":"SUM(C52)","v":0},{"$f":"SUM(C52)*10","v":0}]
["20X Chicken Nuggets ",4800,0,0,null,null,null,null,null,null,"ZERO ",null,null,null,null,{"$f":"SUM(C53)","v":0},null,{"$f":"SUM(C53)","v":0},null,null,null,null,null,{"$f":"SUM(C53)","v":0},null,null,null,null,null,null,{"$f":"SUM(C53)","v":0},{"$f":"SUM(C53)*20","v":0}]
["10 CHICKEN NUGGETS & FRIES BOX",3300,0,0,null,null,null,null,null,null,{"$f":"SUM(C54)","v":0},null,null,null,null,{"$f":"SUM(C54)","v":0},null,{"$f":"SUM(C54)","v":0},null,null,null,null,null,{"$f":"SUM(C54)","v":0},null,null,null,null,null,null,{"$f":"SUM(C54)","v":0},{"$f":"SUM(C54)*10","v":0}]
["20 CHICKEN NUGGETS & FRIES BOX",6600,0,0,null,null,null,null,null,null,{"$f":"SUM(C55)","v":0},null,null,null,null,{"$f":"SUM(C55)","v":0},null,{"$f":"SUM(C55)","v":0},null,null,null,null,null,{"$f":"SUM(C55)","v":0},null,null,null,null,null,null,{"$f":"SUM(C55)","v":0},{"$f":"SUM(C55)*20","v":0}]
["PRAWN BURGER ",3000,0,0,null,{"$f":"SUM(C56)","v":0},"ZERO","ZERO","ZERO","ZERO","ZERO","ZERO",{"$f":"SUM(C56)","v":0},"ZERO",{"$f":"SUM(C56)","v":0},"ZERO",{"$f":"SUM(C56)","v":0},"ZERO","ZERO","ZERO","ZERO","ZERO",{"$f":"SUM(C56)*70","v":0},"ZERO","ZERO","ZERO",null,null,null,null,null,null,{"$f":"SUM(C56)*2","v":0},null,null,"ZERO","ZERO"]
[" FUNMMY NUGGETS  BOX",5300,0,0,null,{"$f":"SUM(C57)","v":0},{"$f":"SUM(C57)","v":0},null,null,null,{"$f":"SUM(C57)","v":0},null,{"$f":"SUM(C57)","v":0},null,{"$f":"SUM(C57)","v":0},{"$f":"SUM(C57)","v":0},null,{"$f":"SUM(C57)","v":0},null,null,null,null,null,{"$f":"SUM(C57)","v":0},null,null,null,null,null,null,{"$f":"SUM(C57)","v":0},{"$f":"SUM(C57)*10","v":0}]
["FARM PRIDE 50 CL",500,0,0,null,"ZERO","ZERO","ZERO","ZERO","ZERO","ZERO","ZERO","ZERO","ZERO","ZERO","ZERO","ZERO","ZERO","ZERO","ZERO","ZERO","ZERO","ZERO","ZERO","ZERO","ZERO",null,null,null,null,null,null,null,{"$f":"SUM(C58)","v":0},null,"ZERO","ZERO"]
["FARM PRIDE 1 LITRE",800,0,0,null,"ZERO","ZERO","ZERO","ZERO","ZERO","ZERO","ZERO","ZERO","ZERO","ZERO","ZERO","ZERO","ZERO","ZERO","ZERO","ZERO","ZERO","ZERO","ZERO","ZERO","ZERO",null,null,null,null,null,null,null,"ZERO",{"$f":"SUM(C59)","v":0},"ZERO","ZERO"]
["GRILLED CHICKEN BURGER",1700,0,{"$f":"SUM(B60*C60)","v":0},null,{"$f":"SUM(C60)","v":0},{"$f":"SUM(C60)","v":0},"ZERO","ZERO","ZERO","ZERO","ZERO","ZERO","ZERO",{"$f":"SUM(C60)","v":0},"ZERO",{"$f":"SUM(C60)*1","v":0},"ZERO","ZERO","ZERO","ZERO","ZERO",{"$f":"SUM(C60)*70","v":0},"ZERO","ZERO","ZERO",null,null,null,null,null,null,null,null,null,"ZERO","ZERO"]
["GRILLED CHICKEN BURGER + JUICE",2200,0,{"$f":"SUM(B61*C61)","v":0},null,{"$f":"SUM(C61)","v":0},{"$f":"SUM(C61)","v":0},"ZERO","ZERO","ZERO","ZERO","ZERO","ZERO","ZERO",{"$f":"SUM(C61)","v":0},"ZERO",{"$f":"SUM(C61)*1","v":0},"ZERO","ZERO","ZERO","ZERO","ZERO",{"$f":"SUM(C61)*70","v":0},"ZERO","ZERO","ZERO",null,null,null,null,null,null,null,{"$f":"SUM(C61)","v":0},null,"ZERO","ZERO"]
["GRILLED BURGER MEAL 1 & 3",4000,0,{"$f":"SUM(B62*C62)","v":0},null,{"$f":"SUM(C62)","v":0},{"$f":"SUM(C62)","v":0},"ZERO","ZERO","ZERO",{"$f":"SUM(C62)","v":0},{"$f":"SUM(C62)*2","v":0},"ZERO","ZERO","ZERO",{"$f":"SUM(C62)","v":0},{"$f":"SUM(C62)","v":0},{"$f":"SUM(C62)","v":0},"ZERO","ZERO","ZERO","ZERO",{"$f":"SUM(C62)*70","v":0},{"$f":"SUM(C62)","v":0},"ZERO","ZERO",null,null,null,null,null,null,null,{"$f":"SUM(C62)","v":0},null,"ZERO","ZERO"]
["GRILLED BURGER MEAL 2",3700,0,{"$f":"SUM(B63*C63)","v":0},null,{"$f":"SUM(C63)","v":0},{"$f":"SUM(C63)","v":0},"ZERO","ZERO","ZERO",{"$f":"SUM(C63)","v":0},{"$f":"SUM(C63)*2","v":0},"ZERO","ZERO","ZERO",{"$f":"SUM(C63)","v":0},{"$f":"SUM(C63)","v":0},{"$f":"SUM(C63)","v":0},"ZERO","ZERO",{"$f":"SUM(C63)","v":0},"ZERO",{"$f":"SUM(C63)*70","v":0},{"$f":"SUM(C63)","v":0},"ZERO","ZERO",null,null,null,null,null,null,null,"ZERO",null,"ZERO","ZERO"]
["MASTERPIECE BURGER ",5000,0,{"$f":"SUM(B64*C64)","v":0},null,{"$f":"SUM(C64)","v":0},"ZERO","ZERO","ZERO","ZERO","ZERO","ZERO",{"$f":"SUM(C64)","v":0},"ZERO","ZERO",{"$f":"SUM(C64)","v":0},{"$f":"SUM(C64)","v":0},"ZERO","ZERO","ZERO",{"$f":"SUM(C64)","v":0},{"$f":"SUM(C64)","v":0},{"$f":"SUM(C64)*70","v":0},"ZERO","ZERO","ZERO",null,null,null,null,null,null,null,null,null,"ZERO",{"$f":"SUM(C64)","v":0}]
["SUYA BURGER BOX 2 (WITH BEEF SUYA BURGER)",6000,0,0,null,0,"ZERO ","ZERO","ZERO",0,0,0,"ZERO","ZERO",0,0,0,"ZERO","ZERO",null,0,"ZERO",0,0,0,"ZERO",0,null,null,null,null,null,null,null,null,"ZERO",0]
["OPENING STOCK",null,null,null,null,{"$f":"SUM('Production DAY 28'!C2)","v":0},{"$f":"SUM('Production DAY 28'!C3)","v":0},{"$f":"SUM('Production DAY 28'!C4)","v":0},{"$f":"SUM('Production DAY 28'!C5)","v":0},{"$f":"SUM('Production DAY 28'!C6)","v":0},{"$f":"SUM('Production DAY 28'!C7)","v":0},{"$f":"SUM('Production DAY 28'!C8)","v":0},{"$f":"SUM('Production DAY 28'!C9)","v":0},{"$f":"SUM('Production DAY 28'!C10)","v":0},{"$f":"SUM('Production DAY 28'!C11)","v":0},{"$f":"SUM('Production DAY 28'!C12)","v":0},{"$f":"SUM('Production DAY 28'!C13)","v":0},{"$f":"SUM('Production DAY 28'!C14)","v":0},{"$f":"SUM('Production DAY 28'!C15)","v":0},{"$f":"SUM('Production DAY 28'!C16)","v":0},{"$f":"SUM('Production DAY 28'!C17)","v":0},{"$f":"SUM('Production DAY 28'!C18)","v":0},{"$f":"SUM('Production DAY 28'!C19)","v":0},{"$f":"SUM('Production DAY 28'!C20)","v":0},{"$f":"SUM('Production DAY 28'!C21)","v":0},{"$f":"SUM('Production DAY 28'!C22)","v":0},{"$f":"SUM('Production DAY 28'!C23)","v":0},{"$f":"SUM('Production DAY 28'!C24)","v":0},{"$f":"SUM('Production DAY 28'!C25)","v":0},{"$f":"SUM('Production DAY 28'!C26)","v":0},{"$f":"SUM('Production DAY 28'!C27)","v":0},{"$f":"SUM('Production DAY 28'!C28)","v":0},{"$f":"SUM('Production DAY 28'!C29)","v":0},{"$f":"SUM('Production DAY 28'!C30)","v":0},{"$f":"SUM('Production DAY 28'!C31)","v":0},{"$f":"SUM('Production DAY 28'!C32)","v":0},{"$f":"SUM('Production DAY 28'!C33)","v":0},{"$f":"SUM('Production DAY 28'!C34)","v":0},{"$f":"SUM('Production DAY 28'!C35)","v":0},{"$f":"SUM('Production DAY 28'!C36)","v":0},{"$f":"SUM('Production DAY 28'!C37)","v":0},{"$f":"SUM('Production DAY 28'!C38)","v":0},{"$f":"SUM('Production DAY 28'!C39)","v":0},{"$f":"SUM('Production DAY 28'!C40)","v":0},{"$f":"SUM('Production DAY 28'!C41)","v":0},{"$f":"SUM('Production DAY 28'!C42)","v":0},{"$f":"SUM('Production DAY 28'!C43)","v":0}]
["RECEIVED",null,null,null,null,{"$f":"SUM('Production DAY 28'!D2)","v":0},{"$f":"SUM('Production DAY 28'!D3)","v":0},{"$f":"SUM('Production DAY 28'!D4)","v":0},{"$f":"SUM('Production DAY 28'!D5)","v":0},{"$f":"SUM('Production DAY 28'!D6)","v":0},{"$f":"SUM('Production DAY 28'!D7)","v":0},{"$f":"SUM('Production DAY 28'!D8)","v":0},{"$f":"SUM('Production DAY 28'!D9)","v":0},{"$f":"SUM('Production DAY 28'!D10)","v":0},{"$f":"SUM('Production DAY 28'!D11)","v":0},{"$f":"SUM('Production DAY 28'!D12)","v":0},{"$f":"SUM('Production DAY 28'!D13)","v":0},{"$f":"SUM('Production DAY 28'!D14)","v":0},{"$f":"SUM('Production DAY 28'!D15)","v":0},{"$f":"SUM('Production DAY 28'!D16)","v":0},{"$f":"SUM('Production DAY 28'!D17)","v":0},{"$f":"SUM('Production DAY 28'!D18)","v":0},{"$f":"SUM('Production DAY 28'!D19)","v":0},{"$f":"SUM('Production DAY 28'!D20)","v":0},{"$f":"SUM('Production DAY 28'!D21)","v":0},{"$f":"SUM('Production DAY 28'!D22)","v":0},{"$f":"SUM('Production DAY 28'!D23)","v":0},{"$f":"SUM('Production DAY 28'!D24)","v":0},{"$f":"SUM('Production DAY 28'!D25)","v":0},{"$f":"SUM('Production DAY 28'!D26)","v":0},{"$f":"SUM('Production DAY 28'!D27)","v":0},{"$f":"SUM('Production DAY 28'!D28)","v":0},{"$f":"SUM('Production DAY 28'!D29)","v":0},{"$f":"SUM('Production DAY 28'!D30)","v":0},{"$f":"SUM('Production DAY 28'!D31)","v":0},{"$f":"SUM('Production DAY 28'!D32)","v":0},{"$f":"SUM('Production DAY 28'!D33)","v":0},{"$f":"SUM('Production DAY 28'!D34)","v":0},{"$f":"SUM('Production DAY 28'!D35)","v":0},{"$f":"SUM('Production DAY 28'!D36)","v":0},{"$f":"SUM('Production DAY 28'!D37)","v":0},{"$f":"SUM('Production DAY 28'!D38)","v":0},{"$f":"SUM('Production DAY 28'!D39)","v":0},{"$f":"SUM('Production DAY 28'!D40)","v":0},{"$f":"SUM('Production DAY 28'!D41)","v":0},{"$f":"SUM('Production DAY 28'!D42)","v":0},{"$f":"SUM('Production DAY 28'!D43)","v":0}]
["TOTAL STOCK",null,null,null,null,{"$f":"SUM(F66:F67)","v":0},{"$f":"SUM(G66:G67)","v":0},{"$f":"SUM(H66:H67)","v":0},{"$f":"SUM(I66:I67)","v":0},0,0,0,0,0,0,{"$f":"SUM(P66:P67)","v":0},0,0,0,0,0,0,0,0,0,0,0,0,0,0,0,0,0,0,0,0,0,0,0,0,0,0,0,0,0,0,0]
["USED",null,null,{"$f":"SUM(D3:D65)","v":0},null,{"$f":"SUM(F3:F65)","v":0},0,0,0,0,0,0,0,0,0,0,0,0,0,0,0,0,0,0,0,0,0,0,0,0,0,0,0,0,0,0,0,{"$f":"SUM(AL3:AL64)","v":0},0,0,0,0,0,0,0,0,0]
["CLOSING STOCK",null,null,null,null,{"$f":"SUM(F68-F69)","v":0},0,0,0,0,0,0,0,0,0,0,0,0,0,0,0,0,0,0,0,0,0,0,0,0,0,0,0,{"$f":"SUM(AH66-AH69)","v":0},{"$f":"SUM(AI68-AI69)","v":0},0,0,0,0,0,0,0,0,0,0,0,0]

{"sheet":"Production DAY 29","index":56,"n_rows":44,"n_cols":8,"rows_kept":44,"cut":false,"hidden":false,"merged":[]}
["Nos#","ITEMS"," < OPENING STOCK","RECEIVED","USED >","SALES CLOSING STOCK >","PHYSICAL STOCK COUNT","COMMENTS"]
[1,"Burger Bread",{"$f":"SUM('Production DAY 28'!G2)","v":0},null,{"$f":"SUM('DAY 29'!F69)","v":0},{"$f":"SUM('DAY 29'!F70)","v":0},0,{"$f":"IF(G2=F2,TRUE,FALSE)","v":true}]
[2,"Chicken Patty",{"$f":"SUM('Production DAY 28'!G3)","v":0},null,{"$f":"SUM('DAY 29'!G69)","v":0},{"$f":"SUM('DAY 29'!G70)","v":0},0,true]
[3,"Shawarma Bread",{"$f":"SUM('Production DAY 28'!G4)","v":0},null,{"$f":"SUM('DAY 29'!H69)","v":0},{"$f":"SUM('DAY 29'!H70)","v":0},0,true]
[4,"Chicken Portion or Shawarma portion",{"$f":"SUM('Production DAY 28'!G5)","v":0},null,{"$f":"SUM('DAY 29'!I69)","v":0},{"$f":"SUM('DAY 29'!I70)","v":0},0,true]
[5,"Sausage",{"$f":"SUM('Production DAY 28'!G6)","v":0},null,{"$f":"SUM('DAY 29'!J69)","v":0},{"$f":"SUM('DAY 29'!J70)","v":0},0,true]
[6,"Portion of Fries",{"$f":"SUM('Production DAY 28'!G7)","v":0},null,{"$f":"SUM('DAY 29'!K69)","v":0},{"$f":"SUM('DAY 29'!K70)","v":0},0,true]
[7,"Pieces of Chicken",{"$f":"SUM('Production DAY 28'!G8)","v":0},null,{"$f":"SUM('DAY 29'!L69)","v":0},{"$f":"SUM('DAY 29'!L70)","v":0},0,true]
[8,"Cheese",{"$f":"SUM('Production DAY 28'!G9)","v":0},null,{"$f":"SUM('DAY 29'!M69)","v":0},{"$f":"SUM('DAY 29'!M70)","v":0},0,true]
[9,"Bacon",{"$f":"SUM('Production DAY 28'!G10)","v":0},null,{"$f":"SUM('DAY 29'!N69)","v":0},{"$f":"SUM('DAY 29'!N70)","v":0},0,true]
[10,"A Paper Bag",{"$f":"SUM('Production DAY 28'!G11)","v":0},null,{"$f":"SUM('DAY 29'!O69)","v":0},{"$f":"SUM('DAY 29'!O70)","v":0},0,true]
[11,"Achicken Box",{"$f":"SUM('Production DAY 28'!G12)","v":0},null,{"$f":"SUM('DAY 29'!P69)","v":0},{"$f":"SUM('DAY 29'!P70)","v":0},0,true]
[12,"Paper Wrap",{"$f":"SUM('Production DAY 28'!G13)","v":0},null,{"$f":"SUM('DAY 29'!Q69)","v":0},{"$f":"SUM('DAY 29'!Q70)","v":0},0,true]
[13,"A Branded Nylon",{"$f":"SUM('Production DAY 28'!G14)","v":0},null,{"$f":"SUM('DAY 29'!R69)","v":0},{"$f":"SUM('DAY 29'!R70)","v":0},0,true]
[14,"Parfait",{"$f":"SUM('Production DAY 28'!G15)","v":0},null,{"$f":"SUM('DAY 29'!S69)","v":0},{"$f":"SUM('DAY 29'!S70)","v":0},0,true]
[15,"A Bottle of SUGAR Juice",{"$f":"SUM('Production DAY 28'!G16)","v":0},null,{"$f":"SUM('DAY 29'!T69)","v":0},{"$f":"SUM('DAY 29'!T70)","v":0},0,true]
[16,"35 CL Soft Drink",{"$f":"SUM('Production DAY 28'!G17)","v":0},null,{"$f":"SUM('DAY 29'!U69)","v":0},{"$f":"SUM('DAY 29'!U70)","v":0},0,true]
[17,"Beef Patty",{"$f":"SUM('Production DAY 28'!G18)","v":0},null,{"$f":"SUM('DAY 29'!V69)","v":0},{"$f":"SUM('DAY 29'!V70)","v":0},0,true]
[18,"Cream in GRAMS",{"$f":"SUM('Production DAY 28'!G19)","v":0},null,{"$f":"SUM('DAY 29'!W69)","v":0},{"$f":"SUM('DAY 29'!W70)","v":0},0,true]
[19,"KETCHUP",{"$f":"SUM('Production DAY 28'!G20)","v":0},null,{"$f":"SUM('DAY 29'!X69)","v":0},{"$f":"SUM('DAY 29'!X70)","v":0},0,true]
[20,"plain Nylon",{"$f":"SUM('Production DAY 28'!G21)","v":0},null,{"$f":"SUM('DAY 29'!Y69)","v":0},{"$f":"SUM('DAY 29'!Y70)","v":0},0,true]
[21,"Barbeque Sauce",{"$f":"SUM('Production DAY 28'!G22)","v":0},null,{"$f":"SUM('DAY 29'!Z69)","v":0},{"$f":"SUM('DAY 29'!Z70)","v":0},0,true]
[22,"Meal Box",{"$f":"SUM('Production DAY 28'!G23)","v":0},null,{"$f":"SUM('DAY 29'!AA69)","v":0},{"$f":"SUM('DAY 29'!AA70)","v":0},0,true]
[23,"COCONUT BREAD",{"$f":"SUM('Production DAY 28'!G24)","v":0},null,{"$f":"SUM('DAY 29'!AB69)","v":0},{"$f":"SUM('DAY 29'!AB70)","v":0},0,true]
[24,"SUPA KOMMANDO",{"$f":"SUM('Production DAY 28'!G25)","v":0},null,{"$f":"SUM('DAY 29'!AC69)","v":0},{"$f":"SUM('DAY 29'!AC70)","v":0},0,true]
[25,"SHAWARMA SUB",{"$f":"SUM('Production DAY 28'!G26)","v":0},null,{"$f":"SUM('DAY 29'!AD69)","v":0},{"$f":"SUM('DAY 29'!AD70)","v":0},0,true]
[26,"CAN COKE / FANTA",{"$f":"SUM('Production DAY 28'!G27)","v":0},null,{"$f":"SUM('DAY 29'!AE69)","v":0},{"$f":"SUM('DAY 29'!AE70)","v":0},0,true]
[27,"NUGGETS ",{"$f":"SUM('Production DAY 28'!G28)","v":0},null,{"$f":"SUM('DAY 29'!AF69)","v":0},{"$f":"SUM('DAY 29'!AF70)","v":0},0,true]
[28,"PRAWN",{"$f":"SUM('Production DAY 28'!G29)","v":0},null,{"$f":"SUM('DAY 29'!AG69)","v":0},{"$f":"SUM('DAY 29'!AG70)","v":0},0,true]
[29,"FARM PRIDE",{"$f":"SUM('Production DAY 28'!G30)","v":0},null,{"$f":"SUM('DAY 29'!AH69)","v":0},{"$f":"SUM('DAY 29'!AH70)","v":0},0,true]
[30,"50CL OR PULPY",{"$f":"SUM('Production DAY 28'!G31)","v":0},null,{"$f":"SUM('DAY 29'!AI69)","v":0},{"$f":"SUM('DAY 29'!AI70)","v":0},0,true]
[31,"FARM PRIDE 1 LT",{"$f":"SUM('Production DAY 28'!G32)","v":0},null,{"$f":"SUM('DAY 29'!AJ69)","v":0},{"$f":"SUM('DAY 29'!AJ70)","v":0},0,true]
[32,"BEEF PORTION FOR SHAWARMA",{"$f":"SUM('Production DAY 28'!G33)","v":0},null,{"$f":"SUM('DAY 29'!AK69)","v":0},{"$f":"SUM('DAY 29'!AK70)","v":0},0,true]
[33,"BEEF SUYA STICK",{"$f":"SUM('Production DAY 28'!G34)","v":0},null,{"$f":"SUM('DAY 29'!AL69)","v":0},{"$f":"SUM('DAY 29'!AL70)","v":0},0,true]
[34,"EMPTY 1",{"$f":"SUM('Production DAY 28'!G35)","v":0},null,{"$f":"SUM('DAY 29'!AM69)","v":0},{"$f":"SUM('DAY 29'!AM70)","v":0},0,true]
[35,"EMPTY 2",{"$f":"SUM('Production DAY 28'!G36)","v":0},null,{"$f":"SUM('DAY 29'!AN69)","v":0},{"$f":"SUM('DAY 29'!AN70)","v":0},0,true]
[36,"EMPTY 3",{"$f":"SUM('Production DAY 28'!G37)","v":0},null,{"$f":"SUM('DAY 29'!AO69)","v":0},{"$f":"SUM('DAY 29'!AO70)","v":0},0,true]
[37,"EMPTY 4",{"$f":"SUM('Production DAY 28'!G38)","v":0},null,{"$f":"SUM('DAY 29'!AP69)","v":0},{"$f":"SUM('DAY 29'!AP70)","v":0},0,true]
[38,"EMPTY 5",{"$f":"SUM('Production DAY 28'!G39)","v":0},null,{"$f":"SUM('DAY 29'!AQ69)","v":0},{"$f":"SUM('DAY 29'!AQ70)","v":0},0,true]
[39,"EMPTY 6",{"$f":"SUM('Production DAY 28'!G40)","v":0},null,{"$f":"SUM('DAY 29'!AR69)","v":0},{"$f":"SUM('DAY 29'!AR70)","v":0},0,true]
[40,"EMPTY 7",{"$f":"SUM('Production DAY 28'!G41)","v":0},null,{"$f":"SUM('DAY 29'!AS69)","v":0},{"$f":"SUM('DAY 29'!AS70)","v":0},0,true]
[41,"EMPTY 8",{"$f":"SUM('Production DAY 28'!G42)","v":0},null,{"$f":"SUM('DAY 29'!AT69)","v":0},{"$f":"SUM('DAY 29'!AT70)","v":0},0,true]
[42,"EMPTY 9",{"$f":"SUM('Production DAY 28'!G43)","v":0},null,{"$f":"SUM('DAY 29'!AU69)","v":0},{"$f":"SUM('DAY 29'!AU70)","v":0},0,true]
[43,"EMPTY 10",{"$f":"SUM('Production DAY 28'!G44)","v":0},null,{"$f":"SUM('DAY 29'!AV69)","v":0},{"$f":"SUM('DAY 29'!AV70)","v":0},0,true]

{"sheet":"DAY 29","index":57,"n_rows":70,"n_cols":47,"rows_kept":70,"cut":false,"hidden":false,"merged":[[0,7,0,28]]}
["FEBRUARY 12th, 2022",null,null,{"$f":"SUM(D3:D50)","v":0},null,null,null,"BURGER PALACE INVENTORY RECORDS"]
["ITEM","AMOUNT","QUANTITY","TOTAL",null,"Burger Bread","Chicken Patty","Shawarma Bread","Chicken Portion or Shawarma portion","Sausage","Portion of Fries","Pieces of Chicken","Cheese","Bacon","A Paper Bag","Achicken Box","Paper Wrap","A Branded Nylon","Parfait","A Bottle of SUGAR Juice","35 CL Soft Drink","Beef Patty","Cream in GRAMS","KETCHUP","plain Nylon","Barbeque Sauce","Meal Box","COCONUT BREAD ","SUPA KOMMANDO ","SHAWARMA SUB","CAN COKE / FANTA","NUGGETS","PRAWN","FARM PRIDE 50CL OR PULPY","FARM PRIDE 1 LT","BEEF PORTION FOR SHAWARMA ","BEEF SUYA STICK","EMPTY 1","EMPTY 2","EMPTY 3","EMPTY 4","EMPTY 5","EMPTY 6","EMPTY 7","EMPTY 8","EMPTY 9","EMPTY 10"]
["DELUXE BURGER MEAL (WITH SOFT DRINK)",5400,0,{"$f":"SUM(B3*C3)","v":0},null,{"$f":"SUM(C3)","v":0},{"$f":"SUM(C3)","v":0},{"$f":"SUM(C3)","v":0},{"$f":"SUM(C3)","v":0},{"$f":"SUM(C3)","v":0},{"$f":"SUM(C3)","v":0},{"$f":"SUM(C3)*2","v":0},"ZERO","ZERO",{"$f":"SUM(C3)*1","v":0},{"$f":"SUM(C3)","v":0},{"$f":"SUM(C3)*2","v":0},{"$f":"SUM(C3)","v":0},null,"ZERO",{"$f":"SUM(C3)","v":0},null,{"$f":"SUM(C3)*140","v":0},{"$f":"SUM(C3)","v":0},{"$f":"SUM(C3)","v":0},"ZERO",null,null,null,null,null,null,null,null,null,{"$f":"SUM(AD3)","v":0},0]
["DELUXE BURGER MEAL (WITH SUGARCANE JUICE)",5600,0,{"$f":"SUM(B4*C4)","v":0},null,{"$f":"SUM(C4)","v":0},{"$f":"SUM(C4)","v":0},{"$f":"SUM(C4)","v":0},{"$f":"SUM(C4)","v":0},{"$f":"SUM(C4)","v":0},0,{"$f":"SUM(C4)*2","v":0},"ZERO","ZERO",{"$f":"SUM(C4)*1","v":0},0,{"$f":"SUM(C4)*2","v":0},0,null,{"$f":"SUM(C4)","v":0},"ZERO",null,{"$f":"SUM(C4)*140","v":0},{"$f":"SUM(C4)","v":0},0,"ZERO",null,null,null,null,null,null,null,null,null,0,0]
["DELUXE MEAL EXTRA (WITH Soft Drink)",null,0,{"$f":"SUM(B5*C5)","v":0},null,{"$f":"SUM(C5)","v":0},{"$f":"SUM(C5)","v":0},{"$f":"SUM(C5)","v":0},{"$f":"SUM(C5)","v":0},{"$f":"SUM(C5)","v":0},0,{"$f":"SUM(C5)*2","v":0},"ZERO","ZERO",{"$f":"SUM(C5)","v":0},0,{"$f":"SUM(C5)*2","v":0},0,{"$f":"SUM(C5)","v":0},"ZERO",{"$f":"SUM(C5)","v":0},null,{"$f":"SUM(C5)*140","v":0},{"$f":"SUM(C5)","v":0},0,"ZERO",null,null,null,null,null,null,null,null,null,0,0]
["DELUXE BURGER MEAL Extra (With Sugarcane juice",null,0,{"$f":"SUM(B6*C6)","v":0},null,{"$f":"SUM(C6)","v":0},{"$f":"SUM(C6)","v":0},{"$f":"SUM(C6)","v":0},{"$f":"SUM(C6)","v":0},{"$f":"SUM(C6)","v":0},0,{"$f":"SUM(C6)*2","v":0},"ZERO","ZERO",{"$f":"SUM(C6)","v":0},0,{"$f":"SUM(C6)*2","v":0},0,{"$f":"SUM(C6)","v":0},{"$f":"SUM(C6)","v":0},"ZERO",null,{"$f":"SUM(C6)*140","v":0},{"$f":"SUM(C6)","v":0},0,"ZERO",null,null,null,null,null,null,null,null,null,0,0]
["PREMIUM BURGER Meal ",5900,0,{"$f":"SUM(B7*C7)","v":0},null,{"$f":"SUM(C7)","v":0},{"$f":"SUM(C7)","v":0},"ZERO","ZERO","ZERO",0,{"$f":"SUM(C7)*5","v":0},"ZERO","ZERO",{"$f":"SUM(C7)","v":0},0,{"$f":"SUM(C7)*1.25","v":0},0,"ZERO","ZERO",{"$f":"SUM(C7)","v":0},"ZERO",{"$f":"SUM(C7)*70","v":0},{"$f":"SUM(C7)*2","v":0},0,{"$f":"SUM(C7)","v":0},null,null,null,null,null,null,null,null,null,"ZERO","ZERO"]
["CRISPY CHICKEN BOX",4300,0,null,null,"ZERO","ZERO","ZERO","ZERO","ZERO",0,{"$f":"SUM(C8)*5","v":0},"ZERO","ZERO","ZERO",0,{"$f":"SUM(C8)*0.25","v":0},0,"ZERO","ZERO",{"$f":"SUM(C8)","v":0},"ZERO","ZERO",{"$f":"SUM(C8)*2","v":0},0,{"$f":"SUM(C8)","v":0},null,null,null,null,null,null,null,null,null,"ZERO","ZERO"]
["ROYAL BURGER MEAL (CHICKEN  PATTY)",null,0,{"$f":"SUM(B9*C9)","v":0},null,{"$f":"SUM(C9)","v":0},{"$f":"SUM(C9)*2","v":0},"ZERO","ZERO","ZERO",0,"ZERO",{"$f":"SUM(C9)*2","v":0},{"$f":"SUM(C9)*2","v":0},"ZERO",0,{"$f":"SUM(C9)","v":0},0,{"$f":"SUM(C9)","v":0},"ZERO","ZERO","ZERO",{"$f":"SUM(C9)*140","v":0},{"$f":"SUM(C9)*2","v":0},0,{"$f":"SUM(C9)","v":0},null,null,null,null,null,null,null,null,null,"ZERO","ZERO"]
["ROYAL BURGER MEAL (BEEF  PATTY)",null,0,{"$f":"SUM(B10*C10)","v":0},null,{"$f":"SUM(C10)","v":0},"ZERO","ZERO","ZERO","ZERO",0,"ZERO",{"$f":"SUM(C10)*2","v":0},{"$f":"SUM(C10)*2","v":0},"ZERO",0,0,0,{"$f":"SUM(C10)","v":0},"ZERO","ZERO",{"$f":"SUM(C10)*2","v":0},{"$f":"SUM(C10)*140","v":0},{"$f":"SUM(C10)*2","v":0},0,{"$f":"SUM(C10)","v":0},null,null,null,null,null,null,null,null,null,"ZERO","ZERO"]
["ROYAL BURGER ONLY (CHICKEN PATTY)",3300,0,{"$f":"SUM(B11*C11:C25,A1,A1,A1,A1,A1)","v":0},null,{"$f":"SUM(C11)","v":0},{"$f":"SUM(C11)*2","v":0},"ZERO","ZERO","ZERO","ZERO","ZERO",{"$f":"SUM(C11)*2","v":0},{"$f":"SUM(C11)*2","v":0},"ZERO",0,0,0,"ZERO","ZERO","ZERO","ZERO",{"$f":"SUM(C11)*140","v":0},{"$f":"SUM(C11)","v":0},"ZERO","ZERO",null,null,null,null,null,null,null,null,null,"ZERO","ZERO"]
["ROYAL BURGER ONLY (BEEF PATTY)",3300,0,{"$f":"SUM(B12*C12)","v":0},null,{"$f":"SUM(C12)","v":0},null,"ZERO","ZERO","ZERO","ZERO","ZERO",{"$f":"SUM(C12)*2","v":0},{"$f":"SUM(C12)*2","v":0},"ZERO",0,0,0,"ZERO","ZERO","ZERO",{"$f":"SUM(C12)*2","v":0},{"$f":"SUM(C12)*140","v":0},{"$f":"SUM(C12)","v":0},"ZERO","ZERO",null,null,null,null,null,null,null,null,null,"ZERO","ZERO"]
["MAYOR'S COCONUT BURGER ",2800,0,0,null,0,{"$f":"SUM(C13)","v":0},"ZERO","ZERO","ZERO","ZERO","ZERO",{"$f":"SUM(C13)","v":0},"ZERO","ZERO",0,0,0,"ZERO","ZERO","ZERO",{"$f":"SUM(C13)","v":0},{"$f":"SUM(C13)*140","v":0},"ZERO","ZERO","ZERO",null,{"$f":"SUM(C13)","v":0},{"$f":"SUM(C13)","v":0},null,null,null,null,null,null,"ZERO","ZERO"]
["DOUBLE DECKER CRISPY CHK. CHEESE BURGER",2500,0,0,null,{"$f":"SUM(C14)","v":0},{"$f":"SUM(C14)*2","v":0},"ZERO","ZERO","ZERO","ZERO","ZERO",{"$f":"SUM(C14)","v":0},"ZERO","ZERO",0,0,"ZERO","ZERO","ZERO","ZERO","ZERO",{"$f":"SUM(C14)*70","v":0},"ZERO","ZERO","ZERO",null,null,null,null,null,null,null,null,null,"ZERO","ZERO"]
["SINGLE BEEF BURGER",1700,0,0,null,0,"ZERO","ZERO","ZERO","ZERO","ZERO","ZERO",null,"ZERO",{"$f":"SUM(C15)","v":0},null,0,"ZERO","ZERO","ZERO","ZERO",{"$f":"SUM(C15)","v":0},{"$f":"SUM(C15)*70","v":0},"ZERO","ZERO","ZERO",null,null,null,null,null,null,null,null,null,"ZERO","ZERO"]
["YANKEE BURGER",2400,0,0,null,0,"ZERO","ZERO","ZERO","ZERO","ZERO","ZERO",null,{"$f":"SUM(C16)*2","v":0},{"$f":"SUM(C16)","v":0},null,0,"ZERO","ZERO","ZERO","ZERO",{"$f":"SUM(C16)","v":0},{"$f":"SUM(C16)*70","v":0},"ZERO","ZERO","ZERO",null,null,null,null,null,null,null,null,null,"ZERO","ZERO"]
["ROYAL BURGER WITH FRIES (Chicken)",4000,0,0,null,0,{"$f":"SUM(C17)*2","v":0},"ZERO","ZERO","ZERO",{"$f":"SUM(C17)","v":0},"ZERO",{"$f":"SUM(C17)*2","v":0},{"$f":"SUM(C17)*2","v":0},"ZERO",{"$f":"SUM(C17)","v":0},0,"ZERO","ZERO","ZERO","ZERO","ZERO",{"$f":"SUM(C17)*140","v":0},{"$f":"SUM(C17)*2","v":0},"ZERO","ZERO",null,null,null,null,null,null,null,null,null,"ZERO","ZERO"]
["ROYAL BURGER WITH FRIES (BEEF)",4000,0,0,null,0,"ZERO","ZERO","ZERO","ZERO",{"$f":"SUM(C18)","v":0},"ZERO",{"$f":"SUM(C18)*2","v":0},{"$f":"SUM(C18)*2","v":0},"ZERO",{"$f":"SUM(C18)","v":0},0,"ZERO","ZERO","ZERO","ZERO",{"$f":"SUM(C18)*2","v":0},{"$f":"SUM(C18)*140","v":0},{"$f":"SUM(C18)*2","v":0},"ZERO","ZERO",null,null,null,null,null,null,null,null,null,"ZERO","ZERO"]
["CRISPY CHICKEN BURGER",1700,0,0,null,0,{"$f":"SUM(C19)","v":0},"ZERO","ZERO","ZERO","ZERO","ZERO","ZERO","ZERO",{"$f":"SUM(C19)","v":0},"ZERO",{"$f":"SUM(C19)*1","v":0},"ZERO","ZERO","ZERO","ZERO","ZERO",{"$f":"SUM(C19)*70","v":0},"ZERO","ZERO","ZERO",null,null,null,null,null,null,null,null,null,"ZERO","ZERO"]
["SUYA BURGER BOX",5500,0,0,null,0,{"$f":"SUM(C20)*2","v":0},"ZERO","ZERO",{"$f":"SUM(C20)*4","v":0},{"$f":"SUM(C20)","v":0},{"$f":"SUM(C20)*4","v":0},"ZERO","ZERO",{"$f":"SUM(C20)","v":0},{"$f":"SUM(C20)","v":0},{"$f":"SUM(C20)","v":0},"ZERO","ZERO",null,{"$f":"SUM(C20)","v":0},"ZERO",0,{"$f":"SUM(C20)*2","v":0},{"$f":"SUM(C20)","v":0},"ZERO",{"$f":"SUM(C20)","v":0},null,null,null,null,null,null,null,null,"ZERO","ZERO"]
["CRISPY CHICKEN BURGER PLUS CHEESE",2100,0,0,null,0,{"$f":"SUM(C21)","v":0},"ZERO","ZERO","ZERO","ZERO","ZERO",{"$f":"SUM(C21)","v":0},"ZERO",{"$f":"SUM(C21)","v":0},"ZERO",0,"ZERO","ZERO","ZERO","ZERO","ZERO",0,"ZERO","ZERO","ZERO",null,null,null,null,null,null,null,null,null,"ZERO","ZERO"]
["SINGLE BEEF CHEESE BURGER ",2100,0,0,null,0,"ZERO","ZERO","ZERO","ZERO","ZERO","ZERO",{"$f":"SUM(C22)","v":0},"ZERO",{"$f":"SUM(C22)","v":0},"ZERO",0,"ZERO","ZERO","ZERO","ZERO",{"$f":"SUM(C22)","v":0},0,"ZERO","ZERO","ZERO",null,null,null,null,null,null,null,null,null,"ZERO","ZERO"]
["DOUBLE DECKER BEEF CHEESE BURGER",2800,0,0,null,0,"ZERO","ZERO","ZERO","ZERO","ZERO","ZERO",{"$f":"SUM(C23)*2","v":0},"ZERO","ZERO",{"$f":"SUM(C23)","v":0},0,"ZERO","ZERO","ZERO","ZERO",{"$f":"SUM(C23)*2","v":0},0,"ZERO","ZERO","ZERO",null,null,null,null,null,null,null,null,null,"ZERO","ZERO"]
["CHICKEN SUYA BURGER ",2200,0,0,null,0,{"$f":"SUM(C24)*2","v":0},"ZERO","ZERO","ZERO","ZERO","ZERO","ZERO","ZERO",{"$f":"SUM(C24)*1","v":0},"ZERO",0,"ZERO","ZERO","ZERO","ZERO","ZERO",0,"ZERO","ZERO","ZERO",null,null,null,null,null,null,null,null,null,"ZERO","ZERO"]
["CHICKEN SHAWARMA",1800,0,0,null,null,"ZERO",{"$f":"SUM(C25)","v":0},{"$f":"SUM(C25)","v":0},{"$f":"SUM(C25)*2","v":0},"ZERO","ZERO","ZERO","ZERO","ZERO","ZERO",0,{"$f":"SUM(C25)","v":0},"ZERO","ZERO","ZERO","ZERO",0,"ZERO","ZERO","ZERO",null,null,null,null,null,null,null,null,null,{"$f":"SUM(AD25)","v":0},{"$f":"SUM(AE25)","v":0}]
["BARBECUE BEEF SHAWARMA",2000,0,0,null,null,"ZERO",{"$f":"SUM(C26)","v":0},"ZERO",{"$f":"SUM(C26)*2","v":0},"ZERO","ZERO","ZERO","ZERO","ZERO","ZERO",0,0,"ZERO","ZERO","ZERO","ZERO",0,"ZERO","ZERO","ZERO",null,null,null,null,null,null,null,null,null,{"$f":"SUM(C26)","v":0},"ZERO"]
["BEEF SUYA SHAWARMA",2200,0,0,null,null,"ZERO",{"$f":"SUM(C27)","v":0},"ZERO",{"$f":"SUM(C27)*2","v":0},"ZERO","ZERO","ZERO","ZERO","ZERO","ZERO",0,0,"ZERO","ZERO","ZERO","ZERO",0,"ZERO","ZERO","ZERO",null,null,null,null,null,null,null,null,null,{"$f":"SUM(AD27)","v":0},{"$f":"SUM(C27)","v":0}]
["BEEF SUYA BURGER ",2200,0,0,null,{"$f":"SUM(C28)","v":0},"ZERO",null,"ZERO","ZERO","ZERO","ZERO","ZERO","ZERO",{"$f":"SUM(C28)","v":0},"ZERO",0,0,"ZERO","ZERO","ZERO","ZERO",0,"ZERO","ZERO","ZERO",null,null,null,null,null,null,null,null,null,{"$f":"SUM(AD28)","v":0},{"$f":"SUM(C28)","v":0}]
["CHICKEN SUYA SHAWARMA",2200,0,0,null,"ZERO",{"$f":"SUM(C29)*2","v":0},{"$f":"SUM(C29)","v":0},null,{"$f":"SUM(C29)*2","v":0},"ZERO","ZERO","ZERO","ZERO","ZERO","ZERO",0,0,"ZERO","ZERO","ZERO","ZERO",0,"ZERO","ZERO","ZERO"]
["CHESSY SHAWARMA",2500,0,0,null,"ZERO","ZERO",{"$f":"SUM(C30)","v":0},{"$f":"SUM(C30)","v":0},{"$f":"SUM(C30)*2","v":0},null,"ZERO",{"$f":"SUM(C30)*2","v":0},"ZERO","ZERO","ZERO",0,0,"ZERO","ZERO","ZERO","ZERO",{"$f":"SUM(C30)*140","v":0},"ZERO","ZERO","ZERO",null,null,null,null,null,null,null,null,null,{"$f":"SUM(AD30)","v":0},{"$f":"SUM(AE30)","v":0}]
["2 CHICKEN AND CHIPS",2300,0,0,null,"ZERO","ZERO","ZERO","ZERO","ZERO",{"$f":"SUM(C31)","v":0},{"$f":"SUM(C31)*2","v":0},"ZERO","ZERO","ZERO",{"$f":"SUM(C31)","v":0},"ZERO",0,"ZERO","ZERO","ZERO","ZERO","ZERO",{"$f":"SUM(C31)","v":0},"ZERO","ZERO",null,null,null,null,null,null,null,null,null,"ZERO","ZERO"]
["4 CHICKEN AND CHIPS",3500,0,0,null,"ZERO","ZERO","ZERO","ZERO","ZERO",{"$f":"SUM(C32)","v":0},{"$f":"SUM(C32)*4","v":0},"ZERO","ZERO","ZERO",{"$f":"SUM(C32)","v":0},"ZERO",0,"ZERO","ZERO","ZERO","ZERO","ZERO",{"$f":"SUM(C32)*2","v":0},"ZERO","ZERO","zero","zero","zero",null,null,null,null,null,null,"ZERO","ZERO"]
["SPICY CHICKEN ONLY",650,0,null,null,"ZERO","ZERO","ZERO","ZERO","ZERO","ZERO",{"$f":"SUM(C33)","v":0},"ZERO","ZERO","ZERO","ZERO","ZERO","ZERO","ZERO","ZERO","ZERO","ZERO","ZERO","ZERO",{"$f":"SUM(C33)","v":0},"ZERO",null,null,null,null,null,null,null,null,null,"ZERO","ZERO"]
["CRISPY CHICKEN ONLY",650,0,{"$f":"SUM(B34*C34)","v":0},null,"ZERO","ZERO","ZERO","ZERO","ZERO","ZERO",{"$f":"SUM(C34)","v":0},"ZERO","ZERO","ZERO","ZERO","ZERO","ZERO","ZERO","ZERO","ZERO","ZERO","ZERO","ZERO",{"$f":"SUM(C34)","v":0},"ZERO",null,null,null,null,null,null,null,null,null,"ZERO","ZERO"]
["POTATO FRIES",700,0,0,null,"ZERO","ZERO","ZERO","ZERO","ZERO",null,"ZERO","ZERO","ZERO","ZERO","ZERO","ZERO","ZERO","ZERO","ZERO","ZERO","ZERO","ZERO","ZERO","ZERO","ZERO",null,null,null,null,null,null,null,null,null,"ZERO","ZERO"]
["FRENCH FRIES ONLY",1000,0,0,null,"ZERO","ZERO","ZERO","ZERO","ZERO",{"$f":"SUM(C36)","v":0},"ZERO","ZERO","ZERO","ZERO","ZERO","ZERO","ZERO","ZERO","ZERO","ZERO","ZERO","ZERO","ZERO",{"$f":"SUM(C36)","v":0},"ZERO",null,null,null,null,null,null,null,null,null,"ZERO","ZERO"]
["SUGERCANNE JUICE",750,0,0,null,"ZERO","ZERO","ZERO","ZERO","ZERO","ZERO","ZERO","ZERO","ZERO","ZERO","ZERO","ZERO","ZERO","ZERO",{"$f":"SUM(C37)","v":0},"ZERO","ZERO","ZERO","ZERO","ZERO","ZERO",null,null,null,null,null,null,null,null,null,"ZERO","ZERO"]
["35 CL SOFT DRINK",200,0,0,null,"ZERO","ZERO","ZERO","ZERO","ZERO","ZERO","ZERO","ZERO","ZERO","ZERO","ZERO","ZERO","ZERO","ZERO","ZERO",{"$f":"SUM(C38)","v":0},"ZERO","ZERO","ZERO","ZERO","ZERO",null,null,null,null,null,null,null,null,null,"ZERO","ZERO"]
["PARFAIT",null,0,0,null,"ZERO","ZERO","ZERO","ZERO","ZERO","ZERO","ZERO","ZERO","ZERO","ZERO","ZERO","ZERO",{"$f":"SUM(C39)","v":0},{"$f":"SUM(C39)","v":0},"ZERO","ZERO","ZERO","ZERO","ZERO","ZERO","ZERO",null,null,null,null,null,null,null,null,null,"ZERO","ZERO"]
["MARINATED WINGS",500,0,0,null,"ZERO","ZERO","ZERO","ZERO","ZERO","ZERO",{"$f":"SUM(C40)","v":0},"ZERO","ZERO","ZERO","ZERO","ZERO","ZERO","ZERO","ZERO","ZERO","ZERO","ZERO","ZERO","ZERO","ZERO",null,null,null,null,null,null,null,null,null,"ZERO","ZERO"]
["CHEESE ",400,0,0,null,"ZERO","ZERO","ZERO","ZERO","ZERO","ZERO","ZERO",{"$f":"SUM(C41)","v":0},"ZERO","ZERO","ZERO","ZERO","ZERO","ZERO","ZERO","ZERO","ZERO","ZERO","ZERO","ZERO","ZERO",null,null,null,null,null,null,null,null,null,"ZERO","ZERO"]
["SAUSAGE",200,0,0,null,null,null,null,null,null,"ZERO"]
["BACON",400,0,0,null,"ZERO","ZERO","ZERO","ZERO","ZERO","ZERO","ZERO","ZERO",{"$f":"SUM(C43)","v":0},"ZERO","ZERO","ZERO","ZERO","ZERO","ZERO","ZERO","ZERO","ZERO","ZERO","ZERO","ZERO",null,null,null,null,null,null,null,null,null,"ZERO","ZERO"]
["FRIENDY BURGER MEAL (WITH SOFT DRINK)",10200,0,0,null,{"$f":"SUM(C44)*2","v":0},{"$f":"SUM(C44)*2","v":0},{"$f":"SUM(C44)*2","v":0},{"$f":"SUM(C44)*2","v":0},{"$f":"SUM(C44)*2","v":0},{"$f":"SUM(C44)*2","v":0},{"$f":"SUM(C44)*2*2","v":0},"ZERO","ZERO",{"$f":"SUM(C44)*1*2","v":0},{"$f":"SUM(C44)*2","v":0},{"$f":"SUM(C44)*2*2","v":0},{"$f":"SUM(C44)*2","v":0},null,"ZERO",{"$f":"SUM(C44)*2","v":0},null,{"$f":"SUM(C44)*140*2","v":0},{"$f":"SUM(C44)*2","v":0},{"$f":"SUM(C44)*2","v":0},"ZERO",null,null,null,null,null,null,null,null,null,{"$f":"SUM(AD44)*2","v":0},{"$f":"SUM(AE44)*2","v":0}]
["FRIENDY BURGER MEAL (WITH SUGARCANE JUICE)",10600,0,0,null,{"$f":"SUM(C45)*2","v":0},{"$f":"SUM(C45)*2","v":0},{"$f":"SUM(C45)*2","v":0},{"$f":"SUM(C45)*2","v":0},{"$f":"SUM(C45)*2","v":0},{"$f":"SUM(C45)*2","v":0},{"$f":"SUM(C45)*2*2","v":0},"ZERO","ZERO",{"$f":"SUM(C45)*1*2","v":0},{"$f":"SUM(C45)*2","v":0},{"$f":"SUM(C45)*2*2","v":0},{"$f":"SUM(C45)*2","v":0},null,{"$f":"SUM(C45)*2","v":0},"ZERO",null,{"$f":"SUM(C45)*140*2","v":0},{"$f":"SUM(C45)*2","v":0},{"$f":"SUM(C45)*2","v":0},"ZERO",null,null,null,null,null,null,null,null,null,{"$f":"SUM(AD45)*2","v":0},{"$f":"SUM(AE45)*2","v":0}]
["SHAWARMA  SUB",1800,0,0,null,null,"ZERO","ZERO",{"$f":"SUM(C46)","v":0},{"$f":"SUM(C46)*2","v":0},"ZERO","ZERO","ZERO","ZERO",{"$f":"SUM(C46)*1","v":0},"ZERO",{"$f":"SUM(C46)","v":0},"ZERO","ZERO","ZERO","ZERO","ZERO",{"$f":"SUM(C46)*70","v":0},"ZERO","ZERO","ZERO",null,null,null,{"$f":"SUM(C46)","v":0},null,null,null,null,null,{"$f":"SUM(AD46)","v":0},{"$f":"SUM(AE46)","v":0}]
["DELISH PACK 1",5300,0,0,null,{"$f":"SUM(C47)","v":0},{"$f":"SUM(C47)","v":0},"ZERO",{"$f":"SUM(C47)","v":0},{"$f":"SUM(C47)*2","v":0},"ZERO",{"$f":"SUM(C47)*4","v":0},"ZERO","ZERO",{"$f":"SUM(C47)*1","v":0},{"$f":"SUM(C47)*1","v":0},{"$f":"SUM(C47)*2","v":0},{"$f":"SUM(C47)","v":0},"ZERO","ZERO","ZERO","ZERO",{"$f":"SUM(C47)*70","v":0},"ZERO","ZERO","ZERO",null,null,null,{"$f":"SUM(C47)","v":0},{"$f":"SUM(C47)*1","v":0},null,null,null,null,{"$f":"SUM(AD47)","v":0},{"$f":"SUM(AE47)","v":0}]
["FAMILY BURGER MEAL (WITH SOFT DRINK)",19800,0,0,null,{"$f":"SUM(C48)*4","v":0},{"$f":"SUM(C48)*4","v":0},{"$f":"SUM(C48)*4","v":0},{"$f":"SUM(C48)*4","v":0},{"$f":"SUM(C48)*4","v":0},{"$f":"SUM(C48)*4","v":0},{"$f":"SUM(C48)*2*4","v":0},"ZERO","ZERO",{"$f":"SUM(C48)*1*4","v":0},{"$f":"SUM(C48)*4","v":0},{"$f":"SUM(C48)*2*4","v":0},{"$f":"SUM(C48)*4","v":0},null,"ZERO",{"$f":"SUM(C48)*4","v":0},null,{"$f":"SUM(C48)*140*4","v":0},{"$f":"SUM(C48)*4","v":0},{"$f":"SUM(C48)*4","v":0},"ZERO",null,null,null,null,null,null,null,null,null,{"$f":"SUM(AD48)*4","v":0},{"$f":"SUM(AE48)*4","v":0}]
["FAMILY BURGER MEAL (WITH SUGARCANE JUICE)",20800,0,0,null,{"$f":"SUM(C49)*4","v":0},{"$f":"SUM(C49)*4","v":0},{"$f":"SUM(C49)*4","v":0},{"$f":"SUM(C49)*4","v":0},{"$f":"SUM(C49)*4","v":0},{"$f":"SUM(C49)*4","v":0},{"$f":"SUM(C49)*2*4","v":0},"ZERO","ZERO",{"$f":"SUM(C49)*1*4","v":0},{"$f":"SUM(C49)*4","v":0},{"$f":"SUM(C49)*2*4","v":0},{"$f":"SUM(C49)*4","v":0},null,{"$f":"SUM(C49)*4","v":0},"ZERO",null,{"$f":"SUM(C49)*140*4","v":0},{"$f":"SUM(C49)*4","v":0},{"$f":"SUM(C49)*4","v":0},"ZERO",null,null,null,null,null,null,null,null,null,{"$f":"SUM(AD49)*4","v":0},{"$f":"SUM(AE49)*4","v":0}]
["CAN COKE/FANTA ONLY",null,0,0,null,"ZERO","ZERO","ZERO","ZERO","ZERO","ZERO","ZERO","ZERO","ZERO","ZERO","ZERO","ZERO","ZERO","ZERO","ZERO","ZERO","ZERO","ZERO","ZERO","ZERO","ZERO",null,null,null,null,{"$f":"SUM(C50)","v":0},null,null,null,null,"ZERO","ZERO"]
["SUPA KOMMANDO ONLY",250,0,0,null,"ZERO","ZERO","ZERO","ZERO","ZERO","ZERO","ZERO","ZERO","ZERO","ZERO","ZERO","ZERO","ZERO","ZERO","ZERO","ZERO","ZERO","ZERO","ZERO","ZERO","ZERO",null,null,{"$f":"SUM(C51)","v":0},null,"ZERO","ZERO",null,null,null,"ZERO","ZERO"]
["10X Chicken Nuggets ",2400,0,0,null,null,null,null,null,null,"ZERO",null,null,null,null,{"$f":"SUM(C52)","v":0},null,{"$f":"SUM(C52)","v":0},null,null,null,null,null,{"$f":"SUM(C52)","v":0},null,null,null,null,null,null,{"$f":"SUM(C52)","v":0},{"$f":"SUM(C52)*10","v":0}]
["20X Chicken Nuggets ",4800,0,0,null,null,null,null,null,null,"ZERO ",null,null,null,null,{"$f":"SUM(C53)","v":0},null,{"$f":"SUM(C53)","v":0},null,null,null,null,null,{"$f":"SUM(C53)","v":0},null,null,null,null,null,null,{"$f":"SUM(C53)","v":0},{"$f":"SUM(C53)*20","v":0}]
["10 CHICKEN NUGGETS & FRIES BOX",3300,0,0,null,null,null,null,null,null,{"$f":"SUM(C54)","v":0},null,null,null,null,{"$f":"SUM(C54)","v":0},null,{"$f":"SUM(C54)","v":0},null,null,null,null,null,{"$f":"SUM(C54)","v":0},null,null,null,null,null,null,{"$f":"SUM(C54)","v":0},{"$f":"SUM(C54)*10","v":0}]
["20 CHICKEN NUGGETS & FRIES BOX",6600,0,0,null,null,null,null,null,null,{"$f":"SUM(C55)","v":0},null,null,null,null,{"$f":"SUM(C55)","v":0},null,{"$f":"SUM(C55)","v":0},null,null,null,null,null,{"$f":"SUM(C55)","v":0},null,null,null,null,null,null,{"$f":"SUM(C55)","v":0},{"$f":"SUM(C55)*20","v":0}]
["PRAWN BURGER ",3000,0,0,null,{"$f":"SUM(C56)","v":0},"ZERO","ZERO","ZERO","ZERO","ZERO","ZERO",{"$f":"SUM(C56)","v":0},"ZERO",{"$f":"SUM(C56)","v":0},"ZERO",{"$f":"SUM(C56)","v":0},"ZERO","ZERO","ZERO","ZERO","ZERO",{"$f":"SUM(C56)*70","v":0},"ZERO","ZERO","ZERO",null,null,null,null,null,null,{"$f":"SUM(C56)*2","v":0},null,null,"ZERO","ZERO"]
[" FUNMMY NUGGETS  BOX",5300,0,0,null,{"$f":"SUM(C57)","v":0},{"$f":"SUM(C57)","v":0},null,null,null,{"$f":"SUM(C57)","v":0},null,{"$f":"SUM(C57)","v":0},null,{"$f":"SUM(C57)","v":0},{"$f":"SUM(C57)","v":0},null,{"$f":"SUM(C57)","v":0},null,null,null,null,null,{"$f":"SUM(C57)","v":0},null,null,null,null,null,null,{"$f":"SUM(C57)","v":0},{"$f":"SUM(C57)*10","v":0}]
["FARM PRIDE 50 CL",500,0,0,null,"ZERO","ZERO","ZERO","ZERO","ZERO","ZERO","ZERO","ZERO","ZERO","ZERO","ZERO","ZERO","ZERO","ZERO","ZERO","ZERO","ZERO","ZERO","ZERO","ZERO","ZERO",null,null,null,null,null,null,null,{"$f":"SUM(C58)","v":0},null,"ZERO","ZERO"]
["FARM PRIDE 1 LITRE",800,0,0,null,"ZERO","ZERO","ZERO","ZERO","ZERO","ZERO","ZERO","ZERO","ZERO","ZERO","ZERO","ZERO","ZERO","ZERO","ZERO","ZERO","ZERO","ZERO","ZERO","ZERO","ZERO",null,null,null,null,null,null,null,"ZERO",{"$f":"SUM(C59)","v":0},"ZERO","ZERO"]
["GRILLED CHICKEN BURGER",1700,0,{"$f":"SUM(B60*C60)","v":0},null,{"$f":"SUM(C60)","v":0},{"$f":"SUM(C60)","v":0},"ZERO","ZERO","ZERO","ZERO","ZERO","ZERO","ZERO",{"$f":"SUM(C60)","v":0},"ZERO",{"$f":"SUM(C60)*1","v":0},"ZERO","ZERO","ZERO","ZERO","ZERO",{"$f":"SUM(C60)*70","v":0},"ZERO","ZERO","ZERO",null,null,null,null,null,null,null,null,null,"ZERO","ZERO"]
["GRILLED CHICKEN BURGER + JUICE",2200,0,{"$f":"SUM(B61*C61)","v":0},null,{"$f":"SUM(C61)","v":0},{"$f":"SUM(C61)","v":0},"ZERO","ZERO","ZERO","ZERO","ZERO","ZERO","ZERO",{"$f":"SUM(C61)","v":0},"ZERO",{"$f":"SUM(C61)*1","v":0},"ZERO","ZERO","ZERO","ZERO","ZERO",{"$f":"SUM(C61)*70","v":0},"ZERO","ZERO","ZERO",null,null,null,null,null,null,null,{"$f":"SUM(C61)","v":0},null,"ZERO","ZERO"]
["GRILLED BURGER MEAL 1 & 3",4000,0,{"$f":"SUM(B62*C62)","v":0},null,{"$f":"SUM(C62)","v":0},{"$f":"SUM(C62)","v":0},"ZERO","ZERO","ZERO",{"$f":"SUM(C62)","v":0},{"$f":"SUM(C62)*2","v":0},"ZERO","ZERO","ZERO",{"$f":"SUM(C62)","v":0},{"$f":"SUM(C62)","v":0},{"$f":"SUM(C62)","v":0},"ZERO","ZERO","ZERO","ZERO",{"$f":"SUM(C62)*70","v":0},{"$f":"SUM(C62)","v":0},"ZERO","ZERO",null,null,null,null,null,null,null,{"$f":"SUM(C62)","v":0},null,"ZERO","ZERO"]
["GRILLED BURGER MEAL 2",3700,0,{"$f":"SUM(B63*C63)","v":0},null,{"$f":"SUM(C63)","v":0},{"$f":"SUM(C63)","v":0},"ZERO","ZERO","ZERO",{"$f":"SUM(C63)","v":0},{"$f":"SUM(C63)*2","v":0},"ZERO","ZERO","ZERO",{"$f":"SUM(C63)","v":0},{"$f":"SUM(C63)","v":0},{"$f":"SUM(C63)","v":0},"ZERO","ZERO",{"$f":"SUM(C63)","v":0},"ZERO",{"$f":"SUM(C63)*70","v":0},{"$f":"SUM(C63)","v":0},"ZERO","ZERO",null,null,null,null,null,null,null,"ZERO",null,"ZERO","ZERO"]
["MASTERPIECE BURGER ",5000,0,{"$f":"SUM(B64*C64)","v":0},null,{"$f":"SUM(C64)","v":0},"ZERO","ZERO","ZERO","ZERO","ZERO","ZERO",{"$f":"SUM(C64)","v":0},"ZERO","ZERO",{"$f":"SUM(C64)","v":0},{"$f":"SUM(C64)","v":0},"ZERO","ZERO","ZERO",{"$f":"SUM(C64)","v":0},{"$f":"SUM(C64)","v":0},{"$f":"SUM(C64)*70","v":0},"ZERO","ZERO","ZERO",null,null,null,null,null,null,null,null,null,"ZERO",{"$f":"SUM(C64)","v":0}]
["SUYA BURGER BOX 2 (WITH BEEF SUYA BURGER)",6000,0,0,null,0,"ZERO ","ZERO","ZERO",0,0,0,"ZERO","ZERO",0,0,0,"ZERO","ZERO",null,0,"ZERO",0,0,0,"ZERO",0,null,null,null,null,null,null,null,null,"ZERO",0]
["OPENING STOCK",null,null,null,null,{"$f":"SUM('Production DAY 29'!C2)","v":0},{"$f":"SUM('Production DAY 29'!C3)","v":0},{"$f":"SUM('Production DAY 29'!C4)","v":0},{"$f":"SUM('Production DAY 29'!C5)","v":0},{"$f":"SUM('Production DAY 29'!C6)","v":0},{"$f":"SUM('Production DAY 29'!C7)","v":0},{"$f":"SUM('Production DAY 29'!C8)","v":0},{"$f":"SUM('Production DAY 29'!C9)","v":0},{"$f":"SUM('Production DAY 29'!C10)","v":0},{"$f":"SUM('Production DAY 29'!C11)","v":0},{"$f":"SUM('Production DAY 29'!C12)","v":0},{"$f":"SUM('Production DAY 29'!C13)","v":0},{"$f":"SUM('Production DAY 29'!C14)","v":0},{"$f":"SUM('Production DAY 29'!C15)","v":0},{"$f":"SUM('Production DAY 29'!C16)","v":0},{"$f":"SUM('Production DAY 29'!C17)","v":0},{"$f":"SUM('Production DAY 29'!C18)","v":0},{"$f":"SUM('Production DAY 29'!C19)","v":0},{"$f":"SUM('Production DAY 29'!C20)","v":0},{"$f":"SUM('Production DAY 29'!C21)","v":0},{"$f":"SUM('Production DAY 29'!C22)","v":0},{"$f":"SUM('Production DAY 29'!C23)","v":0},{"$f":"SUM('Production DAY 29'!C24)","v":0},{"$f":"SUM('Production DAY 29'!C25)","v":0},{"$f":"SUM('Production DAY 29'!C26)","v":0},{"$f":"SUM('Production DAY 29'!C27)","v":0},{"$f":"SUM('Production DAY 29'!C28)","v":0},{"$f":"SUM('Production DAY 29'!C29)","v":0},{"$f":"SUM('Production DAY 29'!C30)","v":0},{"$f":"SUM('Production DAY 29'!C31)","v":0},{"$f":"SUM('Production DAY 29'!C32)","v":0},{"$f":"SUM('Production DAY 29'!C33)","v":0},{"$f":"SUM('Production DAY 29'!C34)","v":0},{"$f":"SUM('Production DAY 29'!C35)","v":0},{"$f":"SUM('Production DAY 29'!C36)","v":0},{"$f":"SUM('Production DAY 29'!C37)","v":0},{"$f":"SUM('Production DAY 29'!C38)","v":0},{"$f":"SUM('Production DAY 29'!C39)","v":0},{"$f":"SUM('Production DAY 29'!C40)","v":0},{"$f":"SUM('Production DAY 29'!C41)","v":0},{"$f":"SUM('Production DAY 29'!C42)","v":0},{"$f":"SUM('Production DAY 29'!C43)","v":0}]
["RECEIVED",null,null,null,null,{"$f":"SUM('Production DAY 29'!D2)","v":0},{"$f":"SUM('Production DAY 29'!D3)","v":0},{"$f":"SUM('Production DAY 29'!D4)","v":0},{"$f":"SUM('Production DAY 29'!D5)","v":0},{"$f":"SUM('Production DAY 29'!D6)","v":0},{"$f":"SUM('Production DAY 29'!D7)","v":0},{"$f":"SUM('Production DAY 29'!D8)","v":0},{"$f":"SUM('Production DAY 29'!D9)","v":0},{"$f":"SUM('Production DAY 29'!D10)","v":0},{"$f":"SUM('Production DAY 29'!D11)","v":0},{"$f":"SUM('Production DAY 29'!D12)","v":0},{"$f":"SUM('Production DAY 29'!D13)","v":0},{"$f":"SUM('Production DAY 29'!D14)","v":0},{"$f":"SUM('Production DAY 29'!D15)","v":0},{"$f":"SUM('Production DAY 29'!D16)","v":0},{"$f":"SUM('Production DAY 29'!D17)","v":0},{"$f":"SUM('Production DAY 29'!D18)","v":0},{"$f":"SUM('Production DAY 29'!D19)","v":0},{"$f":"SUM('Production DAY 29'!D20)","v":0},{"$f":"SUM('Production DAY 29'!D21)","v":0},{"$f":"SUM('Production DAY 29'!D22)","v":0},{"$f":"SUM('Production DAY 29'!D23)","v":0},{"$f":"SUM('Production DAY 29'!D24)","v":0},{"$f":"SUM('Production DAY 29'!D25)","v":0},{"$f":"SUM('Production DAY 29'!D26)","v":0},{"$f":"SUM('Production DAY 29'!D27)","v":0},{"$f":"SUM('Production DAY 29'!D28)","v":0},{"$f":"SUM('Production DAY 29'!D29)","v":0},{"$f":"SUM('Production DAY 29'!D30)","v":0},{"$f":"SUM('Production DAY 29'!D31)","v":0},{"$f":"SUM('Production DAY 29'!D32)","v":0},{"$f":"SUM('Production DAY 29'!D33)","v":0},{"$f":"SUM('Production DAY 29'!D34)","v":0},{"$f":"SUM('Production DAY 29'!D35)","v":0},{"$f":"SUM('Production DAY 29'!D36)","v":0},{"$f":"SUM('Production DAY 29'!D37)","v":0},{"$f":"SUM('Production DAY 29'!D38)","v":0},{"$f":"SUM('Production DAY 29'!D39)","v":0},{"$f":"SUM('Production DAY 29'!D40)","v":0},{"$f":"SUM('Production DAY 29'!D41)","v":0},{"$f":"SUM('Production DAY 29'!D42)","v":0},{"$f":"SUM('Production DAY 29'!D43)","v":0}]
["TOTAL STOCK",null,null,null,null,{"$f":"SUM(F66:F67)","v":0},{"$f":"SUM(G66:G67)","v":0},{"$f":"SUM(H66:H67)","v":0},{"$f":"SUM(I66:I67)","v":0},0,0,0,0,0,0,{"$f":"SUM(P66:P67)","v":0},0,0,0,0,0,0,0,0,0,0,0,0,0,0,0,0,0,0,0,0,0,0,0,0,0,0,0,0,0,0,0]
["USED",null,null,{"$f":"SUM(D3:D65)","v":0},null,{"$f":"SUM(F3:F65)","v":0},0,0,0,0,0,0,0,0,0,0,0,0,0,0,0,0,0,0,0,0,0,0,0,0,0,0,0,0,0,0,0,{"$f":"SUM(AL3:AL64)","v":0},0,0,0,0,0,0,0,0,0]
["CLOSING STOCK",null,null,null,null,{"$f":"SUM(F68-F69)","v":0},0,0,0,0,0,0,0,0,0,0,0,0,0,0,0,0,0,0,0,0,0,0,0,0,0,0,0,{"$f":"SUM(AH66-AH69)","v":0},{"$f":"SUM(AI68-AI69)","v":0},0,0,0,0,0,0,0,0,0,0,0,0]

{"sheet":"Production DAY 30","index":58,"n_rows":44,"n_cols":8,"rows_kept":44,"cut":false,"hidden":false,"merged":[]}
["Nos#","ITEMS"," < OPENING STOCK","RECEIVED","USED >","SALES CLOSING STOCK >","PHYSICAL STOCK COUNT","COMMENTS"]
[1,"Burger Bread",{"$f":"SUM('Production DAY 29'!G2)","v":0},null,{"$f":"SUM('DAY 30'!F69)","v":0},{"$f":"SUM('DAY 30'!F70)","v":0},0,{"$f":"IF(G2=F2,TRUE,FALSE)","v":true}]
[2,"Chicken Patty",{"$f":"SUM('Production DAY 29'!G3)","v":0},null,{"$f":"SUM('DAY 30'!G69)","v":0},{"$f":"SUM('DAY 30'!G70)","v":0},0,true]
[3,"Shawarma Bread",{"$f":"SUM('Production DAY 29'!G4)","v":0},null,{"$f":"SUM('DAY 30'!H69)","v":0},{"$f":"SUM('DAY 30'!H70)","v":0},0,true]
[4,"Chicken Portion or Shawarma portion",{"$f":"SUM('Production DAY 29'!G5)","v":0},null,{"$f":"SUM('DAY 30'!I69)","v":0},{"$f":"SUM('DAY 30'!I70)","v":0},0,true]
[5,"Sausage",{"$f":"SUM('Production DAY 29'!G6)","v":0},null,{"$f":"SUM('DAY 30'!J69)","v":0},{"$f":"SUM('DAY 30'!J70)","v":0},0,true]
[6,"Portion of Fries",{"$f":"SUM('Production DAY 29'!G7)","v":0},null,{"$f":"SUM('DAY 30'!K69)","v":0},{"$f":"SUM('DAY 30'!K70)","v":0},0,true]
[7,"Pieces of Chicken",{"$f":"SUM('Production DAY 29'!G8)","v":0},null,{"$f":"SUM('DAY 30'!L69)","v":0},{"$f":"SUM('DAY 30'!L70)","v":0},0,true]
[8,"Cheese",{"$f":"SUM('Production DAY 29'!G9)","v":0},null,{"$f":"SUM('DAY 30'!M69)","v":0},{"$f":"SUM('DAY 30'!M70)","v":0},0,true]
[9,"Bacon",{"$f":"SUM('Production DAY 29'!G10)","v":0},null,{"$f":"SUM('DAY 30'!N69)","v":0},{"$f":"SUM('DAY 30'!N70)","v":0},0,true]
[10,"A Paper Bag",{"$f":"SUM('Production DAY 29'!G11)","v":0},null,{"$f":"SUM('DAY 30'!O69)","v":0},{"$f":"SUM('DAY 30'!O70)","v":0},0,true]
[11,"Achicken Box",{"$f":"SUM('Production DAY 29'!G12)","v":0},null,{"$f":"SUM('DAY 30'!P69)","v":0},{"$f":"SUM('DAY 30'!P70)","v":0},0,true]
[12,"Paper Wrap",{"$f":"SUM('Production DAY 29'!G13)","v":0},null,{"$f":"SUM('DAY 30'!Q69)","v":0},{"$f":"SUM('DAY 30'!Q70)","v":0},0,true]
[13,"A Branded Nylon",{"$f":"SUM('Production DAY 29'!G14)","v":0},null,{"$f":"SUM('DAY 30'!R69)","v":0},{"$f":"SUM('DAY 30'!R70)","v":0},0,true]
[14,"Parfait",{"$f":"SUM('Production DAY 29'!G15)","v":0},null,{"$f":"SUM('DAY 30'!S69)","v":0},{"$f":"SUM('DAY 30'!S70)","v":0},0,true]
[15,"A Bottle of SUGAR Juice",{"$f":"SUM('Production DAY 29'!G16)","v":0},null,{"$f":"SUM('DAY 30'!T69)","v":0},{"$f":"SUM('DAY 30'!T70)","v":0},0,true]
[16,"35 CL Soft Drink",{"$f":"SUM('Production DAY 29'!G17)","v":0},null,{"$f":"SUM('DAY 30'!U69)","v":0},{"$f":"SUM('DAY 30'!U70)","v":0},0,true]
[17,"Beef Patty",{"$f":"SUM('Production DAY 29'!G18)","v":0},null,{"$f":"SUM('DAY 30'!V69)","v":0},{"$f":"SUM('DAY 30'!V70)","v":0},0,true]
[18,"Cream in GRAMS",{"$f":"SUM('Production DAY 29'!G19)","v":0},null,{"$f":"SUM('DAY 30'!W69)","v":0},{"$f":"SUM('DAY 30'!W70)","v":0},0,true]
[19,"KETCHUP",{"$f":"SUM('Production DAY 29'!G20)","v":0},null,{"$f":"SUM('DAY 30'!X69)","v":0},{"$f":"SUM('DAY 30'!X70)","v":0},0,true]
[20,"plain Nylon",{"$f":"SUM('Production DAY 29'!G21)","v":0},null,{"$f":"SUM('DAY 30'!Y69)","v":0},{"$f":"SUM('DAY 30'!Y70)","v":0},0,true]
[21,"Barbeque Sauce",{"$f":"SUM('Production DAY 29'!G22)","v":0},null,{"$f":"SUM('DAY 30'!Z69)","v":0},{"$f":"SUM('DAY 30'!Z70)","v":0},0,true]
[22,"Meal Box",{"$f":"SUM('Production DAY 29'!G23)","v":0},null,{"$f":"SUM('DAY 30'!AA69)","v":0},{"$f":"SUM('DAY 30'!AA70)","v":0},0,true]
[23,"COCONUT BREAD",{"$f":"SUM('Production DAY 29'!G24)","v":0},null,{"$f":"SUM('DAY 30'!AB69)","v":0},{"$f":"SUM('DAY 30'!AB70)","v":0},0,true]
[24,"SUPA KOMMANDO",{"$f":"SUM('Production DAY 29'!G25)","v":0},null,{"$f":"SUM('DAY 30'!AC69)","v":0},{"$f":"SUM('DAY 30'!AC70)","v":0},0,true]
[25,"SHAWARMA SUB",{"$f":"SUM('Production DAY 29'!G26)","v":0},null,{"$f":"SUM('DAY 30'!AD69)","v":0},{"$f":"SUM('DAY 30'!AD70)","v":0},0,true]
[26,"CAN COKE / FANTA",{"$f":"SUM('Production DAY 29'!G27)","v":0},null,{"$f":"SUM('DAY 30'!AE69)","v":0},{"$f":"SUM('DAY 30'!AE70)","v":0},0,true]
[27,"NUGGETS ",{"$f":"SUM('Production DAY 29'!G28)","v":0},null,{"$f":"SUM('DAY 30'!AF69)","v":0},{"$f":"SUM('DAY 30'!AF70)","v":0},0,true]
[28,"PRAWN",{"$f":"SUM('Production DAY 29'!G29)","v":0},null,{"$f":"SUM('DAY 30'!AG69)","v":0},{"$f":"SUM('DAY 30'!AG70)","v":0},0,true]
[29,"FARM PRIDE",{"$f":"SUM('Production DAY 29'!G30)","v":0},null,{"$f":"SUM('DAY 30'!AH69)","v":0},{"$f":"SUM('DAY 30'!AH70)","v":0},0,true]
[30,"50CL OR PULPY",{"$f":"SUM('Production DAY 29'!G31)","v":0},null,{"$f":"SUM('DAY 30'!AI69)","v":0},{"$f":"SUM('DAY 30'!AI70)","v":0},0,true]
[31,"FARM PRIDE 1 LT",{"$f":"SUM('Production DAY 29'!G32)","v":0},null,{"$f":"SUM('DAY 30'!AJ69)","v":0},{"$f":"SUM('DAY 30'!AJ70)","v":0},0,true]
[32,"BEEF PORTION FOR SHAWARMA",{"$f":"SUM('Production DAY 29'!G33)","v":0},null,{"$f":"SUM('DAY 30'!AK69)","v":0},{"$f":"SUM('DAY 30'!AK70)","v":0},0,true]
[33,"BEEF SUYA STICK",{"$f":"SUM('Production DAY 29'!G34)","v":0},null,{"$f":"SUM('DAY 30'!AL69)","v":0},{"$f":"SUM('DAY 30'!AL70)","v":0},0,true]
[34,"EMPTY 1",{"$f":"SUM('Production DAY 29'!G35)","v":0},null,{"$f":"SUM('DAY 30'!AM69)","v":0},{"$f":"SUM('DAY 30'!AM70)","v":0},0,true]
[35,"EMPTY 2",{"$f":"SUM('Production DAY 29'!G36)","v":0},null,{"$f":"SUM('DAY 30'!AN69)","v":0},{"$f":"SUM('DAY 30'!AN70)","v":0},0,true]
[36,"EMPTY 3",{"$f":"SUM('Production DAY 29'!G37)","v":0},null,{"$f":"SUM('DAY 30'!AO69)","v":0},{"$f":"SUM('DAY 30'!AO70)","v":0},0,true]
[37,"EMPTY 4",{"$f":"SUM('Production DAY 29'!G38)","v":0},null,{"$f":"SUM('DAY 30'!AP69)","v":0},{"$f":"SUM('DAY 30'!AP70)","v":0},0,true]
[38,"EMPTY 5",{"$f":"SUM('Production DAY 29'!G39)","v":0},null,{"$f":"SUM('DAY 30'!AQ69)","v":0},{"$f":"SUM('DAY 30'!AQ70)","v":0},0,true]
[39,"EMPTY 6",{"$f":"SUM('Production DAY 29'!G40)","v":0},null,{"$f":"SUM('DAY 30'!AR69)","v":0},{"$f":"SUM('DAY 30'!AR70)","v":0},0,true]
[40,"EMPTY 7",{"$f":"SUM('Production DAY 29'!G41)","v":0},null,{"$f":"SUM('DAY 30'!AS69)","v":0},{"$f":"SUM('DAY 30'!AS70)","v":0},0,true]
[41,"EMPTY 8",{"$f":"SUM('Production DAY 29'!G42)","v":0},null,{"$f":"SUM('DAY 30'!AT69)","v":0},{"$f":"SUM('DAY 30'!AT70)","v":0},0,true]
[42,"EMPTY 9",{"$f":"SUM('Production DAY 29'!G43)","v":0},null,{"$f":"SUM('DAY 30'!AU69)","v":0},{"$f":"SUM('DAY 30'!AU70)","v":0},0,true]
[43,"EMPTY 10",{"$f":"SUM('Production DAY 29'!G44)","v":0},null,{"$f":"SUM('DAY 30'!AV69)","v":0},{"$f":"SUM('DAY 30'!AV70)","v":0},0,true]

{"sheet":"DAY 30","index":59,"n_rows":70,"n_cols":47,"rows_kept":70,"cut":false,"hidden":false,"merged":[[0,7,0,28]]}
["FEBRUARY 12th, 2022",null,null,{"$f":"SUM(D3:D50)","v":0},null,null,null,"BURGER PALACE INVENTORY RECORDS"]
["ITEM","AMOUNT","QUANTITY","TOTAL",null,"Burger Bread","Chicken Patty","Shawarma Bread","Chicken Portion or Shawarma portion","Sausage","Portion of Fries","Pieces of Chicken","Cheese","Bacon","A Paper Bag","Achicken Box","Paper Wrap","A Branded Nylon","Parfait","A Bottle of SUGAR Juice","35 CL Soft Drink","Beef Patty","Cream in GRAMS","KETCHUP","plain Nylon","Barbeque Sauce","Meal Box","COCONUT BREAD ","SUPA KOMMANDO ","SHAWARMA SUB","CAN COKE / FANTA","NUGGETS","PRAWN","FARM PRIDE 50CL OR PULPY","FARM PRIDE 1 LT","BEEF PORTION FOR SHAWARMA ","BEEF SUYA STICK","EMPTY 1","EMPTY 2","EMPTY 3","EMPTY 4","EMPTY 5","EMPTY 6","EMPTY 7","EMPTY 8","EMPTY 9","EMPTY 10"]
["DELUXE BURGER MEAL (WITH SOFT DRINK)",5400,0,{"$f":"SUM(B3*C3)","v":0},null,{"$f":"SUM(C3)","v":0},{"$f":"SUM(C3)","v":0},{"$f":"SUM(C3)","v":0},{"$f":"SUM(C3)","v":0},{"$f":"SUM(C3)","v":0},{"$f":"SUM(C3)","v":0},{"$f":"SUM(C3)*2","v":0},"ZERO","ZERO",{"$f":"SUM(C3)*1","v":0},{"$f":"SUM(C3)","v":0},{"$f":"SUM(C3)*2","v":0},{"$f":"SUM(C3)","v":0},null,"ZERO",{"$f":"SUM(C3)","v":0},null,{"$f":"SUM(C3)*140","v":0},{"$f":"SUM(C3)","v":0},{"$f":"SUM(C3)","v":0},"ZERO",null,null,null,null,null,null,null,null,null,{"$f":"SUM(AD3)","v":0},0]
["DELUXE BURGER MEAL (WITH SUGARCANE JUICE)",5600,0,{"$f":"SUM(B4*C4)","v":0},null,{"$f":"SUM(C4)","v":0},{"$f":"SUM(C4)","v":0},{"$f":"SUM(C4)","v":0},{"$f":"SUM(C4)","v":0},{"$f":"SUM(C4)","v":0},0,{"$f":"SUM(C4)*2","v":0},"ZERO","ZERO",{"$f":"SUM(C4)*1","v":0},0,{"$f":"SUM(C4)*2","v":0},0,null,{"$f":"SUM(C4)","v":0},"ZERO",null,{"$f":"SUM(C4)*140","v":0},{"$f":"SUM(C4)","v":0},0,"ZERO",null,null,null,null,null,null,null,null,null,0,0]
["DELUXE MEAL EXTRA (WITH Soft Drink)",null,0,{"$f":"SUM(B5*C5)","v":0},null,{"$f":"SUM(C5)","v":0},{"$f":"SUM(C5)","v":0},{"$f":"SUM(C5)","v":0},{"$f":"SUM(C5)","v":0},{"$f":"SUM(C5)","v":0},0,{"$f":"SUM(C5)*2","v":0},"ZERO","ZERO",{"$f":"SUM(C5)","v":0},0,{"$f":"SUM(C5)*2","v":0},0,{"$f":"SUM(C5)","v":0},"ZERO",{"$f":"SUM(C5)","v":0},null,{"$f":"SUM(C5)*140","v":0},{"$f":"SUM(C5)","v":0},0,"ZERO",null,null,null,null,null,null,null,null,null,0,0]
["DELUXE BURGER MEAL Extra (With Sugarcane juice",null,0,{"$f":"SUM(B6*C6)","v":0},null,{"$f":"SUM(C6)","v":0},{"$f":"SUM(C6)","v":0},{"$f":"SUM(C6)","v":0},{"$f":"SUM(C6)","v":0},{"$f":"SUM(C6)","v":0},0,{"$f":"SUM(C6)*2","v":0},"ZERO","ZERO",{"$f":"SUM(C6)","v":0},0,{"$f":"SUM(C6)*2","v":0},0,{"$f":"SUM(C6)","v":0},{"$f":"SUM(C6)","v":0},"ZERO",null,{"$f":"SUM(C6)*140","v":0},{"$f":"SUM(C6)","v":0},0,"ZERO",null,null,null,null,null,null,null,null,null,0,0]
["PREMIUM BURGER Meal ",5900,0,{"$f":"SUM(B7*C7)","v":0},null,{"$f":"SUM(C7)","v":0},{"$f":"SUM(C7)","v":0},"ZERO","ZERO","ZERO",0,{"$f":"SUM(C7)*5","v":0},"ZERO","ZERO",{"$f":"SUM(C7)","v":0},0,{"$f":"SUM(C7)*1.25","v":0},0,"ZERO","ZERO",{"$f":"SUM(C7)","v":0},"ZERO",{"$f":"SUM(C7)*70","v":0},{"$f":"SUM(C7)*2","v":0},0,{"$f":"SUM(C7)","v":0},null,null,null,null,null,null,null,null,null,"ZERO","ZERO"]
["CRISPY CHICKEN BOX",4300,0,null,null,"ZERO","ZERO","ZERO","ZERO","ZERO",0,{"$f":"SUM(C8)*5","v":0},"ZERO","ZERO","ZERO",0,{"$f":"SUM(C8)*0.25","v":0},0,"ZERO","ZERO",{"$f":"SUM(C8)","v":0},"ZERO","ZERO",{"$f":"SUM(C8)*2","v":0},0,{"$f":"SUM(C8)","v":0},null,null,null,null,null,null,null,null,null,"ZERO","ZERO"]
["ROYAL BURGER MEAL (CHICKEN  PATTY)",null,0,{"$f":"SUM(B9*C9)","v":0},null,{"$f":"SUM(C9)","v":0},{"$f":"SUM(C9)*2","v":0},"ZERO","ZERO","ZERO",0,"ZERO",{"$f":"SUM(C9)*2","v":0},{"$f":"SUM(C9)*2","v":0},"ZERO",0,{"$f":"SUM(C9)","v":0},0,{"$f":"SUM(C9)","v":0},"ZERO","ZERO","ZERO",{"$f":"SUM(C9)*140","v":0},{"$f":"SUM(C9)*2","v":0},0,{"$f":"SUM(C9)","v":0},null,null,null,null,null,null,null,null,null,"ZERO","ZERO"]
["ROYAL BURGER MEAL (BEEF  PATTY)",null,0,{"$f":"SUM(B10*C10)","v":0},null,{"$f":"SUM(C10)","v":0},"ZERO","ZERO","ZERO","ZERO",0,"ZERO",{"$f":"SUM(C10)*2","v":0},{"$f":"SUM(C10)*2","v":0},"ZERO",0,0,0,{"$f":"SUM(C10)","v":0},"ZERO","ZERO",{"$f":"SUM(C10)*2","v":0},{"$f":"SUM(C10)*140","v":0},{"$f":"SUM(C10)*2","v":0},0,{"$f":"SUM(C10)","v":0},null,null,null,null,null,null,null,null,null,"ZERO","ZERO"]
["ROYAL BURGER ONLY (CHICKEN PATTY)",3300,0,{"$f":"SUM(B11*C11:C25,A1,A1,A1,A1,A1)","v":0},null,{"$f":"SUM(C11)","v":0},{"$f":"SUM(C11)*2","v":0},"ZERO","ZERO","ZERO","ZERO","ZERO",{"$f":"SUM(C11)*2","v":0},{"$f":"SUM(C11)*2","v":0},"ZERO",0,0,0,"ZERO","ZERO","ZERO","ZERO",{"$f":"SUM(C11)*140","v":0},{"$f":"SUM(C11)","v":0},"ZERO","ZERO",null,null,null,null,null,null,null,null,null,"ZERO","ZERO"]
["ROYAL BURGER ONLY (BEEF PATTY)",3300,0,{"$f":"SUM(B12*C12)","v":0},null,{"$f":"SUM(C12)","v":0},null,"ZERO","ZERO","ZERO","ZERO","ZERO",{"$f":"SUM(C12)*2","v":0},{"$f":"SUM(C12)*2","v":0},"ZERO",0,0,0,"ZERO","ZERO","ZERO",{"$f":"SUM(C12)*2","v":0},{"$f":"SUM(C12)*140","v":0},{"$f":"SUM(C12)","v":0},"ZERO","ZERO",null,null,null,null,null,null,null,null,null,"ZERO","ZERO"]
["MAYOR'S COCONUT BURGER ",2800,0,0,null,0,{"$f":"SUM(C13)","v":0},"ZERO","ZERO","ZERO","ZERO","ZERO",{"$f":"SUM(C13)","v":0},"ZERO","ZERO",0,0,0,"ZERO","ZERO","ZERO",{"$f":"SUM(C13)","v":0},{"$f":"SUM(C13)*140","v":0},"ZERO","ZERO","ZERO",null,{"$f":"SUM(C13)","v":0},{"$f":"SUM(C13)","v":0},null,null,null,null,null,null,"ZERO","ZERO"]
["DOUBLE DECKER CRISPY CHK. CHEESE BURGER",2500,0,0,null,{"$f":"SUM(C14)","v":0},{"$f":"SUM(C14)*2","v":0},"ZERO","ZERO","ZERO","ZERO","ZERO",{"$f":"SUM(C14)","v":0},"ZERO","ZERO",0,0,"ZERO","ZERO","ZERO","ZERO","ZERO",{"$f":"SUM(C14)*70","v":0},"ZERO","ZERO","ZERO",null,null,null,null,null,null,null,null,null,"ZERO","ZERO"]
["SINGLE BEEF BURGER",1700,0,0,null,0,"ZERO","ZERO","ZERO","ZERO","ZERO","ZERO",null,"ZERO",{"$f":"SUM(C15)","v":0},null,0,"ZERO","ZERO","ZERO","ZERO",{"$f":"SUM(C15)","v":0},{"$f":"SUM(C15)*70","v":0},"ZERO","ZERO","ZERO",null,null,null,null,null,null,null,null,null,"ZERO","ZERO"]
["YANKEE BURGER",2400,0,0,null,0,"ZERO","ZERO","ZERO","ZERO","ZERO","ZERO",null,{"$f":"SUM(C16)*2","v":0},{"$f":"SUM(C16)","v":0},null,0,"ZERO","ZERO","ZERO","ZERO",{"$f":"SUM(C16)","v":0},{"$f":"SUM(C16)*70","v":0},"ZERO","ZERO","ZERO",null,null,null,null,null,null,null,null,null,"ZERO","ZERO"]
["ROYAL BURGER WITH FRIES (Chicken)",4000,0,0,null,0,{"$f":"SUM(C17)*2","v":0},"ZERO","ZERO","ZERO",{"$f":"SUM(C17)","v":0},"ZERO",{"$f":"SUM(C17)*2","v":0},{"$f":"SUM(C17)*2","v":0},"ZERO",{"$f":"SUM(C17)","v":0},0,"ZERO","ZERO","ZERO","ZERO","ZERO",{"$f":"SUM(C17)*140","v":0},{"$f":"SUM(C17)*2","v":0},"ZERO","ZERO",null,null,null,null,null,null,null,null,null,"ZERO","ZERO"]
["ROYAL BURGER WITH FRIES (BEEF)",4000,0,0,null,0,"ZERO","ZERO","ZERO","ZERO",{"$f":"SUM(C18)","v":0},"ZERO",{"$f":"SUM(C18)*2","v":0},{"$f":"SUM(C18)*2","v":0},"ZERO",{"$f":"SUM(C18)","v":0},0,"ZERO","ZERO","ZERO","ZERO",{"$f":"SUM(C18)*2","v":0},{"$f":"SUM(C18)*140","v":0},{"$f":"SUM(C18)*2","v":0},"ZERO","ZERO",null,null,null,null,null,null,null,null,null,"ZERO","ZERO"]
["CRISPY CHICKEN BURGER",1700,0,0,null,0,{"$f":"SUM(C19)","v":0},"ZERO","ZERO","ZERO","ZERO","ZERO","ZERO","ZERO",{"$f":"SUM(C19)","v":0},"ZERO",{"$f":"SUM(C19)*1","v":0},"ZERO","ZERO","ZERO","ZERO","ZERO",{"$f":"SUM(C19)*70","v":0},"ZERO","ZERO","ZERO",null,null,null,null,null,null,null,null,null,"ZERO","ZERO"]
["SUYA BURGER BOX",5500,0,0,null,0,{"$f":"SUM(C20)*2","v":0},"ZERO","ZERO",{"$f":"SUM(C20)*4","v":0},{"$f":"SUM(C20)","v":0},{"$f":"SUM(C20)*4","v":0},"ZERO","ZERO",{"$f":"SUM(C20)","v":0},{"$f":"SUM(C20)","v":0},{"$f":"SUM(C20)","v":0},"ZERO","ZERO",null,{"$f":"SUM(C20)","v":0},"ZERO",0,{"$f":"SUM(C20)*2","v":0},{"$f":"SUM(C20)","v":0},"ZERO",{"$f":"SUM(C20)","v":0},null,null,null,null,null,null,null,null,"ZERO","ZERO"]
["CRISPY CHICKEN BURGER PLUS CHEESE",2100,0,0,null,0,{"$f":"SUM(C21)","v":0},"ZERO","ZERO","ZERO","ZERO","ZERO",{"$f":"SUM(C21)","v":0},"ZERO",{"$f":"SUM(C21)","v":0},"ZERO",0,"ZERO","ZERO","ZERO","ZERO","ZERO",0,"ZERO","ZERO","ZERO",null,null,null,null,null,null,null,null,null,"ZERO","ZERO"]
["SINGLE BEEF CHEESE BURGER ",2100,0,0,null,0,"ZERO","ZERO","ZERO","ZERO","ZERO","ZERO",{"$f":"SUM(C22)","v":0},"ZERO",{"$f":"SUM(C22)","v":0},"ZERO",0,"ZERO","ZERO","ZERO","ZERO",{"$f":"SUM(C22)","v":0},0,"ZERO","ZERO","ZERO",null,null,null,null,null,null,null,null,null,"ZERO","ZERO"]
["DOUBLE DECKER BEEF CHEESE BURGER",2800,0,0,null,0,"ZERO","ZERO","ZERO","ZERO","ZERO","ZERO",{"$f":"SUM(C23)*2","v":0},"ZERO","ZERO",{"$f":"SUM(C23)","v":0},0,"ZERO","ZERO","ZERO","ZERO",{"$f":"SUM(C23)*2","v":0},0,"ZERO","ZERO","ZERO",null,null,null,null,null,null,null,null,null,"ZERO","ZERO"]
["CHICKEN SUYA BURGER ",2200,0,0,null,0,{"$f":"SUM(C24)*2","v":0},"ZERO","ZERO","ZERO","ZERO","ZERO","ZERO","ZERO",{"$f":"SUM(C24)*1","v":0},"ZERO",0,"ZERO","ZERO","ZERO","ZERO","ZERO",0,"ZERO","ZERO","ZERO",null,null,null,null,null,null,null,null,null,"ZERO","ZERO"]
["CHICKEN SHAWARMA",1800,0,0,null,null,"ZERO",{"$f":"SUM(C25)","v":0},{"$f":"SUM(C25)","v":0},{"$f":"SUM(C25)*2","v":0},"ZERO","ZERO","ZERO","ZERO","ZERO","ZERO",0,{"$f":"SUM(C25)","v":0},"ZERO","ZERO","ZERO","ZERO",0,"ZERO","ZERO","ZERO",null,null,null,null,null,null,null,null,null,{"$f":"SUM(AD25)","v":0},{"$f":"SUM(AE25)","v":0}]
["BARBECUE BEEF SHAWARMA",2000,0,0,null,null,"ZERO",{"$f":"SUM(C26)","v":0},"ZERO",{"$f":"SUM(C26)*2","v":0},"ZERO","ZERO","ZERO","ZERO","ZERO","ZERO",0,0,"ZERO","ZERO","ZERO","ZERO",0,"ZERO","ZERO","ZERO",null,null,null,null,null,null,null,null,null,{"$f":"SUM(C26)","v":0},"ZERO"]
["BEEF SUYA SHAWARMA",2200,0,0,null,null,"ZERO",{"$f":"SUM(C27)","v":0},"ZERO",{"$f":"SUM(C27)*2","v":0},"ZERO","ZERO","ZERO","ZERO","ZERO","ZERO",0,0,"ZERO","ZERO","ZERO","ZERO",0,"ZERO","ZERO","ZERO",null,null,null,null,null,null,null,null,null,{"$f":"SUM(AD27)","v":0},{"$f":"SUM(C27)","v":0}]
["BEEF SUYA BURGER ",2200,0,0,null,{"$f":"SUM(C28)","v":0},"ZERO",null,"ZERO","ZERO","ZERO","ZERO","ZERO","ZERO",{"$f":"SUM(C28)","v":0},"ZERO",0,0,"ZERO","ZERO","ZERO","ZERO",0,"ZERO","ZERO","ZERO",null,null,null,null,null,null,null,null,null,{"$f":"SUM(AD28)","v":0},{"$f":"SUM(C28)","v":0}]
["CHICKEN SUYA SHAWARMA",2200,0,0,null,"ZERO",{"$f":"SUM(C29)*2","v":0},{"$f":"SUM(C29)","v":0},null,{"$f":"SUM(C29)*2","v":0},"ZERO","ZERO","ZERO","ZERO","ZERO","ZERO",0,0,"ZERO","ZERO","ZERO","ZERO",0,"ZERO","ZERO","ZERO"]
["CHESSY SHAWARMA",2500,0,0,null,"ZERO","ZERO",{"$f":"SUM(C30)","v":0},{"$f":"SUM(C30)","v":0},{"$f":"SUM(C30)*2","v":0},null,"ZERO",{"$f":"SUM(C30)*2","v":0},"ZERO","ZERO","ZERO",0,0,"ZERO","ZERO","ZERO","ZERO",{"$f":"SUM(C30)*140","v":0},"ZERO","ZERO","ZERO",null,null,null,null,null,null,null,null,null,{"$f":"SUM(AD30)","v":0},{"$f":"SUM(AE30)","v":0}]
["2 CHICKEN AND CHIPS",2300,0,0,null,"ZERO","ZERO","ZERO","ZERO","ZERO",{"$f":"SUM(C31)","v":0},{"$f":"SUM(C31)*2","v":0},"ZERO","ZERO","ZERO",{"$f":"SUM(C31)","v":0},"ZERO",0,"ZERO","ZERO","ZERO","ZERO","ZERO",{"$f":"SUM(C31)","v":0},"ZERO","ZERO",null,null,null,null,null,null,null,null,null,"ZERO","ZERO"]
["4 CHICKEN AND CHIPS",3500,0,0,null,"ZERO","ZERO","ZERO","ZERO","ZERO",{"$f":"SUM(C32)","v":0},{"$f":"SUM(C32)*4","v":0},"ZERO","ZERO","ZERO",{"$f":"SUM(C32)","v":0},"ZERO",0,"ZERO","ZERO","ZERO","ZERO","ZERO",{"$f":"SUM(C32)*2","v":0},"ZERO","ZERO","zero","zero","zero",null,null,null,null,null,null,"ZERO","ZERO"]
["SPICY CHICKEN ONLY",650,0,null,null,"ZERO","ZERO","ZERO","ZERO","ZERO","ZERO",{"$f":"SUM(C33)","v":0},"ZERO","ZERO","ZERO","ZERO","ZERO","ZERO","ZERO","ZERO","ZERO","ZERO","ZERO","ZERO",{"$f":"SUM(C33)","v":0},"ZERO",null,null,null,null,null,null,null,null,null,"ZERO","ZERO"]
["CRISPY CHICKEN ONLY",650,0,{"$f":"SUM(B34*C34)","v":0},null,"ZERO","ZERO","ZERO","ZERO","ZERO","ZERO",{"$f":"SUM(C34)","v":0},"ZERO","ZERO","ZERO","ZERO","ZERO","ZERO","ZERO","ZERO","ZERO","ZERO","ZERO","ZERO",{"$f":"SUM(C34)","v":0},"ZERO",null,null,null,null,null,null,null,null,null,"ZERO","ZERO"]
["POTATO FRIES",700,0,0,null,"ZERO","ZERO","ZERO","ZERO","ZERO",null,"ZERO","ZERO","ZERO","ZERO","ZERO","ZERO","ZERO","ZERO","ZERO","ZERO","ZERO","ZERO","ZERO","ZERO","ZERO",null,null,null,null,null,null,null,null,null,"ZERO","ZERO"]
["FRENCH FRIES ONLY",1000,0,0,null,"ZERO","ZERO","ZERO","ZERO","ZERO",{"$f":"SUM(C36)","v":0},"ZERO","ZERO","ZERO","ZERO","ZERO","ZERO","ZERO","ZERO","ZERO","ZERO","ZERO","ZERO","ZERO",{"$f":"SUM(C36)","v":0},"ZERO",null,null,null,null,null,null,null,null,null,"ZERO","ZERO"]
["SUGERCANNE JUICE",750,0,0,null,"ZERO","ZERO","ZERO","ZERO","ZERO","ZERO","ZERO","ZERO","ZERO","ZERO","ZERO","ZERO","ZERO","ZERO",{"$f":"SUM(C37)","v":0},"ZERO","ZERO","ZERO","ZERO","ZERO","ZERO",null,null,null,null,null,null,null,null,null,"ZERO","ZERO"]
["35 CL SOFT DRINK",200,0,0,null,"ZERO","ZERO","ZERO","ZERO","ZERO","ZERO","ZERO","ZERO","ZERO","ZERO","ZERO","ZERO","ZERO","ZERO","ZERO",{"$f":"SUM(C38)","v":0},"ZERO","ZERO","ZERO","ZERO","ZERO",null,null,null,null,null,null,null,null,null,"ZERO","ZERO"]
["PARFAIT",null,0,0,null,"ZERO","ZERO","ZERO","ZERO","ZERO","ZERO","ZERO","ZERO","ZERO","ZERO","ZERO","ZERO",{"$f":"SUM(C39)","v":0},{"$f":"SUM(C39)","v":0},"ZERO","ZERO","ZERO","ZERO","ZERO","ZERO","ZERO",null,null,null,null,null,null,null,null,null,"ZERO","ZERO"]
["MARINATED WINGS",500,0,0,null,"ZERO","ZERO","ZERO","ZERO","ZERO","ZERO",{"$f":"SUM(C40)","v":0},"ZERO","ZERO","ZERO","ZERO","ZERO","ZERO","ZERO","ZERO","ZERO","ZERO","ZERO","ZERO","ZERO","ZERO",null,null,null,null,null,null,null,null,null,"ZERO","ZERO"]
["CHEESE ",400,0,0,null,"ZERO","ZERO","ZERO","ZERO","ZERO","ZERO","ZERO",{"$f":"SUM(C41)","v":0},"ZERO","ZERO","ZERO","ZERO","ZERO","ZERO","ZERO","ZERO","ZERO","ZERO","ZERO","ZERO","ZERO",null,null,null,null,null,null,null,null,null,"ZERO","ZERO"]
["SAUSAGE",200,0,0,null,null,null,null,null,null,"ZERO"]
["BACON",400,0,0,null,"ZERO","ZERO","ZERO","ZERO","ZERO","ZERO","ZERO","ZERO",{"$f":"SUM(C43)","v":0},"ZERO","ZERO","ZERO","ZERO","ZERO","ZERO","ZERO","ZERO","ZERO","ZERO","ZERO","ZERO",null,null,null,null,null,null,null,null,null,"ZERO","ZERO"]
["FRIENDY BURGER MEAL (WITH SOFT DRINK)",10200,0,0,null,{"$f":"SUM(C44)*2","v":0},{"$f":"SUM(C44)*2","v":0},{"$f":"SUM(C44)*2","v":0},{"$f":"SUM(C44)*2","v":0},{"$f":"SUM(C44)*2","v":0},{"$f":"SUM(C44)*2","v":0},{"$f":"SUM(C44)*2*2","v":0},"ZERO","ZERO",{"$f":"SUM(C44)*1*2","v":0},{"$f":"SUM(C44)*2","v":0},{"$f":"SUM(C44)*2*2","v":0},{"$f":"SUM(C44)*2","v":0},null,"ZERO",{"$f":"SUM(C44)*2","v":0},null,{"$f":"SUM(C44)*140*2","v":0},{"$f":"SUM(C44)*2","v":0},{"$f":"SUM(C44)*2","v":0},"ZERO",null,null,null,null,null,null,null,null,null,{"$f":"SUM(AD44)*2","v":0},{"$f":"SUM(AE44)*2","v":0}]
["FRIENDY BURGER MEAL (WITH SUGARCANE JUICE)",10600,0,0,null,{"$f":"SUM(C45)*2","v":0},{"$f":"SUM(C45)*2","v":0},{"$f":"SUM(C45)*2","v":0},{"$f":"SUM(C45)*2","v":0},{"$f":"SUM(C45)*2","v":0},{"$f":"SUM(C45)*2","v":0},{"$f":"SUM(C45)*2*2","v":0},"ZERO","ZERO",{"$f":"SUM(C45)*1*2","v":0},{"$f":"SUM(C45)*2","v":0},{"$f":"SUM(C45)*2*2","v":0},{"$f":"SUM(C45)*2","v":0},null,{"$f":"SUM(C45)*2","v":0},"ZERO",null,{"$f":"SUM(C45)*140*2","v":0},{"$f":"SUM(C45)*2","v":0},{"$f":"SUM(C45)*2","v":0},"ZERO",null,null,null,null,null,null,null,null,null,{"$f":"SUM(AD45)*2","v":0},{"$f":"SUM(AE45)*2","v":0}]
["SHAWARMA  SUB",1800,0,0,null,null,"ZERO","ZERO",{"$f":"SUM(C46)","v":0},{"$f":"SUM(C46)*2","v":0},"ZERO","ZERO","ZERO","ZERO",{"$f":"SUM(C46)*1","v":0},"ZERO",{"$f":"SUM(C46)","v":0},"ZERO","ZERO","ZERO","ZERO","ZERO",{"$f":"SUM(C46)*70","v":0},"ZERO","ZERO","ZERO",null,null,null,{"$f":"SUM(C46)","v":0},null,null,null,null,null,{"$f":"SUM(AD46)","v":0},{"$f":"SUM(AE46)","v":0}]
["DELISH PACK 1",5300,0,0,null,{"$f":"SUM(C47)","v":0},{"$f":"SUM(C47)","v":0},"ZERO",{"$f":"SUM(C47)","v":0},{"$f":"SUM(C47)*2","v":0},"ZERO",{"$f":"SUM(C47)*4","v":0},"ZERO","ZERO",{"$f":"SUM(C47)*1","v":0},{"$f":"SUM(C47)*1","v":0},{"$f":"SUM(C47)*2","v":0},{"$f":"SUM(C47)","v":0},"ZERO","ZERO","ZERO","ZERO",{"$f":"SUM(C47)*70","v":0},"ZERO","ZERO","ZERO",null,null,null,{"$f":"SUM(C47)","v":0},{"$f":"SUM(C47)*1","v":0},null,null,null,null,{"$f":"SUM(AD47)","v":0},{"$f":"SUM(AE47)","v":0}]
["FAMILY BURGER MEAL (WITH SOFT DRINK)",19800,0,0,null,{"$f":"SUM(C48)*4","v":0},{"$f":"SUM(C48)*4","v":0},{"$f":"SUM(C48)*4","v":0},{"$f":"SUM(C48)*4","v":0},{"$f":"SUM(C48)*4","v":0},{"$f":"SUM(C48)*4","v":0},{"$f":"SUM(C48)*2*4","v":0},"ZERO","ZERO",{"$f":"SUM(C48)*1*4","v":0},{"$f":"SUM(C48)*4","v":0},{"$f":"SUM(C48)*2*4","v":0},{"$f":"SUM(C48)*4","v":0},null,"ZERO",{"$f":"SUM(C48)*4","v":0},null,{"$f":"SUM(C48)*140*4","v":0},{"$f":"SUM(C48)*4","v":0},{"$f":"SUM(C48)*4","v":0},"ZERO",null,null,null,null,null,null,null,null,null,{"$f":"SUM(AD48)*4","v":0},{"$f":"SUM(AE48)*4","v":0}]
["FAMILY BURGER MEAL (WITH SUGARCANE JUICE)",20800,0,0,null,{"$f":"SUM(C49)*4","v":0},{"$f":"SUM(C49)*4","v":0},{"$f":"SUM(C49)*4","v":0},{"$f":"SUM(C49)*4","v":0},{"$f":"SUM(C49)*4","v":0},{"$f":"SUM(C49)*4","v":0},{"$f":"SUM(C49)*2*4","v":0},"ZERO","ZERO",{"$f":"SUM(C49)*1*4","v":0},{"$f":"SUM(C49)*4","v":0},{"$f":"SUM(C49)*2*4","v":0},{"$f":"SUM(C49)*4","v":0},null,{"$f":"SUM(C49)*4","v":0},"ZERO",null,{"$f":"SUM(C49)*140*4","v":0},{"$f":"SUM(C49)*4","v":0},{"$f":"SUM(C49)*4","v":0},"ZERO",null,null,null,null,null,null,null,null,null,{"$f":"SUM(AD49)*4","v":0},{"$f":"SUM(AE49)*4","v":0}]
["CAN COKE/FANTA ONLY",null,0,0,null,"ZERO","ZERO","ZERO","ZERO","ZERO","ZERO","ZERO","ZERO","ZERO","ZERO","ZERO","ZERO","ZERO","ZERO","ZERO","ZERO","ZERO","ZERO","ZERO","ZERO","ZERO",null,null,null,null,{"$f":"SUM(C50)","v":0},null,null,null,null,"ZERO","ZERO"]
["SUPA KOMMANDO ONLY",250,0,0,null,"ZERO","ZERO","ZERO","ZERO","ZERO","ZERO","ZERO","ZERO","ZERO","ZERO","ZERO","ZERO","ZERO","ZERO","ZERO","ZERO","ZERO","ZERO","ZERO","ZERO","ZERO",null,null,{"$f":"SUM(C51)","v":0},null,"ZERO","ZERO",null,null,null,"ZERO","ZERO"]
["10X Chicken Nuggets ",2400,0,0,null,null,null,null,null,null,"ZERO",null,null,null,null,{"$f":"SUM(C52)","v":0},null,{"$f":"SUM(C52)","v":0},null,null,null,null,null,{"$f":"SUM(C52)","v":0},null,null,null,null,null,null,{"$f":"SUM(C52)","v":0},{"$f":"SUM(C52)*10","v":0}]
["20X Chicken Nuggets ",4800,0,0,null,null,null,null,null,null,"ZERO ",null,null,null,null,{"$f":"SUM(C53)","v":0},null,{"$f":"SUM(C53)","v":0},null,null,null,null,null,{"$f":"SUM(C53)","v":0},null,null,null,null,null,null,{"$f":"SUM(C53)","v":0},{"$f":"SUM(C53)*20","v":0}]
["10 CHICKEN NUGGETS & FRIES BOX",3300,0,0,null,null,null,null,null,null,{"$f":"SUM(C54)","v":0},null,null,null,null,{"$f":"SUM(C54)","v":0},null,{"$f":"SUM(C54)","v":0},null,null,null,null,null,{"$f":"SUM(C54)","v":0},null,null,null,null,null,null,{"$f":"SUM(C54)","v":0},{"$f":"SUM(C54)*10","v":0}]
["20 CHICKEN NUGGETS & FRIES BOX",6600,0,0,null,null,null,null,null,null,{"$f":"SUM(C55)","v":0},null,null,null,null,{"$f":"SUM(C55)","v":0},null,{"$f":"SUM(C55)","v":0},null,null,null,null,null,{"$f":"SUM(C55)","v":0},null,null,null,null,null,null,{"$f":"SUM(C55)","v":0},{"$f":"SUM(C55)*20","v":0}]
["PRAWN BURGER ",3000,0,0,null,{"$f":"SUM(C56)","v":0},"ZERO","ZERO","ZERO","ZERO","ZERO","ZERO",{"$f":"SUM(C56)","v":0},"ZERO",{"$f":"SUM(C56)","v":0},"ZERO",{"$f":"SUM(C56)","v":0},"ZERO","ZERO","ZERO","ZERO","ZERO",{"$f":"SUM(C56)*70","v":0},"ZERO","ZERO","ZERO",null,null,null,null,null,null,{"$f":"SUM(C56)*2","v":0},null,null,"ZERO","ZERO"]
[" FUNMMY NUGGETS  BOX",5300,0,0,null,{"$f":"SUM(C57)","v":0},{"$f":"SUM(C57)","v":0},null,null,null,{"$f":"SUM(C57)","v":0},null,{"$f":"SUM(C57)","v":0},null,{"$f":"SUM(C57)","v":0},{"$f":"SUM(C57)","v":0},null,{"$f":"SUM(C57)","v":0},null,null,null,null,null,{"$f":"SUM(C57)","v":0},null,null,null,null,null,null,{"$f":"SUM(C57)","v":0},{"$f":"SUM(C57)*10","v":0}]
["FARM PRIDE 50 CL",500,0,0,null,"ZERO","ZERO","ZERO","ZERO","ZERO","ZERO","ZERO","ZERO","ZERO","ZERO","ZERO","ZERO","ZERO","ZERO","ZERO","ZERO","ZERO","ZERO","ZERO","ZERO","ZERO",null,null,null,null,null,null,null,{"$f":"SUM(C58)","v":0},null,"ZERO","ZERO"]
["FARM PRIDE 1 LITRE",800,0,0,null,"ZERO","ZERO","ZERO","ZERO","ZERO","ZERO","ZERO","ZERO","ZERO","ZERO","ZERO","ZERO","ZERO","ZERO","ZERO","ZERO","ZERO","ZERO","ZERO","ZERO","ZERO",null,null,null,null,null,null,null,"ZERO",{"$f":"SUM(C59)","v":0},"ZERO","ZERO"]
["GRILLED CHICKEN BURGER",1700,0,{"$f":"SUM(B60*C60)","v":0},null,{"$f":"SUM(C60)","v":0},{"$f":"SUM(C60)","v":0},"ZERO","ZERO","ZERO","ZERO","ZERO","ZERO","ZERO",{"$f":"SUM(C60)","v":0},"ZERO",{"$f":"SUM(C60)*1","v":0},"ZERO","ZERO","ZERO","ZERO","ZERO",{"$f":"SUM(C60)*70","v":0},"ZERO","ZERO","ZERO",null,null,null,null,null,null,null,null,null,"ZERO","ZERO"]
["GRILLED CHICKEN BURGER + JUICE",2200,0,{"$f":"SUM(B61*C61)","v":0},null,{"$f":"SUM(C61)","v":0},{"$f":"SUM(C61)","v":0},"ZERO","ZERO","ZERO","ZERO","ZERO","ZERO","ZERO",{"$f":"SUM(C61)","v":0},"ZERO",{"$f":"SUM(C61)*1","v":0},"ZERO","ZERO","ZERO","ZERO","ZERO",{"$f":"SUM(C61)*70","v":0},"ZERO","ZERO","ZERO",null,null,null,null,null,null,null,{"$f":"SUM(C61)","v":0},null,"ZERO","ZERO"]
["GRILLED BURGER MEAL 1 & 3",4000,0,{"$f":"SUM(B62*C62)","v":0},null,{"$f":"SUM(C62)","v":0},{"$f":"SUM(C62)","v":0},"ZERO","ZERO","ZERO",{"$f":"SUM(C62)","v":0},{"$f":"SUM(C62)*2","v":0},"ZERO","ZERO","ZERO",{"$f":"SUM(C62)","v":0},{"$f":"SUM(C62)","v":0},{"$f":"SUM(C62)","v":0},"ZERO","ZERO","ZERO","ZERO",{"$f":"SUM(C62)*70","v":0},{"$f":"SUM(C62)","v":0},"ZERO","ZERO",null,null,null,null,null,null,null,{"$f":"SUM(C62)","v":0},null,"ZERO","ZERO"]
["GRILLED BURGER MEAL 2",3700,0,{"$f":"SUM(B63*C63)","v":0},null,{"$f":"SUM(C63)","v":0},{"$f":"SUM(C63)","v":0},"ZERO","ZERO","ZERO",{"$f":"SUM(C63)","v":0},{"$f":"SUM(C63)*2","v":0},"ZERO","ZERO","ZERO",{"$f":"SUM(C63)","v":0},{"$f":"SUM(C63)","v":0},{"$f":"SUM(C63)","v":0},"ZERO","ZERO",{"$f":"SUM(C63)","v":0},"ZERO",{"$f":"SUM(C63)*70","v":0},{"$f":"SUM(C63)","v":0},"ZERO","ZERO",null,null,null,null,null,null,null,"ZERO",null,"ZERO","ZERO"]
["MASTERPIECE BURGER ",5000,0,{"$f":"SUM(B64*C64)","v":0},null,{"$f":"SUM(C64)","v":0},"ZERO","ZERO","ZERO","ZERO","ZERO","ZERO",{"$f":"SUM(C64)","v":0},"ZERO","ZERO",{"$f":"SUM(C64)","v":0},{"$f":"SUM(C64)","v":0},"ZERO","ZERO","ZERO",{"$f":"SUM(C64)","v":0},{"$f":"SUM(C64)","v":0},{"$f":"SUM(C64)*70","v":0},"ZERO","ZERO","ZERO",null,null,null,null,null,null,null,null,null,"ZERO",{"$f":"SUM(C64)","v":0}]
["SUYA BURGER BOX 2 (WITH BEEF SUYA BURGER)",6000,0,0,null,0,"ZERO ","ZERO","ZERO",0,0,0,"ZERO","ZERO",0,0,0,"ZERO","ZERO",null,0,"ZERO",0,0,0,"ZERO",0,null,null,null,null,null,null,null,null,"ZERO",0]
["OPENING STOCK",null,null,null,null,{"$f":"SUM('Production DAY 30'!C2)","v":0},{"$f":"SUM('Production DAY 30'!C3)","v":0},{"$f":"SUM('Production DAY 30'!C4)","v":0},{"$f":"SUM('Production DAY 30'!C5)","v":0},{"$f":"SUM('Production DAY 30'!C6)","v":0},{"$f":"SUM('Production DAY 30'!C7)","v":0},{"$f":"SUM('Production DAY 30'!C8)","v":0},{"$f":"SUM('Production DAY 30'!C9)","v":0},{"$f":"SUM('Production DAY 30'!C10)","v":0},{"$f":"SUM('Production DAY 30'!C11)","v":0},{"$f":"SUM('Production DAY 30'!C12)","v":0},{"$f":"SUM('Production DAY 30'!C13)","v":0},{"$f":"SUM('Production DAY 30'!C14)","v":0},{"$f":"SUM('Production DAY 30'!C15)","v":0},{"$f":"SUM('Production DAY 30'!C16)","v":0},{"$f":"SUM('Production DAY 30'!C17)","v":0},{"$f":"SUM('Production DAY 30'!C18)","v":0},{"$f":"SUM('Production DAY 30'!C19)","v":0},{"$f":"SUM('Production DAY 30'!C20)","v":0},{"$f":"SUM('Production DAY 30'!C21)","v":0},{"$f":"SUM('Production DAY 30'!C22)","v":0},{"$f":"SUM('Production DAY 30'!C23)","v":0},{"$f":"SUM('Production DAY 30'!C24)","v":0},{"$f":"SUM('Production DAY 30'!C25)","v":0},{"$f":"SUM('Production DAY 30'!C26)","v":0},{"$f":"SUM('Production DAY 30'!C27)","v":0},{"$f":"SUM('Production DAY 30'!C28)","v":0},{"$f":"SUM('Production DAY 30'!C29)","v":0},{"$f":"SUM('Production DAY 30'!C30)","v":0},{"$f":"SUM('Production DAY 30'!C31)","v":0},{"$f":"SUM('Production DAY 30'!C32)","v":0},{"$f":"SUM('Production DAY 30'!C33)","v":0},{"$f":"SUM('Production DAY 30'!C34)","v":0},{"$f":"SUM('Production DAY 30'!C35)","v":0},{"$f":"SUM('Production DAY 30'!C36)","v":0},{"$f":"SUM('Production DAY 30'!C37)","v":0},{"$f":"SUM('Production DAY 30'!C38)","v":0},{"$f":"SUM('Production DAY 30'!C39)","v":0},{"$f":"SUM('Production DAY 30'!C40)","v":0},{"$f":"SUM('Production DAY 30'!C41)","v":0},{"$f":"SUM('Production DAY 30'!C42)","v":0},{"$f":"SUM('Production DAY 30'!C43)","v":0}]
["RECEIVED",null,null,null,null,{"$f":"SUM('Production DAY 30'!D2)","v":0},{"$f":"SUM('Production DAY 30'!D3)","v":0},{"$f":"SUM('Production DAY 30'!D4)","v":0},{"$f":"SUM('Production DAY 30'!D5)","v":0},{"$f":"SUM('Production DAY 30'!D6)","v":0},{"$f":"SUM('Production DAY 30'!D7)","v":0},{"$f":"SUM('Production DAY 30'!D8)","v":0},{"$f":"SUM('Production DAY 30'!D9)","v":0},{"$f":"SUM('Production DAY 30'!D10)","v":0},{"$f":"SUM('Production DAY 30'!D11)","v":0},{"$f":"SUM('Production DAY 30'!D12)","v":0},{"$f":"SUM('Production DAY 30'!D13)","v":0},{"$f":"SUM('Production DAY 30'!D14)","v":0},{"$f":"SUM('Production DAY 30'!D15)","v":0},{"$f":"SUM('Production DAY 30'!D16)","v":0},{"$f":"SUM('Production DAY 30'!D17)","v":0},{"$f":"SUM('Production DAY 30'!D18)","v":0},{"$f":"SUM('Production DAY 30'!D19)","v":0},{"$f":"SUM('Production DAY 30'!D20)","v":0},{"$f":"SUM('Production DAY 30'!D21)","v":0},{"$f":"SUM('Production DAY 30'!D22)","v":0},{"$f":"SUM('Production DAY 30'!D23)","v":0},{"$f":"SUM('Production DAY 30'!D24)","v":0},{"$f":"SUM('Production DAY 30'!D25)","v":0},{"$f":"SUM('Production DAY 30'!D26)","v":0},{"$f":"SUM('Production DAY 30'!D27)","v":0},{"$f":"SUM('Production DAY 30'!D28)","v":0},{"$f":"SUM('Production DAY 30'!D29)","v":0},{"$f":"SUM('Production DAY 30'!D30)","v":0},{"$f":"SUM('Production DAY 30'!D31)","v":0},{"$f":"SUM('Production DAY 30'!D32)","v":0},{"$f":"SUM('Production DAY 30'!D33)","v":0},{"$f":"SUM('Production DAY 30'!D34)","v":0},{"$f":"SUM('Production DAY 30'!D35)","v":0},{"$f":"SUM('Production DAY 30'!D36)","v":0},{"$f":"SUM('Production DAY 30'!D37)","v":0},{"$f":"SUM('Production DAY 30'!D38)","v":0},{"$f":"SUM('Production DAY 30'!D39)","v":0},{"$f":"SUM('Production DAY 30'!D40)","v":0},{"$f":"SUM('Production DAY 30'!D41)","v":0},{"$f":"SUM('Production DAY 30'!D42)","v":0},{"$f":"SUM('Production DAY 30'!D43)","v":0}]
["TOTAL STOCK",null,null,null,null,{"$f":"SUM(F66:F67)","v":0},{"$f":"SUM(G66:G67)","v":0},{"$f":"SUM(H66:H67)","v":0},{"$f":"SUM(I66:I67)","v":0},0,0,0,0,0,0,{"$f":"SUM(P66:P67)","v":0},0,0,0,0,0,0,0,0,0,0,0,0,0,0,0,0,0,0,0,0,0,0,0,0,0,0,0,0,0,0,0]
["USED",null,null,{"$f":"SUM(D3:D65)","v":0},null,{"$f":"SUM(F3:F65)","v":0},0,0,0,0,0,0,0,0,0,0,0,0,0,0,0,0,0,0,0,0,0,0,0,0,0,0,0,0,0,0,0,{"$f":"SUM(AL3:AL64)","v":0},0,0,0,0,0,0,0,0,0]
["CLOSING STOCK",null,null,null,null,{"$f":"SUM(F68-F69)","v":0},0,0,0,0,0,0,0,0,0,0,0,0,0,0,0,0,0,0,0,0,0,0,0,0,0,0,0,{"$f":"SUM(AH66-AH69)","v":0},{"$f":"SUM(AI68-AI69)","v":0},0,0,0,0,0,0,0,0,0,0,0,0]

{"sheet":"Production DAY 31","index":60,"n_rows":44,"n_cols":8,"rows_kept":44,"cut":false,"hidden":false,"merged":[]}
["Nos#","ITEMS"," < OPENING STOCK","RECEIVED","USED >","SALES CLOSING STOCK >","PHYSICAL STOCK COUNT","COMMENTS"]
[1,"Burger Bread",{"$f":"SUM('Production DAY 30'!G2)","v":0},null,{"$f":"SUM('DAY 31'!F69)","v":0},{"$f":"SUM('DAY 31'!F70)","v":0},0,{"$f":"IF(G2=F2,TRUE,FALSE)","v":true}]
[2,"Chicken Patty",{"$f":"SUM('Production DAY 30'!G3)","v":0},null,{"$f":"SUM('DAY 31'!G69)","v":0},{"$f":"SUM('DAY 31'!G70)","v":0},0,true]
[3,"Shawarma Bread",{"$f":"SUM('Production DAY 30'!G4)","v":0},null,{"$f":"SUM('DAY 31'!H69)","v":0},{"$f":"SUM('DAY 31'!H70)","v":0},0,true]
[4,"Chicken Portion or Shawarma portion",{"$f":"SUM('Production DAY 30'!G5)","v":0},null,{"$f":"SUM('DAY 31'!I69)","v":0},{"$f":"SUM('DAY 31'!I70)","v":0},0,true]
[5,"Sausage",{"$f":"SUM('Production DAY 30'!G6)","v":0},null,{"$f":"SUM('DAY 31'!J69)","v":0},{"$f":"SUM('DAY 31'!J70)","v":0},0,true]
[6,"Portion of Fries",{"$f":"SUM('Production DAY 30'!G7)","v":0},null,{"$f":"SUM('DAY 31'!K69)","v":0},{"$f":"SUM('DAY 31'!K70)","v":0},0,true]
[7,"Pieces of Chicken",{"$f":"SUM('Production DAY 30'!G8)","v":0},null,{"$f":"SUM('DAY 31'!L69)","v":0},{"$f":"SUM('DAY 31'!L70)","v":0},0,true]
[8,"Cheese",{"$f":"SUM('Production DAY 30'!G9)","v":0},null,{"$f":"SUM('DAY 31'!M69)","v":0},{"$f":"SUM('DAY 31'!M70)","v":0},0,true]
[9,"Bacon",{"$f":"SUM('Production DAY 30'!G10)","v":0},null,{"$f":"SUM('DAY 31'!N69)","v":0},{"$f":"SUM('DAY 31'!N70)","v":0},0,true]
[10,"A Paper Bag",{"$f":"SUM('Production DAY 30'!G11)","v":0},null,{"$f":"SUM('DAY 31'!O69)","v":0},{"$f":"SUM('DAY 31'!O70)","v":0},0,true]
[11,"Achicken Box",{"$f":"SUM('Production DAY 30'!G12)","v":0},null,{"$f":"SUM('DAY 31'!P69)","v":0},{"$f":"SUM('DAY 31'!P70)","v":0},0,true]
[12,"Paper Wrap",{"$f":"SUM('Production DAY 30'!G13)","v":0},null,{"$f":"SUM('DAY 31'!Q69)","v":0},{"$f":"SUM('DAY 31'!Q70)","v":0},0,true]
[13,"A Branded Nylon",{"$f":"SUM('Production DAY 30'!G14)","v":0},null,{"$f":"SUM('DAY 31'!R69)","v":0},{"$f":"SUM('DAY 31'!R70)","v":0},0,true]
[14,"Parfait",{"$f":"SUM('Production DAY 30'!G15)","v":0},null,{"$f":"SUM('DAY 31'!S69)","v":0},{"$f":"SUM('DAY 31'!S70)","v":0},0,true]
[15,"A Bottle of SUGAR Juice",{"$f":"SUM('Production DAY 30'!G16)","v":0},null,{"$f":"SUM('DAY 31'!T69)","v":0},{"$f":"SUM('DAY 31'!T70)","v":0},0,true]
[16,"35 CL Soft Drink",{"$f":"SUM('Production DAY 30'!G17)","v":0},null,{"$f":"SUM('DAY 31'!U69)","v":0},{"$f":"SUM('DAY 31'!U70)","v":0},0,true]
[17,"Beef Patty",{"$f":"SUM('Production DAY 30'!G18)","v":0},null,{"$f":"SUM('DAY 31'!V69)","v":0},{"$f":"SUM('DAY 31'!V70)","v":0},0,true]
[18,"Cream in GRAMS",{"$f":"SUM('Production DAY 30'!G19)","v":0},null,{"$f":"SUM('DAY 31'!W69)","v":0},{"$f":"SUM('DAY 31'!W70)","v":0},0,true]
[19,"KETCHUP",{"$f":"SUM('Production DAY 30'!G20)","v":0},null,{"$f":"SUM('DAY 31'!X69)","v":0},{"$f":"SUM('DAY 31'!X70)","v":0},0,true]
[20,"plain Nylon",{"$f":"SUM('Production DAY 30'!G21)","v":0},null,{"$f":"SUM('DAY 31'!Y69)","v":0},{"$f":"SUM('DAY 31'!Y70)","v":0},0,true]
[21,"Barbeque Sauce",{"$f":"SUM('Production DAY 30'!G22)","v":0},null,{"$f":"SUM('DAY 31'!Z69)","v":0},{"$f":"SUM('DAY 31'!Z70)","v":0},0,true]
[22,"Meal Box",{"$f":"SUM('Production DAY 30'!G23)","v":0},null,{"$f":"SUM('DAY 31'!AA69)","v":0},{"$f":"SUM('DAY 31'!AA70)","v":0},0,true]
[23,"COCONUT BREAD",{"$f":"SUM('Production DAY 30'!G24)","v":0},null,{"$f":"SUM('DAY 31'!AB69)","v":0},{"$f":"SUM('DAY 31'!AB70)","v":0},0,true]
[24,"SUPA KOMMANDO",{"$f":"SUM('Production DAY 30'!G25)","v":0},null,{"$f":"SUM('DAY 31'!AC69)","v":0},{"$f":"SUM('DAY 31'!AC70)","v":0},0,true]
[25,"SHAWARMA SUB",{"$f":"SUM('Production DAY 30'!G26)","v":0},null,{"$f":"SUM('DAY 31'!AD69)","v":0},{"$f":"SUM('DAY 31'!AD70)","v":0},0,true]
[26,"CAN COKE / FANTA",{"$f":"SUM('Production DAY 30'!G27)","v":0},null,{"$f":"SUM('DAY 31'!AE69)","v":0},{"$f":"SUM('DAY 31'!AE70)","v":0},0,true]
[27,"NUGGETS ",{"$f":"SUM('Production DAY 30'!G28)","v":0},null,{"$f":"SUM('DAY 31'!AF69)","v":0},{"$f":"SUM('DAY 31'!AF70)","v":0},0,true]
[28,"PRAWN",{"$f":"SUM('Production DAY 30'!G29)","v":0},null,{"$f":"SUM('DAY 31'!AG69)","v":0},{"$f":"SUM('DAY 31'!AG70)","v":0},0,true]
[29,"FARM PRIDE",{"$f":"SUM('Production DAY 30'!G30)","v":0},null,{"$f":"SUM('DAY 31'!AH69)","v":0},{"$f":"SUM('DAY 31'!AH70)","v":0},0,true]
[30,"50CL OR PULPY",{"$f":"SUM('Production DAY 30'!G31)","v":0},null,{"$f":"SUM('DAY 31'!AI69)","v":0},{"$f":"SUM('DAY 31'!AI70)","v":0},0,true]
[31,"FARM PRIDE 1 LT",{"$f":"SUM('Production DAY 30'!G32)","v":0},null,{"$f":"SUM('DAY 31'!AJ69)","v":0},{"$f":"SUM('DAY 31'!AJ70)","v":0},0,true]
[32,"BEEF PORTION FOR SHAWARMA",{"$f":"SUM('Production DAY 30'!G33)","v":0},null,{"$f":"SUM('DAY 31'!AK69)","v":0},{"$f":"SUM('DAY 31'!AK70)","v":0},0,true]
[33,"BEEF SUYA STICK",{"$f":"SUM('Production DAY 30'!G34)","v":0},null,{"$f":"SUM('DAY 31'!AL69)","v":0},{"$f":"SUM('DAY 31'!AL70)","v":0},0,true]
[34,"EMPTY 1",{"$f":"SUM('Production DAY 30'!G35)","v":0},null,{"$f":"SUM('DAY 31'!AM69)","v":0},{"$f":"SUM('DAY 31'!AM70)","v":0},0,true]
[35,"EMPTY 2",{"$f":"SUM('Production DAY 30'!G36)","v":0},null,{"$f":"SUM('DAY 31'!AN69)","v":0},{"$f":"SUM('DAY 31'!AN70)","v":0},0,true]
[36,"EMPTY 3",{"$f":"SUM('Production DAY 30'!G37)","v":0},null,{"$f":"SUM('DAY 31'!AO69)","v":0},{"$f":"SUM('DAY 31'!AO70)","v":0},0,true]
[37,"EMPTY 4",{"$f":"SUM('Production DAY 30'!G38)","v":0},null,{"$f":"SUM('DAY 31'!AP69)","v":0},{"$f":"SUM('DAY 31'!AP70)","v":0},0,true]
[38,"EMPTY 5",{"$f":"SUM('Production DAY 30'!G39)","v":0},null,{"$f":"SUM('DAY 31'!AQ69)","v":0},{"$f":"SUM('DAY 31'!AQ70)","v":0},0,true]
[39,"EMPTY 6",{"$f":"SUM('Production DAY 30'!G40)","v":0},null,{"$f":"SUM('DAY 31'!AR69)","v":0},{"$f":"SUM('DAY 31'!AR70)","v":0},0,true]
[40,"EMPTY 7",{"$f":"SUM('Production DAY 30'!G41)","v":0},null,{"$f":"SUM('DAY 31'!AS69)","v":0},{"$f":"SUM('DAY 31'!AS70)","v":0},0,true]
[41,"EMPTY 8",{"$f":"SUM('Production DAY 30'!G42)","v":0},null,{"$f":"SUM('DAY 31'!AT69)","v":0},{"$f":"SUM('DAY 31'!AT70)","v":0},0,true]
[42,"EMPTY 9",{"$f":"SUM('Production DAY 30'!G43)","v":0},null,{"$f":"SUM('DAY 31'!AU69)","v":0},{"$f":"SUM('DAY 31'!AU70)","v":0},0,true]
[43,"EMPTY 10",{"$f":"SUM('Production DAY 30'!G44)","v":0},null,{"$f":"SUM('DAY 31'!AV69)","v":0},{"$f":"SUM('DAY 31'!AV70)","v":0},0,true]

{"sheet":"DAY 31","index":61,"n_rows":70,"n_cols":47,"rows_kept":70,"cut":false,"hidden":false,"merged":[[0,7,0,28]]}
["FEBRUARY 12th, 2022",null,null,{"$f":"SUM(D3:D50)","v":0},null,null,null,"BURGER PALACE INVENTORY RECORDS"]
["ITEM","AMOUNT","QUANTITY","TOTAL",null,"Burger Bread","Chicken Patty","Shawarma Bread","Chicken Portion or Shawarma portion","Sausage","Portion of Fries","Pieces of Chicken","Cheese","Bacon","A Paper Bag","Achicken Box","Paper Wrap","A Branded Nylon","Parfait","A Bottle of SUGAR Juice","35 CL Soft Drink","Beef Patty","Cream in GRAMS","KETCHUP","plain Nylon","Barbeque Sauce","Meal Box","COCONUT BREAD ","SUPA KOMMANDO ","SHAWARMA SUB","CAN COKE / FANTA","NUGGETS","PRAWN","FARM PRIDE 50CL OR PULPY","FARM PRIDE 1 LT","BEEF PORTION FOR SHAWARMA ","BEEF SUYA STICK","EMPTY 1","EMPTY 2","EMPTY 3","EMPTY 4","EMPTY 5","EMPTY 6","EMPTY 7","EMPTY 8","EMPTY 9","EMPTY 10"]
["DELUXE BURGER MEAL (WITH SOFT DRINK)",5400,0,{"$f":"SUM(B3*C3)","v":0},null,{"$f":"SUM(C3)","v":0},{"$f":"SUM(C3)","v":0},{"$f":"SUM(C3)","v":0},{"$f":"SUM(C3)","v":0},{"$f":"SUM(C3)","v":0},{"$f":"SUM(C3)","v":0},{"$f":"SUM(C3)*2","v":0},"ZERO","ZERO",{"$f":"SUM(C3)*1","v":0},{"$f":"SUM(C3)","v":0},{"$f":"SUM(C3)*2","v":0},{"$f":"SUM(C3)","v":0},null,"ZERO",{"$f":"SUM(C3)","v":0},null,{"$f":"SUM(C3)*140","v":0},{"$f":"SUM(C3)","v":0},{"$f":"SUM(C3)","v":0},"ZERO",null,null,null,null,null,null,null,null,null,{"$f":"SUM(AD3)","v":0},0]
["DELUXE BURGER MEAL (WITH SUGARCANE JUICE)",5600,0,{"$f":"SUM(B4*C4)","v":0},null,{"$f":"SUM(C4)","v":0},{"$f":"SUM(C4)","v":0},{"$f":"SUM(C4)","v":0},{"$f":"SUM(C4)","v":0},{"$f":"SUM(C4)","v":0},0,{"$f":"SUM(C4)*2","v":0},"ZERO","ZERO",{"$f":"SUM(C4)*1","v":0},0,{"$f":"SUM(C4)*2","v":0},0,null,{"$f":"SUM(C4)","v":0},"ZERO",null,{"$f":"SUM(C4)*140","v":0},{"$f":"SUM(C4)","v":0},0,"ZERO",null,null,null,null,null,null,null,null,null,0,0]
["DELUXE MEAL EXTRA (WITH Soft Drink)",null,0,{"$f":"SUM(B5*C5)","v":0},null,{"$f":"SUM(C5)","v":0},{"$f":"SUM(C5)","v":0},{"$f":"SUM(C5)","v":0},{"$f":"SUM(C5)","v":0},{"$f":"SUM(C5)","v":0},0,{"$f":"SUM(C5)*2","v":0},"ZERO","ZERO",{"$f":"SUM(C5)","v":0},0,{"$f":"SUM(C5)*2","v":0},0,{"$f":"SUM(C5)","v":0},"ZERO",{"$f":"SUM(C5)","v":0},null,{"$f":"SUM(C5)*140","v":0},{"$f":"SUM(C5)","v":0},0,"ZERO",null,null,null,null,null,null,null,null,null,0,0]
["DELUXE BURGER MEAL Extra (With Sugarcane juice",null,0,{"$f":"SUM(B6*C6)","v":0},null,{"$f":"SUM(C6)","v":0},{"$f":"SUM(C6)","v":0},{"$f":"SUM(C6)","v":0},{"$f":"SUM(C6)","v":0},{"$f":"SUM(C6)","v":0},0,{"$f":"SUM(C6)*2","v":0},"ZERO","ZERO",{"$f":"SUM(C6)","v":0},0,{"$f":"SUM(C6)*2","v":0},0,{"$f":"SUM(C6)","v":0},{"$f":"SUM(C6)","v":0},"ZERO",null,{"$f":"SUM(C6)*140","v":0},{"$f":"SUM(C6)","v":0},0,"ZERO",null,null,null,null,null,null,null,null,null,0,0]
["PREMIUM BURGER Meal ",5900,0,{"$f":"SUM(B7*C7)","v":0},null,{"$f":"SUM(C7)","v":0},{"$f":"SUM(C7)","v":0},"ZERO","ZERO","ZERO",0,{"$f":"SUM(C7)*5","v":0},"ZERO","ZERO",{"$f":"SUM(C7)","v":0},0,{"$f":"SUM(C7)*1.25","v":0},0,"ZERO","ZERO",{"$f":"SUM(C7)","v":0},"ZERO",{"$f":"SUM(C7)*70","v":0},{"$f":"SUM(C7)*2","v":0},0,{"$f":"SUM(C7)","v":0},null,null,null,null,null,null,null,null,null,"ZERO","ZERO"]
["CRISPY CHICKEN BOX",4300,0,null,null,"ZERO","ZERO","ZERO","ZERO","ZERO",0,{"$f":"SUM(C8)*5","v":0},"ZERO","ZERO","ZERO",0,{"$f":"SUM(C8)*0.25","v":0},0,"ZERO","ZERO",{"$f":"SUM(C8)","v":0},"ZERO","ZERO",{"$f":"SUM(C8)*2","v":0},0,{"$f":"SUM(C8)","v":0},null,null,null,null,null,null,null,null,null,"ZERO","ZERO"]
["ROYAL BURGER MEAL (CHICKEN  PATTY)",null,0,{"$f":"SUM(B9*C9)","v":0},null,{"$f":"SUM(C9)","v":0},{"$f":"SUM(C9)*2","v":0},"ZERO","ZERO","ZERO",0,"ZERO",{"$f":"SUM(C9)*2","v":0},{"$f":"SUM(C9)*2","v":0},"ZERO",0,{"$f":"SUM(C9)","v":0},0,{"$f":"SUM(C9)","v":0},"ZERO","ZERO","ZERO",{"$f":"SUM(C9)*140","v":0},{"$f":"SUM(C9)*2","v":0},0,{"$f":"SUM(C9)","v":0},null,null,null,null,null,null,null,null,null,"ZERO","ZERO"]
["ROYAL BURGER MEAL (BEEF  PATTY)",null,0,{"$f":"SUM(B10*C10)","v":0},null,{"$f":"SUM(C10)","v":0},"ZERO","ZERO","ZERO","ZERO",0,"ZERO",{"$f":"SUM(C10)*2","v":0},{"$f":"SUM(C10)*2","v":0},"ZERO",0,0,0,{"$f":"SUM(C10)","v":0},"ZERO","ZERO",{"$f":"SUM(C10)*2","v":0},{"$f":"SUM(C10)*140","v":0},{"$f":"SUM(C10)*2","v":0},0,{"$f":"SUM(C10)","v":0},null,null,null,null,null,null,null,null,null,"ZERO","ZERO"]
["ROYAL BURGER ONLY (CHICKEN PATTY)",3300,0,{"$f":"SUM(B11*C11:C25,A1,A1,A1,A1,A1)","v":0},null,{"$f":"SUM(C11)","v":0},{"$f":"SUM(C11)*2","v":0},"ZERO","ZERO","ZERO","ZERO","ZERO",{"$f":"SUM(C11)*2","v":0},{"$f":"SUM(C11)*2","v":0},"ZERO",0,0,0,"ZERO","ZERO","ZERO","ZERO",{"$f":"SUM(C11)*140","v":0},{"$f":"SUM(C11)","v":0},"ZERO","ZERO",null,null,null,null,null,null,null,null,null,"ZERO","ZERO"]
["ROYAL BURGER ONLY (BEEF PATTY)",3300,0,{"$f":"SUM(B12*C12)","v":0},null,{"$f":"SUM(C12)","v":0},null,"ZERO","ZERO","ZERO","ZERO","ZERO",{"$f":"SUM(C12)*2","v":0},{"$f":"SUM(C12)*2","v":0},"ZERO",0,0,0,"ZERO","ZERO","ZERO",{"$f":"SUM(C12)*2","v":0},{"$f":"SUM(C12)*140","v":0},{"$f":"SUM(C12)","v":0},"ZERO","ZERO",null,null,null,null,null,null,null,null,null,"ZERO","ZERO"]
["MAYOR'S COCONUT BURGER ",2800,0,0,null,0,{"$f":"SUM(C13)","v":0},"ZERO","ZERO","ZERO","ZERO","ZERO",{"$f":"SUM(C13)","v":0},"ZERO","ZERO",0,0,0,"ZERO","ZERO","ZERO",{"$f":"SUM(C13)","v":0},{"$f":"SUM(C13)*140","v":0},"ZERO","ZERO","ZERO",null,{"$f":"SUM(C13)","v":0},{"$f":"SUM(C13)","v":0},null,null,null,null,null,null,"ZERO","ZERO"]
["DOUBLE DECKER CRISPY CHK. CHEESE BURGER",2500,0,0,null,{"$f":"SUM(C14)","v":0},{"$f":"SUM(C14)*2","v":0},"ZERO","ZERO","ZERO","ZERO","ZERO",{"$f":"SUM(C14)","v":0},"ZERO","ZERO",0,0,"ZERO","ZERO","ZERO","ZERO","ZERO",{"$f":"SUM(C14)*70","v":0},"ZERO","ZERO","ZERO",null,null,null,null,null,null,null,null,null,"ZERO","ZERO"]
["SINGLE BEEF BURGER",1700,0,0,null,0,"ZERO","ZERO","ZERO","ZERO","ZERO","ZERO",null,"ZERO",{"$f":"SUM(C15)","v":0},null,0,"ZERO","ZERO","ZERO","ZERO",{"$f":"SUM(C15)","v":0},{"$f":"SUM(C15)*70","v":0},"ZERO","ZERO","ZERO",null,null,null,null,null,null,null,null,null,"ZERO","ZERO"]
["YANKEE BURGER",2400,0,0,null,0,"ZERO","ZERO","ZERO","ZERO","ZERO","ZERO",null,{"$f":"SUM(C16)*2","v":0},{"$f":"SUM(C16)","v":0},null,0,"ZERO","ZERO","ZERO","ZERO",{"$f":"SUM(C16)","v":0},{"$f":"SUM(C16)*70","v":0},"ZERO","ZERO","ZERO",null,null,null,null,null,null,null,null,null,"ZERO","ZERO"]
["ROYAL BURGER WITH FRIES (Chicken)",4000,0,0,null,0,{"$f":"SUM(C17)*2","v":0},"ZERO","ZERO","ZERO",{"$f":"SUM(C17)","v":0},"ZERO",{"$f":"SUM(C17)*2","v":0},{"$f":"SUM(C17)*2","v":0},"ZERO",{"$f":"SUM(C17)","v":0},0,"ZERO","ZERO","ZERO","ZERO","ZERO",{"$f":"SUM(C17)*140","v":0},{"$f":"SUM(C17)*2","v":0},"ZERO","ZERO",null,null,null,null,null,null,null,null,null,"ZERO","ZERO"]
["ROYAL BURGER WITH FRIES (BEEF)",4000,0,0,null,0,"ZERO","ZERO","ZERO","ZERO",{"$f":"SUM(C18)","v":0},"ZERO",{"$f":"SUM(C18)*2","v":0},{"$f":"SUM(C18)*2","v":0},"ZERO",{"$f":"SUM(C18)","v":0},0,"ZERO","ZERO","ZERO","ZERO",{"$f":"SUM(C18)*2","v":0},{"$f":"SUM(C18)*140","v":0},{"$f":"SUM(C18)*2","v":0},"ZERO","ZERO",null,null,null,null,null,null,null,null,null,"ZERO","ZERO"]
["CRISPY CHICKEN BURGER",1700,0,0,null,0,{"$f":"SUM(C19)","v":0},"ZERO","ZERO","ZERO","ZERO","ZERO","ZERO","ZERO",{"$f":"SUM(C19)","v":0},"ZERO",{"$f":"SUM(C19)*1","v":0},"ZERO","ZERO","ZERO","ZERO","ZERO",{"$f":"SUM(C19)*70","v":0},"ZERO","ZERO","ZERO",null,null,null,null,null,null,null,null,null,"ZERO","ZERO"]
["SUYA BURGER BOX",5500,0,0,null,0,{"$f":"SUM(C20)*2","v":0},"ZERO","ZERO",{"$f":"SUM(C20)*4","v":0},{"$f":"SUM(C20)","v":0},{"$f":"SUM(C20)*4","v":0},"ZERO","ZERO",{"$f":"SUM(C20)","v":0},{"$f":"SUM(C20)","v":0},{"$f":"SUM(C20)","v":0},"ZERO","ZERO",null,{"$f":"SUM(C20)","v":0},"ZERO",0,{"$f":"SUM(C20)*2","v":0},{"$f":"SUM(C20)","v":0},"ZERO",{"$f":"SUM(C20)","v":0},null,null,null,null,null,null,null,null,"ZERO","ZERO"]
["CRISPY CHICKEN BURGER PLUS CHEESE",2100,0,0,null,0,{"$f":"SUM(C21)","v":0},"ZERO","ZERO","ZERO","ZERO","ZERO",{"$f":"SUM(C21)","v":0},"ZERO",{"$f":"SUM(C21)","v":0},"ZERO",0,"ZERO","ZERO","ZERO","ZERO","ZERO",0,"ZERO","ZERO","ZERO",null,null,null,null,null,null,null,null,null,"ZERO","ZERO"]
["SINGLE BEEF CHEESE BURGER ",2100,0,0,null,0,"ZERO","ZERO","ZERO","ZERO","ZERO","ZERO",{"$f":"SUM(C22)","v":0},"ZERO",{"$f":"SUM(C22)","v":0},"ZERO",0,"ZERO","ZERO","ZERO","ZERO",{"$f":"SUM(C22)","v":0},0,"ZERO","ZERO","ZERO",null,null,null,null,null,null,null,null,null,"ZERO","ZERO"]
["DOUBLE DECKER BEEF CHEESE BURGER",2800,0,0,null,0,"ZERO","ZERO","ZERO","ZERO","ZERO","ZERO",{"$f":"SUM(C23)*2","v":0},"ZERO","ZERO",{"$f":"SUM(C23)","v":0},0,"ZERO","ZERO","ZERO","ZERO",{"$f":"SUM(C23)*2","v":0},0,"ZERO","ZERO","ZERO",null,null,null,null,null,null,null,null,null,"ZERO","ZERO"]
["CHICKEN SUYA BURGER ",2200,0,0,null,0,{"$f":"SUM(C24)*2","v":0},"ZERO","ZERO","ZERO","ZERO","ZERO","ZERO","ZERO",{"$f":"SUM(C24)*1","v":0},"ZERO",0,"ZERO","ZERO","ZERO","ZERO","ZERO",0,"ZERO","ZERO","ZERO",null,null,null,null,null,null,null,null,null,"ZERO","ZERO"]
["CHICKEN SHAWARMA",1800,0,0,null,null,"ZERO",{"$f":"SUM(C25)","v":0},{"$f":"SUM(C25)","v":0},{"$f":"SUM(C25)*2","v":0},"ZERO","ZERO","ZERO","ZERO","ZERO","ZERO",0,{"$f":"SUM(C25)","v":0},"ZERO","ZERO","ZERO","ZERO",0,"ZERO","ZERO","ZERO",null,null,null,null,null,null,null,null,null,{"$f":"SUM(AD25)","v":0},{"$f":"SUM(AE25)","v":0}]
["BARBECUE BEEF SHAWARMA",2000,0,0,null,null,"ZERO",{"$f":"SUM(C26)","v":0},"ZERO",{"$f":"SUM(C26)*2","v":0},"ZERO","ZERO","ZERO","ZERO","ZERO","ZERO",0,0,"ZERO","ZERO","ZERO","ZERO",0,"ZERO","ZERO","ZERO",null,null,null,null,null,null,null,null,null,{"$f":"SUM(C26)","v":0},"ZERO"]
["BEEF SUYA SHAWARMA",2200,0,0,null,null,"ZERO",{"$f":"SUM(C27)","v":0},"ZERO",{"$f":"SUM(C27)*2","v":0},"ZERO","ZERO","ZERO","ZERO","ZERO","ZERO",0,0,"ZERO","ZERO","ZERO","ZERO",0,"ZERO","ZERO","ZERO",null,null,null,null,null,null,null,null,null,{"$f":"SUM(AD27)","v":0},{"$f":"SUM(C27)","v":0}]
["BEEF SUYA BURGER ",2200,0,0,null,{"$f":"SUM(C28)","v":0},"ZERO",null,"ZERO","ZERO","ZERO","ZERO","ZERO","ZERO",{"$f":"SUM(C28)","v":0},"ZERO",0,0,"ZERO","ZERO","ZERO","ZERO",0,"ZERO","ZERO","ZERO",null,null,null,null,null,null,null,null,null,{"$f":"SUM(AD28)","v":0},{"$f":"SUM(C28)","v":0}]
["CHICKEN SUYA SHAWARMA",2200,0,0,null,"ZERO",{"$f":"SUM(C29)*2","v":0},{"$f":"SUM(C29)","v":0},null,{"$f":"SUM(C29)*2","v":0},"ZERO","ZERO","ZERO","ZERO","ZERO","ZERO",0,0,"ZERO","ZERO","ZERO","ZERO",0,"ZERO","ZERO","ZERO"]
["CHESSY SHAWARMA",2500,0,0,null,"ZERO","ZERO",{"$f":"SUM(C30)","v":0},{"$f":"SUM(C30)","v":0},{"$f":"SUM(C30)*2","v":0},null,"ZERO",{"$f":"SUM(C30)*2","v":0},"ZERO","ZERO","ZERO",0,0,"ZERO","ZERO","ZERO","ZERO",{"$f":"SUM(C30)*140","v":0},"ZERO","ZERO","ZERO",null,null,null,null,null,null,null,null,null,{"$f":"SUM(AD30)","v":0},{"$f":"SUM(AE30)","v":0}]
["2 CHICKEN AND CHIPS",2300,0,0,null,"ZERO","ZERO","ZERO","ZERO","ZERO",{"$f":"SUM(C31)","v":0},{"$f":"SUM(C31)*2","v":0},"ZERO","ZERO","ZERO",{"$f":"SUM(C31)","v":0},"ZERO",0,"ZERO","ZERO","ZERO","ZERO","ZERO",{"$f":"SUM(C31)","v":0},"ZERO","ZERO",null,null,null,null,null,null,null,null,null,"ZERO","ZERO"]
["4 CHICKEN AND CHIPS",3500,0,0,null,"ZERO","ZERO","ZERO","ZERO","ZERO",{"$f":"SUM(C32)","v":0},{"$f":"SUM(C32)*4","v":0},"ZERO","ZERO","ZERO",{"$f":"SUM(C32)","v":0},"ZERO",0,"ZERO","ZERO","ZERO","ZERO","ZERO",{"$f":"SUM(C32)*2","v":0},"ZERO","ZERO","zero","zero","zero",null,null,null,null,null,null,"ZERO","ZERO"]
["SPICY CHICKEN ONLY",650,0,null,null,"ZERO","ZERO","ZERO","ZERO","ZERO","ZERO",{"$f":"SUM(C33)","v":0},"ZERO","ZERO","ZERO","ZERO","ZERO","ZERO","ZERO","ZERO","ZERO","ZERO","ZERO","ZERO",{"$f":"SUM(C33)","v":0},"ZERO",null,null,null,null,null,null,null,null,null,"ZERO","ZERO"]
["CRISPY CHICKEN ONLY",650,0,{"$f":"SUM(B34*C34)","v":0},null,"ZERO","ZERO","ZERO","ZERO","ZERO","ZERO",{"$f":"SUM(C34)","v":0},"ZERO","ZERO","ZERO","ZERO","ZERO","ZERO","ZERO","ZERO","ZERO","ZERO","ZERO","ZERO",{"$f":"SUM(C34)","v":0},"ZERO",null,null,null,null,null,null,null,null,null,"ZERO","ZERO"]
["POTATO FRIES",700,0,0,null,"ZERO","ZERO","ZERO","ZERO","ZERO",null,"ZERO","ZERO","ZERO","ZERO","ZERO","ZERO","ZERO","ZERO","ZERO","ZERO","ZERO","ZERO","ZERO","ZERO","ZERO",null,null,null,null,null,null,null,null,null,"ZERO","ZERO"]
["FRENCH FRIES ONLY",1000,0,0,null,"ZERO","ZERO","ZERO","ZERO","ZERO",{"$f":"SUM(C36)","v":0},"ZERO","ZERO","ZERO","ZERO","ZERO","ZERO","ZERO","ZERO","ZERO","ZERO","ZERO","ZERO","ZERO",{"$f":"SUM(C36)","v":0},"ZERO",null,null,null,null,null,null,null,null,null,"ZERO","ZERO"]
["SUGERCANNE JUICE",750,0,0,null,"ZERO","ZERO","ZERO","ZERO","ZERO","ZERO","ZERO","ZERO","ZERO","ZERO","ZERO","ZERO","ZERO","ZERO",{"$f":"SUM(C37)","v":0},"ZERO","ZERO","ZERO","ZERO","ZERO","ZERO",null,null,null,null,null,null,null,null,null,"ZERO","ZERO"]
["35 CL SOFT DRINK",200,0,0,null,"ZERO","ZERO","ZERO","ZERO","ZERO","ZERO","ZERO","ZERO","ZERO","ZERO","ZERO","ZERO","ZERO","ZERO","ZERO",{"$f":"SUM(C38)","v":0},"ZERO","ZERO","ZERO","ZERO","ZERO",null,null,null,null,null,null,null,null,null,"ZERO","ZERO"]
["PARFAIT",null,0,0,null,"ZERO","ZERO","ZERO","ZERO","ZERO","ZERO","ZERO","ZERO","ZERO","ZERO","ZERO","ZERO",{"$f":"SUM(C39)","v":0},{"$f":"SUM(C39)","v":0},"ZERO","ZERO","ZERO","ZERO","ZERO","ZERO","ZERO",null,null,null,null,null,null,null,null,null,"ZERO","ZERO"]
["MARINATED WINGS",500,0,0,null,"ZERO","ZERO","ZERO","ZERO","ZERO","ZERO",{"$f":"SUM(C40)","v":0},"ZERO","ZERO","ZERO","ZERO","ZERO","ZERO","ZERO","ZERO","ZERO","ZERO","ZERO","ZERO","ZERO","ZERO",null,null,null,null,null,null,null,null,null,"ZERO","ZERO"]
["CHEESE ",400,0,0,null,"ZERO","ZERO","ZERO","ZERO","ZERO","ZERO","ZERO",{"$f":"SUM(C41)","v":0},"ZERO","ZERO","ZERO","ZERO","ZERO","ZERO","ZERO","ZERO","ZERO","ZERO","ZERO","ZERO","ZERO",null,null,null,null,null,null,null,null,null,"ZERO","ZERO"]
["SAUSAGE",200,0,0,null,null,null,null,null,null,"ZERO"]
["BACON",400,0,0,null,"ZERO","ZERO","ZERO","ZERO","ZERO","ZERO","ZERO","ZERO",{"$f":"SUM(C43)","v":0},"ZERO","ZERO","ZERO","ZERO","ZERO","ZERO","ZERO","ZERO","ZERO","ZERO","ZERO","ZERO",null,null,null,null,null,null,null,null,null,"ZERO","ZERO"]
["FRIENDY BURGER MEAL (WITH SOFT DRINK)",10200,0,0,null,{"$f":"SUM(C44)*2","v":0},{"$f":"SUM(C44)*2","v":0},{"$f":"SUM(C44)*2","v":0},{"$f":"SUM(C44)*2","v":0},{"$f":"SUM(C44)*2","v":0},{"$f":"SUM(C44)*2","v":0},{"$f":"SUM(C44)*2*2","v":0},"ZERO","ZERO",{"$f":"SUM(C44)*1*2","v":0},{"$f":"SUM(C44)*2","v":0},{"$f":"SUM(C44)*2*2","v":0},{"$f":"SUM(C44)*2","v":0},null,"ZERO",{"$f":"SUM(C44)*2","v":0},null,{"$f":"SUM(C44)*140*2","v":0},{"$f":"SUM(C44)*2","v":0},{"$f":"SUM(C44)*2","v":0},"ZERO",null,null,null,null,null,null,null,null,null,{"$f":"SUM(AD44)*2","v":0},{"$f":"SUM(AE44)*2","v":0}]
["FRIENDY BURGER MEAL (WITH SUGARCANE JUICE)",10600,0,0,null,{"$f":"SUM(C45)*2","v":0},{"$f":"SUM(C45)*2","v":0},{"$f":"SUM(C45)*2","v":0},{"$f":"SUM(C45)*2","v":0},{"$f":"SUM(C45)*2","v":0},{"$f":"SUM(C45)*2","v":0},{"$f":"SUM(C45)*2*2","v":0},"ZERO","ZERO",{"$f":"SUM(C45)*1*2","v":0},{"$f":"SUM(C45)*2","v":0},{"$f":"SUM(C45)*2*2","v":0},{"$f":"SUM(C45)*2","v":0},null,{"$f":"SUM(C45)*2","v":0},"ZERO",null,{"$f":"SUM(C45)*140*2","v":0},{"$f":"SUM(C45)*2","v":0},{"$f":"SUM(C45)*2","v":0},"ZERO",null,null,null,null,null,null,null,null,null,{"$f":"SUM(AD45)*2","v":0},{"$f":"SUM(AE45)*2","v":0}]
["SHAWARMA  SUB",1800,0,0,null,null,"ZERO","ZERO",{"$f":"SUM(C46)","v":0},{"$f":"SUM(C46)*2","v":0},"ZERO","ZERO","ZERO","ZERO",{"$f":"SUM(C46)*1","v":0},"ZERO",{"$f":"SUM(C46)","v":0},"ZERO","ZERO","ZERO","ZERO","ZERO",{"$f":"SUM(C46)*70","v":0},"ZERO","ZERO","ZERO",null,null,null,{"$f":"SUM(C46)","v":0},null,null,null,null,null,{"$f":"SUM(AD46)","v":0},{"$f":"SUM(AE46)","v":0}]
["DELISH PACK 1",5300,0,0,null,{"$f":"SUM(C47)","v":0},{"$f":"SUM(C47)","v":0},"ZERO",{"$f":"SUM(C47)","v":0},{"$f":"SUM(C47)*2","v":0},"ZERO",{"$f":"SUM(C47)*4","v":0},"ZERO","ZERO",{"$f":"SUM(C47)*1","v":0},{"$f":"SUM(C47)*1","v":0},{"$f":"SUM(C47)*2","v":0},{"$f":"SUM(C47)","v":0},"ZERO","ZERO","ZERO","ZERO",{"$f":"SUM(C47)*70","v":0},"ZERO","ZERO","ZERO",null,null,null,{"$f":"SUM(C47)","v":0},{"$f":"SUM(C47)*1","v":0},null,null,null,null,{"$f":"SUM(AD47)","v":0},{"$f":"SUM(AE47)","v":0}]
["FAMILY BURGER MEAL (WITH SOFT DRINK)",19800,0,0,null,{"$f":"SUM(C48)*4","v":0},{"$f":"SUM(C48)*4","v":0},{"$f":"SUM(C48)*4","v":0},{"$f":"SUM(C48)*4","v":0},{"$f":"SUM(C48)*4","v":0},{"$f":"SUM(C48)*4","v":0},{"$f":"SUM(C48)*2*4","v":0},"ZERO","ZERO",{"$f":"SUM(C48)*1*4","v":0},{"$f":"SUM(C48)*4","v":0},{"$f":"SUM(C48)*2*4","v":0},{"$f":"SUM(C48)*4","v":0},null,"ZERO",{"$f":"SUM(C48)*4","v":0},null,{"$f":"SUM(C48)*140*4","v":0},{"$f":"SUM(C48)*4","v":0},{"$f":"SUM(C48)*4","v":0},"ZERO",null,null,null,null,null,null,null,null,null,{"$f":"SUM(AD48)*4","v":0},{"$f":"SUM(AE48)*4","v":0}]
["FAMILY BURGER MEAL (WITH SUGARCANE JUICE)",20800,0,0,null,{"$f":"SUM(C49)*4","v":0},{"$f":"SUM(C49)*4","v":0},{"$f":"SUM(C49)*4","v":0},{"$f":"SUM(C49)*4","v":0},{"$f":"SUM(C49)*4","v":0},{"$f":"SUM(C49)*4","v":0},{"$f":"SUM(C49)*2*4","v":0},"ZERO","ZERO",{"$f":"SUM(C49)*1*4","v":0},{"$f":"SUM(C49)*4","v":0},{"$f":"SUM(C49)*2*4","v":0},{"$f":"SUM(C49)*4","v":0},null,{"$f":"SUM(C49)*4","v":0},"ZERO",null,{"$f":"SUM(C49)*140*4","v":0},{"$f":"SUM(C49)*4","v":0},{"$f":"SUM(C49)*4","v":0},"ZERO",null,null,null,null,null,null,null,null,null,{"$f":"SUM(AD49)*4","v":0},{"$f":"SUM(AE49)*4","v":0}]
["CAN COKE/FANTA ONLY",null,0,0,null,"ZERO","ZERO","ZERO","ZERO","ZERO","ZERO","ZERO","ZERO","ZERO","ZERO","ZERO","ZERO","ZERO","ZERO","ZERO","ZERO","ZERO","ZERO","ZERO","ZERO","ZERO",null,null,null,null,{"$f":"SUM(C50)","v":0},null,null,null,null,"ZERO","ZERO"]
["SUPA KOMMANDO ONLY",250,0,0,null,"ZERO","ZERO","ZERO","ZERO","ZERO","ZERO","ZERO","ZERO","ZERO","ZERO","ZERO","ZERO","ZERO","ZERO","ZERO","ZERO","ZERO","ZERO","ZERO","ZERO","ZERO",null,null,{"$f":"SUM(C51)","v":0},null,"ZERO","ZERO",null,null,null,"ZERO","ZERO"]
["10X Chicken Nuggets ",2400,0,0,null,null,null,null,null,null,"ZERO",null,null,null,null,{"$f":"SUM(C52)","v":0},null,{"$f":"SUM(C52)","v":0},null,null,null,null,null,{"$f":"SUM(C52)","v":0},null,null,null,null,null,null,{"$f":"SUM(C52)","v":0},{"$f":"SUM(C52)*10","v":0}]
["20X Chicken Nuggets ",4800,0,0,null,null,null,null,null,null,"ZERO ",null,null,null,null,{"$f":"SUM(C53)","v":0},null,{"$f":"SUM(C53)","v":0},null,null,null,null,null,{"$f":"SUM(C53)","v":0},null,null,null,null,null,null,{"$f":"SUM(C53)","v":0},{"$f":"SUM(C53)*20","v":0}]
["10 CHICKEN NUGGETS & FRIES BOX",3300,0,0,null,null,null,null,null,null,{"$f":"SUM(C54)","v":0},null,null,null,null,{"$f":"SUM(C54)","v":0},null,{"$f":"SUM(C54)","v":0},null,null,null,null,null,{"$f":"SUM(C54)","v":0},null,null,null,null,null,null,{"$f":"SUM(C54)","v":0},{"$f":"SUM(C54)*10","v":0}]
["20 CHICKEN NUGGETS & FRIES BOX",6600,0,0,null,null,null,null,null,null,{"$f":"SUM(C55)","v":0},null,null,null,null,{"$f":"SUM(C55)","v":0},null,{"$f":"SUM(C55)","v":0},null,null,null,null,null,{"$f":"SUM(C55)","v":0},null,null,null,null,null,null,{"$f":"SUM(C55)","v":0},{"$f":"SUM(C55)*20","v":0}]
["PRAWN BURGER ",3000,0,0,null,{"$f":"SUM(C56)","v":0},"ZERO","ZERO","ZERO","ZERO","ZERO","ZERO",{"$f":"SUM(C56)","v":0},"ZERO",{"$f":"SUM(C56)","v":0},"ZERO",{"$f":"SUM(C56)","v":0},"ZERO","ZERO","ZERO","ZERO","ZERO",{"$f":"SUM(C56)*70","v":0},"ZERO","ZERO","ZERO",null,null,null,null,null,null,{"$f":"SUM(C56)*2","v":0},null,null,"ZERO","ZERO"]
[" FUNMMY NUGGETS  BOX",5300,0,0,null,{"$f":"SUM(C57)","v":0},{"$f":"SUM(C57)","v":0},null,null,null,{"$f":"SUM(C57)","v":0},null,{"$f":"SUM(C57)","v":0},null,{"$f":"SUM(C57)","v":0},{"$f":"SUM(C57)","v":0},null,{"$f":"SUM(C57)","v":0},null,null,null,null,null,{"$f":"SUM(C57)","v":0},null,null,null,null,null,null,{"$f":"SUM(C57)","v":0},{"$f":"SUM(C57)*10","v":0}]
["FARM PRIDE 50 CL",500,0,0,null,"ZERO","ZERO","ZERO","ZERO","ZERO","ZERO","ZERO","ZERO","ZERO","ZERO","ZERO","ZERO","ZERO","ZERO","ZERO","ZERO","ZERO","ZERO","ZERO","ZERO","ZERO",null,null,null,null,null,null,null,{"$f":"SUM(C58)","v":0},null,"ZERO","ZERO"]
["FARM PRIDE 1 LITRE",800,0,0,null,"ZERO","ZERO","ZERO","ZERO","ZERO","ZERO","ZERO","ZERO","ZERO","ZERO","ZERO","ZERO","ZERO","ZERO","ZERO","ZERO","ZERO","ZERO","ZERO","ZERO","ZERO",null,null,null,null,null,null,null,"ZERO",{"$f":"SUM(C59)","v":0},"ZERO","ZERO"]
["GRILLED CHICKEN BURGER",1700,0,{"$f":"SUM(B60*C60)","v":0},null,{"$f":"SUM(C60)","v":0},{"$f":"SUM(C60)","v":0},"ZERO","ZERO","ZERO","ZERO","ZERO","ZERO","ZERO",{"$f":"SUM(C60)","v":0},"ZERO",{"$f":"SUM(C60)*1","v":0},"ZERO","ZERO","ZERO","ZERO","ZERO",{"$f":"SUM(C60)*70","v":0},"ZERO","ZERO","ZERO",null,null,null,null,null,null,null,null,null,"ZERO","ZERO"]
["GRILLED CHICKEN BURGER + JUICE",2200,0,{"$f":"SUM(B61*C61)","v":0},null,{"$f":"SUM(C61)","v":0},{"$f":"SUM(C61)","v":0},"ZERO","ZERO","ZERO","ZERO","ZERO","ZERO","ZERO",{"$f":"SUM(C61)","v":0},"ZERO",{"$f":"SUM(C61)*1","v":0},"ZERO","ZERO","ZERO","ZERO","ZERO",{"$f":"SUM(C61)*70","v":0},"ZERO","ZERO","ZERO",null,null,null,null,null,null,null,{"$f":"SUM(C61)","v":0},null,"ZERO","ZERO"]
["GRILLED BURGER MEAL 1 & 3",4000,0,{"$f":"SUM(B62*C62)","v":0},null,{"$f":"SUM(C62)","v":0},{"$f":"SUM(C62)","v":0},"ZERO","ZERO","ZERO",{"$f":"SUM(C62)","v":0},{"$f":"SUM(C62)*2","v":0},"ZERO","ZERO","ZERO",{"$f":"SUM(C62)","v":0},{"$f":"SUM(C62)","v":0},{"$f":"SUM(C62)","v":0},"ZERO","ZERO","ZERO","ZERO",{"$f":"SUM(C62)*70","v":0},{"$f":"SUM(C62)","v":0},"ZERO","ZERO",null,null,null,null,null,null,null,{"$f":"SUM(C62)","v":0},null,"ZERO","ZERO"]
["GRILLED BURGER MEAL 2",3700,0,{"$f":"SUM(B63*C63)","v":0},null,{"$f":"SUM(C63)","v":0},{"$f":"SUM(C63)","v":0},"ZERO","ZERO","ZERO",{"$f":"SUM(C63)","v":0},{"$f":"SUM(C63)*2","v":0},"ZERO","ZERO","ZERO",{"$f":"SUM(C63)","v":0},{"$f":"SUM(C63)","v":0},{"$f":"SUM(C63)","v":0},"ZERO","ZERO",{"$f":"SUM(C63)","v":0},"ZERO",{"$f":"SUM(C63)*70","v":0},{"$f":"SUM(C63)","v":0},"ZERO","ZERO",null,null,null,null,null,null,null,"ZERO",null,"ZERO","ZERO"]
["MASTERPIECE BURGER ",5000,0,{"$f":"SUM(B64*C64)","v":0},null,{"$f":"SUM(C64)","v":0},"ZERO","ZERO","ZERO","ZERO","ZERO","ZERO",{"$f":"SUM(C64)","v":0},"ZERO","ZERO",{"$f":"SUM(C64)","v":0},{"$f":"SUM(C64)","v":0},"ZERO","ZERO","ZERO",{"$f":"SUM(C64)","v":0},{"$f":"SUM(C64)","v":0},{"$f":"SUM(C64)*70","v":0},"ZERO","ZERO","ZERO",null,null,null,null,null,null,null,null,null,"ZERO",{"$f":"SUM(C64)","v":0}]
["SUYA BURGER BOX 2 (WITH BEEF SUYA BURGER)",6000,0,0,null,0,"ZERO ","ZERO","ZERO",0,0,0,"ZERO","ZERO",0,0,0,"ZERO","ZERO",null,0,"ZERO",0,0,0,"ZERO",0,null,null,null,null,null,null,null,null,"ZERO",0]
["OPENING STOCK",null,null,null,null,{"$f":"SUM('Production DAY 31'!C2)","v":0},{"$f":"SUM('Production DAY 31'!C3)","v":0},{"$f":"SUM('Production DAY 31'!C4)","v":0},{"$f":"SUM('Production DAY 31'!C5)","v":0},{"$f":"SUM('Production DAY 31'!C6)","v":0},{"$f":"SUM('Production DAY 31'!C7)","v":0},{"$f":"SUM('Production DAY 31'!C8)","v":0},{"$f":"SUM('Production DAY 31'!C9)","v":0},{"$f":"SUM('Production DAY 31'!C10)","v":0},{"$f":"SUM('Production DAY 31'!C11)","v":0},{"$f":"SUM('Production DAY 31'!C12)","v":0},{"$f":"SUM('Production DAY 31'!C13)","v":0},{"$f":"SUM('Production DAY 31'!C14)","v":0},{"$f":"SUM('Production DAY 31'!C15)","v":0},{"$f":"SUM('Production DAY 31'!C16)","v":0},{"$f":"SUM('Production DAY 31'!C17)","v":0},{"$f":"SUM('Production DAY 31'!C18)","v":0},{"$f":"SUM('Production DAY 31'!C19)","v":0},{"$f":"SUM('Production DAY 31'!C20)","v":0},{"$f":"SUM('Production DAY 31'!C21)","v":0},{"$f":"SUM('Production DAY 31'!C22)","v":0},{"$f":"SUM('Production DAY 31'!C23)","v":0},{"$f":"SUM('Production DAY 31'!C24)","v":0},{"$f":"SUM('Production DAY 31'!C25)","v":0},{"$f":"SUM('Production DAY 31'!C26)","v":0},{"$f":"SUM('Production DAY 31'!C27)","v":0},{"$f":"SUM('Production DAY 31'!C28)","v":0},{"$f":"SUM('Production DAY 31'!C29)","v":0},{"$f":"SUM('Production DAY 31'!C30)","v":0},{"$f":"SUM('Production DAY 31'!C31)","v":0},{"$f":"SUM('Production DAY 31'!C32)","v":0},{"$f":"SUM('Production DAY 31'!C33)","v":0},{"$f":"SUM('Production DAY 31'!C34)","v":0},{"$f":"SUM('Production DAY 31'!C35)","v":0},{"$f":"SUM('Production DAY 31'!C36)","v":0},{"$f":"SUM('Production DAY 31'!C37)","v":0},{"$f":"SUM('Production DAY 31'!C38)","v":0},{"$f":"SUM('Production DAY 31'!C39)","v":0},{"$f":"SUM('Production DAY 31'!C40)","v":0},{"$f":"SUM('Production DAY 31'!C41)","v":0},{"$f":"SUM('Production DAY 31'!C42)","v":0},{"$f":"SUM('Production DAY 31'!C43)","v":0}]
["RECEIVED",null,null,null,null,{"$f":"SUM('Production DAY 31'!D2)","v":0},{"$f":"SUM('Production DAY 31'!D3)","v":0},{"$f":"SUM('Production DAY 31'!D4)","v":0},{"$f":"SUM('Production DAY 31'!D5)","v":0},{"$f":"SUM('Production DAY 31'!D6)","v":0},{"$f":"SUM('Production DAY 31'!D7)","v":0},{"$f":"SUM('Production DAY 31'!D8)","v":0},{"$f":"SUM('Production DAY 31'!D9)","v":0},{"$f":"SUM('Production DAY 31'!D10)","v":0},{"$f":"SUM('Production DAY 31'!D11)","v":0},{"$f":"SUM('Production DAY 31'!D12)","v":0},{"$f":"SUM('Production DAY 31'!D13)","v":0},{"$f":"SUM('Production DAY 31'!D14)","v":0},{"$f":"SUM('Production DAY 31'!D15)","v":0},{"$f":"SUM('Production DAY 31'!D16)","v":0},{"$f":"SUM('Production DAY 31'!D17)","v":0},{"$f":"SUM('Production DAY 31'!D18)","v":0},{"$f":"SUM('Production DAY 31'!D19)","v":0},{"$f":"SUM('Production DAY 31'!D20)","v":0},{"$f":"SUM('Production DAY 31'!D21)","v":0},{"$f":"SUM('Production DAY 31'!D22)","v":0},{"$f":"SUM('Production DAY 31'!D23)","v":0},{"$f":"SUM('Production DAY 31'!D24)","v":0},{"$f":"SUM('Production DAY 31'!D25)","v":0},{"$f":"SUM('Production DAY 31'!D26)","v":0},{"$f":"SUM('Production DAY 31'!D27)","v":0},{"$f":"SUM('Production DAY 31'!D28)","v":0},{"$f":"SUM('Production DAY 31'!D29)","v":0},{"$f":"SUM('Production DAY 31'!D30)","v":0},{"$f":"SUM('Production DAY 31'!D31)","v":0},{"$f":"SUM('Production DAY 31'!D32)","v":0},{"$f":"SUM('Production DAY 31'!D33)","v":0},{"$f":"SUM('Production DAY 31'!D34)","v":0},{"$f":"SUM('Production DAY 31'!D35)","v":0},{"$f":"SUM('Production DAY 31'!D36)","v":0},{"$f":"SUM('Production DAY 31'!D37)","v":0},{"$f":"SUM('Production DAY 31'!D38)","v":0},{"$f":"SUM('Production DAY 31'!D39)","v":0},{"$f":"SUM('Production DAY 31'!D40)","v":0},{"$f":"SUM('Production DAY 31'!D41)","v":0},{"$f":"SUM('Production DAY 31'!D42)","v":0},{"$f":"SUM('Production DAY 31'!D43)","v":0}]
["TOTAL STOCK",null,null,null,null,{"$f":"SUM(F66:F67)","v":0},{"$f":"SUM(G66:G67)","v":0},{"$f":"SUM(H66:H67)","v":0},{"$f":"SUM(I66:I67)","v":0},0,0,0,0,0,0,{"$f":"SUM(P66:P67)","v":0},0,0,0,0,0,0,0,0,0,0,0,0,0,0,0,0,0,0,0,0,0,0,0,0,0,0,0,0,0,0,0]
["USED",null,null,{"$f":"SUM(D3:D65)","v":0},null,{"$f":"SUM(F3:F65)","v":0},0,0,0,0,0,0,0,0,0,0,0,0,0,0,0,0,0,0,0,0,0,0,0,0,0,0,0,0,0,0,0,{"$f":"SUM(AL3:AL64)","v":0},0,0,0,0,0,0,0,0,0]
["CLOSING STOCK",null,null,null,null,{"$f":"SUM(F68-F69)","v":0},0,0,0,0,0,0,0,0,0,0,0,0,0,0,0,0,0,0,0,0,0,0,0,0,0,0,0,{"$f":"SUM(AH66-AH69)","v":0},{"$f":"SUM(AI68-AI69)","v":0},0,0,0,0,0,0,0,0,0,0,0,0]